{"text_format":"1","workbook":"xlsx","n_sheets":9,"sheets":["入力フォーム","入力フォーム記入例","取込用シート","見積書","見積書 (記載例)","見積書 (2)","見積書 (3)","請求書(一般用） ","請求書(記載例）"],"not_rendered":{"charts":0,"images":3,"macros":1,"external_links":0,"defined_names":6,"comments":3,"pivot_tables":0},"unopened":[],"bounds":{"document_bytes":16777216,"sheet_cells":100000,"rows_first":2000,"rows_last":500,"rows_between":2000,"halvings":0,"cell_chars":16384,"cell_head_chars":4096},"cells_cut":0,"cells_raw":0,"read":"whole","date_system":"1900"}

{"sheet":"入力フォーム","index":0,"n_rows":74,"n_cols":10,"rows_kept":74,"cut":false,"hidden":false,"merged":[[17,0,29,0],[30,0,51,0],[52,0,73,0]]}
["入力フォーム"]
[]
["仕入先コード",null,null,null,"発注日"]
["登録番号",null,null,null,"発注担当者コード"]
["担当者名",null,null,null,"部門コード"]
["見積書提出日",null,null,null,"備考"]
["納期"]
["納入場所"]
["税抜金額",{"$f":"SUM(I18:I74)","v":0},null,null,{"$f":"B11&D11","v":""}]
["消費税率","10％"]
["製造番号",null,"-"]
["製造番号枝番"]
["仕向先1段目"]
["仕向先2段目"]
["製品(工事)名称"]
["品名"]
[null,null,"科目","明細項目(上段）","明細項目（下段）","単位","数量","単価","金額","工種コード"]
["1ページ目",1,null,null,null,null,null,null,{"$f":"G18*H18","v":0}]
[null,2,null,null,null,null,null,null,{"$f":"G19*H19","v":0}]
[null,3,null,null,null,null,null,null,0]
[null,4,null,null,null,null,null,null,0]
[null,5,null,null,null,null,null,null,0]
[null,6,null,null,null,null,null,null,0]
[null,7,null,null,null,null,null,null,0]
[null,8,null,null,null,null,null,null,0]
[null,9,null,null,null,null,null,null,0]
[null,10,null,null,null,null,null,null,0]
[null,11,null,null,null,null,null,null,0]
[null,12,null,null,null,null,null,null,0]
[null,13,null,null,null,null,null,null,0]
["2ページ目",14,null,null,null,null,null,null,0]
[null,15,null,null,null,null,null,null,0]
[null,16,null,null,null,null,null,null,0]
[null,17,null,null,null,null,null,null,0]
[null,18,null,null,null,null,null,null,0]
[null,19,null,null,null,null,null,null,0]
[null,20,null,null,null,null,null,null,0]
[null,21,null,null,null,null,null,null,0]
[null,22,null,null,null,null,null,null,0]
[null,23,null,null,null,null,null,null,0]
[null,24,null,null,null,null,null,null,0]
[null,25,null,null,null,null,null,null,0]
[null,26,null,null,null,null,null,null,0]
[null,27,null,null,null,null,null,null,0]
[null,28,null,null,null,null,null,null,0]
[null,29,null,null,null,null,null,null,0]
[null,30,null,null,null,null,null,null,0]
[null,31,null,null,null,null,null,null,0]
[null,32,null,null,null,null,null,null,0]
[null,33,null,null,null,null,null,null,{"$f":"G50*H50","v":0}]
[null,34,null,null,null,null,null,null,0]
[null,35,null,null,null,null,null,null,0]
["3ページ目",36,null,null,null,null,null,null,0]
[null,37,null,null,null,null,null,null,0]
[null,38,null,null,null,null,null,null,0]
[null,39,null,null,null,null,null,null,0]
[null,40,null,null,null,null,null,null,0]
[null,41,null,null,null,null,null,null,0]
[null,42,null,null,null,null,null,null,0]
[null,43,null,null,null,null,null,null,0]
[null,44,null,null,null,null,null,null,0]
[null,45,null,null,null,null,null,null,0]
[null,46,null,null,null,null,null,null,0]
[null,47,null,null,null,null,null,null,0]
[null,48,null,null,null,null,null,null,0]
[null,49,null,null,null,null,null,null,0]
[null,50,null,null,null,null,null,null,0]
[null,51,null,null,null,null,null,null,0]
[null,52,null,null,null,null,null,null,0]
[null,53,null,null,null,null,null,null,0]
[null,54,null,null,null,null,null,null,0]
[null,55,null,null,null,null,null,null,0]
[null,56,null,null,null,null,null,null,0]
[null,57,null,null,null,null,null,null,0]

{"sheet":"入力フォーム記入例","index":1,"n_rows":43,"n_cols":10,"rows_kept":43,"cut":false,"hidden":false,"merged":[[20,0,32,0],[33,0,42,0]]}
[null,null,null,"必須項目"]
[null,null,null,"記入項目（不明な場合は空白）"]
[null,null,null,"記入不要項目"]
[]
[]
["仕入先コード","01234","５桁の数字（102の場合00102としてください）",null,"発注日"]
["登録番号","T111222333444","インボイスの登録番号を記入してください",null,"発注担当者コード"]
["担当者名","奥村　太郎",null,null,"部門コード"]
["見積書提出日","2020-01-06",null,null,"備考"]
["納期","2020-02-28"]
["納入場所","本社工場"]
["税抜金額",{"$f":"SUM(I21:I43)","v":2550000},null,null,{"$f":"B14&D14","v":"20160025"}]
["消費税率","10％","リストから選択してください（10％、（軽）8％、対象外）"]
["製造番号",2016,"-","0025"]
["製造番号枝番","00"]
["仕向先1段目","奥村建設㈱"]
["仕向先2段目","大阪府/堺市"]
["製品(工事)名称","φ2480泥土圧シールド機"]
["品名","シールドジャッキ"]
[null,null,"科目","明細項目(上段）","明細項目（下段）","単位","数量","単価","金額","工種コード"]
["1ページ目",1,null,"製作費",null,"式",1,1500000,{"$f":"G21*H21","v":1500000}]
[null,2,null,"運送費","本社～現場","式",1,1500000,{"$f":"G22*H22","v":1500000}]
[null,3,null,"品質・工程・調達等管理費",null,"式",1,20000,20000]
[null,4,null,"諸経費",null,"式",1,30000,30000]
[null,5,null,"出精値引き",null,"式",1,-500000,-500000]
[null,6,null,null,null,null,null,null,0]
[null,7,null,null,null,null,null,null,0]
[null,8,null,null,null,null,null,null,0]
[null,9,null,null,null,null,null,null,0]
[null,10,null,null,null,null,null,null,0]
[null,11,null,null,null,null,null,null,0]
[null,12,null,null,null,null,null,null,0]
[null,13,null,null,null,null,null,null,0]
["2ページ目",14,null,null,null,null,null,null,0]
[null,15,null,null,null,null,null,null,0]
[null,16,null,null,null,null,null,null,0]
[null,17,null,null,null,null,null,null,0]
[null,18,null,null,null,null,null,null,0]
[null,19,null,null,null,null,null,null,0]
[null,20,null,null,null,null,null,null,0]
[null,21,null,null,null,null,null,null,0]
[null,22,null,null,null,null,null,null,0]
[null,23,null,null,null,null,null,null,0]

{"sheet":"取込用シート","index":2,"n_rows":58,"n_cols":77,"rows_kept":58,"cut":false,"hidden":true,"merged":[]}
["伝票番号","見積番号","発注日","納期","仕入先コード","仕入先名","製造番号","製造番号枝番","製品名","発注担当コード","発注担当名","支払予定日","備考1","備考2","スタンプ1","スタンプ2","スタンプ3","第２区分","税計算","消費税率","税端数","金額端数","承認","承認依頼","仮伝票","明細で製品を入力する","完納扱いにする","税抜金額","消費税額","合計金額","条件記入1","条件記入2","条件記入3","条件記入4","条件記入5","条件記入6","条件記入7","条件記入8","条件記入9","条件記入10","条件記入11","条件記入12","条件記入13","条件記入14","条件記入15","条件記入16","条件記入17","条件記入18","条件記入19","条件記入20","残管理","システム予約2","システム予約3","No","属性","入荷","原価締","科目コード","科目名","商品コード","商品","仕様 摘要","単位","数量","残","単価","税区分","金額","消費税","明細製造番号","明細製造番号枝番","明細製品名","工種コード","工種名","部門コード","部門名","備考"]
[1,null,{"$f":"入力フォーム!$F$3","v":"00:00:00"},{"$f":"入力フォーム!$B$7","v":"00:00:00"},{"$f":"入力フォーム!$B$3","v":0},null,{"$f":"入力フォーム!$E$9","v":""},{"$f":"入力フォーム!$B$12","v":0},null,{"$f":"入力フォーム!$F$4","v":0},null,null,{"$f":"入力フォーム!$F$6","v":0},{"$f":"入力フォーム!$B$8","v":0},0,0,0,null,1,10,0,0,0,0,0,0,0,null,null,null,null,null,null,null,null,null,null,null,null,null,null,null,null,null,null,null,null,null,null,null,0,null,null,null,0,1,null,{"$f":"入力フォーム!C18","v":0},null,null,{"$f":"入力フォーム!D18","v":0},{"$f":"IF(入力フォーム!E18<>0,入力フォーム!E18,\"\")","v":""},{"$f":"入力フォーム!F18","v":0},{"$f":"入力フォーム!G18","v":0},0,{"$f":"入力フォーム!H18","v":0},0,{"$f":"入力フォーム!I18","v":0},{"$f":"ROUNDDOWN(BP2*10%,0)","v":0},null,null,null,{"$f":"IF(入力フォーム!J18=0,\"\",入力フォーム!J18)","v":""},null,{"$f":"入力フォーム!$F$5","v":0}]
[1,null,{"$f":"入力フォーム!$F$3","v":"00:00:00"},{"$f":"入力フォーム!$B$7","v":"00:00:00"},{"$f":"入力フォーム!$B$3","v":0},null,{"$f":"入力フォーム!$E$9","v":""},{"$f":"入力フォーム!$B$12","v":0},null,{"$f":"入力フォーム!$F$4","v":0},null,null,{"$f":"入力フォーム!$F$6","v":0},{"$f":"入力フォーム!$B$8","v":0},0,0,0,null,1,10,0,0,0,0,0,0,0,null,null,null,null,null,null,null,null,null,null,null,null,null,null,null,null,null,null,null,null,null,null,null,0,null,null,null,0,1,null,{"$f":"入力フォーム!C19","v":0},null,null,{"$f":"入力フォーム!D19","v":0},{"$f":"IF(入力フォーム!E19<>0,入力フォーム!E19,\"\")","v":""},{"$f":"入力フォーム!F19","v":0},{"$f":"入力フォーム!G19","v":0},0,{"$f":"入力フォーム!H19","v":0},0,{"$f":"入力フォーム!I19","v":0},{"$f":"ROUNDDOWN(BP3*10%,0)","v":0},null,null,null,{"$f":"IF(入力フォーム!J19=0,\"\",入力フォーム!J19)","v":""},null,{"$f":"入力フォーム!$F$5","v":0}]
[1,null,{"$f":"入力フォーム!$F$3","v":"00:00:00"},{"$f":"入力フォーム!$B$7","v":"00:00:00"},{"$f":"入力フォーム!$B$3","v":0},null,{"$f":"入力フォーム!$E$9","v":""},{"$f":"入力フォーム!$B$12","v":0},null,{"$f":"入力フォーム!$F$4","v":0},null,null,{"$f":"入力フォーム!$F$6","v":0},{"$f":"入力フォーム!$B$8","v":0},0,0,0,null,1,10,0,0,0,0,0,0,0,null,null,null,null,null,null,null,null,null,null,null,null,null,null,null,null,null,null,null,null,null,null,null,0,null,null,null,0,1,null,{"$f":"入力フォーム!C20","v":0},null,null,{"$f":"入力フォーム!D20","v":0},{"$f":"IF(入力フォーム!E20<>0,入力フォーム!E20,\"\")","v":""},{"$f":"入力フォーム!F20","v":0},{"$f":"入力フォーム!G20","v":0},0,{"$f":"入力フォーム!H20","v":0},0,{"$f":"入力フォーム!I20","v":0},0,null,null,null,{"$f":"IF(入力フォーム!J20=0,\"\",入力フォーム!J20)","v":""},null,{"$f":"入力フォーム!$F$5","v":0}]
[1,null,{"$f":"入力フォーム!$F$3","v":"00:00:00"},{"$f":"入力フォーム!$B$7","v":"00:00:00"},{"$f":"入力フォーム!$B$3","v":0},null,{"$f":"入力フォーム!$E$9","v":""},{"$f":"入力フォーム!$B$12","v":0},null,{"$f":"入力フォーム!$F$4","v":0},null,null,{"$f":"入力フォーム!$F$6","v":0},{"$f":"入力フォーム!$B$8","v":0},0,0,0,null,1,10,0,0,0,0,0,0,0,null,null,null,null,null,null,null,null,null,null,null,null,null,null,null,null,null,null,null,null,null,null,null,0,null,null,null,0,1,null,{"$f":"入力フォーム!C21","v":0},null,null,{"$f":"入力フォーム!D21","v":0},{"$f":"IF(入力フォーム!E21<>0,入力フォーム!E21,\"\")","v":""},{"$f":"入力フォーム!F21","v":0},{"$f":"入力フォーム!G21","v":0},0,{"$f":"入力フォーム!H21","v":0},0,{"$f":"入力フォーム!I21","v":0},0,null,null,null,{"$f":"IF(入力フォーム!J21=0,\"\",入力フォーム!J21)","v":""},null,{"$f":"入力フォーム!$F$5","v":0}]
[1,null,{"$f":"入力フォーム!$F$3","v":"00:00:00"},{"$f":"入力フォーム!$B$7","v":"00:00:00"},{"$f":"入力フォーム!$B$3","v":0},null,{"$f":"入力フォーム!$E$9","v":""},{"$f":"入力フォーム!$B$12","v":0},null,{"$f":"入力フォーム!$F$4","v":0},null,null,{"$f":"入力フォーム!$F$6","v":0},{"$f":"入力フォーム!$B$8","v":0},0,0,0,null,1,10,0,0,0,0,0,0,0,null,null,null,null,null,null,null,null,null,null,null,null,null,null,null,null,null,null,null,null,null,null,null,0,null,null,null,0,1,null,{"$f":"入力フォーム!C22","v":0},null,null,{"$f":"入力フォーム!D22","v":0},{"$f":"IF(入力フォーム!E22<>0,入力フォーム!E22,\"\")","v":""},{"$f":"入力フォーム!F22","v":0},{"$f":"入力フォーム!G22","v":0},0,{"$f":"入力フォーム!H22","v":0},0,{"$f":"入力フォーム!I22","v":0},0,null,null,null,{"$f":"IF(入力フォーム!J22=0,\"\",入力フォーム!J22)","v":""},null,{"$f":"入力フォーム!$F$5","v":0}]
[1,null,{"$f":"入力フォーム!$F$3","v":"00:00:00"},{"$f":"入力フォーム!$B$7","v":"00:00:00"},{"$f":"入力フォーム!$B$3","v":0},null,{"$f":"入力フォーム!$E$9","v":""},{"$f":"入力フォーム!$B$12","v":0},null,{"$f":"入力フォーム!$F$4","v":0},null,null,{"$f":"入力フォーム!$F$6","v":0},{"$f":"入力フォーム!$B$8","v":0},0,0,0,null,1,10,0,0,0,0,0,0,0,null,null,null,null,null,null,null,null,null,null,null,null,null,null,null,null,null,null,null,null,null,null,null,0,null,null,null,0,1,null,{"$f":"入力フォーム!C23","v":0},null,null,{"$f":"入力フォーム!D23","v":0},{"$f":"IF(入力フォーム!E23<>0,入力フォーム!E23,\"\")","v":""},{"$f":"入力フォーム!F23","v":0},{"$f":"入力フォーム!G23","v":0},0,{"$f":"入力フォーム!H23","v":0},0,{"$f":"入力フォーム!I23","v":0},0,null,null,null,{"$f":"IF(入力フォーム!J23=0,\"\",入力フォーム!J23)","v":""},null,{"$f":"入力フォーム!$F$5","v":0}]
[1,null,{"$f":"入力フォーム!$F$3","v":"00:00:00"},{"$f":"入力フォーム!$B$7","v":"00:00:00"},{"$f":"入力フォーム!$B$3","v":0},null,{"$f":"入力フォーム!$E$9","v":""},{"$f":"入力フォーム!$B$12","v":0},null,{"$f":"入力フォーム!$F$4","v":0},null,null,{"$f":"入力フォーム!$F$6","v":0},{"$f":"入力フォーム!$B$8","v":0},0,0,0,null,1,10,0,0,0,0,0,0,0,null,null,null,null,null,null,null,null,null,null,null,null,null,null,null,null,null,null,null,null,null,null,null,0,null,null,null,0,1,null,{"$f":"入力フォーム!C24","v":0},null,null,{"$f":"入力フォーム!D24","v":0},{"$f":"IF(入力フォーム!E24<>0,入力フォーム!E24,\"\")","v":""},{"$f":"入力フォーム!F24","v":0},{"$f":"入力フォーム!G24","v":0},0,{"$f":"入力フォーム!H24","v":0},0,{"$f":"入力フォーム!I24","v":0},0,null,null,null,{"$f":"IF(入力フォーム!J24=0,\"\",入力フォーム!J24)","v":""},null,{"$f":"入力フォーム!$F$5","v":0}]
[1,null,{"$f":"入力フォーム!$F$3","v":"00:00:00"},{"$f":"入力フォーム!$B$7","v":"00:00:00"},{"$f":"入力フォーム!$B$3","v":0},null,{"$f":"入力フォーム!$E$9","v":""},{"$f":"入力フォーム!$B$12","v":0},null,{"$f":"入力フォーム!$F$4","v":0},null,null,{"$f":"入力フォーム!$F$6","v":0},{"$f":"入力フォーム!$B$8","v":0},0,0,0,null,1,10,0,0,0,0,0,0,0,null,null,null,null,null,null,null,null,null,null,null,null,null,null,null,null,null,null,null,null,null,null,null,0,null,null,null,0,1,null,{"$f":"入力フォーム!C25","v":0},null,null,{"$f":"入力フォーム!D25","v":0},{"$f":"IF(入力フォーム!E25<>0,入力フォーム!E25,\"\")","v":""},{"$f":"入力フォーム!F25","v":0},{"$f":"入力フォーム!G25","v":0},0,{"$f":"入力フォーム!H25","v":0},0,{"$f":"入力フォーム!I25","v":0},0,null,null,null,{"$f":"IF(入力フォーム!J25=0,\"\",入力フォーム!J25)","v":""},null,{"$f":"入力フォーム!$F$5","v":0}]
[1,null,{"$f":"入力フォーム!$F$3","v":"00:00:00"},{"$f":"入力フォーム!$B$7","v":"00:00:00"},{"$f":"入力フォーム!$B$3","v":0},null,{"$f":"入力フォーム!$E$9","v":""},{"$f":"入力フォーム!$B$12","v":0},null,{"$f":"入力フォーム!$F$4","v":0},null,null,{"$f":"入力フォーム!$F$6","v":0},{"$f":"入力フォーム!$B$8","v":0},0,0,0,null,1,10,0,0,0,0,0,0,0,null,null,null,null,null,null,null,null,null,null,null,null,null,null,null,null,null,null,null,null,null,null,null,0,null,null,null,0,1,null,{"$f":"入力フォーム!C26","v":0},null,null,{"$f":"入力フォーム!D26","v":0},{"$f":"IF(入力フォーム!E26<>0,入力フォーム!E26,\"\")","v":""},{"$f":"入力フォーム!F26","v":0},{"$f":"入力フォーム!G26","v":0},0,{"$f":"入力フォーム!H26","v":0},0,{"$f":"入力フォーム!I26","v":0},0,null,null,null,{"$f":"IF(入力フォーム!J26=0,\"\",入力フォーム!J26)","v":""},null,{"$f":"入力フォーム!$F$5","v":0}]
[1,null,{"$f":"入力フォーム!$F$3","v":"00:00:00"},{"$f":"入力フォーム!$B$7","v":"00:00:00"},{"$f":"入力フォーム!$B$3","v":0},null,{"$f":"入力フォーム!$E$9","v":""},{"$f":"入力フォーム!$B$12","v":0},null,{"$f":"入力フォーム!$F$4","v":0},null,null,{"$f":"入力フォーム!$F$6","v":0},{"$f":"入力フォーム!$B$8","v":0},0,0,0,null,1,10,0,0,0,0,0,0,0,null,null,null,null,null,null,null,null,null,null,null,null,null,null,null,null,null,null,null,null,null,null,null,0,null,null,null,0,1,null,{"$f":"入力フォーム!C27","v":0},null,null,{"$f":"入力フォーム!D27","v":0},{"$f":"IF(入力フォーム!E27<>0,入力フォーム!E27,\"\")","v":""},{"$f":"入力フォーム!F27","v":0},{"$f":"入力フォーム!G27","v":0},0,{"$f":"入力フォーム!H27","v":0},0,{"$f":"入力フォーム!I27","v":0},0,null,null,null,{"$f":"IF(入力フォーム!J27=0,\"\",入力フォーム!J27)","v":""},null,{"$f":"入力フォーム!$F$5","v":0}]
[1,null,{"$f":"入力フォーム!$F$3","v":"00:00:00"},{"$f":"入力フォーム!$B$7","v":"00:00:00"},{"$f":"入力フォーム!$B$3","v":0},null,{"$f":"入力フォーム!$E$9","v":""},{"$f":"入力フォーム!$B$12","v":0},null,{"$f":"入力フォーム!$F$4","v":0},null,null,{"$f":"入力フォーム!$F$6","v":0},{"$f":"入力フォーム!$B$8","v":0},0,0,0,null,1,10,0,0,0,0,0,0,0,null,null,null,null,null,null,null,null,null,null,null,null,null,null,null,null,null,null,null,null,null,null,null,0,null,null,null,0,1,null,{"$f":"入力フォーム!C28","v":0},null,null,{"$f":"入力フォーム!D28","v":0},{"$f":"IF(入力フォーム!E28<>0,入力フォーム!E28,\"\")","v":""},{"$f":"入力フォーム!F28","v":0},{"$f":"入力フォーム!G28","v":0},0,{"$f":"入力フォーム!H28","v":0},0,{"$f":"入力フォーム!I28","v":0},0,null,null,null,{"$f":"IF(入力フォーム!J28=0,\"\",入力フォーム!J28)","v":""},null,{"$f":"入力フォーム!$F$5","v":0}]
[1,null,{"$f":"入力フォーム!$F$3","v":"00:00:00"},{"$f":"入力フォーム!$B$7","v":"00:00:00"},{"$f":"入力フォーム!$B$3","v":0},null,{"$f":"入力フォーム!$E$9","v":""},{"$f":"入力フォーム!$B$12","v":0},null,{"$f":"入力フォーム!$F$4","v":0},null,null,{"$f":"入力フォーム!$F$6","v":0},{"$f":"入力フォーム!$B$8","v":0},0,0,0,null,1,10,0,0,0,0,0,0,0,null,null,null,null,null,null,null,null,null,null,null,null,null,null,null,null,null,null,null,null,null,null,null,0,null,null,null,0,1,null,{"$f":"入力フォーム!C29","v":0},null,null,{"$f":"入力フォーム!D29","v":0},{"$f":"IF(入力フォーム!E29<>0,入力フォーム!E29,\"\")","v":""},{"$f":"入力フォーム!F29","v":0},{"$f":"入力フォーム!G29","v":0},0,{"$f":"入力フォーム!H29","v":0},0,{"$f":"入力フォーム!I29","v":0},0,null,null,null,{"$f":"IF(入力フォーム!J29=0,\"\",入力フォーム!J29)","v":""},null,{"$f":"入力フォーム!$F$5","v":0}]
[1,null,{"$f":"入力フォーム!$F$3","v":"00:00:00"},{"$f":"入力フォーム!$B$7","v":"00:00:00"},{"$f":"入力フォーム!$B$3","v":0},null,{"$f":"入力フォーム!$E$9","v":""},{"$f":"入力フォーム!$B$12","v":0},null,{"$f":"入力フォーム!$F$4","v":0},null,null,{"$f":"入力フォーム!$F$6","v":0},{"$f":"入力フォーム!$B$8","v":0},0,0,0,null,1,10,0,0,0,0,0,0,0,null,null,null,null,null,null,null,null,null,null,null,null,null,null,null,null,null,null,null,null,null,null,null,0,null,null,null,0,1,null,{"$f":"入力フォーム!C30","v":0},null,null,{"$f":"入力フォーム!D30","v":0},{"$f":"IF(入力フォーム!E30<>0,入力フォーム!E30,\"\")","v":""},{"$f":"入力フォーム!F30","v":0},{"$f":"入力フォーム!G30","v":0},0,{"$f":"入力フォーム!H30","v":0},0,{"$f":"入力フォーム!I30","v":0},0,null,null,null,{"$f":"IF(入力フォーム!J30=0,\"\",入力フォーム!J30)","v":""},null,{"$f":"入力フォーム!$F$5","v":0}]
[1,null,{"$f":"入力フォーム!$F$3","v":"00:00:00"},{"$f":"入力フォーム!$B$7","v":"00:00:00"},{"$f":"入力フォーム!$B$3","v":0},null,{"$f":"入力フォーム!$E$9","v":""},{"$f":"入力フォーム!$B$12","v":0},null,{"$f":"入力フォーム!$F$4","v":0},null,null,{"$f":"入力フォーム!$F$6","v":0},{"$f":"入力フォーム!$B$8","v":0},0,0,0,null,1,10,0,0,0,0,0,0,0,null,null,null,null,null,null,null,null,null,null,null,null,null,null,null,null,null,null,null,null,null,null,null,0,null,null,null,0,1,null,{"$f":"入力フォーム!C31","v":0},null,null,{"$f":"入力フォーム!D31","v":0},{"$f":"IF(入力フォーム!E31<>0,入力フォーム!E31,\"\")","v":""},{"$f":"入力フォーム!F31","v":0},{"$f":"入力フォーム!G31","v":0},0,{"$f":"入力フォーム!H31","v":0},0,{"$f":"入力フォーム!I31","v":0},0,null,null,null,{"$f":"IF(入力フォーム!J31=0,\"\",入力フォーム!J31)","v":""},null,{"$f":"入力フォーム!$F$5","v":0}]
[1,null,{"$f":"入力フォーム!$F$3","v":"00:00:00"},{"$f":"入力フォーム!$B$7","v":"00:00:00"},{"$f":"入力フォーム!$B$3","v":0},null,{"$f":"入力フォーム!$E$9","v":""},{"$f":"入力フォーム!$B$12","v":0},null,{"$f":"入力フォーム!$F$4","v":0},null,null,{"$f":"入力フォーム!$F$6","v":0},{"$f":"入力フォーム!$B$8","v":0},0,0,0,null,1,10,0,0,0,0,0,0,0,null,null,null,null,null,null,null,null,null,null,null,null,null,null,null,null,null,null,null,null,null,null,null,0,null,null,null,0,1,null,{"$f":"入力フォーム!C32","v":0},null,null,{"$f":"入力フォーム!D32","v":0},{"$f":"IF(入力フォーム!E32<>0,入力フォーム!E32,\"\")","v":""},{"$f":"入力フォーム!F32","v":0},{"$f":"入力フォーム!G32","v":0},0,{"$f":"入力フォーム!H32","v":0},0,{"$f":"入力フォーム!I32","v":0},0,null,null,null,{"$f":"IF(入力フォーム!J32=0,\"\",入力フォーム!J32)","v":""},null,{"$f":"入力フォーム!$F$5","v":0}]
[1,null,{"$f":"入力フォーム!$F$3","v":"00:00:00"},{"$f":"入力フォーム!$B$7","v":"00:00:00"},{"$f":"入力フォーム!$B$3","v":0},null,{"$f":"入力フォーム!$E$9","v":""},{"$f":"入力フォーム!$B$12","v":0},null,{"$f":"入力フォーム!$F$4","v":0},null,null,{"$f":"入力フォーム!$F$6","v":0},{"$f":"入力フォーム!$B$8","v":0},0,0,0,null,1,10,0,0,0,0,0,0,0,null,null,null,null,null,null,null,null,null,null,null,null,null,null,null,null,null,null,null,null,null,null,null,0,null,null,null,0,1,null,{"$f":"入力フォーム!C33","v":0},null,null,{"$f":"入力フォーム!D33","v":0},{"$f":"IF(入力フォーム!E33<>0,入力フォーム!E33,\"\")","v":""},{"$f":"入力フォーム!F33","v":0},{"$f":"入力フォーム!G33","v":0},0,{"$f":"入力フォーム!H33","v":0},0,{"$f":"入力フォーム!I33","v":0},0,null,null,null,{"$f":"IF(入力フォーム!J33=0,\"\",入力フォーム!J33)","v":""},null,{"$f":"入力フォーム!$F$5","v":0}]
[1,null,{"$f":"入力フォーム!$F$3","v":"00:00:00"},{"$f":"入力フォーム!$B$7","v":"00:00:00"},{"$f":"入力フォーム!$B$3","v":0},null,{"$f":"入力フォーム!$E$9","v":""},{"$f":"入力フォーム!$B$12","v":0},null,{"$f":"入力フォーム!$F$4","v":0},null,null,{"$f":"入力フォーム!$F$6","v":0},{"$f":"入力フォーム!$B$8","v":0},0,0,0,null,1,10,0,0,0,0,0,0,0,null,null,null,null,null,null,null,null,null,null,null,null,null,null,null,null,null,null,null,null,null,null,null,0,null,null,null,0,1,null,{"$f":"入力フォーム!C34","v":0},null,null,{"$f":"入力フォーム!D34","v":0},{"$f":"IF(入力フォーム!E34<>0,入力フォーム!E34,\"\")","v":""},{"$f":"入力フォーム!F34","v":0},{"$f":"入力フォーム!G34","v":0},0,{"$f":"入力フォーム!H34","v":0},0,{"$f":"入力フォーム!I34","v":0},0,null,null,null,{"$f":"IF(入力フォーム!J34=0,\"\",入力フォーム!J34)","v":""},null,{"$f":"入力フォーム!$F$5","v":0}]
[1,null,{"$f":"入力フォーム!$F$3","v":"00:00:00"},{"$f":"入力フォーム!$B$7","v":"00:00:00"},{"$f":"入力フォーム!$B$3","v":0},null,{"$f":"入力フォーム!$E$9","v":""},{"$f":"入力フォーム!$B$12","v":0},null,{"$f":"入力フォーム!$F$4","v":0},null,null,{"$f":"入力フォーム!$F$6","v":0},{"$f":"入力フォーム!$B$8","v":0},0,0,0,null,1,10,0,0,0,0,0,0,0,null,null,null,null,null,null,null,null,null,null,null,null,null,null,null,null,null,null,null,null,null,null,null,0,null,null,null,0,1,null,{"$f":"入力フォーム!C35","v":0},null,null,{"$f":"入力フォーム!D35","v":0},{"$f":"IF(入力フォーム!E35<>0,入力フォーム!E35,\"\")","v":""},{"$f":"入力フォーム!F35","v":0},{"$f":"入力フォーム!G35","v":0},0,{"$f":"入力フォーム!H35","v":0},0,{"$f":"入力フォーム!I35","v":0},0,null,null,null,{"$f":"IF(入力フォーム!J35=0,\"\",入力フォーム!J35)","v":""},null,{"$f":"入力フォーム!$F$5","v":0}]
[1,null,{"$f":"入力フォーム!$F$3","v":"00:00:00"},{"$f":"入力フォーム!$B$7","v":"00:00:00"},{"$f":"入力フォーム!$B$3","v":0},null,{"$f":"入力フォーム!$E$9","v":""},{"$f":"入力フォーム!$B$12","v":0},null,{"$f":"入力フォーム!$F$4","v":0},null,null,{"$f":"入力フォーム!$F$6","v":0},{"$f":"入力フォーム!$B$8","v":0},0,0,0,null,1,10,0,0,0,0,0,0,0,null,null,null,null,null,null,null,null,null,null,null,null,null,null,null,null,null,null,null,null,null,null,null,0,null,null,null,0,1,null,{"$f":"入力フォーム!C36","v":0},null,null,{"$f":"入力フォーム!D36","v":0},{"$f":"IF(入力フォーム!E36<>0,入力フォーム!E36,\"\")","v":""},{"$f":"入力フォーム!F36","v":0},{"$f":"入力フォーム!G36","v":0},0,{"$f":"入力フォーム!H36","v":0},0,{"$f":"入力フォーム!I36","v":0},0,null,null,null,{"$f":"IF(入力フォーム!J36=0,\"\",入力フォーム!J36)","v":""},null,{"$f":"入力フォーム!$F$5","v":0}]
[1,null,{"$f":"入力フォーム!$F$3","v":"00:00:00"},{"$f":"入力フォーム!$B$7","v":"00:00:00"},{"$f":"入力フォーム!$B$3","v":0},null,{"$f":"入力フォーム!$E$9","v":""},{"$f":"入力フォーム!$B$12","v":0},null,{"$f":"入力フォーム!$F$4","v":0},null,null,{"$f":"入力フォーム!$F$6","v":0},{"$f":"入力フォーム!$B$8","v":0},0,0,0,null,1,10,0,0,0,0,0,0,0,null,null,null,null,null,null,null,null,null,null,null,null,null,null,null,null,null,null,null,null,null,null,null,0,null,null,null,0,1,null,{"$f":"入力フォーム!C37","v":0},null,null,{"$f":"入力フォーム!D37","v":0},{"$f":"IF(入力フォーム!E37<>0,入力フォーム!E37,\"\")","v":""},{"$f":"入力フォーム!F37","v":0},{"$f":"入力フォーム!G37","v":0},0,{"$f":"入力フォーム!H37","v":0},0,{"$f":"入力フォーム!I37","v":0},0,null,null,null,{"$f":"IF(入力フォーム!J37=0,\"\",入力フォーム!J37)","v":""},null,{"$f":"入力フォーム!$F$5","v":0}]
[1,null,{"$f":"入力フォーム!$F$3","v":"00:00:00"},{"$f":"入力フォーム!$B$7","v":"00:00:00"},{"$f":"入力フォーム!$B$3","v":0},null,{"$f":"入力フォーム!$E$9","v":""},{"$f":"入力フォーム!$B$12","v":0},null,{"$f":"入力フォーム!$F$4","v":0},null,null,{"$f":"入力フォーム!$F$6","v":0},{"$f":"入力フォーム!$B$8","v":0},0,0,0,null,1,10,0,0,0,0,0,0,0,null,null,null,null,null,null,null,null,null,null,null,null,null,null,null,null,null,null,null,null,null,null,null,0,null,null,null,0,1,null,{"$f":"入力フォーム!C38","v":0},null,null,{"$f":"入力フォーム!D38","v":0},{"$f":"IF(入力フォーム!E38<>0,入力フォーム!E38,\"\")","v":""},{"$f":"入力フォーム!F38","v":0},{"$f":"入力フォーム!G38","v":0},0,{"$f":"入力フォーム!H38","v":0},0,{"$f":"入力フォーム!I38","v":0},0,null,null,null,{"$f":"IF(入力フォーム!J38=0,\"\",入力フォーム!J38)","v":""},null,{"$f":"入力フォーム!$F$5","v":0}]
[1,null,{"$f":"入力フォーム!$F$3","v":"00:00:00"},{"$f":"入力フォーム!$B$7","v":"00:00:00"},{"$f":"入力フォーム!$B$3","v":0},null,{"$f":"入力フォーム!$E$9","v":""},{"$f":"入力フォーム!$B$12","v":0},null,{"$f":"入力フォーム!$F$4","v":0},null,null,{"$f":"入力フォーム!$F$6","v":0},{"$f":"入力フォーム!$B$8","v":0},0,0,0,null,1,10,0,0,0,0,0,0,0,null,null,null,null,null,null,null,null,null,null,null,null,null,null,null,null,null,null,null,null,null,null,null,0,null,null,null,0,1,null,{"$f":"入力フォーム!C39","v":0},null,null,{"$f":"入力フォーム!D39","v":0},{"$f":"IF(入力フォーム!E39<>0,入力フォーム!E39,\"\")","v":""},{"$f":"入力フォーム!F39","v":0},{"$f":"入力フォーム!G39","v":0},0,{"$f":"入力フォーム!H39","v":0},0,{"$f":"入力フォーム!I39","v":0},0,null,null,null,{"$f":"IF(入力フォーム!J39=0,\"\",入力フォーム!J39)","v":""},null,{"$f":"入力フォーム!$F$5","v":0}]
[1,null,{"$f":"入力フォーム!$F$3","v":"00:00:00"},{"$f":"入力フォーム!$B$7","v":"00:00:00"},{"$f":"入力フォーム!$B$3","v":0},null,{"$f":"入力フォーム!$E$9","v":""},{"$f":"入力フォーム!$B$12","v":0},null,{"$f":"入力フォーム!$F$4","v":0},null,null,{"$f":"入力フォーム!$F$6","v":0},{"$f":"入力フォーム!$B$8","v":0},0,0,0,null,1,10,0,0,0,0,0,0,0,null,null,null,null,null,null,null,null,null,null,null,null,null,null,null,null,null,null,null,null,null,null,null,0,null,null,null,0,1,null,{"$f":"入力フォーム!C40","v":0},null,null,{"$f":"入力フォーム!D40","v":0},{"$f":"IF(入力フォーム!E40<>0,入力フォーム!E40,\"\")","v":""},{"$f":"入力フォーム!F40","v":0},{"$f":"入力フォーム!G40","v":0},0,{"$f":"入力フォーム!H40","v":0},0,{"$f":"入力フォーム!I40","v":0},0,null,null,null,{"$f":"IF(入力フォーム!J40=0,\"\",入力フォーム!J40)","v":""},null,{"$f":"入力フォーム!$F$5","v":0}]
[1,null,{"$f":"入力フォーム!$F$3","v":"00:00:00"},{"$f":"入力フォーム!$B$7","v":"00:00:00"},{"$f":"入力フォーム!$B$3","v":0},null,{"$f":"入力フォーム!$E$9","v":""},{"$f":"入力フォーム!$B$12","v":0},null,{"$f":"入力フォーム!$F$4","v":0},null,null,{"$f":"入力フォーム!$F$6","v":0},{"$f":"入力フォーム!$B$8","v":0},0,0,0,null,1,10,0,0,0,0,0,0,0,null,null,null,null,null,null,null,null,null,null,null,null,null,null,null,null,null,null,null,null,null,null,null,0,null,null,null,0,1,null,{"$f":"入力フォーム!C41","v":0},null,null,{"$f":"入力フォーム!D41","v":0},{"$f":"IF(入力フォーム!E41<>0,入力フォーム!E41,\"\")","v":""},{"$f":"入力フォーム!F41","v":0},{"$f":"入力フォーム!G41","v":0},0,{"$f":"入力フォーム!H41","v":0},0,{"$f":"入力フォーム!I41","v":0},0,null,null,null,{"$f":"IF(入力フォーム!J41=0,\"\",入力フォーム!J41)","v":""},null,{"$f":"入力フォーム!$F$5","v":0}]
[1,null,{"$f":"入力フォーム!$F$3","v":"00:00:00"},{"$f":"入力フォーム!$B$7","v":"00:00:00"},{"$f":"入力フォーム!$B$3","v":0},null,{"$f":"入力フォーム!$E$9","v":""},{"$f":"入力フォーム!$B$12","v":0},null,{"$f":"入力フォーム!$F$4","v":0},null,null,{"$f":"入力フォーム!$F$6","v":0},{"$f":"入力フォーム!$B$8","v":0},0,0,0,null,1,10,0,0,0,0,0,0,0,null,null,null,null,null,null,null,null,null,null,null,null,null,null,null,null,null,null,null,null,null,null,null,0,null,null,null,0,1,null,{"$f":"入力フォーム!C42","v":0},null,null,{"$f":"入力フォーム!D42","v":0},{"$f":"IF(入力フォーム!E42<>0,入力フォーム!E42,\"\")","v":""},{"$f":"入力フォーム!F42","v":0},{"$f":"入力フォーム!G42","v":0},0,{"$f":"入力フォーム!H42","v":0},0,{"$f":"入力フォーム!I42","v":0},0,null,null,null,{"$f":"IF(入力フォーム!J42=0,\"\",入力フォーム!J42)","v":""},null,{"$f":"入力フォーム!$F$5","v":0}]
[1,null,{"$f":"入力フォーム!$F$3","v":"00:00:00"},{"$f":"入力フォーム!$B$7","v":"00:00:00"},{"$f":"入力フォーム!$B$3","v":0},null,{"$f":"入力フォーム!$E$9","v":""},{"$f":"入力フォーム!$B$12","v":0},null,{"$f":"入力フォーム!$F$4","v":0},null,null,{"$f":"入力フォーム!$F$6","v":0},{"$f":"入力フォーム!$B$8","v":0},0,0,0,null,1,10,0,0,0,0,0,0,0,null,null,null,null,null,null,null,null,null,null,null,null,null,null,null,null,null,null,null,null,null,null,null,0,null,null,null,0,1,null,{"$f":"入力フォーム!C43","v":0},null,null,{"$f":"入力フォーム!D43","v":0},{"$f":"IF(入力フォーム!E43<>0,入力フォーム!E43,\"\")","v":""},{"$f":"入力フォーム!F43","v":0},{"$f":"入力フォーム!G43","v":0},0,{"$f":"入力フォーム!H43","v":0},0,{"$f":"入力フォーム!I43","v":0},0,null,null,null,{"$f":"IF(入力フォーム!J43=0,\"\",入力フォーム!J43)","v":""},null,{"$f":"入力フォーム!$F$5","v":0}]
[1,null,{"$f":"入力フォーム!$F$3","v":"00:00:00"},{"$f":"入力フォーム!$B$7","v":"00:00:00"},{"$f":"入力フォーム!$B$3","v":0},null,{"$f":"入力フォーム!$E$9","v":""},{"$f":"入力フォーム!$B$12","v":0},null,{"$f":"入力フォーム!$F$4","v":0},null,null,{"$f":"入力フォーム!$F$6","v":0},{"$f":"入力フォーム!$B$8","v":0},0,0,0,null,1,10,0,0,0,0,0,0,0,null,null,null,null,null,null,null,null,null,null,null,null,null,null,null,null,null,null,null,null,null,null,null,0,null,null,null,0,1,null,{"$f":"入力フォーム!C44","v":0},null,null,{"$f":"入力フォーム!D44","v":0},{"$f":"IF(入力フォーム!E44<>0,入力フォーム!E44,\"\")","v":""},{"$f":"入力フォーム!F44","v":0},{"$f":"入力フォーム!G44","v":0},0,{"$f":"入力フォーム!H44","v":0},0,{"$f":"入力フォーム!I44","v":0},0,null,null,null,{"$f":"IF(入力フォーム!J44=0,\"\",入力フォーム!J44)","v":""},null,{"$f":"入力フォーム!$F$5","v":0}]
[1,null,{"$f":"入力フォーム!$F$3","v":"00:00:00"},{"$f":"入力フォーム!$B$7","v":"00:00:00"},{"$f":"入力フォーム!$B$3","v":0},null,{"$f":"入力フォーム!$E$9","v":""},{"$f":"入力フォーム!$B$12","v":0},null,{"$f":"入力フォーム!$F$4","v":0},null,null,{"$f":"入力フォーム!$F$6","v":0},{"$f":"入力フォーム!$B$8","v":0},0,0,0,null,1,10,0,0,0,0,0,0,0,null,null,null,null,null,null,null,null,null,null,null,null,null,null,null,null,null,null,null,null,null,null,null,0,null,null,null,0,1,null,{"$f":"入力フォーム!C45","v":0},null,null,{"$f":"入力フォーム!D45","v":0},{"$f":"IF(入力フォーム!E45<>0,入力フォーム!E45,\"\")","v":""},{"$f":"入力フォーム!F45","v":0},{"$f":"入力フォーム!G45","v":0},0,{"$f":"入力フォーム!H45","v":0},0,{"$f":"入力フォーム!I45","v":0},0,null,null,null,{"$f":"IF(入力フォーム!J45=0,\"\",入力フォーム!J45)","v":""},null,{"$f":"入力フォーム!$F$5","v":0}]
[1,null,{"$f":"入力フォーム!$F$3","v":"00:00:00"},{"$f":"入力フォーム!$B$7","v":"00:00:00"},{"$f":"入力フォーム!$B$3","v":0},null,{"$f":"入力フォーム!$E$9","v":""},{"$f":"入力フォーム!$B$12","v":0},null,{"$f":"入力フォーム!$F$4","v":0},null,null,{"$f":"入力フォーム!$F$6","v":0},{"$f":"入力フォーム!$B$8","v":0},0,0,0,null,1,10,0,0,0,0,0,0,0,null,null,null,null,null,null,null,null,null,null,null,null,null,null,null,null,null,null,null,null,null,null,null,0,null,null,null,0,1,null,{"$f":"入力フォーム!C46","v":0},null,null,{"$f":"入力フォーム!D46","v":0},{"$f":"IF(入力フォーム!E46<>0,入力フォーム!E46,\"\")","v":""},{"$f":"入力フォーム!F46","v":0},{"$f":"入力フォーム!G46","v":0},0,{"$f":"入力フォーム!H46","v":0},0,{"$f":"入力フォーム!I46","v":0},0,null,null,null,{"$f":"IF(入力フォーム!J46=0,\"\",入力フォーム!J46)","v":""},null,{"$f":"入力フォーム!$F$5","v":0}]
[1,null,{"$f":"入力フォーム!$F$3","v":"00:00:00"},{"$f":"入力フォーム!$B$7","v":"00:00:00"},{"$f":"入力フォーム!$B$3","v":0},null,{"$f":"入力フォーム!$E$9","v":""},{"$f":"入力フォーム!$B$12","v":0},null,{"$f":"入力フォーム!$F$4","v":0},null,null,{"$f":"入力フォーム!$F$6","v":0},{"$f":"入力フォーム!$B$8","v":0},0,0,0,null,1,10,0,0,0,0,0,0,0,null,null,null,null,null,null,null,null,null,null,null,null,null,null,null,null,null,null,null,null,null,null,null,0,null,null,null,0,1,null,{"$f":"入力フォーム!C47","v":0},null,null,{"$f":"入力フォーム!D47","v":0},{"$f":"IF(入力フォーム!E47<>0,入力フォーム!E47,\"\")","v":""},{"$f":"入力フォーム!F47","v":0},{"$f":"入力フォーム!G47","v":0},0,{"$f":"入力フォーム!H47","v":0},0,{"$f":"入力フォーム!I47","v":0},0,null,null,null,{"$f":"IF(入力フォーム!J47=0,\"\",入力フォーム!J47)","v":""},null,{"$f":"入力フォーム!$F$5","v":0}]
[1,null,{"$f":"入力フォーム!$F$3","v":"00:00:00"},{"$f":"入力フォーム!$B$7","v":"00:00:00"},{"$f":"入力フォーム!$B$3","v":0},null,{"$f":"入力フォーム!$E$9","v":""},{"$f":"入力フォーム!$B$12","v":0},null,{"$f":"入力フォーム!$F$4","v":0},null,null,{"$f":"入力フォーム!$F$6","v":0},{"$f":"入力フォーム!$B$8","v":0},0,0,0,null,1,10,0,0,0,0,0,0,0,null,null,null,null,null,null,null,null,null,null,null,null,null,null,null,null,null,null,null,null,null,null,null,0,null,null,null,0,1,null,{"$f":"入力フォーム!C48","v":0},null,null,{"$f":"入力フォーム!D48","v":0},{"$f":"IF(入力フォーム!E48<>0,入力フォーム!E48,\"\")","v":""},{"$f":"入力フォーム!F48","v":0},{"$f":"入力フォーム!G48","v":0},0,{"$f":"入力フォーム!H48","v":0},0,{"$f":"入力フォーム!I48","v":0},0,null,null,null,{"$f":"IF(入力フォーム!J48=0,\"\",入力フォーム!J48)","v":""},null,{"$f":"入力フォーム!$F$5","v":0}]
[1,null,{"$f":"入力フォーム!$F$3","v":"00:00:00"},{"$f":"入力フォーム!$B$7","v":"00:00:00"},{"$f":"入力フォーム!$B$3","v":0},null,{"$f":"入力フォーム!$E$9","v":""},{"$f":"入力フォーム!$B$12","v":0},null,{"$f":"入力フォーム!$F$4","v":0},null,null,{"$f":"入力フォーム!$F$6","v":0},{"$f":"入力フォーム!$B$8","v":0},0,0,0,null,1,10,0,0,0,0,0,0,0,null,null,null,null,null,null,null,null,null,null,null,null,null,null,null,null,null,null,null,null,null,null,null,0,null,null,null,0,1,null,{"$f":"入力フォーム!C49","v":0},null,null,{"$f":"入力フォーム!D49","v":0},{"$f":"IF(入力フォーム!E49<>0,入力フォーム!E49,\"\")","v":""},{"$f":"入力フォーム!F49","v":0},{"$f":"入力フォーム!G49","v":0},0,{"$f":"入力フォーム!H49","v":0},0,{"$f":"入力フォーム!I49","v":0},0,null,null,null,{"$f":"IF(入力フォーム!J49=0,\"\",入力フォーム!J49)","v":""},null,{"$f":"入力フォーム!$F$5","v":0}]
[1,null,{"$f":"入力フォーム!$F$3","v":"00:00:00"},{"$f":"入力フォーム!$B$7","v":"00:00:00"},{"$f":"入力フォーム!$B$3","v":0},null,{"$f":"入力フォーム!$E$9","v":""},{"$f":"入力フォーム!$B$12","v":0},null,{"$f":"入力フォーム!$F$4","v":0},null,null,{"$f":"入力フォーム!$F$6","v":0},{"$f":"入力フォーム!$B$8","v":0},0,0,0,null,1,10,0,0,0,0,0,0,0,null,null,null,null,null,null,null,null,null,null,null,null,null,null,null,null,null,null,null,null,null,null,null,0,null,null,null,0,1,null,{"$f":"入力フォーム!C50","v":0},null,null,{"$f":"入力フォーム!D50","v":0},{"$f":"IF(入力フォーム!E50<>0,入力フォーム!E50,\"\")","v":""},{"$f":"入力フォーム!F50","v":0},{"$f":"入力フォーム!G50","v":0},0,{"$f":"入力フォーム!H50","v":0},0,{"$f":"入力フォーム!I50","v":0},0,null,null,null,{"$f":"IF(入力フォーム!J50=0,\"\",入力フォーム!J50)","v":""},null,{"$f":"入力フォーム!$F$5","v":0}]
[1,null,{"$f":"入力フォーム!$F$3","v":"00:00:00"},{"$f":"入力フォーム!$B$7","v":"00:00:00"},{"$f":"入力フォーム!$B$3","v":0},null,{"$f":"入力フォーム!$E$9","v":""},{"$f":"入力フォーム!$B$12","v":0},null,{"$f":"入力フォーム!$F$4","v":0},null,null,{"$f":"入力フォーム!$F$6","v":0},{"$f":"入力フォーム!$B$8","v":0},0,0,0,null,1,10,0,0,0,0,0,0,0,null,null,null,null,null,null,null,null,null,null,null,null,null,null,null,null,null,null,null,null,null,null,null,0,null,null,null,0,1,null,{"$f":"入力フォーム!C51","v":0},null,null,{"$f":"入力フォーム!D51","v":0},{"$f":"IF(入力フォーム!E51<>0,入力フォーム!E51,\"\")","v":""},{"$f":"入力フォーム!F51","v":0},{"$f":"入力フォーム!G51","v":0},0,{"$f":"入力フォーム!H51","v":0},0,{"$f":"入力フォーム!I51","v":0},0,null,null,null,{"$f":"IF(入力フォーム!J51=0,\"\",入力フォーム!J51)","v":""},null,{"$f":"入力フォーム!$F$5","v":0}]
[1,null,{"$f":"入力フォーム!$F$3","v":"00:00:00"},{"$f":"入力フォーム!$B$7","v":"00:00:00"},{"$f":"入力フォーム!$B$3","v":0},null,{"$f":"入力フォーム!$E$9","v":""},{"$f":"入力フォーム!$B$12","v":0},null,{"$f":"入力フォーム!$F$4","v":0},null,null,{"$f":"入力フォーム!$F$6","v":0},{"$f":"入力フォーム!$B$8","v":0},0,0,0,null,1,10,0,0,0,0,0,0,0,null,null,null,null,null,null,null,null,null,null,null,null,null,null,null,null,null,null,null,null,null,null,null,0,null,null,null,0,1,null,{"$f":"入力フォーム!C52","v":0},null,null,{"$f":"入力フォーム!D52","v":0},{"$f":"IF(入力フォーム!E52<>0,入力フォーム!E52,\"\")","v":""},{"$f":"入力フォーム!F52","v":0},{"$f":"入力フォーム!G52","v":0},0,{"$f":"入力フォーム!H52","v":0},0,{"$f":"入力フォーム!I52","v":0},0,null,null,null,{"$f":"IF(入力フォーム!J52=0,\"\",入力フォーム!J52)","v":""},null,{"$f":"入力フォーム!$F$5","v":0}]
[1,null,{"$f":"入力フォーム!$F$3","v":"00:00:00"},{"$f":"入力フォーム!$B$7","v":"00:00:00"},{"$f":"入力フォーム!$B$3","v":0},null,{"$f":"入力フォーム!$E$9","v":""},{"$f":"入力フォーム!$B$12","v":0},null,{"$f":"入力フォーム!$F$4","v":0},null,null,{"$f":"入力フォーム!$F$6","v":0},{"$f":"入力フォーム!$B$8","v":0},0,0,0,null,1,10,0,0,0,0,0,0,0,null,null,null,null,null,null,null,null,null,null,null,null,null,null,null,null,null,null,null,null,null,null,null,0,null,null,null,0,1,null,{"$f":"入力フォーム!C53","v":0},null,null,{"$f":"入力フォーム!D53","v":0},{"$f":"IF(入力フォーム!E53<>0,入力フォーム!E53,\"\")","v":""},{"$f":"入力フォーム!F53","v":0},{"$f":"入力フォーム!G53","v":0},0,{"$f":"入力フォーム!H53","v":0},0,{"$f":"入力フォーム!I53","v":0},0,null,null,null,{"$f":"IF(入力フォーム!J53=0,\"\",入力フォーム!J53)","v":""},null,{"$f":"入力フォーム!$F$5","v":0}]
[1,null,{"$f":"入力フォーム!$F$3","v":"00:00:00"},{"$f":"入力フォーム!$B$7","v":"00:00:00"},{"$f":"入力フォーム!$B$3","v":0},null,{"$f":"入力フォーム!$E$9","v":""},{"$f":"入力フォーム!$B$12","v":0},null,{"$f":"入力フォーム!$F$4","v":0},null,null,{"$f":"入力フォーム!$F$6","v":0},{"$f":"入力フォーム!$B$8","v":0},0,0,0,null,1,10,0,0,0,0,0,0,0,null,null,null,null,null,null,null,null,null,null,null,null,null,null,null,null,null,null,null,null,null,null,null,0,null,null,null,0,1,null,{"$f":"入力フォーム!C54","v":0},null,null,{"$f":"入力フォーム!D54","v":0},{"$f":"IF(入力フォーム!E54<>0,入力フォーム!E54,\"\")","v":""},{"$f":"入力フォーム!F54","v":0},{"$f":"入力フォーム!G54","v":0},0,{"$f":"入力フォーム!H54","v":0},0,{"$f":"入力フォーム!I54","v":0},0,null,null,null,{"$f":"IF(入力フォーム!J54=0,\"\",入力フォーム!J54)","v":""},null,{"$f":"入力フォーム!$F$5","v":0}]
[1,null,{"$f":"入力フォーム!$F$3","v":"00:00:00"},{"$f":"入力フォーム!$B$7","v":"00:00:00"},{"$f":"入力フォーム!$B$3","v":0},null,{"$f":"入力フォーム!$E$9","v":""},{"$f":"入力フォーム!$B$12","v":0},null,{"$f":"入力フォーム!$F$4","v":0},null,null,{"$f":"入力フォーム!$F$6","v":0},{"$f":"入力フォーム!$B$8","v":0},0,0,0,null,1,10,0,0,0,0,0,0,0,null,null,null,null,null,null,null,null,null,null,null,null,null,null,null,null,null,null,null,null,null,null,null,0,null,null,null,0,1,null,{"$f":"入力フォーム!C55","v":0},null,null,{"$f":"入力フォーム!D55","v":0},{"$f":"IF(入力フォーム!E55<>0,入力フォーム!E55,\"\")","v":""},{"$f":"入力フォーム!F55","v":0},{"$f":"入力フォーム!G55","v":0},0,{"$f":"入力フォーム!H55","v":0},0,{"$f":"入力フォーム!I55","v":0},0,null,null,null,{"$f":"IF(入力フォーム!J55=0,\"\",入力フォーム!J55)","v":""},null,{"$f":"入力フォーム!$F$5","v":0}]
[1,null,{"$f":"入力フォーム!$F$3","v":"00:00:00"},{"$f":"入力フォーム!$B$7","v":"00:00:00"},{"$f":"入力フォーム!$B$3","v":0},null,{"$f":"入力フォーム!$E$9","v":""},{"$f":"入力フォーム!$B$12","v":0},null,{"$f":"入力フォーム!$F$4","v":0},null,null,{"$f":"入力フォーム!$F$6","v":0},{"$f":"入力フォーム!$B$8","v":0},0,0,0,null,1,10,0,0,0,0,0,0,0,null,null,null,null,null,null,null,null,null,null,null,null,null,null,null,null,null,null,null,null,null,null,null,0,null,null,null,0,1,null,{"$f":"入力フォーム!C56","v":0},null,null,{"$f":"入力フォーム!D56","v":0},{"$f":"IF(入力フォーム!E56<>0,入力フォーム!E56,\"\")","v":""},{"$f":"入力フォーム!F56","v":0},{"$f":"入力フォーム!G56","v":0},0,{"$f":"入力フォーム!H56","v":0},0,{"$f":"入力フォーム!I56","v":0},0,null,null,null,{"$f":"IF(入力フォーム!J56=0,\"\",入力フォーム!J56)","v":""},null,{"$f":"入力フォーム!$F$5","v":0}]
[1,null,{"$f":"入力フォーム!$F$3","v":"00:00:00"},{"$f":"入力フォーム!$B$7","v":"00:00:00"},{"$f":"入力フォーム!$B$3","v":0},null,{"$f":"入力フォーム!$E$9","v":""},{"$f":"入力フォーム!$B$12","v":0},null,{"$f":"入力フォーム!$F$4","v":0},null,null,{"$f":"入力フォーム!$F$6","v":0},{"$f":"入力フォーム!$B$8","v":0},0,0,0,null,1,10,0,0,0,0,0,0,0,null,null,null,null,null,null,null,null,null,null,null,null,null,null,null,null,null,null,null,null,null,null,null,0,null,null,null,0,1,null,{"$f":"入力フォーム!C57","v":0},null,null,{"$f":"入力フォーム!D57","v":0},{"$f":"IF(入力フォーム!E57<>0,入力フォーム!E57,\"\")","v":""},{"$f":"入力フォーム!F57","v":0},{"$f":"入力フォーム!G57","v":0},0,{"$f":"入力フォーム!H57","v":0},0,{"$f":"入力フォーム!I57","v":0},0,null,null,null,{"$f":"IF(入力フォーム!J57=0,\"\",入力フォーム!J57)","v":""},null,{"$f":"入力フォーム!$F$5","v":0}]
[1,null,{"$f":"入力フォーム!$F$3","v":"00:00:00"},{"$f":"入力フォーム!$B$7","v":"00:00:00"},{"$f":"入力フォーム!$B$3","v":0},null,{"$f":"入力フォーム!$E$9","v":""},{"$f":"入力フォーム!$B$12","v":0},null,{"$f":"入力フォーム!$F$4","v":0},null,null,{"$f":"入力フォーム!$F$6","v":0},{"$f":"入力フォーム!$B$8","v":0},0,0,0,null,1,10,0,0,0,0,0,0,0,null,null,null,null,null,null,null,null,null,null,null,null,null,null,null,null,null,null,null,null,null,null,null,0,null,null,null,0,1,null,{"$f":"入力フォーム!C58","v":0},null,null,{"$f":"入力フォーム!D58","v":0},{"$f":"IF(入力フォーム!E58<>0,入力フォーム!E58,\"\")","v":""},{"$f":"入力フォーム!F58","v":0},{"$f":"入力フォーム!G58","v":0},0,{"$f":"入力フォーム!H58","v":0},0,{"$f":"入力フォーム!I58","v":0},0,null,null,null,{"$f":"IF(入力フォーム!J58=0,\"\",入力フォーム!J58)","v":""},null,{"$f":"入力フォーム!$F$5","v":0}]
[1,null,{"$f":"入力フォーム!$F$3","v":"00:00:00"},{"$f":"入力フォーム!$B$7","v":"00:00:00"},{"$f":"入力フォーム!$B$3","v":0},null,{"$f":"入力フォーム!$E$9","v":""},{"$f":"入力フォーム!$B$12","v":0},null,{"$f":"入力フォーム!$F$4","v":0},null,null,{"$f":"入力フォーム!$F$6","v":0},{"$f":"入力フォーム!$B$8","v":0},0,0,0,null,1,10,0,0,0,0,0,0,0,null,null,null,null,null,null,null,null,null,null,null,null,null,null,null,null,null,null,null,null,null,null,null,0,null,null,null,0,1,null,{"$f":"入力フォーム!C59","v":0},null,null,{"$f":"入力フォーム!D59","v":0},{"$f":"IF(入力フォーム!E59<>0,入力フォーム!E59,\"\")","v":""},{"$f":"入力フォーム!F59","v":0},{"$f":"入力フォーム!G59","v":0},0,{"$f":"入力フォーム!H59","v":0},0,{"$f":"入力フォーム!I59","v":0},0,null,null,null,{"$f":"IF(入力フォーム!J59=0,\"\",入力フォーム!J59)","v":""},null,{"$f":"入力フォーム!$F$5","v":0}]
[1,null,{"$f":"入力フォーム!$F$3","v":"00:00:00"},{"$f":"入力フォーム!$B$7","v":"00:00:00"},{"$f":"入力フォーム!$B$3","v":0},null,{"$f":"入力フォーム!$E$9","v":""},{"$f":"入力フォーム!$B$12","v":0},null,{"$f":"入力フォーム!$F$4","v":0},null,null,{"$f":"入力フォーム!$F$6","v":0},{"$f":"入力フォーム!$B$8","v":0},0,0,0,null,1,10,0,0,0,0,0,0,0,null,null,null,null,null,null,null,null,null,null,null,null,null,null,null,null,null,null,null,null,null,null,null,0,null,null,null,0,1,null,{"$f":"入力フォーム!C60","v":0},null,null,{"$f":"入力フォーム!D60","v":0},{"$f":"IF(入力フォーム!E60<>0,入力フォーム!E60,\"\")","v":""},{"$f":"入力フォーム!F60","v":0},{"$f":"入力フォーム!G60","v":0},0,{"$f":"入力フォーム!H60","v":0},0,{"$f":"入力フォーム!I60","v":0},0,null,null,null,{"$f":"IF(入力フォーム!J60=0,\"\",入力フォーム!J60)","v":""},null,{"$f":"入力フォーム!$F$5","v":0}]
[1,null,{"$f":"入力フォーム!$F$3","v":"00:00:00"},{"$f":"入力フォーム!$B$7","v":"00:00:00"},{"$f":"入力フォーム!$B$3","v":0},null,{"$f":"入力フォーム!$E$9","v":""},{"$f":"入力フォーム!$B$12","v":0},null,{"$f":"入力フォーム!$F$4","v":0},null,null,{"$f":"入力フォーム!$F$6","v":0},{"$f":"入力フォーム!$B$8","v":0},0,0,0,null,1,10,0,0,0,0,0,0,0,null,null,null,null,null,null,null,null,null,null,null,null,null,null,null,null,null,null,null,null,null,null,null,0,null,null,null,0,1,null,{"$f":"入力フォーム!C61","v":0},null,null,{"$f":"入力フォーム!D61","v":0},{"$f":"IF(入力フォーム!E61<>0,入力フォーム!E61,\"\")","v":""},{"$f":"入力フォーム!F61","v":0},{"$f":"入力フォーム!G61","v":0},0,{"$f":"入力フォーム!H61","v":0},0,{"$f":"入力フォーム!I61","v":0},0,null,null,null,{"$f":"IF(入力フォーム!J61=0,\"\",入力フォーム!J61)","v":""},null,{"$f":"入力フォーム!$F$5","v":0}]
[1,null,{"$f":"入力フォーム!$F$3","v":"00:00:00"},{"$f":"入力フォーム!$B$7","v":"00:00:00"},{"$f":"入力フォーム!$B$3","v":0},null,{"$f":"入力フォーム!$E$9","v":""},{"$f":"入力フォーム!$B$12","v":0},null,{"$f":"入力フォーム!$F$4","v":0},null,null,{"$f":"入力フォーム!$F$6","v":0},{"$f":"入力フォーム!$B$8","v":0},0,0,0,null,1,10,0,0,0,0,0,0,0,null,null,null,null,null,null,null,null,null,null,null,null,null,null,null,null,null,null,null,null,null,null,null,0,null,null,null,0,1,null,{"$f":"入力フォーム!C62","v":0},null,null,{"$f":"入力フォーム!D62","v":0},{"$f":"IF(入力フォーム!E62<>0,入力フォーム!E62,\"\")","v":""},{"$f":"入力フォーム!F62","v":0},{"$f":"入力フォーム!G62","v":0},0,{"$f":"入力フォーム!H62","v":0},0,{"$f":"入力フォーム!I62","v":0},0,null,null,null,{"$f":"IF(入力フォーム!J62=0,\"\",入力フォーム!J62)","v":""},null,{"$f":"入力フォーム!$F$5","v":0}]
[1,null,{"$f":"入力フォーム!$F$3","v":"00:00:00"},{"$f":"入力フォーム!$B$7","v":"00:00:00"},{"$f":"入力フォーム!$B$3","v":0},null,{"$f":"入力フォーム!$E$9","v":""},{"$f":"入力フォーム!$B$12","v":0},null,{"$f":"入力フォーム!$F$4","v":0},null,null,{"$f":"入力フォーム!$F$6","v":0},{"$f":"入力フォーム!$B$8","v":0},0,0,0,null,1,10,0,0,0,0,0,0,0,null,null,null,null,null,null,null,null,null,null,null,null,null,null,null,null,null,null,null,null,null,null,null,0,null,null,null,0,1,null,{"$f":"入力フォーム!C63","v":0},null,null,{"$f":"入力フォーム!D63","v":0},{"$f":"IF(入力フォーム!E63<>0,入力フォーム!E63,\"\")","v":""},{"$f":"入力フォーム!F63","v":0},{"$f":"入力フォーム!G63","v":0},0,{"$f":"入力フォーム!H63","v":0},0,{"$f":"入力フォーム!I63","v":0},0,null,null,null,{"$f":"IF(入力フォーム!J63=0,\"\",入力フォーム!J63)","v":""},null,{"$f":"入力フォーム!$F$5","v":0}]
[1,null,{"$f":"入力フォーム!$F$3","v":"00:00:00"},{"$f":"入力フォーム!$B$7","v":"00:00:00"},{"$f":"入力フォーム!$B$3","v":0},null,{"$f":"入力フォーム!$E$9","v":""},{"$f":"入力フォーム!$B$12","v":0},null,{"$f":"入力フォーム!$F$4","v":0},null,null,{"$f":"入力フォーム!$F$6","v":0},{"$f":"入力フォーム!$B$8","v":0},0,0,0,null,1,10,0,0,0,0,0,0,0,null,null,null,null,null,null,null,null,null,null,null,null,null,null,null,null,null,null,null,null,null,null,null,0,null,null,null,0,1,null,{"$f":"入力フォーム!C64","v":0},null,null,{"$f":"入力フォーム!D64","v":0},{"$f":"IF(入力フォーム!E64<>0,入力フォーム!E64,\"\")","v":""},{"$f":"入力フォーム!F64","v":0},{"$f":"入力フォーム!G64","v":0},0,{"$f":"入力フォーム!H64","v":0},0,{"$f":"入力フォーム!I64","v":0},0,null,null,null,{"$f":"IF(入力フォーム!J64=0,\"\",入力フォーム!J64)","v":""},null,{"$f":"入力フォーム!$F$5","v":0}]
[1,null,{"$f":"入力フォーム!$F$3","v":"00:00:00"},{"$f":"入力フォーム!$B$7","v":"00:00:00"},{"$f":"入力フォーム!$B$3","v":0},null,{"$f":"入力フォーム!$E$9","v":""},{"$f":"入力フォーム!$B$12","v":0},null,{"$f":"入力フォーム!$F$4","v":0},null,null,{"$f":"入力フォーム!$F$6","v":0},{"$f":"入力フォーム!$B$8","v":0},0,0,0,null,1,10,0,0,0,0,0,0,0,null,null,null,null,null,null,null,null,null,null,null,null,null,null,null,null,null,null,null,null,null,null,null,0,null,null,null,0,1,null,{"$f":"入力フォーム!C65","v":0},null,null,{"$f":"入力フォーム!D65","v":0},{"$f":"IF(入力フォーム!E65<>0,入力フォーム!E65,\"\")","v":""},{"$f":"入力フォーム!F65","v":0},{"$f":"入力フォーム!G65","v":0},0,{"$f":"入力フォーム!H65","v":0},0,{"$f":"入力フォーム!I65","v":0},0,null,null,null,{"$f":"IF(入力フォーム!J65=0,\"\",入力フォーム!J65)","v":""},null,{"$f":"入力フォーム!$F$5","v":0}]
[1,null,{"$f":"入力フォーム!$F$3","v":"00:00:00"},{"$f":"入力フォーム!$B$7","v":"00:00:00"},{"$f":"入力フォーム!$B$3","v":0},null,{"$f":"入力フォーム!$E$9","v":""},{"$f":"入力フォーム!$B$12","v":0},null,{"$f":"入力フォーム!$F$4","v":0},null,null,{"$f":"入力フォーム!$F$6","v":0},{"$f":"入力フォーム!$B$8","v":0},0,0,0,null,1,10,0,0,0,0,0,0,0,null,null,null,null,null,null,null,null,null,null,null,null,null,null,null,null,null,null,null,null,null,null,null,0,null,null,null,0,1,null,{"$f":"入力フォーム!C66","v":0},null,null,{"$f":"入力フォーム!D66","v":0},{"$f":"IF(入力フォーム!E66<>0,入力フォーム!E66,\"\")","v":""},{"$f":"入力フォーム!F66","v":0},{"$f":"入力フォーム!G66","v":0},0,{"$f":"入力フォーム!H66","v":0},0,{"$f":"入力フォーム!I66","v":0},0,null,null,null,{"$f":"IF(入力フォーム!J66=0,\"\",入力フォーム!J66)","v":""},null,{"$f":"入力フォーム!$F$5","v":0}]
[1,null,{"$f":"入力フォーム!$F$3","v":"00:00:00"},{"$f":"入力フォーム!$B$7","v":"00:00:00"},{"$f":"入力フォーム!$B$3","v":0},null,{"$f":"入力フォーム!$E$9","v":""},{"$f":"入力フォーム!$B$12","v":0},null,{"$f":"入力フォーム!$F$4","v":0},null,null,{"$f":"入力フォーム!$F$6","v":0},{"$f":"入力フォーム!$B$8","v":0},0,0,0,null,1,10,0,0,0,0,0,0,0,null,null,null,null,null,null,null,null,null,null,null,null,null,null,null,null,null,null,null,null,null,null,null,0,null,null,null,0,1,null,{"$f":"入力フォーム!C67","v":0},null,null,{"$f":"入力フォーム!D67","v":0},{"$f":"IF(入力フォーム!E67<>0,入力フォーム!E67,\"\")","v":""},{"$f":"入力フォーム!F67","v":0},{"$f":"入力フォーム!G67","v":0},0,{"$f":"入力フォーム!H67","v":0},0,{"$f":"入力フォーム!I67","v":0},0,null,null,null,{"$f":"IF(入力フォーム!J67=0,\"\",入力フォーム!J67)","v":""},null,{"$f":"入力フォーム!$F$5","v":0}]
[1,null,{"$f":"入力フォーム!$F$3","v":"00:00:00"},{"$f":"入力フォーム!$B$7","v":"00:00:00"},{"$f":"入力フォーム!$B$3","v":0},null,{"$f":"入力フォーム!$E$9","v":""},{"$f":"入力フォーム!$B$12","v":0},null,{"$f":"入力フォーム!$F$4","v":0},null,null,{"$f":"入力フォーム!$F$6","v":0},{"$f":"入力フォーム!$B$8","v":0},0,0,0,null,1,10,0,0,0,0,0,0,0,null,null,null,null,null,null,null,null,null,null,null,null,null,null,null,null,null,null,null,null,null,null,null,0,null,null,null,0,1,null,{"$f":"入力フォーム!C68","v":0},null,null,{"$f":"入力フォーム!D68","v":0},{"$f":"IF(入力フォーム!E68<>0,入力フォーム!E68,\"\")","v":""},{"$f":"入力フォーム!F68","v":0},{"$f":"入力フォーム!G68","v":0},0,{"$f":"入力フォーム!H68","v":0},0,{"$f":"入力フォーム!I68","v":0},0,null,null,null,{"$f":"IF(入力フォーム!J68=0,\"\",入力フォーム!J68)","v":""},null,{"$f":"入力フォーム!$F$5","v":0}]
[1,null,{"$f":"入力フォーム!$F$3","v":"00:00:00"},{"$f":"入力フォーム!$B$7","v":"00:00:00"},{"$f":"入力フォーム!$B$3","v":0},null,{"$f":"入力フォーム!$E$9","v":""},{"$f":"入力フォーム!$B$12","v":0},null,{"$f":"入力フォーム!$F$4","v":0},null,null,{"$f":"入力フォーム!$F$6","v":0},{"$f":"入力フォーム!$B$8","v":0},0,0,0,null,1,10,0,0,0,0,0,0,0,null,null,null,null,null,null,null,null,null,null,null,null,null,null,null,null,null,null,null,null,null,null,null,0,null,null,null,0,1,null,{"$f":"入力フォーム!C69","v":0},null,null,{"$f":"入力フォーム!D69","v":0},{"$f":"IF(入力フォーム!E69<>0,入力フォーム!E69,\"\")","v":""},{"$f":"入力フォーム!F69","v":0},{"$f":"入力フォーム!G69","v":0},0,{"$f":"入力フォーム!H69","v":0},0,{"$f":"入力フォーム!I69","v":0},0,null,null,null,{"$f":"IF(入力フォーム!J69=0,\"\",入力フォーム!J69)","v":""},null,{"$f":"入力フォーム!$F$5","v":0}]
[1,null,{"$f":"入力フォーム!$F$3","v":"00:00:00"},{"$f":"入力フォーム!$B$7","v":"00:00:00"},{"$f":"入力フォーム!$B$3","v":0},null,{"$f":"入力フォーム!$E$9","v":""},{"$f":"入力フォーム!$B$12","v":0},null,{"$f":"入力フォーム!$F$4","v":0},null,null,{"$f":"入力フォーム!$F$6","v":0},{"$f":"入力フォーム!$B$8","v":0},0,0,0,null,1,10,0,0,0,0,0,0,0,null,null,null,null,null,null,null,null,null,null,null,null,null,null,null,null,null,null,null,null,null,null,null,0,null,null,null,0,1,null,{"$f":"入力フォーム!C70","v":0},null,null,{"$f":"入力フォーム!D70","v":0},{"$f":"IF(入力フォーム!E70<>0,入力フォーム!E70,\"\")","v":""},{"$f":"入力フォーム!F70","v":0},{"$f":"入力フォーム!G70","v":0},0,{"$f":"入力フォーム!H70","v":0},0,{"$f":"入力フォーム!I70","v":0},0,null,null,null,{"$f":"IF(入力フォーム!J70=0,\"\",入力フォーム!J70)","v":""},null,{"$f":"入力フォーム!$F$5","v":0}]
[1,null,{"$f":"入力フォーム!$F$3","v":"00:00:00"},{"$f":"入力フォーム!$B$7","v":"00:00:00"},{"$f":"入力フォーム!$B$3","v":0},null,{"$f":"入力フォーム!$E$9","v":""},{"$f":"入力フォーム!$B$12","v":0},null,{"$f":"入力フォーム!$F$4","v":0},null,null,{"$f":"入力フォーム!$F$6","v":0},{"$f":"入力フォーム!$B$8","v":0},0,0,0,null,1,10,0,0,0,0,0,0,0,null,null,null,null,null,null,null,null,null,null,null,null,null,null,null,null,null,null,null,null,null,null,null,0,null,null,null,0,1,null,{"$f":"入力フォーム!C71","v":0},null,null,{"$f":"入力フォーム!D71","v":0},{"$f":"IF(入力フォーム!E71<>0,入力フォーム!E71,\"\")","v":""},{"$f":"入力フォーム!F71","v":0},{"$f":"入力フォーム!G71","v":0},0,{"$f":"入力フォーム!H71","v":0},0,{"$f":"入力フォーム!I71","v":0},0,null,null,null,{"$f":"IF(入力フォーム!J71=0,\"\",入力フォーム!J71)","v":""},null,{"$f":"入力フォーム!$F$5","v":0}]
[1,null,{"$f":"入力フォーム!$F$3","v":"00:00:00"},{"$f":"入力フォーム!$B$7","v":"00:00:00"},{"$f":"入力フォーム!$B$3","v":0},null,{"$f":"入力フォーム!$E$9","v":""},{"$f":"入力フォーム!$B$12","v":0},null,{"$f":"入力フォーム!$F$4","v":0},null,null,{"$f":"入力フォーム!$F$6","v":0},{"$f":"入力フォーム!$B$8","v":0},0,0,0,null,1,10,0,0,0,0,0,0,0,null,null,null,null,null,null,null,null,null,null,null,null,null,null,null,null,null,null,null,null,null,null,null,0,null,null,null,0,1,null,{"$f":"入力フォーム!C72","v":0},null,null,{"$f":"入力フォーム!D72","v":0},{"$f":"IF(入力フォーム!E72<>0,入力フォーム!E72,\"\")","v":""},{"$f":"入力フォーム!F72","v":0},{"$f":"入力フォーム!G72","v":0},0,{"$f":"入力フォーム!H72","v":0},0,{"$f":"入力フォーム!I72","v":0},0,null,null,null,{"$f":"IF(入力フォーム!J72=0,\"\",入力フォーム!J72)","v":""},null,{"$f":"入力フォーム!$F$5","v":0}]
[1,null,{"$f":"入力フォーム!$F$3","v":"00:00:00"},{"$f":"入力フォーム!$B$7","v":"00:00:00"},{"$f":"入力フォーム!$B$3","v":0},null,{"$f":"入力フォーム!$E$9","v":""},{"$f":"入力フォーム!$B$12","v":0},null,{"$f":"入力フォーム!$F$4","v":0},null,null,{"$f":"入力フォーム!$F$6","v":0},{"$f":"入力フォーム!$B$8","v":0},0,0,0,null,1,10,0,0,0,0,0,0,0,null,null,null,null,null,null,null,null,null,null,null,null,null,null,null,null,null,null,null,null,null,null,null,0,null,null,null,0,1,null,{"$f":"入力フォーム!C73","v":0},null,null,{"$f":"入力フォーム!D73","v":0},{"$f":"IF(入力フォーム!E73<>0,入力フォーム!E73,\"\")","v":""},{"$f":"入力フォーム!F73","v":0},{"$f":"入力フォーム!G73","v":0},0,{"$f":"入力フォーム!H73","v":0},0,{"$f":"入力フォーム!I73","v":0},0,null,null,null,{"$f":"IF(入力フォーム!J73=0,\"\",入力フォーム!J73)","v":""},null,{"$f":"入力フォーム!$F$5","v":0}]
[1,null,{"$f":"入力フォーム!$F$3","v":"00:00:00"},{"$f":"入力フォーム!$B$7","v":"00:00:00"},{"$f":"入力フォーム!$B$3","v":0},null,{"$f":"入力フォーム!$E$9","v":""},{"$f":"入力フォーム!$B$12","v":0},null,{"$f":"入力フォーム!$F$4","v":0},null,null,{"$f":"入力フォーム!$F$6","v":0},{"$f":"入力フォーム!$B$8","v":0},0,0,0,null,1,10,0,0,0,0,0,0,0,null,null,null,null,null,null,null,null,null,null,null,null,null,null,null,null,null,null,null,null,null,null,null,0,null,null,null,0,1,null,{"$f":"入力フォーム!C74","v":0},null,null,{"$f":"入力フォーム!D74","v":0},{"$f":"IF(入力フォーム!E74<>0,入力フォーム!E74,\"\")","v":""},{"$f":"入力フォーム!F74","v":0},{"$f":"入力フォーム!G74","v":0},0,{"$f":"入力フォーム!H74","v":0},0,{"$f":"入力フォーム!I74","v":0},0,null,null,null,{"$f":"IF(入力フォーム!J74=0,\"\",入力フォーム!J74)","v":""},null,{"$f":"入力フォーム!$F$5","v":0}]

{"sheet":"見積書","index":3,"n_rows":86,"n_cols":21,"rows_kept":86,"cut":false,"hidden":false,"merged":[[84,18,85,18],[84,19,85,19],[84,20,85,22],[84,1,85,4],[84,5,84,15],[85,5,85,15],[84,16,85,16],[84,17,85,17],[80,18,81,18],[80,19,81,19],[80,20,81,22],[82,1,83,4],[82,5,82,15],[83,5,83,15],[82,16,83,16],[82,17,83,17],[82,18,83,18],[82,19,83,19],[82,20,83,22],[80,1,81,4],[80,5,80,15],[81,5,81,15],[80,16,81,16],[80,17,81,17],[76,18,77,18],[76,19,77,19],[76,20,77,22],[78,20,79,22],[78,1,79,4],[78,5,78,15],[79,5,79,15],[78,16,79,16],[78,17,79,17],[78,18,79,18],[78,19,79,19],[76,1,77,4],[76,5,76,15],[77,5,77,15],[76,16,77,16],[76,17,77,17],[74,1,75,4],[74,5,74,15],[75,5,75,15],[74,16,75,16],[74,17,75,17],[74,18,75,18],[74,19,75,19],[74,20,75,22],[73,5,73,15],[72,16,73,16],[72,17,73,17],[72,18,73,18],[72,19,73,19],[72,5,72,15],[70,5,70,15],[71,5,71,15],[70,1,71,4],[70,16,71,16],[70,17,71,17],[70,18,71,18],[70,19,71,19],[70,20,71,22],[72,1,73,4],[72,20,73,22],[68,5,68,15],[69,5,69,15],[68,1,69,4],[68,16,69,16],[68,17,69,17],[68,18,69,18],[68,19,69,19],[68,20,69,22],[66,5,66,15],[67,5,67,15],[66,1,67,4],[66,16,67,16],[66,17,67,17],[66,18,67,18],[66,19,67,19],[66,20,67,22],[64,5,64,15],[65,5,65,15],[64,1,65,4],[64,16,65,16],[64,17,65,17],[64,18,65,18],[64,19,65,19],[64,20,65,22],[62,5,62,15],[63,5,63,15],[62,1,63,4],[62,16,63,16],[62,17,63,17],[62,18,63,18],[62,19,63,19],[62,20,63,22],[60,5,60,15],[61,5,61,15],[60,1,61,4],[60,16,61,16],[60,17,61,17],[60,18,61,18],[60,19,61,19],[60,20,61,22],[51,1,52,22],[53,1,56,22],[59,1,59,4],[59,5,59,15],[59,20,59,22],[44,1,45,6],[44,7,45,14],[44,15,45,22],[46,1,49,6],[46,7,47,14],[46,15,49,22],[48,7,49,14],[35,1,38,6],[35,7,38,15],[37,16,38,16],[39,1,42,6],[39,7,42,15],[41,16,42,16],[12,17,13,22],[13,1,15,6],[13,7,15,11],[21,1,23,6],[25,1,27,6],[25,7,27,15],[30,17,31,17],[30,18,31,22],[31,1,34,6],[31,7,34,15],[33,16,34,16],[26,16,27,16],[21,7,23,15],[29,1,29,6],[29,7,29,10],[17,1,19,6],[17,7,19,15],[14,17,15,22],[16,17,29,22],[1,1,3,22],[4,1,7,13],[4,14,7,15],[6,17,7,17],[6,18,7,18],[6,19,7,22],[6,23,7,23],[9,1,11,6],[9,7,11,14],[9,16,11,16],[9,17,11,18],[9,19,11,22]]}
[]
[null,"見　　積　　書"]
[]
[]
[null,"奥村機械製作株式会社",null,null,null,null,null,null,null,null,null,null,null,null,"御中"]
[]
[null,null,null,null,null,null,null,null,null,null,null,null,null,null,null,null,null,null,"見積書提出日",{"$f":"入力フォーム!B6","v":"00:00:00"}]
[]
[]
[null,"※見積種類",null,null,null,null,null,"外注・購入資材",null,null,null,null,null,null,null,null,null,"取引先コード",null,{"$f":"入力フォーム!B3","v":0}]
[]
[]
[null,null,null,null,null,null,null,null,null,null,null,null,null,null,null,null,null,"郵便番号･住所・会社名・代表者名･電話･FAX"]
[null,"※注文番号"]
[null,null,null,null,null,null,null,null,null,null,null,null,null,null,null,null,null,{"$f":"\"登録番号\"&\"　\"&入力フォーム!B4","v":"登録番号　"}]
[]
[null,null,null,null,null,null,null,null,null,null,null,null,null,null,null,null,null," "]
[null,"※検査予定日"]
[]
[]
[]
[null,"納    期",null,null,null,null,null,{"$f":"入力フォーム!B7","v":"00:00:00"}]
[]
[]
[]
[null,"納入場所",null,null,null,null,null,{"$f":"入力フォーム!B8","v":0}]
[]
[]
[]
[null,"消費税率",null,null,null,null,null,{"$f":"入力フォーム!B10","v":"10％"}]
[null,null,null,null,null,null,null,null,null,null,null,null,null,null,null,null,null,"担当者名",{"$f":"入力フォーム!B5","v":0}]
[null,"見 積 金 額",null,null,null,null,null,{"$f":"SUM(H36:P43)","v":0}]
[]
[null,null,null,null,null,null,null,null,null,null,null,null,null,null,null,null,"円"]
[]
[null,"税 抜 金 額",null,null,null,null,null,{"$f":"入力フォーム!B9","v":0}]
[]
[null,null,null,null,null,null,null,null,null,null,null,null,null,null,null,null,"円"]
[]
[null,"消 費 税 等",null,null,null,null,null,{"$f":"IF(H30=\"10％\",ROUNDDOWN(H36*10%,0),IF(H30=\"(軽)8%\",ROUNDDOWN(H36*8%,0),0))","v":0}]
[]
[null,null,null,null,null,null,null,null,null,null,null,null,null,null,null,null,"円"]
[]
[]
[null,"製造番号",null,null,null,null,null,"仕 向 先",null,null,null,null,null,null,null,"製 品(工 事)名 称"]
[]
[null,{"$f":"入力フォーム!E9&IF(入力フォーム!B12<>\"\",入力フォーム!C11&入力フォーム!B12,\"\")","v":""},null,null,null,null,null,{"$f":"IF(入力フォーム!B13=\"\",\"\",入力フォーム!B13)","v":""},null,null,null,null,null,null,null,{"$f":"入力フォーム!B15","v":0}]
[]
[null,null,null,null,null,null,null,{"$f":"IF(入力フォーム!B14=\"\",\"\",入力フォーム!B14)","v":""}]
[]
[]
[null,"品　　　名"]
[]
[null,{"$f":"入力フォーム!B16","v":0}]
[]
[]
[]
[]
[]
[null,"※科目",null,null,null,"明　細　項　目",null,null,null,null,null,null,null,null,null,null,"単位","数 量","単　価","金　額","※工種\nコード"]
[null,null,null,null,null,{"$f":"IF(入力フォーム!D18=0,\"\",入力フォーム!D18)","v":""},null,null,null,null,null,null,null,null,null,null,{"$f":"IF(入力フォーム!F18=0,\"\",入力フォーム!F18)","v":""},{"$f":"IF(入力フォーム!G18=0,\"\",入力フォーム!G18)","v":""},{"$f":"IF(入力フォーム!H18=0,\"\",入力フォーム!H18)","v":""},{"$f":"IF(AND(R61=\"\",S61=\"\"),\"\",ROUNDDOWN(R61*S61,0))","v":""}]
[null,null,null,null,null,{"$f":"IF(入力フォーム!E18=0,\"\",入力フォーム!E18)","v":""}]
[null,null,null,null,null,{"$f":"IF(入力フォーム!D19=0,\"\",入力フォーム!D19)","v":""},null,null,null,null,null,null,null,null,null,null,{"$f":"IF(入力フォーム!F19=0,\"\",入力フォーム!F19)","v":""},{"$f":"IF(入力フォーム!G19=0,\"\",入力フォーム!G19)","v":""},{"$f":"IF(入力フォーム!H19=0,\"\",入力フォーム!H19)","v":""},{"$f":"IF(AND(R63=\"\",S63=\"\"),\"\",ROUNDDOWN(R63*S63,0))","v":""}]
[null,null,null,null,null,{"$f":"IF(入力フォーム!E19=0,\"\",入力フォーム!E19)","v":""}]
[null,null,null,null,null,{"$f":"IF(入力フォーム!D20=0,\"\",入力フォーム!D20)","v":""},null,null,null,null,null,null,null,null,null,null,{"$f":"IF(入力フォーム!F20=0,\"\",入力フォーム!F20)","v":""},{"$f":"IF(入力フォーム!G20=0,\"\",入力フォーム!G20)","v":""},{"$f":"IF(入力フォーム!H20=0,\"\",入力フォーム!H20)","v":""},{"$f":"IF(AND(R65=\"\",S65=\"\"),\"\",ROUNDDOWN(R65*S65,0))","v":""}]
[null,null,null,null,null,{"$f":"IF(入力フォーム!E20=0,\"\",入力フォーム!E20)","v":""}]
[null,null,null,null,null,{"$f":"IF(入力フォーム!D21=0,\"\",入力フォーム!D21)","v":""},null,null,null,null,null,null,null,null,null,null,{"$f":"IF(入力フォーム!F21=0,\"\",入力フォーム!F21)","v":""},{"$f":"IF(入力フォーム!G21=0,\"\",入力フォーム!G21)","v":""},{"$f":"IF(入力フォーム!H21=0,\"\",入力フォーム!H21)","v":""},{"$f":"IF(AND(R67=\"\",S67=\"\"),\"\",ROUNDDOWN(R67*S67,0))","v":""}]
[null,null,null,null,null,{"$f":"IF(入力フォーム!E21=0,\"\",入力フォーム!E21)","v":""}]
[null,null,null,null,null,{"$f":"IF(入力フォーム!D22=0,\"\",入力フォーム!D22)","v":""},null,null,null,null,null,null,null,null,null,null,{"$f":"IF(入力フォーム!F22=0,\"\",入力フォーム!F22)","v":""},{"$f":"IF(入力フォーム!G22=0,\"\",入力フォーム!G22)","v":""},{"$f":"IF(入力フォーム!H22=0,\"\",入力フォーム!H22)","v":""},{"$f":"IF(AND(R69=\"\",S69=\"\"),\"\",ROUNDDOWN(R69*S69,0))","v":""}]
[null,null,null,null,null,{"$f":"IF(入力フォーム!E22=0,\"\",入力フォーム!E22)","v":""}]
[null,null,null,null,null,{"$f":"IF(入力フォーム!D23=0,\"\",入力フォーム!D23)","v":""},null,null,null,null,null,null,null,null,null,null,{"$f":"IF(入力フォーム!F23=0,\"\",入力フォーム!F23)","v":""},{"$f":"IF(入力フォーム!G23=0,\"\",入力フォーム!G23)","v":""},{"$f":"IF(入力フォーム!H23=0,\"\",入力フォーム!H23)","v":""},{"$f":"IF(AND(R71=\"\",S71=\"\"),\"\",ROUNDDOWN(R71*S71,0))","v":""}]
[null,null,null,null,null,{"$f":"IF(入力フォーム!E23=0,\"\",入力フォーム!E23)","v":""}]
[null,null,null,null,null,{"$f":"IF(入力フォーム!D24=0,\"\",入力フォーム!D24)","v":""},null,null,null,null,null,null,null,null,null,null,{"$f":"IF(入力フォーム!F24=0,\"\",入力フォーム!F24)","v":""},{"$f":"IF(入力フォーム!G24=0,\"\",入力フォーム!G24)","v":""},{"$f":"IF(入力フォーム!H24=0,\"\",入力フォーム!H24)","v":""},""]
[null,null,null,null,null,{"$f":"IF(入力フォーム!E24=0,\"\",入力フォーム!E24)","v":""}]
[null,null,null,null,null,{"$f":"IF(入力フォーム!D25=0,\"\",入力フォーム!D25)","v":""},null,null,null,null,null,null,null,null,null,null,{"$f":"IF(入力フォーム!F25=0,\"\",入力フォーム!F25)","v":""},{"$f":"IF(入力フォーム!G25=0,\"\",入力フォーム!G25)","v":""},{"$f":"IF(入力フォーム!H25=0,\"\",入力フォーム!H25)","v":""},{"$f":"IF(AND(R75=\"\",S75=\"\"),\"\",ROUNDDOWN(R75*S75,0))","v":""}]
[null,null,null,null,null,{"$f":"IF(入力フォーム!E25=0,\"\",入力フォーム!E25)","v":""}]
[null,null,null,null,null,{"$f":"IF(入力フォーム!D26=0,\"\",入力フォーム!D26)","v":""},null,null,null,null,null,null,null,null,null,null,{"$f":"IF(入力フォーム!F26=0,\"\",入力フォーム!F26)","v":""},{"$f":"IF(入力フォーム!G26=0,\"\",入力フォーム!G26)","v":""},{"$f":"IF(入力フォーム!H26=0,\"\",入力フォーム!H26)","v":""},{"$f":"IF(AND(R77=\"\",S77=\"\"),\"\",ROUNDDOWN(R77*S77,0))","v":""}]
[null,null,null,null,null,{"$f":"IF(入力フォーム!E26=0,\"\",入力フォーム!E26)","v":""}]
[null,null,null,null,null,{"$f":"IF(入力フォーム!D27=0,\"\",入力フォーム!D27)","v":""},null,null,null,null,null,null,null,null,null,null,{"$f":"IF(入力フォーム!F27=0,\"\",入力フォーム!F27)","v":""},{"$f":"IF(入力フォーム!G27=0,\"\",入力フォーム!G27)","v":""},{"$f":"IF(入力フォーム!H27=0,\"\",入力フォーム!H27)","v":""},{"$f":"IF(AND(R79=\"\",S79=\"\"),\"\",ROUNDDOWN(R79*S79,0))","v":""}]
[null,null,null,null,null,{"$f":"IF(入力フォーム!E27=0,\"\",入力フォーム!E27)","v":""}]
[null,null,null,null,null,{"$f":"IF(入力フォーム!D28=0,\"\",入力フォーム!D28)","v":""},null,null,null,null,null,null,null,null,null,null,{"$f":"IF(入力フォーム!F28=0,\"\",入力フォーム!F28)","v":""},{"$f":"IF(入力フォーム!G28=0,\"\",入力フォーム!G28)","v":""},{"$f":"IF(入力フォーム!H28=0,\"\",入力フォーム!H28)","v":""},{"$f":"IF(AND(R81=\"\",S81=\"\"),\"\",ROUNDDOWN(R81*S81,0))","v":""}]
[null,null,null,null,null,{"$f":"IF(入力フォーム!E28=0,\"\",入力フォーム!E28)","v":""}]
[null,null,null,null,null,{"$f":"IF(入力フォーム!D29=0,\"\",入力フォーム!D29)","v":""},null,null,null,null,null,null,null,null,null,null,{"$f":"IF(入力フォーム!F29=0,\"\",入力フォーム!F29)","v":""},{"$f":"IF(入力フォーム!G29=0,\"\",入力フォーム!G29)","v":""},{"$f":"IF(入力フォーム!H29=0,\"\",入力フォーム!H29)","v":""},{"$f":"IF(AND(R83=\"\",S83=\"\"),\"\",ROUNDDOWN(R83*S83,0))","v":""}]
[null,null,null,null,null,{"$f":"IF(入力フォーム!E29=0,\"\",入力フォーム!E29)","v":""}]
[null,null,null,null,null,{"$f":"IF(入力フォーム!D30=0,\"\",入力フォーム!D30)","v":""},null,null,null,null,null,null,null,null,null,null,{"$f":"IF(入力フォーム!F30=0,\"\",入力フォーム!F30)","v":""},{"$f":"IF(入力フォーム!G30=0,\"\",入力フォーム!G30)","v":""},{"$f":"IF(入力フォーム!H30=0,\"\",入力フォーム!H30)","v":""},{"$f":"IF(AND(R85=\"\",S85=\"\"),\"\",ROUNDDOWN(R85*S85,0))","v":""}]
[null,null,null,null,null,{"$f":"IF(入力フォーム!E30=0,\"\",入力フォーム!E30)","v":""}]

{"sheet":"見積書 (記載例)","index":4,"n_rows":73,"n_cols":21,"rows_kept":73,"cut":false,"hidden":false,"merged":[[31,1,34,6],[1,1,3,22],[4,1,7,13],[4,14,7,15],[6,17,7,17],[6,18,7,18],[30,17,31,17],[9,1,11,6],[9,7,11,14],[9,16,11,16],[13,1,15,6],[31,7,34,15],[33,16,34,16],[17,1,19,6],[30,18,31,22],[25,1,27,6],[6,23,7,23],[6,19,7,22],[9,17,11,18],[9,19,11,22],[29,7,29,10],[12,17,13,22],[13,7,15,11],[21,7,23,15],[17,7,19,15],[25,7,27,15],[26,16,27,16],[29,17,29,22],[14,17,15,22],[29,1,29,6],[21,1,23,6],[51,1,52,22],[46,7,47,14],[48,7,49,14],[35,1,38,6],[35,7,38,15],[37,16,38,16],[39,1,42,6],[39,7,42,15],[41,16,42,16],[44,1,45,6],[44,7,45,14],[44,15,45,22],[46,1,49,6],[46,15,49,22],[53,1,56,22],[59,1,59,4],[59,5,59,15],[59,20,59,22],[60,1,60,4],[60,5,60,15],[60,20,60,22],[61,5,61,15],[61,20,61,22],[62,1,62,4],[62,5,62,15],[62,20,62,22],[61,1,61,4],[66,1,66,4],[66,5,66,15],[72,1,72,4],[72,5,72,15],[72,20,72,22],[67,1,67,4],[67,5,67,15],[66,20,66,22],[70,1,70,4],[70,5,70,15],[70,20,70,22],[67,20,67,22],[71,5,71,15],[71,20,71,22],[71,1,71,4],[69,20,69,22],[63,20,63,22],[64,1,64,4],[64,5,64,15],[64,20,64,22],[65,1,65,4],[63,1,63,4],[63,5,63,15],[65,5,65,15],[65,20,65,22],[68,1,68,4],[68,5,68,15],[68,20,68,22],[69,1,69,4],[69,5,69,15]]}
[]
[null,"見　　積　　書"]
[]
[]
[null,"奥村機械製作株式会社",null,null,null,null,null,null,null,null,null,null,null,null,"御中"]
[]
[null,null,null,null,null,null,null,null,null,null,null,null,null,null,null,null,null,null,"見積書提出日","2020-01-06"]
[]
[]
[null,"※見積種類",null,null,null,null,null,"外注・購入資材",null,null,null,null,null,null,null,null,null,"取引先コード",null,"01234"]
[]
[]
[null,null,null,null,null,null,null,null,null,null,null,null,null,null,null,null,null,"郵便番号･住所・会社名・代表者名･電話･FAX"]
[null,"※注文番号"]
[null,null,null,null,null,null,null,null,null,null,null,null,null,null,null,null,null,"登録番号　T111222333444"]
[]
[]
[null,"※検査予定日"]
[]
[]
[]
[null,"納    期",null,null,null,null,null,"2020-02-28"]
[]
[]
[]
[null,"納入場所",null,null,null,null,null,"本社工場"]
[]
[]
[]
[null,"消費税率",null,null,null,null,null,"10％"]
[null,null,null,null,null,null,null,null,null,null,null,null,null,null,null,null,null,"担当者名","奥村　太郎"]
[null,"見 積 金 額",null,null,null,null,null,{"$f":"IF(AND(H36=\"\",H40=\"\"),\"\",SUM(H36:P43))","v":2805000}]
[]
[null,null,null,null,null,null,null,null,null,null,null,null,null,null,null,null,"円"]
[]
[null,"税 抜 金 額",null,null,null,null,null,{"$f":"SUM(T61:T72)","v":2550000}]
[]
[null,null,null,null,null,null,null,null,null,null,null,null,null,null,null,null,"円"]
[]
[null,"消 費 税 等",null,null,null,null,null,{"$f":"IF(H36=\"\",\"\",IF(H30=\"\",\"消費税率を選択してください\",IF(H30=\"8％\",ROUNDDOWN(H36*8%,0),IF(H30=\"10％\",ROUNDDOWN(H36*10%,0)))))","v":255000}]
[]
[null,null,null,null,null,null,null,null,null,null,null,null,null,null,null,null,"円"]
[]
[]
[null,"製造番号",null,null,null,null,null,"仕 向 先",null,null,null,null,null,null,null,"製 品(工 事)名 称"]
[]
[null,"20160025-00",null,null,null,null,null,"奥村建設㈱",null,null,null,null,null,null,null,"φ2480泥土圧シールド機"]
[]
[null,null,null,null,null,null,null,"大阪府/堺市"]
[]
[]
[null,"品　　　名"]
[]
[null,"シールドジャッキ"]
[]
[]
[]
[]
[]
[null,"※科目",null,null,null,"明　細　項　目",null,null,null,null,null,null,null,null,null,null,"単位","数 量","単　価","金　額","※工種\nコード"]
[null,null,null,null,null,"製作費",null,null,null,null,null,null,null,null,null,null,"式",1,1500000,{"$f":"IF(AND(R61=\"\",S61=\"\"),\"\",ROUNDDOWN(R61*S61,0))","v":1500000}]
[null,null,null,null,null,"運搬費\n本社～現場",null,null,null,null,null,null,null,null,null,null,"式",1,1500000,{"$f":"IF(AND(R62=\"\",S62=\"\"),\"\",ROUNDDOWN(R62*S62,0))","v":1500000}]
[null,null,null,null,null,"品質・工程・調達等管理費",null,null,null,null,null,null,null,null,null,null,"式",1,20000,{"$f":"IF(AND(R63=\"\",S63=\"\"),\"\",ROUNDDOWN(R63*S63,0))","v":20000}]
[null,null,null,null,null,"諸経費",null,null,null,null,null,null,null,null,null,null,"式",1,30000,30000]
[null,null,null,null,null,"出精値引き",null,null,null,null,null,null,null,null,null,null,"式",1,-500000,-500000]
[null,null,null,null,null,null,null,null,null,null,null,null,null,null,null,null,null,null,null,""]
[null,null,null,null,null,null,null,null,null,null,null,null,null,null,null,null,null,null,null,""]
[null,null,null,null,null,null,null,null,null,null,null,null,null,null,null,null,null,null,null,""]
[null,null,null,null,null,null,null,null,null,null,null,null,null,null,null,null,null,null,null,""]
[null,null,null,null,null,null,null,null,null,null,null,null,null,null,null,null,null,null,null,""]
[null,null,null,null,null,null,null,null,null,null,null,null,null,null,null,null,null,null,null,""]
[null,null,null,null,null,null,null,null,null,null,null,null,null,null,null,null,null,null,null,""]
[null,null,null,null,null,null,null,null,null,null,null,null,null,null,null,null,null,null,null,""]

{"sheet":"見積書 (2)","index":5,"n_rows":69,"n_cols":21,"rows_kept":69,"cut":false,"hidden":false,"merged":[[63,19,64,19],[63,20,64,22],[64,5,64,15],[63,1,64,4],[63,5,63,15],[63,16,64,16],[63,17,64,17],[63,18,64,18],[59,19,60,19],[59,20,60,22],[60,5,60,15],[61,1,62,4],[61,5,61,15],[61,16,62,16],[61,17,62,17],[61,18,62,18],[61,19,62,19],[61,20,62,22],[62,5,62,15],[59,1,60,4],[59,5,59,15],[59,16,60,16],[59,17,60,17],[59,18,60,18],[55,19,56,19],[55,20,56,22],[56,5,56,15],[57,1,58,4],[57,5,57,15],[57,16,58,16],[57,17,58,17],[57,18,58,18],[57,19,58,19],[57,20,58,22],[58,5,58,15],[55,1,56,4],[55,5,55,15],[55,16,56,16],[55,17,56,17],[55,18,56,18],[51,19,52,19],[51,20,52,22],[52,5,52,15],[53,1,54,4],[53,5,53,15],[53,16,54,16],[53,17,54,17],[53,18,54,18],[53,19,54,19],[53,20,54,22],[54,5,54,15],[51,1,52,4],[51,5,51,15],[51,16,52,16],[51,17,52,17],[51,18,52,18],[45,1,46,4],[47,1,48,4],[49,1,50,4],[47,5,47,15],[48,5,48,15],[49,5,49,15],[50,5,50,15],[43,19,44,19],[43,20,44,22],[45,16,46,16],[45,17,46,17],[45,18,46,18],[45,19,46,19],[45,20,46,22],[49,16,50,16],[49,17,50,17],[49,18,50,18],[49,19,50,19],[49,20,50,22],[47,16,48,16],[47,17,48,17],[47,18,48,18],[47,19,48,19],[47,20,48,22],[31,18,32,18],[31,19,32,19],[33,1,34,4],[33,16,34,16],[33,17,34,17],[33,18,34,18],[33,19,34,19],[34,5,34,15],[33,5,33,15],[31,1,32,4],[31,16,32,16],[32,5,32,15],[30,5,30,15],[31,5,31,15],[29,1,30,4],[29,16,30,16],[29,17,30,17],[29,18,30,18],[39,20,40,22],[38,5,38,15],[39,5,39,15],[37,1,38,4],[37,16,38,16],[37,17,38,17],[37,18,38,18],[37,19,38,19],[37,20,38,22],[40,5,40,15],[39,1,40,4],[39,16,40,16],[39,17,40,17],[39,18,40,18],[39,19,40,19],[31,20,32,22],[33,20,34,22],[31,17,32,17],[45,5,45,15],[44,5,44,15],[36,5,36,15],[37,5,37,15],[46,5,46,15],[42,5,42,15],[43,5,43,15],[41,20,42,22],[41,1,42,4],[43,1,44,4],[43,16,44,16],[43,17,44,17],[43,18,44,18],[41,5,41,15],[41,16,42,16],[41,17,42,17],[41,18,42,18],[41,19,42,19],[35,1,36,4],[35,16,36,16],[35,17,36,17],[35,18,36,18],[35,19,36,19],[35,20,36,22],[28,5,28,15],[29,5,29,15],[27,1,28,4],[27,16,28,16],[27,17,28,17],[27,18,28,18],[27,19,28,19],[9,15,10,22],[35,5,35,15],[25,5,25,15],[27,20,28,22],[29,20,30,22],[26,5,26,15],[27,5,27,15],[25,1,26,4],[25,16,26,16],[25,17,26,17],[25,18,26,18],[25,19,26,19],[25,20,26,22],[29,19,30,19],[18,1,21,22],[16,1,17,22],[11,15,14,22],[1,1,3,22],[11,1,14,6],[11,7,12,14],[13,7,14,14],[4,1,7,6],[9,1,10,6],[9,7,10,14],[24,1,24,4],[24,5,24,15],[24,20,24,22],[4,20,7,22],[65,1,66,4],[65,5,65,15],[65,16,66,16],[65,17,66,17],[65,18,66,18],[65,19,66,19],[65,20,66,22],[66,5,66,15],[67,1,68,4],[67,5,67,15],[67,16,68,16],[67,17,68,17],[67,18,68,18],[67,19,68,19],[67,20,68,22],[68,5,68,15]]}
[]
[null,"見　　積　　書"]
[]
[]
[null,null,null,null,null,null,null,null,null,null,null,null,null,null,null,null,null,null,null,null,"頁No.2"]
[]
[]
[]
[]
[null,"製造番号",null,null,null,null,null,"仕 向 先",null,null,null,null,null,null,null,"製 品(工 事)名 称"]
[]
[null,{"$f":"入力フォーム!E9&IF(入力フォーム!B12<>\"\",入力フォーム!C11&入力フォーム!B12,\"\")","v":""},null,null,null,null,null,{"$f":"IF(入力フォーム!B13=\"\",\"\",入力フォーム!B13)","v":""},null,null,null,null,null,null,null,{"$f":"入力フォーム!B15","v":0}]
[]
[null,null,null,null,null,null,null,{"$f":"IF(入力フォーム!B14=\"\",\"\",入力フォーム!B14)","v":""}]
[]
[]
[null,"品　　　名"]
[]
[null,{"$f":"入力フォーム!B16","v":0}]
[]
[]
[]
[]
[]
[null,"※科目",null,null,null,"明　細　項　目",null,null,null,null,null,null,null,null,null,null,"単位","数 量","単　価","金　額","※工種\nコード"]
[null,null,null,null,null,{"$f":"IF(入力フォーム!D31=0,\"\",入力フォーム!D31)","v":""},null,null,null,null,null,null,null,null,null,null,{"$f":"IF(入力フォーム!F31=0,\"\",入力フォーム!F31)","v":""},{"$f":"IF(入力フォーム!G31=0,\"\",入力フォーム!G31)","v":""},{"$f":"IF(入力フォーム!H31=0,\"\",入力フォーム!H31)","v":""},{"$f":"IF(AND(R26=\"\",S26=\"\"),\"\",ROUNDDOWN(R26*S26,0))","v":""}]
[null,null,null,null,null,{"$f":"IF(入力フォーム!E31=0,\"\",入力フォーム!E31)","v":""}]
[null,null,null,null,null,{"$f":"IF(入力フォーム!D32=0,\"\",入力フォーム!D32)","v":""},null,null,null,null,null,null,null,null,null,null,{"$f":"IF(入力フォーム!F32=0,\"\",入力フォーム!F32)","v":""},{"$f":"IF(入力フォーム!G32=0,\"\",入力フォーム!G32)","v":""},{"$f":"IF(入力フォーム!H32=0,\"\",入力フォーム!H32)","v":""},{"$f":"IF(AND(R28=\"\",S28=\"\"),\"\",ROUNDDOWN(R28*S28,0))","v":""}]
[null,null,null,null,null,{"$f":"IF(入力フォーム!E32=0,\"\",入力フォーム!E32)","v":""}]
[null,null,null,null,null,{"$f":"IF(入力フォーム!D33=0,\"\",入力フォーム!D33)","v":""},null,null,null,null,null,null,null,null,null,null,{"$f":"IF(入力フォーム!F33=0,\"\",入力フォーム!F33)","v":""},{"$f":"IF(入力フォーム!G33=0,\"\",入力フォーム!G33)","v":""},{"$f":"IF(入力フォーム!H33=0,\"\",入力フォーム!H33)","v":""},{"$f":"IF(AND(R30=\"\",S30=\"\"),\"\",ROUNDDOWN(R30*S30,0))","v":""}]
[null,null,null,null,null,{"$f":"IF(入力フォーム!E33=0,\"\",入力フォーム!E33)","v":""}]
[null,null,null,null,null,{"$f":"IF(入力フォーム!D34=0,\"\",入力フォーム!D34)","v":""},null,null,null,null,null,null,null,null,null,null,{"$f":"IF(入力フォーム!F34=0,\"\",入力フォーム!F34)","v":""},{"$f":"IF(入力フォーム!G34=0,\"\",入力フォーム!G34)","v":""},{"$f":"IF(入力フォーム!H34=0,\"\",入力フォーム!H34)","v":""},{"$f":"IF(AND(R32=\"\",S32=\"\"),\"\",ROUNDDOWN(R32*S32,0))","v":""}]
[null,null,null,null,null,{"$f":"IF(入力フォーム!E34=0,\"\",入力フォーム!E34)","v":""}]
[null,null,null,null,null,{"$f":"IF(入力フォーム!D35=0,\"\",入力フォーム!D35)","v":""},null,null,null,null,null,null,null,null,null,null,{"$f":"IF(入力フォーム!F35=0,\"\",入力フォーム!F35)","v":""},{"$f":"IF(入力フォーム!G35=0,\"\",入力フォーム!G35)","v":""},{"$f":"IF(入力フォーム!H35=0,\"\",入力フォーム!H35)","v":""},{"$f":"IF(AND(R34=\"\",S34=\"\"),\"\",ROUNDDOWN(R34*S34,0))","v":""}]
[null,null,null,null,null,{"$f":"IF(入力フォーム!E35=0,\"\",入力フォーム!E35)","v":""}]
[null,null,null,null,null,{"$f":"IF(入力フォーム!D36=0,\"\",入力フォーム!D36)","v":""},null,null,null,null,null,null,null,null,null,null,{"$f":"IF(入力フォーム!F36=0,\"\",入力フォーム!F36)","v":""},{"$f":"IF(入力フォーム!G36=0,\"\",入力フォーム!G36)","v":""},{"$f":"IF(入力フォーム!H36=0,\"\",入力フォーム!H36)","v":""},{"$f":"IF(AND(R36=\"\",S36=\"\"),\"\",ROUNDDOWN(R36*S36,0))","v":""}]
[null,null,null,null,null,{"$f":"IF(入力フォーム!E36=0,\"\",入力フォーム!E36)","v":""}]
[null,null,null,null,null,{"$f":"IF(入力フォーム!D37=0,\"\",入力フォーム!D37)","v":""},null,null,null,null,null,null,null,null,null,null,{"$f":"IF(入力フォーム!F37=0,\"\",入力フォーム!F37)","v":""},{"$f":"IF(入力フォーム!G37=0,\"\",入力フォーム!G37)","v":""},{"$f":"IF(入力フォーム!H37=0,\"\",入力フォーム!H37)","v":""},{"$f":"IF(AND(R38=\"\",S38=\"\"),\"\",ROUNDDOWN(R38*S38,0))","v":""}]
[null,null,null,null,null,{"$f":"IF(入力フォーム!E37=0,\"\",入力フォーム!E37)","v":""}]
[null,null,null,null,null,{"$f":"IF(入力フォーム!D38=0,\"\",入力フォーム!D38)","v":""},null,null,null,null,null,null,null,null,null,null,{"$f":"IF(入力フォーム!F38=0,\"\",入力フォーム!F38)","v":""},{"$f":"IF(入力フォーム!G38=0,\"\",入力フォーム!G38)","v":""},{"$f":"IF(入力フォーム!H38=0,\"\",入力フォーム!H38)","v":""},{"$f":"IF(AND(R40=\"\",S40=\"\"),\"\",ROUNDDOWN(R40*S40,0))","v":""}]
[null,null,null,null,null,{"$f":"IF(入力フォーム!E38=0,\"\",入力フォーム!E38)","v":""}]
[null,null,null,null,null,{"$f":"IF(入力フォーム!D39=0,\"\",入力フォーム!D39)","v":""},null,null,null,null,null,null,null,null,null,null,{"$f":"IF(入力フォーム!F39=0,\"\",入力フォーム!F39)","v":""},{"$f":"IF(入力フォーム!G39=0,\"\",入力フォーム!G39)","v":""},{"$f":"IF(入力フォーム!H39=0,\"\",入力フォーム!H39)","v":""},{"$f":"IF(AND(R42=\"\",S42=\"\"),\"\",ROUNDDOWN(R42*S42,0))","v":""}]
[null,null,null,null,null,{"$f":"IF(入力フォーム!E39=0,\"\",入力フォーム!E39)","v":""}]
[null,null,null,null,null,{"$f":"IF(入力フォーム!D40=0,\"\",入力フォーム!D40)","v":""},null,null,null,null,null,null,null,null,null,null,{"$f":"IF(入力フォーム!F40=0,\"\",入力フォーム!F40)","v":""},{"$f":"IF(入力フォーム!G40=0,\"\",入力フォーム!G40)","v":""},{"$f":"IF(入力フォーム!H40=0,\"\",入力フォーム!H40)","v":""},""]
[null,null,null,null,null,{"$f":"IF(入力フォーム!E40=0,\"\",入力フォーム!E40)","v":""}]
[null,null,null,null,null,{"$f":"IF(入力フォーム!D41=0,\"\",入力フォーム!D41)","v":""},null,null,null,null,null,null,null,null,null,null,{"$f":"IF(入力フォーム!F41=0,\"\",入力フォーム!F41)","v":""},{"$f":"IF(入力フォーム!G41=0,\"\",入力フォーム!G41)","v":""},{"$f":"IF(入力フォーム!H41=0,\"\",入力フォーム!H41)","v":""},{"$f":"IF(AND(R46=\"\",S46=\"\"),\"\",ROUNDDOWN(R46*S46,0))","v":""}]
[null,null,null,null,null,{"$f":"IF(入力フォーム!E41=0,\"\",入力フォーム!E41)","v":""}]
[null,null,null,null,null,{"$f":"IF(入力フォーム!D42=0,\"\",入力フォーム!D42)","v":""},null,null,null,null,null,null,null,null,null,null,{"$f":"IF(入力フォーム!F42=0,\"\",入力フォーム!F42)","v":""},{"$f":"IF(入力フォーム!G42=0,\"\",入力フォーム!G42)","v":""},{"$f":"IF(入力フォーム!H42=0,\"\",入力フォーム!H42)","v":""},{"$f":"IF(AND(R48=\"\",S48=\"\"),\"\",ROUNDDOWN(R48*S48,0))","v":""}]
[null,null,null,null,null,{"$f":"IF(入力フォーム!E42=0,\"\",入力フォーム!E42)","v":""}]
[null,null,null,null,null,{"$f":"IF(入力フォーム!D43=0,\"\",入力フォーム!D43)","v":""},null,null,null,null,null,null,null,null,null,null,{"$f":"IF(入力フォーム!F43=0,\"\",入力フォーム!F43)","v":""},{"$f":"IF(入力フォーム!G43=0,\"\",入力フォーム!G43)","v":""},{"$f":"IF(入力フォーム!H43=0,\"\",入力フォーム!H43)","v":""},{"$f":"IF(AND(R50=\"\",S50=\"\"),\"\",ROUNDDOWN(R50*S50,0))","v":""}]
[null,null,null,null,null,{"$f":"IF(入力フォーム!E43=0,\"\",入力フォーム!E43)","v":""}]
[null,null,null,null,null,{"$f":"IF(入力フォーム!D44=0,\"\",入力フォーム!D44)","v":""},null,null,null,null,null,null,null,null,null,null,{"$f":"IF(入力フォーム!F44=0,\"\",入力フォーム!F44)","v":""},{"$f":"IF(入力フォーム!G44=0,\"\",入力フォーム!G44)","v":""},{"$f":"IF(入力フォーム!H44=0,\"\",入力フォーム!H44)","v":""},{"$f":"IF(AND(R52=\"\",S52=\"\"),\"\",ROUNDDOWN(R52*S52,0))","v":""}]
[null,null,null,null,null,{"$f":"IF(入力フォーム!E44=0,\"\",入力フォーム!E44)","v":""}]
[null,null,null,null,null,{"$f":"IF(入力フォーム!D45=0,\"\",入力フォーム!D45)","v":""},null,null,null,null,null,null,null,null,null,null,{"$f":"IF(入力フォーム!F45=0,\"\",入力フォーム!F45)","v":""},{"$f":"IF(入力フォーム!G45=0,\"\",入力フォーム!G45)","v":""},{"$f":"IF(入力フォーム!H45=0,\"\",入力フォーム!H45)","v":""},{"$f":"IF(AND(R54=\"\",S54=\"\"),\"\",ROUNDDOWN(R54*S54,0))","v":""}]
[null,null,null,null,null,{"$f":"IF(入力フォーム!E45=0,\"\",入力フォーム!E45)","v":""}]
[null,null,null,null,null,{"$f":"IF(入力フォーム!D46=0,\"\",入力フォーム!D46)","v":""},null,null,null,null,null,null,null,null,null,null,{"$f":"IF(入力フォーム!F46=0,\"\",入力フォーム!F46)","v":""},{"$f":"IF(入力フォーム!G46=0,\"\",入力フォーム!G46)","v":""},{"$f":"IF(入力フォーム!H46=0,\"\",入力フォーム!H46)","v":""},{"$f":"IF(AND(R56=\"\",S56=\"\"),\"\",ROUNDDOWN(R56*S56,0))","v":""}]
[null,null,null,null,null,{"$f":"IF(入力フォーム!E46=0,\"\",入力フォーム!E46)","v":""}]
[null,null,null,null,null,{"$f":"IF(入力フォーム!D47=0,\"\",入力フォーム!D47)","v":""},null,null,null,null,null,null,null,null,null,null,{"$f":"IF(入力フォーム!F47=0,\"\",入力フォーム!F47)","v":""},{"$f":"IF(入力フォーム!G47=0,\"\",入力フォーム!G47)","v":""},{"$f":"IF(入力フォーム!H47=0,\"\",入力フォーム!H47)","v":""},{"$f":"IF(AND(R58=\"\",S58=\"\"),\"\",ROUNDDOWN(R58*S58,0))","v":""}]
[null,null,null,null,null,{"$f":"IF(入力フォーム!E47=0,\"\",入力フォーム!E47)","v":""}]
[null,null,null,null,null,{"$f":"IF(入力フォーム!D48=0,\"\",入力フォーム!D48)","v":""},null,null,null,null,null,null,null,null,null,null,{"$f":"IF(入力フォーム!F48=0,\"\",入力フォーム!F48)","v":""},{"$f":"IF(入力フォーム!G48=0,\"\",入力フォーム!G48)","v":""},{"$f":"IF(入力フォーム!H48=0,\"\",入力フォーム!H48)","v":""},{"$f":"IF(AND(R60=\"\",S60=\"\"),\"\",ROUNDDOWN(R60*S60,0))","v":""}]
[null,null,null,null,null,{"$f":"IF(入力フォーム!E48=0,\"\",入力フォーム!E48)","v":""}]
[null,null,null,null,null,{"$f":"IF(入力フォーム!D49=0,\"\",入力フォーム!D49)","v":""},null,null,null,null,null,null,null,null,null,null,{"$f":"IF(入力フォーム!F49=0,\"\",入力フォーム!F49)","v":""},{"$f":"IF(入力フォーム!G49=0,\"\",入力フォーム!G49)","v":""},{"$f":"IF(入力フォーム!H49=0,\"\",入力フォーム!H49)","v":""},{"$f":"IF(AND(R62=\"\",S62=\"\"),\"\",ROUNDDOWN(R62*S62,0))","v":""}]
[null,null,null,null,null,{"$f":"IF(入力フォーム!E49=0,\"\",入力フォーム!E49)","v":""}]
[null,null,null,null,null,{"$f":"IF(入力フォーム!D50=0,\"\",入力フォーム!D50)","v":""},null,null,null,null,null,null,null,null,null,null,{"$f":"IF(入力フォーム!F50=0,\"\",入力フォーム!F50)","v":""},{"$f":"IF(入力フォーム!G50=0,\"\",入力フォーム!G50)","v":""},{"$f":"IF(入力フォーム!H50=0,\"\",入力フォーム!H50)","v":""},{"$f":"IF(AND(R64=\"\",S64=\"\"),\"\",ROUNDDOWN(R64*S64,0))","v":""}]
[null,null,null,null,null,{"$f":"IF(入力フォーム!E50=0,\"\",入力フォーム!E50)","v":""}]
[null,null,null,null,null,{"$f":"IF(入力フォーム!D51=0,\"\",入力フォーム!D51)","v":""},null,null,null,null,null,null,null,null,null,null,{"$f":"IF(入力フォーム!F51=0,\"\",入力フォーム!F51)","v":""},{"$f":"IF(入力フォーム!G51=0,\"\",入力フォーム!G51)","v":""},{"$f":"IF(入力フォーム!H51=0,\"\",入力フォーム!H51)","v":""},{"$f":"IF(AND(R66=\"\",S66=\"\"),\"\",ROUNDDOWN(R66*S66,0))","v":""}]
[null,null,null,null,null,{"$f":"IF(入力フォーム!E51=0,\"\",入力フォーム!E51)","v":""}]
[null,null,null,null,null,{"$f":"IF(入力フォーム!D52=0,\"\",入力フォーム!D52)","v":""},null,null,null,null,null,null,null,null,null,null,{"$f":"IF(入力フォーム!F52=0,\"\",入力フォーム!F52)","v":""},{"$f":"IF(入力フォーム!G52=0,\"\",入力フォーム!G52)","v":""},{"$f":"IF(入力フォーム!H52=0,\"\",入力フォーム!H52)","v":""},{"$f":"IF(AND(R68=\"\",S68=\"\"),\"\",ROUNDDOWN(R68*S68,0))","v":""}]
[null,null,null,null,null,{"$f":"IF(入力フォーム!E52=0,\"\",入力フォーム!E52)","v":""}]

{"sheet":"見積書 (3)","index":6,"n_rows":69,"n_cols":21,"rows_kept":69,"cut":false,"hidden":false,"merged":[[43,5,43,15],[43,1,44,4],[43,16,44,16],[43,17,44,17],[43,18,44,18],[43,19,44,19],[43,20,44,22],[46,5,46,15],[44,5,44,15],[45,5,45,15],[45,1,46,4],[45,16,46,16],[45,17,46,17],[45,18,46,18],[45,19,46,19],[45,20,46,22],[39,5,39,15],[39,1,40,4],[39,16,40,16],[39,17,40,17],[39,18,40,18],[39,19,40,19],[39,20,40,22],[40,5,40,15],[41,5,41,15],[41,16,42,16],[41,17,42,17],[41,18,42,18],[41,19,42,19],[41,20,42,22],[41,1,42,4],[42,5,42,15],[35,5,35,15],[35,1,36,4],[35,16,36,16],[35,17,36,17],[35,18,36,18],[35,19,36,19],[35,20,36,22],[36,5,36,15],[37,5,37,15],[37,1,38,4],[37,16,38,16],[37,17,38,17],[37,18,38,18],[37,19,38,19],[37,20,38,22],[38,5,38,15],[31,5,31,15],[31,1,32,4],[31,16,32,16],[31,17,32,17],[31,18,32,18],[31,19,32,19],[31,20,32,22],[32,5,32,15],[33,5,33,15],[33,1,34,4],[33,16,34,16],[33,17,34,17],[33,18,34,18],[33,19,34,19],[33,20,34,22],[34,5,34,15],[27,5,27,15],[27,1,28,4],[27,16,28,16],[27,17,28,17],[27,18,28,18],[27,19,28,19],[27,20,28,22],[28,5,28,15],[29,5,29,15],[29,1,30,4],[29,16,30,16],[29,17,30,17],[29,18,30,18],[29,19,30,19],[29,20,30,22],[30,5,30,15],[16,1,17,22],[18,1,21,22],[24,1,24,4],[24,5,24,15],[24,20,24,22],[25,5,25,15],[25,1,26,4],[25,16,26,16],[25,17,26,17],[25,18,26,18],[25,19,26,19],[25,20,26,22],[26,5,26,15],[1,1,3,22],[4,1,7,6],[4,20,7,22],[9,1,10,6],[9,7,10,14],[9,15,10,22],[11,1,14,6],[11,7,12,14],[11,15,14,22],[13,7,14,14],[47,19,48,19],[47,20,48,22],[48,5,48,15],[49,1,50,4],[49,5,49,15],[49,16,50,16],[49,17,50,17],[49,18,50,18],[49,19,50,19],[49,20,50,22],[50,5,50,15],[47,1,48,4],[47,5,47,15],[47,16,48,16],[47,17,48,17],[47,18,48,18],[51,19,52,19],[51,20,52,22],[52,5,52,15],[53,1,54,4],[53,5,53,15],[53,16,54,16],[53,17,54,17],[53,18,54,18],[53,19,54,19],[53,20,54,22],[54,5,54,15],[51,1,52,4],[51,5,51,15],[51,16,52,16],[51,17,52,17],[51,18,52,18],[55,19,56,19],[55,20,56,22],[56,5,56,15],[57,1,58,4],[57,5,57,15],[57,16,58,16],[57,17,58,17],[57,18,58,18],[57,19,58,19],[57,20,58,22],[58,5,58,15],[55,1,56,4],[55,5,55,15],[55,16,56,16],[55,17,56,17],[55,18,56,18],[59,19,60,19],[59,20,60,22],[60,5,60,15],[61,1,62,4],[61,5,61,15],[61,16,62,16],[61,17,62,17],[61,18,62,18],[61,19,62,19],[61,20,62,22],[62,5,62,15],[59,1,60,4],[59,5,59,15],[59,16,60,16],[59,17,60,17],[59,18,60,18],[67,19,68,19],[67,20,68,22],[68,5,68,15],[67,1,68,4],[67,5,67,15],[67,16,68,16],[67,17,68,17],[67,18,68,18],[63,19,64,19],[63,20,64,22],[64,5,64,15],[65,1,66,4],[65,5,65,15],[65,16,66,16],[65,17,66,17],[65,18,66,18],[65,19,66,19],[65,20,66,22],[66,5,66,15],[63,1,64,4],[63,5,63,15],[63,16,64,16],[63,17,64,17],[63,18,64,18]]}
[]
[null,"見　　積　　書"]
[]
[]
[null,null,null,null,null,null,null,null,null,null,null,null,null,null,null,null,null,null,null,null,"頁No.3"]
[]
[]
[]
[]
[null,"製造番号",null,null,null,null,null,"仕 向 先",null,null,null,null,null,null,null,"製 品(工 事)名 称"]
[]
[null,{"$f":"入力フォーム!E9&IF(入力フォーム!B12<>\"\",入力フォーム!C11&入力フォーム!B12,\"\")","v":""},null,null,null,null,null,{"$f":"IF(入力フォーム!B13=\"\",\"\",入力フォーム!B13)","v":""},null,null,null,null,null,null,null,{"$f":"入力フォーム!B15","v":0}]
[]
[null,null,null,null,null,null,null,{"$f":"IF(入力フォーム!B14=\"\",\"\",入力フォーム!B14)","v":""}]
[]
[]
[null,"品　　　名"]
[]
[null,{"$f":"入力フォーム!B16","v":0}]
[]
[]
[]
[]
[]
[null,"※科目",null,null,null,"明　細　項　目",null,null,null,null,null,null,null,null,null,null,"単位","数 量","単　価","金　額","※工種\nコード"]
[null,null,null,null,null,{"$f":"IF(入力フォーム!D53=0,\"\",入力フォーム!D53)","v":""},null,null,null,null,null,null,null,null,null,null,{"$f":"IF(入力フォーム!F53=0,\"\",入力フォーム!F53)","v":""},{"$f":"IF(入力フォーム!G53=0,\"\",入力フォーム!G53)","v":""},{"$f":"IF(入力フォーム!H53=0,\"\",入力フォーム!H53)","v":""},{"$f":"IF(AND(R26=\"\",S26=\"\"),\"\",ROUNDDOWN(R26*S26,0))","v":""}]
[null,null,null,null,null,{"$f":"IF(入力フォーム!E53=0,\"\",入力フォーム!E53)","v":""}]
[null,null,null,null,null,{"$f":"IF(入力フォーム!D54=0,\"\",入力フォーム!D54)","v":""},null,null,null,null,null,null,null,null,null,null,{"$f":"IF(入力フォーム!F54=0,\"\",入力フォーム!F54)","v":""},{"$f":"IF(入力フォーム!G54=0,\"\",入力フォーム!G54)","v":""},{"$f":"IF(入力フォーム!H54=0,\"\",入力フォーム!H54)","v":""},{"$f":"IF(AND(R28=\"\",S28=\"\"),\"\",ROUNDDOWN(R28*S28,0))","v":""}]
[null,null,null,null,null,{"$f":"IF(入力フォーム!E54=0,\"\",入力フォーム!E54)","v":""}]
[null,null,null,null,null,{"$f":"IF(入力フォーム!D55=0,\"\",入力フォーム!D55)","v":""},null,null,null,null,null,null,null,null,null,null,{"$f":"IF(入力フォーム!F55=0,\"\",入力フォーム!F55)","v":""},{"$f":"IF(入力フォーム!G55=0,\"\",入力フォーム!G55)","v":""},{"$f":"IF(入力フォーム!H55=0,\"\",入力フォーム!H55)","v":""},{"$f":"IF(AND(R30=\"\",S30=\"\"),\"\",ROUNDDOWN(R30*S30,0))","v":""}]
[null,null,null,null,null,{"$f":"IF(入力フォーム!E55=0,\"\",入力フォーム!E55)","v":""}]
[null,null,null,null,null,{"$f":"IF(入力フォーム!D56=0,\"\",入力フォーム!D56)","v":""},null,null,null,null,null,null,null,null,null,null,{"$f":"IF(入力フォーム!F56=0,\"\",入力フォーム!F56)","v":""},{"$f":"IF(入力フォーム!G56=0,\"\",入力フォーム!G56)","v":""},{"$f":"IF(入力フォーム!H56=0,\"\",入力フォーム!H56)","v":""},""]
[null,null,null,null,null,{"$f":"IF(入力フォーム!E56=0,\"\",入力フォーム!E56)","v":""}]
[null,null,null,null,null,{"$f":"IF(入力フォーム!D57=0,\"\",入力フォーム!D57)","v":""},null,null,null,null,null,null,null,null,null,null,{"$f":"IF(入力フォーム!F57=0,\"\",入力フォーム!F57)","v":""},{"$f":"IF(入力フォーム!G57=0,\"\",入力フォーム!G57)","v":""},{"$f":"IF(入力フォーム!H57=0,\"\",入力フォーム!H57)","v":""},""]
[null,null,null,null,null,{"$f":"IF(入力フォーム!E57=0,\"\",入力フォーム!E57)","v":""}]
[null,null,null,null,null,{"$f":"IF(入力フォーム!D58=0,\"\",入力フォーム!D58)","v":""},null,null,null,null,null,null,null,null,null,null,{"$f":"IF(入力フォーム!F58=0,\"\",入力フォーム!F58)","v":""},{"$f":"IF(入力フォーム!G58=0,\"\",入力フォーム!G58)","v":""},{"$f":"IF(入力フォーム!H58=0,\"\",入力フォーム!H58)","v":""},""]
[null,null,null,null,null,{"$f":"IF(入力フォーム!E58=0,\"\",入力フォーム!E58)","v":""}]
[null,null,null,null,null,{"$f":"IF(入力フォーム!D59=0,\"\",入力フォーム!D59)","v":""},null,null,null,null,null,null,null,null,null,null,{"$f":"IF(入力フォーム!F59=0,\"\",入力フォーム!F59)","v":""},{"$f":"IF(入力フォーム!G59=0,\"\",入力フォーム!G59)","v":""},{"$f":"IF(入力フォーム!H59=0,\"\",入力フォーム!H59)","v":""},""]
[null,null,null,null,null,{"$f":"IF(入力フォーム!E59=0,\"\",入力フォーム!E59)","v":""}]
[null,null,null,null,null,{"$f":"IF(入力フォーム!D60=0,\"\",入力フォーム!D60)","v":""},null,null,null,null,null,null,null,null,null,null,{"$f":"IF(入力フォーム!F60=0,\"\",入力フォーム!F60)","v":""},{"$f":"IF(入力フォーム!G60=0,\"\",入力フォーム!G60)","v":""},{"$f":"IF(入力フォーム!H60=0,\"\",入力フォーム!H60)","v":""},""]
[null,null,null,null,null,{"$f":"IF(入力フォーム!E60=0,\"\",入力フォーム!E60)","v":""}]
[null,null,null,null,null,{"$f":"IF(入力フォーム!D61=0,\"\",入力フォーム!D61)","v":""},null,null,null,null,null,null,null,null,null,null,{"$f":"IF(入力フォーム!F61=0,\"\",入力フォーム!F61)","v":""},{"$f":"IF(入力フォーム!G61=0,\"\",入力フォーム!G61)","v":""},{"$f":"IF(入力フォーム!H61=0,\"\",入力フォーム!H61)","v":""},""]
[null,null,null,null,null,{"$f":"IF(入力フォーム!E61=0,\"\",入力フォーム!E61)","v":""}]
[null,null,null,null,null,{"$f":"IF(入力フォーム!D62=0,\"\",入力フォーム!D62)","v":""},null,null,null,null,null,null,null,null,null,null,{"$f":"IF(入力フォーム!F62=0,\"\",入力フォーム!F62)","v":""},{"$f":"IF(入力フォーム!G62=0,\"\",入力フォーム!G62)","v":""},{"$f":"IF(入力フォーム!H62=0,\"\",入力フォーム!H62)","v":""},""]
[null,null,null,null,null,{"$f":"IF(入力フォーム!E62=0,\"\",入力フォーム!E62)","v":""}]
[null,null,null,null,null,{"$f":"IF(入力フォーム!D63=0,\"\",入力フォーム!D63)","v":""},null,null,null,null,null,null,null,null,null,null,{"$f":"IF(入力フォーム!F63=0,\"\",入力フォーム!F63)","v":""},{"$f":"IF(入力フォーム!G63=0,\"\",入力フォーム!G63)","v":""},{"$f":"IF(入力フォーム!H63=0,\"\",入力フォーム!H63)","v":""},""]
[null,null,null,null,null,{"$f":"IF(入力フォーム!E63=0,\"\",入力フォーム!E63)","v":""}]
[null,null,null,null,null,{"$f":"IF(入力フォーム!D64=0,\"\",入力フォーム!D64)","v":""},null,null,null,null,null,null,null,null,null,null,{"$f":"IF(入力フォーム!F64=0,\"\",入力フォーム!F64)","v":""},{"$f":"IF(入力フォーム!G64=0,\"\",入力フォーム!G64)","v":""},{"$f":"IF(入力フォーム!H64=0,\"\",入力フォーム!H64)","v":""},{"$f":"IF(AND(R48=\"\",S48=\"\"),\"\",ROUNDDOWN(R48*S48,0))","v":""}]
[null,null,null,null,null,{"$f":"IF(入力フォーム!E64=0,\"\",入力フォーム!E64)","v":""}]
[null,null,null,null,null,{"$f":"IF(入力フォーム!D65=0,\"\",入力フォーム!D65)","v":""},null,null,null,null,null,null,null,null,null,null,{"$f":"IF(入力フォーム!F65=0,\"\",入力フォーム!F65)","v":""},{"$f":"IF(入力フォーム!G65=0,\"\",入力フォーム!G65)","v":""},{"$f":"IF(入力フォーム!H65=0,\"\",入力フォーム!H65)","v":""},{"$f":"IF(AND(R50=\"\",S50=\"\"),\"\",ROUNDDOWN(R50*S50,0))","v":""}]
[null,null,null,null,null,{"$f":"IF(入力フォーム!E65=0,\"\",入力フォーム!E65)","v":""}]
[null,null,null,null,null,{"$f":"IF(入力フォーム!D66=0,\"\",入力フォーム!D66)","v":""},null,null,null,null,null,null,null,null,null,null,{"$f":"IF(入力フォーム!F66=0,\"\",入力フォーム!F66)","v":""},{"$f":"IF(入力フォーム!G66=0,\"\",入力フォーム!G66)","v":""},{"$f":"IF(入力フォーム!H66=0,\"\",入力フォーム!H66)","v":""},{"$f":"IF(AND(R52=\"\",S52=\"\"),\"\",ROUNDDOWN(R52*S52,0))","v":""}]
[null,null,null,null,null,{"$f":"IF(入力フォーム!E66=0,\"\",入力フォーム!E66)","v":""}]
[null,null,null,null,null,{"$f":"IF(入力フォーム!D67=0,\"\",入力フォーム!D67)","v":""},null,null,null,null,null,null,null,null,null,null,{"$f":"IF(入力フォーム!F67=0,\"\",入力フォーム!F67)","v":""},{"$f":"IF(入力フォーム!G67=0,\"\",入力フォーム!G67)","v":""},{"$f":"IF(入力フォーム!H67=0,\"\",入力フォーム!H67)","v":""},{"$f":"IF(AND(R54=\"\",S54=\"\"),\"\",ROUNDDOWN(R54*S54,0))","v":""}]
[null,null,null,null,null,{"$f":"IF(入力フォーム!E67=0,\"\",入力フォーム!E67)","v":""}]
[null,null,null,null,null,{"$f":"IF(入力フォーム!D68=0,\"\",入力フォーム!D68)","v":""},null,null,null,null,null,null,null,null,null,null,{"$f":"IF(入力フォーム!F68=0,\"\",入力フォーム!F68)","v":""},{"$f":"IF(入力フォーム!G68=0,\"\",入力フォーム!G68)","v":""},{"$f":"IF(入力フォーム!H68=0,\"\",入力フォーム!H68)","v":""},{"$f":"IF(AND(R56=\"\",S56=\"\"),\"\",ROUNDDOWN(R56*S56,0))","v":""}]
[null,null,null,null,null,{"$f":"IF(入力フォーム!E68=0,\"\",入力フォーム!E68)","v":""}]
[null,null,null,null,null,{"$f":"IF(入力フォーム!D69=0,\"\",入力フォーム!D69)","v":""},null,null,null,null,null,null,null,null,null,null,{"$f":"IF(入力フォーム!F69=0,\"\",入力フォーム!F69)","v":""},{"$f":"IF(入力フォーム!G69=0,\"\",入力フォーム!G69)","v":""},{"$f":"IF(入力フォーム!H69=0,\"\",入力フォーム!H69)","v":""},{"$f":"IF(AND(R58=\"\",S58=\"\"),\"\",ROUNDDOWN(R58*S58,0))","v":""}]
[null,null,null,null,null,{"$f":"IF(入力フォーム!E69=0,\"\",入力フォーム!E69)","v":""}]
[null,null,null,null,null,{"$f":"IF(入力フォーム!D70=0,\"\",入力フォーム!D70)","v":""},null,null,null,null,null,null,null,null,null,null,{"$f":"IF(入力フォーム!F70=0,\"\",入力フォーム!F70)","v":""},{"$f":"IF(入力フォーム!G70=0,\"\",入力フォーム!G70)","v":""},{"$f":"IF(入力フォーム!H70=0,\"\",入力フォーム!H70)","v":""},{"$f":"IF(AND(R60=\"\",S60=\"\"),\"\",ROUNDDOWN(R60*S60,0))","v":""}]
[null,null,null,null,null,{"$f":"IF(入力フォーム!E70=0,\"\",入力フォーム!E70)","v":""}]
[null,null,null,null,null,{"$f":"IF(入力フォーム!D71=0,\"\",入力フォーム!D71)","v":""},null,null,null,null,null,null,null,null,null,null,{"$f":"IF(入力フォーム!F71=0,\"\",入力フォーム!F71)","v":""},{"$f":"IF(入力フォーム!G71=0,\"\",入力フォーム!G71)","v":""},{"$f":"IF(入力フォーム!H71=0,\"\",入力フォーム!H71)","v":""},{"$f":"IF(AND(R62=\"\",S62=\"\"),\"\",ROUNDDOWN(R62*S62,0))","v":""}]
[null,null,null,null,null,{"$f":"IF(入力フォーム!E71=0,\"\",入力フォーム!E71)","v":""}]
[null,null,null,null,null,{"$f":"IF(入力フォーム!D72=0,\"\",入力フォーム!D72)","v":""},null,null,null,null,null,null,null,null,null,null,{"$f":"IF(入力フォーム!F72=0,\"\",入力フォーム!F72)","v":""},{"$f":"IF(入力フォーム!G72=0,\"\",入力フォーム!G72)","v":""},{"$f":"IF(入力フォーム!H72=0,\"\",入力フォーム!H72)","v":""},{"$f":"IF(AND(R64=\"\",S64=\"\"),\"\",ROUNDDOWN(R64*S64,0))","v":""}]
[null,null,null,null,null,{"$f":"IF(入力フォーム!E72=0,\"\",入力フォーム!E72)","v":""}]
[null,null,null,null,null,{"$f":"IF(入力フォーム!D73=0,\"\",入力フォーム!D73)","v":""},null,null,null,null,null,null,null,null,null,null,{"$f":"IF(入力フォーム!F73=0,\"\",入力フォーム!F73)","v":""},{"$f":"IF(入力フォーム!G73=0,\"\",入力フォーム!G73)","v":""},{"$f":"IF(入力フォーム!H73=0,\"\",入力フォーム!H73)","v":""},{"$f":"IF(AND(R66=\"\",S66=\"\"),\"\",ROUNDDOWN(R66*S66,0))","v":""}]
[null,null,null,null,null,{"$f":"IF(入力フォーム!E73=0,\"\",入力フォーム!E73)","v":""}]
[null,null,null,null,null,{"$f":"IF(入力フォーム!D74=0,\"\",入力フォーム!D74)","v":""},null,null,null,null,null,null,null,null,null,null,{"$f":"IF(入力フォーム!F74=0,\"\",入力フォーム!F74)","v":""},{"$f":"IF(入力フォーム!G74=0,\"\",入力フォーム!G74)","v":""},{"$f":"IF(入力フォーム!H74=0,\"\",入力フォーム!H74)","v":""},{"$f":"IF(AND(R68=\"\",S68=\"\"),\"\",ROUNDDOWN(R68*S68,0))","v":""}]
[null,null,null,null,null,{"$f":"IF(入力フォーム!E74=0,\"\",入力フォーム!E74)","v":""}]

{"sheet":"請求書(一般用） ","index":7,"n_rows":229,"n_cols":32,"rows_kept":229,"cut":false,"hidden":false,"merged":[[205,0,206,0],[207,0,208,0],[203,1,203,11],[204,1,204,11],[205,1,205,11],[206,1,206,11],[207,1,207,11],[208,1,208,11],[203,12,204,13],[205,12,206,13],[207,12,208,13],[201,0,202,0],[201,12,202,13],[201,14,202,14],[201,15,202,18],[201,19,202,24],[197,25,198,30],[199,25,200,30],[201,25,202,30],[203,0,204,0],[203,14,204,14],[203,15,204,18],[203,19,204,24],[203,25,204,30],[202,1,202,11],[201,1,201,11],[197,0,198,0],[199,0,200,0],[197,12,198,13],[199,12,200,13],[197,14,198,14],[199,14,200,14],[197,15,198,18],[199,15,200,18],[197,19,198,24],[199,19,200,24],[200,1,200,11],[198,1,198,11],[199,1,199,11],[191,0,192,0],[191,12,192,13],[191,14,192,14],[191,15,192,18],[191,19,192,24],[193,14,194,14],[195,14,196,14],[193,15,194,18],[195,15,196,18],[193,19,194,24],[192,1,192,11],[195,19,196,24],[193,25,194,30],[195,25,196,30],[197,1,197,11],[193,0,194,0],[195,0,196,0],[193,1,193,11],[194,1,194,11],[195,1,195,11],[196,1,196,11],[193,12,194,13],[195,12,196,13],[153,15,154,18],[159,25,160,30],[161,25,162,30],[163,25,164,30],[165,25,166,30],[189,0,190,0],[189,12,190,13],[189,14,190,14],[189,15,190,18],[189,19,190,24],[189,25,190,30],[163,0,164,0],[165,0,166,0],[163,1,163,11],[164,1,164,11],[165,1,165,11],[163,12,164,13],[165,12,166,13],[163,14,164,14],[165,14,166,14],[159,0,160,0],[161,0,162,0],[159,1,159,11],[160,1,160,11],[153,1,153,11],[162,1,162,11],[159,12,160,13],[161,12,162,13],[159,14,160,14],[161,14,162,14],[153,0,154,0],[153,12,154,13],[153,14,154,14],[161,1,161,11],[155,0,156,0],[157,0,158,0],[155,1,155,11],[156,1,156,11],[157,1,157,11],[158,1,158,11],[155,12,156,13],[157,12,158,13],[155,14,156,14],[157,14,158,14],[149,0,150,0],[151,0,152,0],[149,1,149,11],[150,1,150,11],[151,1,151,11],[152,1,152,11],[149,12,150,13],[151,12,152,13],[149,14,150,14],[151,14,152,14],[145,0,146,0],[145,12,146,13],[145,14,146,14],[145,15,146,18],[145,19,146,24],[145,25,146,30],[147,0,148,0],[147,12,148,13],[147,14,148,14],[147,15,148,18],[147,19,148,24],[147,25,148,30],[148,1,148,11],[139,15,140,18],[139,19,140,24],[139,25,140,30],[141,14,142,14],[141,15,142,18],[141,19,142,24],[141,25,142,30],[143,0,144,0],[143,12,144,13],[143,14,144,14],[143,15,144,18],[143,19,144,24],[143,25,144,30],[139,0,140,0],[141,0,142,0],[139,1,139,11],[140,1,140,11],[141,1,141,11],[142,1,142,11],[139,12,140,13],[141,12,142,13],[139,14,140,14],[143,1,143,11],[135,0,136,0],[137,0,138,0],[135,1,135,11],[136,1,136,11],[137,1,137,11],[138,1,138,11],[135,12,136,13],[137,12,138,13],[135,14,136,14],[137,14,138,14],[131,0,132,0],[133,0,134,0],[131,1,131,11],[132,1,132,11],[133,1,133,11],[134,1,134,11],[131,12,132,13],[133,12,134,13],[131,14,132,14],[133,14,134,14],[127,0,128,0],[129,0,130,0],[127,1,127,11],[128,1,128,11],[127,12,128,13],[129,12,130,13],[127,14,128,14],[129,14,130,14],[127,15,128,18],[129,15,130,18],[130,1,130,11],[123,0,124,0],[125,0,126,0],[123,12,124,13],[125,12,126,13],[123,14,124,14],[125,14,126,14],[123,15,124,18],[125,15,126,18],[123,19,124,24],[125,19,126,24],[124,1,124,11],[119,0,120,0],[121,0,122,0],[119,12,120,13],[121,12,122,13],[119,14,120,14],[121,14,122,14],[119,15,120,18],[121,15,122,18],[119,19,120,24],[121,19,122,24],[113,0,114,0],[113,12,114,13],[113,14,114,14],[113,15,114,18],[113,19,114,24],[113,25,114,30],[115,0,116,0],[117,0,118,0],[115,12,116,13],[117,12,118,13],[115,14,116,14],[117,14,118,14],[115,15,116,18],[117,15,118,18],[115,19,116,24],[117,19,118,24],[115,25,116,30],[117,25,118,30],[116,1,116,11],[117,1,117,11],[114,1,114,11],[115,1,115,11],[113,1,113,11],[109,0,110,0],[109,12,110,13],[109,14,110,14],[109,15,110,18],[109,19,110,24],[109,25,110,30],[111,0,112,0],[111,12,112,13],[111,14,112,14],[111,15,112,18],[111,19,112,24],[111,25,112,30],[112,1,112,11],[110,1,110,11],[111,1,111,11],[228,1,228,18],[228,19,228,24],[228,25,228,30],[226,1,226,11],[226,12,226,13],[226,15,226,18],[226,19,226,24],[226,25,226,30],[227,1,227,11],[227,12,227,13],[227,15,227,18],[227,19,227,24],[227,25,227,30],[224,1,224,11],[224,12,224,13],[224,15,224,18],[224,19,224,24],[224,25,224,30],[225,1,225,11],[225,12,225,13],[225,15,225,18],[225,19,225,24],[225,25,225,30],[222,1,222,11],[222,12,222,13],[222,15,222,18],[222,19,222,24],[222,25,222,30],[223,1,223,11],[223,12,223,13],[223,15,223,18],[223,19,223,24],[223,25,223,30],[220,1,220,11],[220,12,220,13],[220,15,220,18],[220,19,220,24],[220,25,220,30],[221,1,221,11],[221,12,221,13],[221,15,221,18],[221,19,221,24],[221,25,221,30],[218,1,218,11],[218,12,218,13],[218,15,218,18],[218,19,218,24],[218,25,218,30],[219,1,219,11],[219,12,219,13],[219,15,219,18],[219,19,219,24],[219,25,219,30],[216,1,216,11],[216,12,216,13],[216,15,216,18],[216,19,216,24],[216,25,216,30],[217,1,217,11],[217,12,217,13],[217,15,217,18],[217,19,217,24],[217,25,217,30],[214,1,214,11],[214,12,214,13],[214,15,214,18],[214,19,214,24],[214,25,214,30],[215,1,215,11],[215,12,215,13],[215,15,215,18],[215,19,215,24],[215,25,215,30],[212,1,212,11],[212,12,212,13],[212,15,212,18],[212,19,212,24],[212,25,212,30],[213,1,213,11],[213,12,213,13],[213,15,213,18],[213,19,213,24],[213,25,213,30],[210,1,210,11],[210,12,210,13],[210,15,210,18],[210,19,210,24],[210,25,210,30],[211,1,211,11],[211,12,211,13],[211,15,211,18],[211,19,211,24],[211,25,211,30],[209,1,209,11],[209,12,209,13],[209,15,209,18],[209,19,209,24],[209,25,209,30],[205,14,206,14],[207,14,208,14],[205,15,206,18],[207,15,208,18],[205,19,206,24],[207,19,208,24],[205,25,206,30],[207,25,208,30],[190,1,190,11],[191,1,191,11],[188,15,188,18],[188,19,188,24],[188,25,188,30],[189,1,189,11],[181,1,183,5],[181,6,183,11],[181,13,186,13],[184,1,186,5],[184,6,186,11],[188,1,188,11],[188,12,188,13],[191,25,192,30],[167,1,167,18],[167,19,167,24],[167,25,167,30],[170,26,172,26],[171,1,179,13],[174,15,180,15],[154,1,154,11],[166,1,166,11],[159,15,160,18],[161,15,162,18],[159,19,160,24],[161,19,162,24],[163,15,164,18],[165,15,166,18],[163,19,164,24],[165,19,166,24],[153,19,154,24],[153,25,154,30],[155,15,156,18],[157,15,158,18],[155,19,156,24],[157,19,158,24],[155,25,156,30],[157,25,158,30],[149,15,150,18],[151,15,152,18],[149,19,150,24],[151,19,152,24],[149,25,150,30],[151,25,152,30],[146,1,146,11],[147,1,147,11],[144,1,144,11],[145,1,145,11],[137,15,138,18],[135,19,136,24],[137,19,138,24],[135,25,136,30],[137,25,138,30],[126,1,126,11],[129,1,129,11],[125,25,126,30],[127,19,128,24],[127,25,128,30],[125,1,125,11],[129,19,130,24],[131,15,132,18],[133,15,134,18],[131,19,132,24],[133,19,134,24],[129,25,130,30],[131,25,132,30],[133,25,134,30],[135,15,136,18],[123,25,124,30],[122,1,122,11],[123,1,123,11],[121,25,122,30],[120,1,120,11],[121,1,121,11],[119,25,120,30],[118,1,118,11],[119,1,119,11],[108,15,108,18],[108,19,108,24],[108,25,108,30],[109,1,109,11],[101,1,103,5],[101,6,103,11],[101,13,106,13],[104,1,106,5],[104,6,106,11],[108,1,108,11],[108,12,108,13],[86,1,86,18],[86,19,86,24],[86,25,86,30],[90,26,92,26],[91,1,99,13],[98,15,100,15],[78,1,78,11],[85,1,85,11],[84,1,84,11],[84,12,85,13],[84,14,85,14],[84,15,85,18],[84,19,85,24],[84,25,85,30],[47,1,47,11],[47,12,47,13],[47,15,47,18],[47,19,47,24],[47,25,47,30],[48,1,48,11],[49,1,49,11],[50,1,50,11],[51,1,51,11],[14,15,23,30],[40,14,42,15],[40,16,42,21],[40,24,45,24],[40,25,42,30],[43,1,45,5],[43,6,45,11],[43,25,45,30],[43,14,45,15],[43,16,45,21],[28,1,37,1],[28,2,32,4],[28,5,32,13],[33,2,37,4],[33,5,37,13],[39,1,39,4],[39,5,39,8],[15,2,16,13],[19,1,20,2],[19,3,20,8],[19,9,20,10],[19,11,20,14],[23,1,27,4],[23,5,27,13],[6,29,7,29],[6,30,7,30],[6,31,7,31],[9,1,12,12],[9,13,12,14],[9,15,11,21],[9,22,11,25],[9,26,11,30],[0,6,3,19],[0,26,2,26],[6,22,7,24],[6,25,7,26],[6,27,7,27],[6,28,7,28],[12,15,13,30],[0,27,2,31],[48,0,49,0],[48,12,49,13],[48,14,49,14],[48,15,49,18],[48,19,49,24],[48,25,49,30],[50,0,51,0],[50,12,51,13],[50,14,51,14],[50,15,51,18],[50,19,51,24],[50,25,51,30],[52,0,53,0],[52,12,53,13],[52,14,53,14],[52,15,53,18],[52,19,53,24],[52,25,53,30],[54,12,55,13],[54,14,55,14],[54,15,55,18],[54,19,55,24],[54,25,55,30],[54,0,55,0],[52,1,52,11],[53,1,53,11],[54,1,54,11],[55,1,55,11],[56,0,57,0],[56,12,57,13],[56,14,57,14],[56,15,57,18],[56,19,57,24],[56,25,57,30],[58,0,59,0],[58,12,59,13],[58,14,59,14],[58,15,59,18],[58,19,59,24],[58,25,59,30],[56,1,56,11],[57,1,57,11],[58,1,58,11],[59,1,59,11],[61,1,61,11],[60,0,61,0],[60,12,61,13],[60,14,61,14],[60,15,61,18],[60,19,61,24],[60,25,61,30],[62,0,63,0],[62,1,62,11],[63,1,63,11],[60,1,60,11],[62,12,63,13],[62,14,63,14],[62,15,63,18],[62,19,63,24],[62,25,63,30],[64,12,65,13],[64,14,65,14],[64,15,65,18],[64,19,65,24],[64,25,65,30],[68,0,69,0],[66,1,66,11],[67,1,67,11],[68,1,68,11],[69,1,69,11],[66,12,67,13],[66,14,67,14],[66,15,67,18],[64,0,65,0],[64,1,64,11],[65,1,65,11],[66,19,67,24],[66,25,67,30],[68,12,69,13],[68,14,69,14],[68,15,69,18],[68,19,69,24],[68,25,69,30],[70,19,71,24],[70,25,71,30],[72,12,73,13],[72,14,73,14],[72,15,73,18],[72,19,73,24],[72,25,73,30],[66,0,67,0],[74,0,75,0],[74,12,75,13],[74,14,75,14],[74,15,75,18],[74,19,75,24],[74,25,75,30],[70,0,71,0],[72,0,73,0],[70,1,70,11],[71,1,71,11],[72,1,72,11],[73,1,73,11],[70,12,71,13],[70,14,71,14],[70,15,71,18],[76,0,77,0],[76,12,77,13],[76,14,77,14],[76,15,77,18],[76,19,77,24],[76,25,77,30],[74,1,74,11],[75,1,75,11],[76,1,76,11],[77,1,77,11],[78,0,79,0],[79,1,79,11],[78,12,79,13],[78,14,79,14],[78,15,79,18],[78,19,79,24],[78,25,79,30],[80,0,81,0],[80,1,80,11],[81,1,81,11],[84,0,85,0],[82,0,83,0],[82,1,82,11],[83,1,83,11],[80,12,81,13],[80,14,81,14],[80,15,81,18],[80,19,81,24],[80,25,81,30],[82,12,83,13],[82,14,83,14],[82,15,83,18],[82,19,83,24],[82,25,83,30]]}
[null,null,null,null,null,null,"請　求　書（一般用）",null,null,null,null,null,null,null,null,null,null,null,null,null,null,null,null,null,null,null,"No."]
[]
[]
[]
[]
[]
[null,null,null,null,null,null,null,null,null,null,null,null,null,null,null,null,null,null,null,null,null,null,"日付",null,null,null,null,"年",null,"月",null,"日"]
[]
[]
[null,null,null,null,null,null,null,null,null,null,null,null,null," 御中",null,"請求者住所･氏名･印･電話",null,null,null,null,null,null,"取引先コード",null,null,null,{"$f":"入力フォーム!B3","v":0}]
[]
[]
[null,null,null,null,null,null,null,null,null,null,null,null,null,null,null,{"$f":"\"登録番号\"&\"　\"&入力フォーム!B4","v":"登録番号　"}]
[]
[]
[null,null,"下記の通り請求いたします。"]
[]
[]
[]
[null,null,null,"月分請求内訳書",null,null,null,null,null,null,null,"枚 (本用紙を含む)"]
[]
[]
[]
[null,"請 求 金 額",null,null,null,{"$f":"SUM(F29:N38)","v":0}]
[]
[]
[]
[]
[null,"内　訳","税抜金額",null,null,{"$f":"T87+T168+T229","v":0}]
[]
[]
[]
[]
[null,null,"消費税",null,null,{"$f":"IF(F40=\"10％\",ROUNDDOWN(F29*10%,0),IF(F40=\"(軽)8%\",ROUNDDOWN(F29*8%,0),0))","v":0}]
[]
[]
[]
[]
[]
[null,"消費税率",null,null,null,{"$f":"入力フォーム!B10","v":"10％"}]
[null,null,null,null,null,null,null,null,null,null,null,null,null,null,null,null,null,null,null,null,null,null,null,null,"※科目"]
[]
[]
[null,"製造番号",null,null,null,null,{"$f":"入力フォーム!E9&IF(入力フォーム!B12<>\"\",入力フォーム!C11&入力フォーム!B12,\"\")","v":""},null,null,null,null,null,null,null,"注文番号"]
[]
[]
[]
[null,"品名・形状・寸法",null,null,null,null,null,null,null,null,null,null,"単位",null,"数量","単価",null,null,null,"金額",null,null,null,null,null,"備考"]
[1,{"$f":"見積書!F61","v":""},null,null,null,null,null,null,null,null,null,null,{"$f":"見積書!Q61","v":""},null,{"$f":"見積書!R61","v":""},{"$f":"見積書!S61","v":""},null,null,null,{"$f":"IF(AND(O49=\"\",P49=\"\"),\"\",ROUNDDOWN(O49*P49,0))","v":""}]
[null,{"$f":"見積書!F62","v":""}]
[2,{"$f":"見積書!F63","v":""},null,null,null,null,null,null,null,null,null,null,{"$f":"見積書!Q63","v":""},null,{"$f":"見積書!R63","v":""},{"$f":"見積書!S63","v":""},null,null,null,{"$f":"IF(AND(O51=\"\",P51=\"\"),\"\",ROUNDDOWN(O51*P51,0))","v":""}]
[null,{"$f":"見積書!F64","v":""}]
[3,{"$f":"見積書!F65","v":""},null,null,null,null,null,null,null,null,null,null,{"$f":"見積書!Q65","v":""},null,{"$f":"見積書!R65","v":""},{"$f":"見積書!S65","v":""},null,null,null,""]
[null,{"$f":"見積書!F66","v":""}]
[4,{"$f":"見積書!F67","v":""},null,null,null,null,null,null,null,null,null,null,{"$f":"見積書!Q67","v":""},null,{"$f":"見積書!R67","v":""},{"$f":"見積書!S67","v":""},null,null,null,""]
[null,{"$f":"見積書!F68","v":""}]
[5,{"$f":"見積書!F69","v":""},null,null,null,null,null,null,null,null,null,null,{"$f":"見積書!Q69","v":""},null,{"$f":"見積書!R69","v":""},{"$f":"見積書!S69","v":""},null,null,null,""]
[null,{"$f":"見積書!F70","v":""}]
[6,{"$f":"見積書!F71","v":""},null,null,null,null,null,null,null,null,null,null,{"$f":"見積書!Q71","v":""},null,{"$f":"見積書!R71","v":""},{"$f":"見積書!S71","v":""},null,null,null,""]
[null,{"$f":"見積書!F72","v":""}]
[7,{"$f":"見積書!F73","v":""},null,null,null,null,null,null,null,null,null,null,{"$f":"見積書!Q73","v":""},null,{"$f":"見積書!R73","v":""},{"$f":"見積書!S73","v":""},null,null,null,""]
[null,{"$f":"見積書!F74","v":""}]
[8,{"$f":"見積書!F75","v":""},null,null,null,null,null,null,null,null,null,null,{"$f":"見積書!Q75","v":""},null,{"$f":"見積書!R75","v":""},{"$f":"見積書!S75","v":""},null,null,null,{"$f":"IF(AND(O63=\"\",P63=\"\"),\"\",ROUNDDOWN(O63*P63,0))","v":""}]
[null,{"$f":"見積書!F76","v":""}]
[9,{"$f":"見積書!F77","v":""},null,null,null,null,null,null,null,null,null,null,{"$f":"見積書!Q77","v":""},null,{"$f":"見積書!R77","v":""},{"$f":"見積書!S77","v":""},null,null,null,{"$f":"IF(AND(O65=\"\",P65=\"\"),\"\",ROUNDDOWN(O65*P65,0))","v":""}]
[null,{"$f":"見積書!F78","v":""}]
[10,{"$f":"見積書!F79","v":""},null,null,null,null,null,null,null,null,null,null,{"$f":"見積書!Q79","v":""},null,{"$f":"見積書!R79","v":""},{"$f":"見積書!S79","v":""},null,null,null,{"$f":"IF(AND(O67=\"\",P67=\"\"),\"\",ROUNDDOWN(O67*P67,0))","v":""}]
[null,{"$f":"見積書!F80","v":""}]
[11,{"$f":"見積書!F81","v":""},null,null,null,null,null,null,null,null,null,null,{"$f":"見積書!Q81","v":""},null,{"$f":"見積書!R81","v":""},{"$f":"見積書!S81","v":""},null,null,null,{"$f":"IF(AND(O69=\"\",P69=\"\"),\"\",ROUNDDOWN(O69*P69,0))","v":""}]
[null,{"$f":"見積書!F82","v":""}]
[12,{"$f":"見積書!F83","v":""},null,null,null,null,null,null,null,null,null,null,{"$f":"見積書!Q83","v":""},null,{"$f":"見積書!R83","v":""},{"$f":"見積書!S83","v":""},null,null,null,{"$f":"IF(AND(O71=\"\",P71=\"\"),\"\",ROUNDDOWN(O71*P71,0))","v":""}]
[null,{"$f":"見積書!F84","v":""}]
[13,{"$f":"見積書!F85","v":""},null,null,null,null,null,null,null,null,null,null,{"$f":"見積書!Q85","v":""},null,{"$f":"見積書!R85","v":""},{"$f":"見積書!S85","v":""},null,null,null,{"$f":"IF(AND(O73=\"\",P73=\"\"),\"\",ROUNDDOWN(O73*P73,0))","v":""}]
[null,{"$f":"見積書!F86","v":""}]
[14,{"$f":"'見積書 (2)'!F26","v":""},null,null,null,null,null,null,null,null,null,null,{"$f":"'見積書 (2)'!Q26","v":""},null,{"$f":"'見積書 (2)'!R26","v":""},{"$f":"'見積書 (2)'!S26","v":""},null,null,null,""]
[null,{"$f":"'見積書 (2)'!F27","v":""}]
[15,{"$f":"'見積書 (2)'!F28","v":""},null,null,null,null,null,null,null,null,null,null,{"$f":"'見積書 (2)'!Q28","v":""},null,{"$f":"'見積書 (2)'!R28","v":""},{"$f":"'見積書 (2)'!S28","v":""},null,null,null,""]
[null,{"$f":"'見積書 (2)'!F29","v":""}]
[16,{"$f":"'見積書 (2)'!F30","v":""},null,null,null,null,null,null,null,null,null,null,{"$f":"'見積書 (2)'!Q30","v":""},null,{"$f":"'見積書 (2)'!R30","v":""},{"$f":"'見積書 (2)'!S30","v":""},null,null,null,""]
[null,{"$f":"'見積書 (2)'!F31","v":""}]
[17,{"$f":"'見積書 (2)'!F32","v":""},null,null,null,null,null,null,null,null,null,null,{"$f":"'見積書 (2)'!Q32","v":""},null,{"$f":"'見積書 (2)'!R32","v":""},{"$f":"'見積書 (2)'!S32","v":""},null,null,null,{"$f":"IF(AND(O81=\"\",P81=\"\"),\"\",ROUNDDOWN(O81*P81,0))","v":""}]
[null,{"$f":"'見積書 (2)'!F33","v":""}]
[18,{"$f":"'見積書 (2)'!F34","v":""},null,null,null,null,null,null,null,null,null,null,{"$f":"'見積書 (2)'!Q34","v":""},null,{"$f":"'見積書 (2)'!R34","v":""},{"$f":"'見積書 (2)'!S34","v":""},null,null,null,{"$f":"IF(AND(O83=\"\",P83=\"\"),\"\",ROUNDDOWN(O83*P83,0))","v":""}]
[null,{"$f":"'見積書 (2)'!F35","v":""}]
[19,{"$f":"'見積書 (2)'!F36","v":""},null,null,null,null,null,null,null,null,null,null,{"$f":"'見積書 (2)'!Q36","v":""},null,{"$f":"'見積書 (2)'!R36","v":""},{"$f":"'見積書 (2)'!S36","v":""},null,null,null,{"$f":"IF(AND(O85=\"\",P85=\"\"),\"\",ROUNDDOWN(O85*P85,0))","v":""}]
[null,{"$f":"'見積書 (2)'!F37","v":""}]
[null,"小計",null,null,null,null,null,null,null,null,null,null,null,null,null,null,null,null,null,{"$f":"SUM(T49:T85)","v":0}]
[]
[]
[]
[null,null,null,null,null,null,null,null,null,null,null,null,null,null,null,null,null,null,null,null,null,null,null,null,null,null,"No."]
[null,"請求書（一般用）"]
[]
[]
[]
[]
[]
[]
[]
[]
[]
[null,"製造番号",null,null,null,null,{"$f":"G44","v":""},null,null,null,null,null,null,"※科目"]
[]
[]
[null,"注文番号",null,null,null,null,{"$f":"Q44","v":0}]
[]
[]
[]
[null,"品名・形状・寸法",null,null,null,null,null,null,null,null,null,null,"単位",null,"数量","単価",null,null,null,"金額",null,null,null,null,null,"備考"]
[20,{"$f":"'見積書 (2)'!F38","v":""},null,null,null,null,null,null,null,null,null,null,{"$f":"'見積書 (2)'!Q38","v":""},null,{"$f":"'見積書 (2)'!R38","v":""},{"$f":"'見積書 (2)'!S38","v":""},null,null,null,{"$f":"IF(AND(O110=\"\",P110=\"\"),\"\",ROUNDDOWN(O110*P110,0))","v":""}]
[null,{"$f":"'見積書 (2)'!F39","v":""}]
[21,{"$f":"'見積書 (2)'!F40","v":""},null,null,null,null,null,null,null,null,null,null,{"$f":"'見積書 (2)'!Q40","v":""},null,{"$f":"'見積書 (2)'!R40","v":""},{"$f":"'見積書 (2)'!S40","v":""},null,null,null,""]
[null,{"$f":"'見積書 (2)'!F41","v":""}]
[22,{"$f":"'見積書 (2)'!F42","v":""},null,null,null,null,null,null,null,null,null,null,{"$f":"'見積書 (2)'!Q42","v":""},null,{"$f":"'見積書 (2)'!R42","v":""},{"$f":"'見積書 (2)'!S42","v":""},null,null,null,""]
[null,{"$f":"'見積書 (2)'!F43","v":""}]
[23,{"$f":"'見積書 (2)'!F44","v":""},null,null,null,null,null,null,null,null,null,null,{"$f":"'見積書 (2)'!Q44","v":""},null,{"$f":"'見積書 (2)'!R44","v":""},{"$f":"'見積書 (2)'!S44","v":""},null,null,null,{"$f":"IF(AND(O116=\"\",P116=\"\"),\"\",ROUNDDOWN(O116*P116,0))","v":""}]
[null,{"$f":"'見積書 (2)'!F45","v":""}]
[24,{"$f":"'見積書 (2)'!F46","v":""},null,null,null,null,null,null,null,null,null,null,{"$f":"'見積書 (2)'!Q46","v":""},null,{"$f":"'見積書 (2)'!R46","v":""},{"$f":"'見積書 (2)'!S46","v":""},null,null,null,{"$f":"IF(AND(O118=\"\",P118=\"\"),\"\",ROUNDDOWN(O118*P118,0))","v":""}]
[null,{"$f":"'見積書 (2)'!F47","v":""}]
[25,{"$f":"'見積書 (2)'!F48","v":""},null,null,null,null,null,null,null,null,null,null,{"$f":"'見積書 (2)'!Q48","v":""},null,{"$f":"'見積書 (2)'!R48","v":""},{"$f":"'見積書 (2)'!S48","v":""},null,null,null,{"$f":"IF(AND(O120=\"\",P120=\"\"),\"\",ROUNDDOWN(O120*P120,0))","v":""}]
[null,{"$f":"'見積書 (2)'!F49","v":""}]
[26,{"$f":"'見積書 (2)'!F50","v":""},null,null,null,null,null,null,null,null,null,null,{"$f":"'見積書 (2)'!Q50","v":""},null,{"$f":"'見積書 (2)'!R50","v":""},{"$f":"'見積書 (2)'!S50","v":""},null,null,null,{"$f":"IF(AND(O122=\"\",P122=\"\"),\"\",ROUNDDOWN(O122*P122,0))","v":""}]
[null,{"$f":"'見積書 (2)'!F51","v":""}]
[27,{"$f":"'見積書 (2)'!F52","v":""},null,null,null,null,null,null,null,null,null,null,{"$f":"'見積書 (2)'!Q52","v":""},null,{"$f":"'見積書 (2)'!R52","v":""},{"$f":"'見積書 (2)'!S52","v":""},null,null,null,{"$f":"IF(AND(O124=\"\",P124=\"\"),\"\",ROUNDDOWN(O124*P124,0))","v":""}]
[null,{"$f":"'見積書 (2)'!F53","v":""}]
[28,{"$f":"'見積書 (2)'!F54","v":""},null,null,null,null,null,null,null,null,null,null,{"$f":"'見積書 (2)'!Q54","v":""},null,{"$f":"'見積書 (2)'!R54","v":""},{"$f":"'見積書 (2)'!S54","v":""},null,null,null,{"$f":"IF(AND(O126=\"\",P126=\"\"),\"\",ROUNDDOWN(O126*P126,0))","v":""}]
[null,{"$f":"'見積書 (2)'!F55","v":""}]
[29,{"$f":"'見積書 (2)'!F56","v":""},null,null,null,null,null,null,null,null,null,null,{"$f":"'見積書 (2)'!Q56","v":""},null,{"$f":"'見積書 (2)'!R56","v":""},{"$f":"'見積書 (2)'!S56","v":""},null,null,null,{"$f":"IF(AND(O128=\"\",P128=\"\"),\"\",ROUNDDOWN(O128*P128,0))","v":""}]
[null,{"$f":"'見積書 (2)'!F57","v":""}]
[30,{"$f":"'見積書 (2)'!F58","v":""},null,null,null,null,null,null,null,null,null,null,{"$f":"'見積書 (2)'!Q58","v":""},null,{"$f":"'見積書 (2)'!R58","v":""},{"$f":"'見積書 (2)'!S58","v":""},null,null,null,{"$f":"IF(AND(O130=\"\",P130=\"\"),\"\",ROUNDDOWN(O130*P130,0))","v":""}]
[null,{"$f":"'見積書 (2)'!F59","v":""}]
[31,{"$f":"'見積書 (2)'!F60","v":""},null,null,null,null,null,null,null,null,null,null,{"$f":"'見積書 (2)'!Q60","v":""},null,{"$f":"'見積書 (2)'!R60","v":""},{"$f":"'見積書 (2)'!S60","v":""},null,null,null,{"$f":"IF(AND(O132=\"\",P132=\"\"),\"\",ROUNDDOWN(O132*P132,0))","v":""}]
[null,{"$f":"'見積書 (2)'!F61","v":""}]
[32,{"$f":"'見積書 (2)'!F62","v":""},null,null,null,null,null,null,null,null,null,null,{"$f":"'見積書 (2)'!Q62","v":""},null,{"$f":"'見積書 (2)'!R62","v":""},{"$f":"'見積書 (2)'!S62","v":""},null,null,null,{"$f":"IF(AND(O134=\"\",P134=\"\"),\"\",ROUNDDOWN(O134*P134,0))","v":""}]
[null,{"$f":"'見積書 (2)'!F63","v":""}]
[33,{"$f":"'見積書 (2)'!F64","v":""},null,null,null,null,null,null,null,null,null,null,{"$f":"'見積書 (2)'!Q64","v":""},null,{"$f":"'見積書 (2)'!R64","v":""},{"$f":"'見積書 (2)'!S64","v":""},null,null,null,{"$f":"IF(AND(O136=\"\",P136=\"\"),\"\",ROUNDDOWN(O136*P136,0))","v":""}]
[null,{"$f":"'見積書 (2)'!F65","v":""}]
[34,{"$f":"'見積書 (2)'!F66","v":""},null,null,null,null,null,null,null,null,null,null,{"$f":"'見積書 (2)'!Q66","v":""},null,{"$f":"'見積書 (2)'!R66","v":""},{"$f":"'見積書 (2)'!S66","v":""},null,null,null,{"$f":"IF(AND(O138=\"\",P138=\"\"),\"\",ROUNDDOWN(O138*P138,0))","v":""}]
[null,{"$f":"'見積書 (2)'!F67","v":""}]
[35,{"$f":"'見積書 (2)'!F68","v":""},null,null,null,null,null,null,null,null,null,null,{"$f":"'見積書 (2)'!Q68","v":""},null,{"$f":"'見積書 (2)'!R68","v":""},{"$f":"'見積書 (2)'!S68","v":""},null,null,null,{"$f":"IF(AND(O140=\"\",P140=\"\"),\"\",ROUNDDOWN(O140*P140,0))","v":""}]
[null,{"$f":"'見積書 (2)'!F69","v":""}]
[36,{"$f":"'見積書 (3)'!F26","v":""},null,null,null,null,null,null,null,null,null,null,{"$f":"'見積書 (3)'!Q26","v":""},null,{"$f":"'見積書 (3)'!R26","v":""},{"$f":"'見積書 (3)'!S26","v":""},null,null,null,{"$f":"IF(AND(O142=\"\",P142=\"\"),\"\",ROUNDDOWN(O142*P142,0))","v":""}]
[null,{"$f":"'見積書 (3)'!F27","v":""}]
[37,{"$f":"'見積書 (3)'!F28","v":""},null,null,null,null,null,null,null,null,null,null,{"$f":"'見積書 (3)'!Q28","v":""},null,{"$f":"'見積書 (3)'!R28","v":""},{"$f":"'見積書 (3)'!S28","v":""},null,null,null,{"$f":"IF(AND(O144=\"\",P144=\"\"),\"\",ROUNDDOWN(O144*P144,0))","v":""}]
[null,{"$f":"'見積書 (3)'!F29","v":""}]
[38,{"$f":"'見積書 (3)'!F30","v":""},null,null,null,null,null,null,null,null,null,null,{"$f":"'見積書 (3)'!Q30","v":""},null,{"$f":"'見積書 (3)'!R30","v":""},{"$f":"'見積書 (3)'!S30","v":""},null,null,null,{"$f":"IF(AND(O146=\"\",P146=\"\"),\"\",ROUNDDOWN(O146*P146,0))","v":""}]
[null,{"$f":"'見積書 (3)'!F31","v":""}]
[39,{"$f":"'見積書 (3)'!F32","v":""},null,null,null,null,null,null,null,null,null,null,{"$f":"'見積書 (3)'!Q32","v":""},null,{"$f":"'見積書 (3)'!R32","v":""},{"$f":"'見積書 (3)'!S32","v":""},null,null,null,{"$f":"IF(AND(O148=\"\",P148=\"\"),\"\",ROUNDDOWN(O148*P148,0))","v":""}]
[null,{"$f":"'見積書 (3)'!F33","v":""}]
[40,{"$f":"'見積書 (3)'!F34","v":""},null,null,null,null,null,null,null,null,null,null,{"$f":"'見積書 (3)'!Q34","v":""},null,{"$f":"'見積書 (3)'!R34","v":""},{"$f":"'見積書 (3)'!S34","v":""},null,null,null,{"$f":"IF(AND(O150=\"\",P150=\"\"),\"\",ROUNDDOWN(O150*P150,0))","v":""}]
[null,{"$f":"'見積書 (3)'!F35","v":""}]
[41,{"$f":"'見積書 (3)'!F36","v":""},null,null,null,null,null,null,null,null,null,null,{"$f":"'見積書 (3)'!Q36","v":""},null,{"$f":"'見積書 (3)'!R36","v":""},{"$f":"'見積書 (3)'!S36","v":""},null,null,null,{"$f":"IF(AND(O152=\"\",P152=\"\"),\"\",ROUNDDOWN(O152*P152,0))","v":""}]
[null,{"$f":"'見積書 (3)'!F37","v":""}]
[42,{"$f":"'見積書 (3)'!F38","v":""},null,null,null,null,null,null,null,null,null,null,{"$f":"'見積書 (3)'!Q38","v":""},null,{"$f":"'見積書 (3)'!R38","v":""},{"$f":"'見積書 (3)'!S38","v":""},null,null,null,{"$f":"IF(AND(O154=\"\",P154=\"\"),\"\",ROUNDDOWN(O154*P154,0))","v":""}]
[null,{"$f":"'見積書 (3)'!F39","v":""}]
[43,{"$f":"'見積書 (3)'!F40","v":""},null,null,null,null,null,null,null,null,null,null,{"$f":"'見積書 (3)'!Q40","v":""},null,{"$f":"'見積書 (3)'!R40","v":""},{"$f":"'見積書 (3)'!S40","v":""},null,null,null,{"$f":"IF(AND(O156=\"\",P156=\"\"),\"\",ROUNDDOWN(O156*P156,0))","v":""}]
[null,{"$f":"'見積書 (3)'!F41","v":""}]
[44,{"$f":"'見積書 (3)'!F42","v":""},null,null,null,null,null,null,null,null,null,null,{"$f":"'見積書 (3)'!Q42","v":""},null,{"$f":"'見積書 (3)'!R42","v":""},{"$f":"'見積書 (3)'!S42","v":""},null,null,null,{"$f":"IF(AND(O158=\"\",P158=\"\"),\"\",ROUNDDOWN(O158*P158,0))","v":""}]
[null,{"$f":"'見積書 (3)'!F43","v":""}]
[45,{"$f":"'見積書 (3)'!F44","v":""},null,null,null,null,null,null,null,null,null,null,{"$f":"'見積書 (3)'!Q44","v":""},null,{"$f":"'見積書 (3)'!R44","v":""},{"$f":"'見積書 (3)'!S44","v":""},null,null,null,{"$f":"IF(AND(O160=\"\",P160=\"\"),\"\",ROUNDDOWN(O160*P160,0))","v":""}]
[null,{"$f":"'見積書 (3)'!F45","v":""}]
[46,{"$f":"'見積書 (3)'!F46","v":""},null,null,null,null,null,null,null,null,null,null,{"$f":"'見積書 (3)'!Q46","v":""},null,{"$f":"'見積書 (3)'!R46","v":""},{"$f":"'見積書 (3)'!S46","v":""},null,null,null,{"$f":"IF(AND(O162=\"\",P162=\"\"),\"\",ROUNDDOWN(O162*P162,0))","v":""}]
[null,{"$f":"'見積書 (3)'!F47","v":""}]
[47,{"$f":"'見積書 (3)'!F48","v":""},null,null,null,null,null,null,null,null,null,null,{"$f":"'見積書 (3)'!Q48","v":""},null,{"$f":"'見積書 (3)'!R48","v":""},{"$f":"'見積書 (3)'!S48","v":""},null,null,null,{"$f":"IF(AND(O164=\"\",P164=\"\"),\"\",ROUNDDOWN(O164*P164,0))","v":""}]
[null,{"$f":"'見積書 (3)'!F49","v":""}]
[48,{"$f":"'見積書 (3)'!F50","v":""},null,null,null,null,null,null,null,null,null,null,{"$f":"'見積書 (3)'!Q50","v":""},null,{"$f":"'見積書 (3)'!R50","v":""},{"$f":"'見積書 (3)'!S50","v":""},null,null,null,{"$f":"IF(AND(O166=\"\",P166=\"\"),\"\",ROUNDDOWN(O166*P166,0))","v":""}]
[null,{"$f":"'見積書 (3)'!F51","v":""}]
[null,"小計",null,null,null,null,null,null,null,null,null,null,null,null,null,null,null,null,null,{"$f":"SUM(T110:T167)","v":0}]
[]
[]
[null,null,null,null,null,null,null,null,null,null,null,null,null,null,null,null,null,null,null,null,null,null,null,null,null,null,"No."]
[null,"請求書（一般用）"]
[]
[]
[]
[]
[]
[]
[]
[]
[]
[null,"製造番号",null,null,null,null,{"$f":"G44","v":""},null,null,null,null,null,null,"※科目"]
[]
[]
[null,"注文番号",null,null,null,null,{"$f":"Q44","v":0}]
[]
[]
[]
[null,"品名・形状・寸法",null,null,null,null,null,null,null,null,null,null,"単位",null,"数量","単価",null,null,null,"金額",null,null,null,null,null,"備考"]
[49,{"$f":"'見積書 (3)'!F52","v":""},null,null,null,null,null,null,null,null,null,null,{"$f":"'見積書 (3)'!Q52","v":""},null,{"$f":"'見積書 (3)'!R52","v":""},{"$f":"'見積書 (3)'!S52","v":""},null,null,null,{"$f":"IF(AND(O190=\"\",P190=\"\"),\"\",ROUNDDOWN(O190*P190,0))","v":""}]
[null,{"$f":"'見積書 (3)'!F53","v":""}]
[50,{"$f":"'見積書 (3)'!F54","v":""},null,null,null,null,null,null,null,null,null,null,{"$f":"'見積書 (3)'!Q54","v":""},null,{"$f":"'見積書 (3)'!R54","v":""},{"$f":"'見積書 (3)'!S54","v":""},null,null,null,{"$f":"IF(AND(O192=\"\",P192=\"\"),\"\",ROUNDDOWN(O192*P192,0))","v":""}]
[null,{"$f":"'見積書 (3)'!F55","v":""}]
[51,{"$f":"'見積書 (3)'!F56","v":""},null,null,null,null,null,null,null,null,null,null,{"$f":"'見積書 (3)'!Q56","v":""},null,{"$f":"'見積書 (3)'!R56","v":""},{"$f":"'見積書 (3)'!S56","v":""},null,null,null,{"$f":"IF(AND(O194=\"\",P194=\"\"),\"\",ROUNDDOWN(O194*P194,0))","v":""}]
[null,{"$f":"'見積書 (3)'!F57","v":""}]
[52,{"$f":"'見積書 (3)'!F58","v":""},null,null,null,null,null,null,null,null,null,null,{"$f":"'見積書 (3)'!Q58","v":""},null,{"$f":"'見積書 (3)'!R58","v":""},{"$f":"'見積書 (3)'!S58","v":""},null,null,null,{"$f":"IF(AND(O196=\"\",P196=\"\"),\"\",ROUNDDOWN(O196*P196,0))","v":""}]
[null,{"$f":"'見積書 (3)'!F59","v":""}]
[53,{"$f":"'見積書 (3)'!F60","v":""},null,null,null,null,null,null,null,null,null,null,{"$f":"'見積書 (3)'!Q60","v":""},null,{"$f":"'見積書 (3)'!R60","v":""},{"$f":"'見積書 (3)'!S60","v":""},null,null,null,{"$f":"IF(AND(O198=\"\",P198=\"\"),\"\",ROUNDDOWN(O198*P198,0))","v":""}]
[null,{"$f":"'見積書 (3)'!F61","v":""}]
[54,{"$f":"'見積書 (3)'!F62","v":""},null,null,null,null,null,null,null,null,null,null,{"$f":"'見積書 (3)'!Q62","v":""},null,{"$f":"'見積書 (3)'!R62","v":""},{"$f":"'見積書 (3)'!S62","v":""},null,null,null,{"$f":"IF(AND(O200=\"\",P200=\"\"),\"\",ROUNDDOWN(O200*P200,0))","v":""}]
[null,{"$f":"'見積書 (3)'!F63","v":""}]
[55,{"$f":"'見積書 (3)'!F64","v":""},null,null,null,null,null,null,null,null,null,null,{"$f":"'見積書 (3)'!Q64","v":""},null,{"$f":"'見積書 (3)'!R64","v":""},{"$f":"'見積書 (3)'!S64","v":""},null,null,null,{"$f":"IF(AND(O202=\"\",P202=\"\"),\"\",ROUNDDOWN(O202*P202,0))","v":""}]
[null,{"$f":"'見積書 (3)'!F65","v":""}]
[56,{"$f":"'見積書 (3)'!F66","v":""},null,null,null,null,null,null,null,null,null,null,{"$f":"'見積書 (3)'!Q66","v":""},null,{"$f":"'見積書 (3)'!R66","v":""},{"$f":"'見積書 (3)'!S66","v":""},null,null,null,{"$f":"IF(AND(O204=\"\",P204=\"\"),\"\",ROUNDDOWN(O204*P204,0))","v":""}]
[null,{"$f":"'見積書 (3)'!F67","v":""}]
[57,{"$f":"'見積書 (3)'!F68","v":""},null,null,null,null,null,null,null,null,null,null,{"$f":"'見積書 (3)'!Q68","v":""},null,{"$f":"'見積書 (3)'!R68","v":""},{"$f":"'見積書 (3)'!S68","v":""},null,null,null,{"$f":"IF(AND(O206=\"\",P206=\"\"),\"\",ROUNDDOWN(O206*P206,0))","v":""}]
[null,{"$f":"'見積書 (3)'!F69","v":""}]
[58]
[]
[59]
[60]
[61]
[62]
[63]
[64]
[65]
[66]
[67]
[68]
[69]
[70]
[71]
[72]
[73]
[74]
[75]
[76]
[77]
[null,"小計",null,null,null,null,null,null,null,null,null,null,null,null,null,null,null,null,null,{"$f":"SUM(T190:T228)","v":0}]

{"sheet":"請求書(記載例）","index":8,"n_rows":87,"n_cols":32,"rows_kept":87,"cut":false,"hidden":false,"merged":[[86,1,86,18],[86,19,86,24],[86,25,86,30],[83,1,83,11],[84,0,85,0],[84,1,84,11],[84,12,85,13],[84,14,85,14],[84,15,85,18],[82,0,83,0],[82,1,82,11],[82,12,83,13],[82,14,83,14],[82,15,83,18],[82,19,83,24],[82,25,83,30],[84,19,85,24],[84,25,85,30],[85,1,85,11],[79,1,79,11],[80,0,81,0],[80,1,80,11],[80,12,81,13],[80,14,81,14],[80,15,81,18],[76,19,77,24],[76,25,77,30],[77,1,77,11],[78,0,79,0],[78,1,78,11],[78,12,79,13],[78,14,79,14],[78,15,79,18],[78,19,79,24],[78,25,79,30],[80,19,81,24],[80,25,81,30],[81,1,81,11],[75,1,75,11],[76,0,77,0],[76,1,76,11],[76,12,77,13],[76,14,77,14],[76,15,77,18],[72,19,73,24],[72,25,73,30],[73,1,73,11],[74,0,75,0],[74,1,74,11],[74,12,75,13],[74,14,75,14],[74,15,75,18],[74,19,75,24],[74,25,75,30],[71,1,71,11],[72,0,73,0],[72,1,72,11],[72,12,73,13],[72,14,73,14],[72,15,73,18],[68,19,69,24],[68,25,69,30],[69,1,69,11],[70,0,71,0],[70,1,70,11],[70,12,71,13],[70,14,71,14],[70,15,71,18],[70,19,71,24],[70,25,71,30],[67,1,67,11],[68,0,69,0],[68,1,68,11],[68,12,69,13],[68,14,69,14],[68,15,69,18],[64,19,65,24],[64,25,65,30],[65,1,65,11],[66,0,67,0],[66,1,66,11],[66,12,67,13],[66,14,67,14],[66,15,67,18],[66,19,67,24],[66,25,67,30],[63,1,63,11],[64,0,65,0],[64,1,64,11],[64,12,65,13],[64,14,65,14],[64,15,65,18],[60,19,61,24],[60,25,61,30],[61,1,61,11],[62,0,63,0],[62,1,62,11],[62,12,63,13],[62,14,63,14],[62,15,63,18],[62,19,63,24],[62,25,63,30],[59,1,59,11],[60,0,61,0],[60,1,60,11],[60,12,61,13],[60,14,61,14],[60,15,61,18],[56,19,57,24],[56,25,57,30],[57,1,57,11],[58,0,59,0],[58,1,58,11],[58,12,59,13],[58,14,59,14],[58,15,59,18],[58,19,59,24],[58,25,59,30],[55,1,55,11],[56,0,57,0],[56,1,56,11],[56,12,57,13],[56,14,57,14],[56,15,57,18],[52,19,53,24],[52,25,53,30],[53,1,53,11],[54,0,55,0],[54,1,54,11],[54,12,55,13],[54,14,55,14],[54,15,55,18],[54,19,55,24],[54,25,55,30],[52,0,53,0],[52,1,52,11],[52,12,53,13],[52,14,53,14],[52,15,53,18],[48,19,49,24],[48,25,49,30],[49,1,49,11],[50,0,51,0],[50,1,50,11],[50,12,51,13],[50,14,51,14],[50,15,51,18],[50,19,51,24],[50,25,51,30],[48,0,49,0],[48,1,48,11],[48,12,49,13],[48,14,49,14],[48,15,49,18],[51,1,51,11],[40,25,42,30],[43,1,45,5],[43,6,45,11],[43,14,45,15],[43,16,45,21],[43,25,45,30],[47,1,47,11],[47,12,47,13],[47,15,47,18],[47,19,47,24],[47,25,47,30],[39,1,39,4],[39,5,39,8],[19,1,20,2],[19,3,20,8],[19,9,20,10],[19,11,20,14],[40,14,42,15],[40,16,42,21],[40,24,45,24],[6,31,7,31],[9,1,12,12],[9,13,12,14],[9,15,11,21],[9,22,11,25],[9,26,11,30],[15,2,16,13],[28,1,37,1],[28,2,32,4],[28,5,32,13],[33,2,37,4],[33,5,37,13],[0,6,3,19],[0,26,2,26],[6,22,7,24],[6,25,7,26],[6,27,7,27],[6,28,7,28],[22,15,23,30],[23,1,27,4],[23,5,27,13],[6,29,7,29],[6,30,7,30],[12,15,13,30]]}
[null,null,null,null,null,null,"請　求　書（一般用）",null,null,null,null,null,null,null,null,null,null,null,null,null,null,null,null,null,null,null,"No."]
[]
[]
[]
[]
[]
[null,null,null,null,null,null,null,null,null,null,null,null,null,null,null,null,null,null,null,null,null,null,"日付",null,null,null,null,"年",null,"月",null,"日"]
[]
[]
[null,null,null,null,null,null,null,null,null,null,null,null,null," 御中",null,"請求者住所･氏名･印･電話",null,null,null,null,null,null,"取引先コード",null,null,null,"00000"]
[]
[]
[null,null,null,null,null,null,null,null,null,null,null,null,null,null,null,"登録番号　T111222333444"]
[]
[]
[null,null,"下記の通り請求いたします。"]
[]
[]
[]
[null,null,null,"月分請求内訳書",null,null,null,null,null,null,null,"枚 (本用紙を含む)"]
[]
[]
[]
[null,"請 求 金 額",null,null,null,2805000]
[]
[]
[]
[]
[null,"内　訳","税抜金額",null,null,2550000]
[]
[]
[]
[]
[null,null,"消費税",null,null,255000]
[]
[]
[]
[]
[]
[null,"消費税率",null,null,null,"10%"]
[null,null,null,null,null,null,null,null,null,null,null,null,null,null,null,null,null,null,null,null,null,null,null,null,"※科目"]
[]
[]
[null,"製造番号",null,null,null,null,"20160025-00",null,null,null,null,null,null,null,"注文番号"]
[]
[]
[]
[null,"品名・形状・寸法",null,null,null,null,null,null,null,null,null,null,"単位",null,"数量","単価",null,null,null,"金額",null,null,null,null,null,"備考"]
[1,"製作費",null,null,null,null,null,null,null,null,null,null,"式",null,1,1500000,null,null,null,1500000]
[null,""]
[2,"運送費",null,null,null,null,null,null,null,null,null,null,"式",null,1,1500000,null,null,null,1500000]
[null,"本社～現場"]
[3,"品質・工程・調達等管理費",null,null,null,null,null,null,null,null,null,null,"式",null,1,20000,null,null,null,20000]
[null,""]
[4,"諸経費",null,null,null,null,null,null,null,null,null,null,"式",null,1,30000,null,null,null,30000]
[null,""]
[5,"出精値引き",null,null,null,null,null,null,null,null,null,null,"式",null,1,-500000,null,null,null,-500000]
[null,""]
[6,"",null,null,null,null,null,null,null,null,null,null,"",null,"","",null,null,null,""]
[null,""]
[7,"",null,null,null,null,null,null,null,null,null,null,"",null,"","",null,null,null,""]
[null,""]
[8,"",null,null,null,null,null,null,null,null,null,null,"",null,"","",null,null,null,""]
[null,""]
[9,"",null,null,null,null,null,null,null,null,null,null,"",null,"","",null,null,null,""]
[null,""]
[10,"",null,null,null,null,null,null,null,null,null,null,"",null,"","",null,null,null,""]
[null,""]
[11,"",null,null,null,null,null,null,null,null,null,null,"",null,"","",null,null,null,""]
[null,""]
[12,"",null,null,null,null,null,null,null,null,null,null,"",null,"","",null,null,null,""]
[null,""]
[13,"",null,null,null,null,null,null,null,null,null,null,"",null,"","",null,null,null,""]
[null,""]
[14,"",null,null,null,null,null,null,null,null,null,null,"",null,"","",null,null,null,""]
[null,""]
[15,"",null,null,null,null,null,null,null,null,null,null,"",null,"","",null,null,null,""]
[null,""]
[16,"",null,null,null,null,null,null,null,null,null,null,"",null,"","",null,null,null,""]
[null,""]
[17,"",null,null,null,null,null,null,null,null,null,null,"",null,"","",null,null,null,""]
[null,""]
[18,"",null,null,null,null,null,null,null,null,null,null,"",null,"","",null,null,null,""]
[null,""]
[19,"",null,null,null,null,null,null,null,null,null,null,"",null,"","",null,null,null,""]
[null,""]
[null,"小計",null,null,null,null,null,null,null,null,null,null,null,null,null,null,null,null,null,2550000]