{"text_format":"1","workbook":"xlsx","n_sheets":23,"sheets":["入力フォーム","入力フォーム記入例","見積書","見積書 (記載例)","見積書 (2)","見積書 (3)","出来高内訳書 (第1回請求)","出来高内訳書 (記載例)","取込用シート","出来高内訳書 (第2回請求)","出来高内訳書 (第3回請求)","出来高内訳書 (第4回請求)","出来高内訳書 (第5回請求)","出来高内訳書 (第6回請求)","出来高内訳書 (第7回請求)","出来高内訳書 (第8回請求)","出来高内訳書 (第9回請求)","出来高内訳書 (第10回請求)","出来高内訳書 (第11回請求)","出来高内訳書 (第12回請求)","出来高内訳書 (第13回請求)","出来高内訳書 (第14回請求)","出来高内訳書 (第15回請求)"],"not_rendered":{"charts":0,"images":3,"macros":1,"external_links":0,"defined_names":20,"comments":7,"pivot_tables":0},"unopened":[],"bounds":{"document_bytes":16777216,"sheet_cells":100000,"rows_first":2000,"rows_last":500,"rows_between":2000,"halvings":0,"cell_chars":16384,"cell_head_chars":4096},"cells_cut":0,"cells_raw":0,"read":"whole","date_system":"1900"}

{"sheet":"入力フォーム","index":0,"n_rows":74,"n_cols":10,"rows_kept":74,"cut":false,"hidden":false,"merged":[[17,0,29,0],[30,0,51,0],[52,0,73,0]]}
["入力フォーム"]
[]
["仕入先コード",null,null,null,"発注日"]
["登録番号",null,null,null,"発注担当者コード"]
["担当者名",null,null,null,"部門コード"]
["見積書提出日",null,null,null,"備考"]
["納期"]
["納入場所"]
["税抜金額",{"$f":"SUM(I18:I74)","v":0},null,null,{"$f":"B11&D11","v":""}]
["消費税率","10％"]
["製造番号",null,"-"]
["製造番号枝番"]
["仕向先1段目"]
["仕向先2段目"]
["製品(工事)名称"]
["品名"]
[null,null,"科目","明細項目(上段）","明細項目（下段）","単位","数量","単価","金額","工種コード"]
["1ページ目",1,null,null,null,null,null,null,{"$f":"G18*H18","v":0}]
[null,2,null,null,null,null,null,null,{"$f":"G19*H19","v":0}]
[null,3,null,null,null,null,null,null,0]
[null,4,null,null,null,null,null,null,0]
[null,5,null,null,null,null,null,null,0]
[null,6,null,null,null,null,null,null,0]
[null,7,null,null,null,null,null,null,0]
[null,8,null,null,null,null,null,null,0]
[null,9,null,null,null,null,null,null,0]
[null,10,null,null,null,null,null,null,0]
[null,11,null,null,null,null,null,null,0]
[null,12,null,null,null,null,null,null,0]
[null,13,null,null,null,null,null,null,0]
["2ページ目",14,null,null,null,null,null,null,0]
[null,15,null,null,null,null,null,null,0]
[null,16,null,null,null,null,null,null,0]
[null,17,null,null,null,null,null,null,0]
[null,18,null,null,null,null,null,null,0]
[null,19,null,null,null,null,null,null,0]
[null,20,null,null,null,null,null,null,0]
[null,21,null,null,null,null,null,null,0]
[null,22,null,null,null,null,null,null,0]
[null,23,null,null,null,null,null,null,0]
[null,24,null,null,null,null,null,null,0]
[null,25,null,null,null,null,null,null,0]
[null,26,null,null,null,null,null,null,0]
[null,27,null,null,null,null,null,null,0]
[null,28,null,null,null,null,null,null,0]
[null,29,null,null,null,null,null,null,0]
[null,30,null,null,null,null,null,null,0]
[null,31,null,null,null,null,null,null,0]
[null,32,null,null,null,null,null,null,0]
[null,33,null,null,null,null,null,null,{"$f":"G50*H50","v":0}]
[null,34,null,null,null,null,null,null,0]
[null,35,null,null,null,null,null,null,0]
["3ページ目",36,null,null,null,null,null,null,0]
[null,37,null,null,null,null,null,null,0]
[null,38,null,null,null,null,null,null,0]
[null,39,null,null,null,null,null,null,0]
[null,40,null,null,null,null,null,null,0]
[null,41,null,null,null,null,null,null,0]
[null,42,null,null,null,null,null,null,0]
[null,43,null,null,null,null,null,null,0]
[null,44,null,null,null,null,null,null,0]
[null,45,null,null,null,null,null,null,0]
[null,46,null,null,null,null,null,null,0]
[null,47,null,null,null,null,null,null,0]
[null,48,null,null,null,null,null,null,0]
[null,49,null,null,null,null,null,null,0]
[null,50,null,null,null,null,null,null,0]
[null,51,null,null,null,null,null,null,0]
[null,52,null,null,null,null,null,null,0]
[null,53,null,null,null,null,null,null,0]
[null,54,null,null,null,null,null,null,0]
[null,55,null,null,null,null,null,null,0]
[null,56,null,null,null,null,null,null,0]
[null,57,null,null,null,null,null,null,0]

{"sheet":"入力フォーム記入例","index":1,"n_rows":43,"n_cols":10,"rows_kept":43,"cut":false,"hidden":false,"merged":[[20,0,32,0],[33,0,42,0]]}
[null,null,null,"必須項目"]
[null,null,null,"記入項目（不明な場合は空白）"]
[null,null,null,"記入不要項目"]
[]
[]
["仕入先コード","01234","５桁の数字（102の場合00102としてください）",null,"発注日"]
["登録番号","T111222333444","インボイスの登録番号を記入してください",null,"発注担当者コード"]
["担当者名","奥村　太郎",null,null,"部門コード"]
["見積書提出日","2020-01-06",null,null,"備考"]
["納期","2020-02-28"]
["納入場所","本社工場"]
["税抜金額",{"$f":"SUM(I21:I43)","v":2550000},null,null,{"$f":"B14&D14","v":"20160025"}]
["消費税率","10％","リストから選択してください（10％、（軽）8％、対象外）"]
["製造番号",2016,"-","0025"]
["製造番号枝番","00"]
["仕向先1段目","奥村建設㈱"]
["仕向先2段目","大阪府/堺市"]
["製品(工事)名称","φ2480泥土圧シールド機"]
["品名","シールドジャッキ"]
[null,null,"科目","明細項目(上段）","明細項目（下段）","単位","数量","単価","金額","工種コード"]
["1ページ目",1,null,"製作費",null,"式",1,1500000,{"$f":"G21*H21","v":1500000}]
[null,2,null,"運送費","本社～現場","式",1,1500000,{"$f":"G22*H22","v":1500000}]
[null,3,null,"品質・工程・調達等管理費",null,"式",1,20000,20000]
[null,4,null,"諸経費",null,"式",1,30000,30000]
[null,5,null,"出精値引き",null,"式",1,-500000,-500000]
[null,6,null,null,null,null,null,null,0]
[null,7,null,null,null,null,null,null,0]
[null,8,null,null,null,null,null,null,0]
[null,9,null,null,null,null,null,null,0]
[null,10,null,null,null,null,null,null,0]
[null,11,null,null,null,null,null,null,0]
[null,12,null,null,null,null,null,null,0]
[null,13,null,null,null,null,null,null,0]
["2ページ目",14,null,null,null,null,null,null,0]
[null,15,null,null,null,null,null,null,0]
[null,16,null,null,null,null,null,null,0]
[null,17,null,null,null,null,null,null,0]
[null,18,null,null,null,null,null,null,0]
[null,19,null,null,null,null,null,null,0]
[null,20,null,null,null,null,null,null,0]
[null,21,null,null,null,null,null,null,0]
[null,22,null,null,null,null,null,null,0]
[null,23,null,null,null,null,null,null,0]

{"sheet":"見積書","index":2,"n_rows":86,"n_cols":21,"rows_kept":86,"cut":false,"hidden":false,"merged":[[1,1,3,22],[4,1,7,13],[4,14,7,15],[6,17,7,17],[6,18,7,18],[6,19,7,22],[6,23,7,23],[9,1,11,6],[9,7,11,14],[9,16,11,16],[9,17,11,18],[9,19,11,22],[12,17,13,22],[13,1,15,6],[13,7,15,11],[21,1,23,6],[25,1,27,6],[25,7,27,15],[30,17,31,17],[30,18,31,22],[31,1,34,6],[31,7,34,15],[33,16,34,16],[26,16,27,16],[21,7,23,15],[29,1,29,6],[29,7,29,10],[17,1,19,6],[17,7,19,15],[14,17,15,22],[16,17,29,22],[44,1,45,6],[44,7,45,14],[44,15,45,22],[46,1,49,6],[46,7,47,14],[46,15,49,22],[48,7,49,14],[35,1,38,6],[35,7,38,15],[37,16,38,16],[39,1,42,6],[39,7,42,15],[41,16,42,16],[60,5,60,15],[61,5,61,15],[60,1,61,4],[60,16,61,16],[60,17,61,17],[60,18,61,18],[60,19,61,19],[60,20,61,22],[51,1,52,22],[53,1,56,22],[59,1,59,4],[59,5,59,15],[59,20,59,22],[64,5,64,15],[65,5,65,15],[64,1,65,4],[64,16,65,16],[64,17,65,17],[64,18,65,18],[64,19,65,19],[64,20,65,22],[62,5,62,15],[63,5,63,15],[62,1,63,4],[62,16,63,16],[62,17,63,17],[62,18,63,18],[62,19,63,19],[62,20,63,22],[68,5,68,15],[69,5,69,15],[68,1,69,4],[68,16,69,16],[68,17,69,17],[68,18,69,18],[68,19,69,19],[68,20,69,22],[66,5,66,15],[67,5,67,15],[66,1,67,4],[66,16,67,16],[66,17,67,17],[66,18,67,18],[66,19,67,19],[66,20,67,22],[70,5,70,15],[71,5,71,15],[70,1,71,4],[70,16,71,16],[70,17,71,17],[70,18,71,18],[70,19,71,19],[70,20,71,22],[72,1,73,4],[72,20,73,22],[74,1,75,4],[74,5,74,15],[75,5,75,15],[74,16,75,16],[74,17,75,17],[74,18,75,18],[74,19,75,19],[74,20,75,22],[73,5,73,15],[72,16,73,16],[72,17,73,17],[72,18,73,18],[72,19,73,19],[72,5,72,15],[76,18,77,18],[76,19,77,19],[76,20,77,22],[78,20,79,22],[78,1,79,4],[78,5,78,15],[79,5,79,15],[78,16,79,16],[78,17,79,17],[78,18,79,18],[78,19,79,19],[76,1,77,4],[76,5,76,15],[77,5,77,15],[76,16,77,16],[76,17,77,17],[84,18,85,18],[84,19,85,19],[84,20,85,22],[84,1,85,4],[84,5,84,15],[85,5,85,15],[84,16,85,16],[84,17,85,17],[80,18,81,18],[80,19,81,19],[80,20,81,22],[82,1,83,4],[82,5,82,15],[83,5,83,15],[82,16,83,16],[82,17,83,17],[82,18,83,18],[82,19,83,19],[82,20,83,22],[80,1,81,4],[80,5,80,15],[81,5,81,15],[80,16,81,16],[80,17,81,17]]}
[]
[null,"見　　積　　書"]
[]
[]
[null,"奥村機械製作株式会社",null,null,null,null,null,null,null,null,null,null,null,null,"御中"]
[]
[null,null,null,null,null,null,null,null,null,null,null,null,null,null,null,null,null,null,"見積書提出日",{"$f":"入力フォーム!B6","v":"00:00:00"}]
[]
[]
[null,"※見積種類",null,null,null,null,null,"外注・購入資材",null,null,null,null,null,null,null,null,null,"取引先コード",null,{"$f":"入力フォーム!B3","v":0}]
[]
[]
[null,null,null,null,null,null,null,null,null,null,null,null,null,null,null,null,null,"郵便番号･住所・会社名・代表者名･電話･FAX"]
[null,"※注文番号"]
[null,null,null,null,null,null,null,null,null,null,null,null,null,null,null,null,null,{"$f":"\"登録番号\"&\"　\"&入力フォーム!B4","v":"登録番号　"}]
[]
[]
[null,"※検査予定日"]
[]
[]
[]
[null,"納    期",null,null,null,null,null,{"$f":"入力フォーム!B7","v":"00:00:00"}]
[]
[]
[]
[null,"納入場所",null,null,null,null,null,{"$f":"入力フォーム!B8","v":0}]
[]
[]
[]
[null,"消費税率",null,null,null,null,null,{"$f":"入力フォーム!B10","v":"10％"}]
[null,null,null,null,null,null,null,null,null,null,null,null,null,null,null,null,null,"担当者名",{"$f":"入力フォーム!B5","v":0}]
[null,"見 積 金 額",null,null,null,null,null,{"$f":"SUM(H36:P43)","v":0}]
[]
[null,null,null,null,null,null,null,null,null,null,null,null,null,null,null,null,"円"]
[]
[null,"税 抜 金 額",null,null,null,null,null,{"$f":"入力フォーム!B9","v":0}]
[]
[null,null,null,null,null,null,null,null,null,null,null,null,null,null,null,null,"円"]
[]
[null,"消 費 税 等",null,null,null,null,null,{"$f":"IF(H30=\"10％\",ROUNDDOWN(H36*10%,0),IF(H30=\"(軽)8%\",ROUNDDOWN(H36*8%,0),0))","v":0}]
[]
[null,null,null,null,null,null,null,null,null,null,null,null,null,null,null,null,"円"]
[]
[]
[null,"製造番号",null,null,null,null,null,"仕 向 先",null,null,null,null,null,null,null,"製 品(工 事)名 称"]
[]
[null,{"$f":"入力フォーム!E9&IF(入力フォーム!B12<>\"\",入力フォーム!C11&入力フォーム!B12,\"\")","v":""},null,null,null,null,null,{"$f":"IF(入力フォーム!B13=\"\",\"\",入力フォーム!B13)","v":""},null,null,null,null,null,null,null,{"$f":"入力フォーム!B15","v":0}]
[]
[null,null,null,null,null,null,null,{"$f":"IF(入力フォーム!B14=\"\",\"\",入力フォーム!B14)","v":""}]
[]
[]
[null,"品　　　名"]
[]
[null,{"$f":"入力フォーム!B16","v":0}]
[]
[]
[]
[]
[]
[null,"※科目",null,null,null,"明　細　項　目",null,null,null,null,null,null,null,null,null,null,"単位","数 量","単　価","金　額","※工種\nコード"]
[null,null,null,null,null,{"$f":"IF(入力フォーム!D18=0,\"\",入力フォーム!D18)","v":""},null,null,null,null,null,null,null,null,null,null,{"$f":"IF(入力フォーム!F18=0,\"\",入力フォーム!F18)","v":""},{"$f":"IF(入力フォーム!G18=0,\"\",入力フォーム!G18)","v":""},{"$f":"IF(入力フォーム!H18=0,\"\",入力フォーム!H18)","v":""},{"$f":"IF(AND(R61=\"\",S61=\"\"),\"\",ROUNDDOWN(R61*S61,0))","v":""}]
[null,null,null,null,null,{"$f":"IF(入力フォーム!E18=0,\"\",入力フォーム!E18)","v":""}]
[null,null,null,null,null,{"$f":"IF(入力フォーム!D19=0,\"\",入力フォーム!D19)","v":""},null,null,null,null,null,null,null,null,null,null,{"$f":"IF(入力フォーム!F19=0,\"\",入力フォーム!F19)","v":""},{"$f":"IF(入力フォーム!G19=0,\"\",入力フォーム!G19)","v":""},{"$f":"IF(入力フォーム!H19=0,\"\",入力フォーム!H19)","v":""},{"$f":"IF(AND(R63=\"\",S63=\"\"),\"\",ROUNDDOWN(R63*S63,0))","v":""}]
[null,null,null,null,null,{"$f":"IF(入力フォーム!E19=0,\"\",入力フォーム!E19)","v":""}]
[null,null,null,null,null,{"$f":"IF(入力フォーム!D20=0,\"\",入力フォーム!D20)","v":""},null,null,null,null,null,null,null,null,null,null,{"$f":"IF(入力フォーム!F20=0,\"\",入力フォーム!F20)","v":""},{"$f":"IF(入力フォーム!G20=0,\"\",入力フォーム!G20)","v":""},{"$f":"IF(入力フォーム!H20=0,\"\",入力フォーム!H20)","v":""},{"$f":"IF(AND(R65=\"\",S65=\"\"),\"\",ROUNDDOWN(R65*S65,0))","v":""}]
[null,null,null,null,null,{"$f":"IF(入力フォーム!E20=0,\"\",入力フォーム!E20)","v":""}]
[null,null,null,null,null,{"$f":"IF(入力フォーム!D21=0,\"\",入力フォーム!D21)","v":""},null,null,null,null,null,null,null,null,null,null,{"$f":"IF(入力フォーム!F21=0,\"\",入力フォーム!F21)","v":""},{"$f":"IF(入力フォーム!G21=0,\"\",入力フォーム!G21)","v":""},{"$f":"IF(入力フォーム!H21=0,\"\",入力フォーム!H21)","v":""},{"$f":"IF(AND(R67=\"\",S67=\"\"),\"\",ROUNDDOWN(R67*S67,0))","v":""}]
[null,null,null,null,null,{"$f":"IF(入力フォーム!E21=0,\"\",入力フォーム!E21)","v":""}]
[null,null,null,null,null,{"$f":"IF(入力フォーム!D22=0,\"\",入力フォーム!D22)","v":""},null,null,null,null,null,null,null,null,null,null,{"$f":"IF(入力フォーム!F22=0,\"\",入力フォーム!F22)","v":""},{"$f":"IF(入力フォーム!G22=0,\"\",入力フォーム!G22)","v":""},{"$f":"IF(入力フォーム!H22=0,\"\",入力フォーム!H22)","v":""},{"$f":"IF(AND(R69=\"\",S69=\"\"),\"\",ROUNDDOWN(R69*S69,0))","v":""}]
[null,null,null,null,null,{"$f":"IF(入力フォーム!E22=0,\"\",入力フォーム!E22)","v":""}]
[null,null,null,null,null,{"$f":"IF(入力フォーム!D23=0,\"\",入力フォーム!D23)","v":""},null,null,null,null,null,null,null,null,null,null,{"$f":"IF(入力フォーム!F23=0,\"\",入力フォーム!F23)","v":""},{"$f":"IF(入力フォーム!G23=0,\"\",入力フォーム!G23)","v":""},{"$f":"IF(入力フォーム!H23=0,\"\",入力フォーム!H23)","v":""},{"$f":"IF(AND(R71=\"\",S71=\"\"),\"\",ROUNDDOWN(R71*S71,0))","v":""}]
[null,null,null,null,null,{"$f":"IF(入力フォーム!E23=0,\"\",入力フォーム!E23)","v":""}]
[null,null,null,null,null,{"$f":"IF(入力フォーム!D24=0,\"\",入力フォーム!D24)","v":""},null,null,null,null,null,null,null,null,null,null,{"$f":"IF(入力フォーム!F24=0,\"\",入力フォーム!F24)","v":""},{"$f":"IF(入力フォーム!G24=0,\"\",入力フォーム!G24)","v":""},{"$f":"IF(入力フォーム!H24=0,\"\",入力フォーム!H24)","v":""},""]
[null,null,null,null,null,{"$f":"IF(入力フォーム!E24=0,\"\",入力フォーム!E24)","v":""}]
[null,null,null,null,null,{"$f":"IF(入力フォーム!D25=0,\"\",入力フォーム!D25)","v":""},null,null,null,null,null,null,null,null,null,null,{"$f":"IF(入力フォーム!F25=0,\"\",入力フォーム!F25)","v":""},{"$f":"IF(入力フォーム!G25=0,\"\",入力フォーム!G25)","v":""},{"$f":"IF(入力フォーム!H25=0,\"\",入力フォーム!H25)","v":""},{"$f":"IF(AND(R75=\"\",S75=\"\"),\"\",ROUNDDOWN(R75*S75,0))","v":""}]
[null,null,null,null,null,{"$f":"IF(入力フォーム!E25=0,\"\",入力フォーム!E25)","v":""}]
[null,null,null,null,null,{"$f":"IF(入力フォーム!D26=0,\"\",入力フォーム!D26)","v":""},null,null,null,null,null,null,null,null,null,null,{"$f":"IF(入力フォーム!F26=0,\"\",入力フォーム!F26)","v":""},{"$f":"IF(入力フォーム!G26=0,\"\",入力フォーム!G26)","v":""},{"$f":"IF(入力フォーム!H26=0,\"\",入力フォーム!H26)","v":""},{"$f":"IF(AND(R77=\"\",S77=\"\"),\"\",ROUNDDOWN(R77*S77,0))","v":""}]
[null,null,null,null,null,{"$f":"IF(入力フォーム!E26=0,\"\",入力フォーム!E26)","v":""}]
[null,null,null,null,null,{"$f":"IF(入力フォーム!D27=0,\"\",入力フォーム!D27)","v":""},null,null,null,null,null,null,null,null,null,null,{"$f":"IF(入力フォーム!F27=0,\"\",入力フォーム!F27)","v":""},{"$f":"IF(入力フォーム!G27=0,\"\",入力フォーム!G27)","v":""},{"$f":"IF(入力フォーム!H27=0,\"\",入力フォーム!H27)","v":""},{"$f":"IF(AND(R79=\"\",S79=\"\"),\"\",ROUNDDOWN(R79*S79,0))","v":""}]
[null,null,null,null,null,{"$f":"IF(入力フォーム!E27=0,\"\",入力フォーム!E27)","v":""}]
[null,null,null,null,null,{"$f":"IF(入力フォーム!D28=0,\"\",入力フォーム!D28)","v":""},null,null,null,null,null,null,null,null,null,null,{"$f":"IF(入力フォーム!F28=0,\"\",入力フォーム!F28)","v":""},{"$f":"IF(入力フォーム!G28=0,\"\",入力フォーム!G28)","v":""},{"$f":"IF(入力フォーム!H28=0,\"\",入力フォーム!H28)","v":""},{"$f":"IF(AND(R81=\"\",S81=\"\"),\"\",ROUNDDOWN(R81*S81,0))","v":""}]
[null,null,null,null,null,{"$f":"IF(入力フォーム!E28=0,\"\",入力フォーム!E28)","v":""}]
[null,null,null,null,null,{"$f":"IF(入力フォーム!D29=0,\"\",入力フォーム!D29)","v":""},null,null,null,null,null,null,null,null,null,null,{"$f":"IF(入力フォーム!F29=0,\"\",入力フォーム!F29)","v":""},{"$f":"IF(入力フォーム!G29=0,\"\",入力フォーム!G29)","v":""},{"$f":"IF(入力フォーム!H29=0,\"\",入力フォーム!H29)","v":""},{"$f":"IF(AND(R83=\"\",S83=\"\"),\"\",ROUNDDOWN(R83*S83,0))","v":""}]
[null,null,null,null,null,{"$f":"IF(入力フォーム!E29=0,\"\",入力フォーム!E29)","v":""}]
[null,null,null,null,null,{"$f":"IF(入力フォーム!D30=0,\"\",入力フォーム!D30)","v":""},null,null,null,null,null,null,null,null,null,null,{"$f":"IF(入力フォーム!F30=0,\"\",入力フォーム!F30)","v":""},{"$f":"IF(入力フォーム!G30=0,\"\",入力フォーム!G30)","v":""},{"$f":"IF(入力フォーム!H30=0,\"\",入力フォーム!H30)","v":""},{"$f":"IF(AND(R85=\"\",S85=\"\"),\"\",ROUNDDOWN(R85*S85,0))","v":""}]
[null,null,null,null,null,{"$f":"IF(入力フォーム!E30=0,\"\",入力フォーム!E30)","v":""}]

{"sheet":"見積書 (記載例)","index":3,"n_rows":73,"n_cols":21,"rows_kept":73,"cut":false,"hidden":false,"merged":[[68,1,68,4],[68,5,68,15],[68,20,68,22],[69,1,69,4],[69,5,69,15],[63,20,63,22],[64,1,64,4],[64,5,64,15],[64,20,64,22],[65,1,65,4],[63,1,63,4],[63,5,63,15],[65,5,65,15],[65,20,65,22],[66,1,66,4],[66,5,66,15],[72,1,72,4],[72,5,72,15],[72,20,72,22],[67,1,67,4],[67,5,67,15],[66,20,66,22],[70,1,70,4],[70,5,70,15],[70,20,70,22],[67,20,67,22],[71,5,71,15],[71,20,71,22],[71,1,71,4],[69,20,69,22],[61,5,61,15],[61,20,61,22],[62,1,62,4],[62,5,62,15],[62,20,62,22],[61,1,61,4],[53,1,56,22],[59,1,59,4],[59,5,59,15],[59,20,59,22],[60,1,60,4],[60,5,60,15],[60,20,60,22],[29,1,29,6],[21,1,23,6],[51,1,52,22],[46,7,47,14],[48,7,49,14],[35,1,38,6],[35,7,38,15],[37,16,38,16],[39,1,42,6],[39,7,42,15],[41,16,42,16],[44,1,45,6],[44,7,45,14],[44,15,45,22],[46,1,49,6],[46,15,49,22],[6,23,7,23],[6,19,7,22],[9,17,11,18],[9,19,11,22],[29,7,29,10],[12,17,13,22],[13,7,15,11],[21,7,23,15],[17,7,19,15],[25,7,27,15],[26,16,27,16],[14,17,15,22],[16,17,29,22],[31,1,34,6],[1,1,3,22],[4,1,7,13],[4,14,7,15],[6,17,7,17],[6,18,7,18],[30,17,31,17],[9,1,11,6],[9,7,11,14],[9,16,11,16],[13,1,15,6],[31,7,34,15],[33,16,34,16],[17,1,19,6],[30,18,31,22],[25,1,27,6]]}
[]
[null,"見　　積　　書"]
[]
[]
[null,"奥村機械製作株式会社",null,null,null,null,null,null,null,null,null,null,null,null,"御中"]
[]
[null,null,null,null,null,null,null,null,null,null,null,null,null,null,null,null,null,null,"見積書提出日","2020-01-06"]
[]
[]
[null,"※見積種類",null,null,null,null,null,"外注・購入資材",null,null,null,null,null,null,null,null,null,"取引先コード",null,"01234"]
[]
[]
[null,null,null,null,null,null,null,null,null,null,null,null,null,null,null,null,null,"郵便番号･住所・会社名・代表者名･電話･FAX"]
[null,"※注文番号"]
[null,null,null,null,null,null,null,null,null,null,null,null,null,null,null,null,null,"登録番号　T111222333444"]
[]
[]
[null,"※検査予定日"]
[]
[]
[]
[null,"納    期",null,null,null,null,null,"2020-02-28"]
[]
[]
[]
[null,"納入場所",null,null,null,null,null,"本社工場"]
[]
[]
[]
[null,"消費税率",null,null,null,null,null,"10％"]
[null,null,null,null,null,null,null,null,null,null,null,null,null,null,null,null,null,"担当者名","奥村　太郎"]
[null,"見 積 金 額",null,null,null,null,null,{"$f":"IF(AND(H36=\"\",H40=\"\"),\"\",SUM(H36:P43))","v":2805000}]
[]
[null,null,null,null,null,null,null,null,null,null,null,null,null,null,null,null,"円"]
[]
[null,"税 抜 金 額",null,null,null,null,null,{"$f":"SUM(T61:T72)","v":2550000}]
[]
[null,null,null,null,null,null,null,null,null,null,null,null,null,null,null,null,"円"]
[]
[null,"消 費 税 等",null,null,null,null,null,{"$f":"IF(H36=\"\",\"\",IF(H30=\"\",\"消費税率を選択してください\",IF(H30=\"8％\",ROUNDDOWN(H36*8%,0),IF(H30=\"10％\",ROUNDDOWN(H36*10%,0)))))","v":255000}]
[]
[null,null,null,null,null,null,null,null,null,null,null,null,null,null,null,null,"円"]
[]
[]
[null,"製造番号",null,null,null,null,null,"仕 向 先",null,null,null,null,null,null,null,"製 品(工 事)名 称"]
[]
[null,"20160025-00",null,null,null,null,null,"奥村建設㈱",null,null,null,null,null,null,null,"φ2480泥土圧シールド機"]
[]
[null,null,null,null,null,null,null,"大阪府/堺市"]
[]
[]
[null,"品　　　名"]
[]
[null,"シールドジャッキ"]
[]
[]
[]
[]
[]
[null,"※科目",null,null,null,"明　細　項　目",null,null,null,null,null,null,null,null,null,null,"単位","数 量","単　価","金　額","※工種\nコード"]
[null,null,null,null,null,"製作費",null,null,null,null,null,null,null,null,null,null,"式",1,1500000,{"$f":"IF(AND(R61=\"\",S61=\"\"),\"\",ROUNDDOWN(R61*S61,0))","v":1500000}]
[null,null,null,null,null,"運搬費\n本社～現場",null,null,null,null,null,null,null,null,null,null,"式",1,1500000,{"$f":"IF(AND(R62=\"\",S62=\"\"),\"\",ROUNDDOWN(R62*S62,0))","v":1500000}]
[null,null,null,null,null,"品質・工程・調達等管理費",null,null,null,null,null,null,null,null,null,null,"式",1,20000,{"$f":"IF(AND(R63=\"\",S63=\"\"),\"\",ROUNDDOWN(R63*S63,0))","v":20000}]
[null,null,null,null,null,"諸経費",null,null,null,null,null,null,null,null,null,null,"式",1,30000,30000]
[null,null,null,null,null,"出精値引き",null,null,null,null,null,null,null,null,null,null,"式",1,-500000,-500000]
[null,null,null,null,null,null,null,null,null,null,null,null,null,null,null,null,null,null,null,""]
[null,null,null,null,null,null,null,null,null,null,null,null,null,null,null,null,null,null,null,""]
[null,null,null,null,null,null,null,null,null,null,null,null,null,null,null,null,null,null,null,""]
[null,null,null,null,null,null,null,null,null,null,null,null,null,null,null,null,null,null,null,""]
[null,null,null,null,null,null,null,null,null,null,null,null,null,null,null,null,null,null,null,""]
[null,null,null,null,null,null,null,null,null,null,null,null,null,null,null,null,null,null,null,""]
[null,null,null,null,null,null,null,null,null,null,null,null,null,null,null,null,null,null,null,""]
[null,null,null,null,null,null,null,null,null,null,null,null,null,null,null,null,null,null,null,""]

{"sheet":"見積書 (2)","index":4,"n_rows":69,"n_cols":21,"rows_kept":69,"cut":false,"hidden":false,"merged":[[65,1,66,4],[65,5,65,15],[65,16,66,16],[65,17,66,17],[65,18,66,18],[65,19,66,19],[65,20,66,22],[66,5,66,15],[67,1,68,4],[67,5,67,15],[67,16,68,16],[67,17,68,17],[67,18,68,18],[67,19,68,19],[67,20,68,22],[68,5,68,15],[1,1,3,22],[11,1,14,6],[11,7,12,14],[13,7,14,14],[4,1,7,6],[9,1,10,6],[9,7,10,14],[24,1,24,4],[24,5,24,15],[24,20,24,22],[4,20,7,22],[28,5,28,15],[29,5,29,15],[27,1,28,4],[27,16,28,16],[27,17,28,17],[27,18,28,18],[27,19,28,19],[9,15,10,22],[35,5,35,15],[25,5,25,15],[27,20,28,22],[29,20,30,22],[26,5,26,15],[27,5,27,15],[25,1,26,4],[25,16,26,16],[25,17,26,17],[25,18,26,18],[25,19,26,19],[25,20,26,22],[29,19,30,19],[18,1,21,22],[16,1,17,22],[11,15,14,22],[45,5,45,15],[44,5,44,15],[36,5,36,15],[37,5,37,15],[46,5,46,15],[42,5,42,15],[43,5,43,15],[41,20,42,22],[41,1,42,4],[43,1,44,4],[43,16,44,16],[43,17,44,17],[43,18,44,18],[41,5,41,15],[41,16,42,16],[41,17,42,17],[41,18,42,18],[41,19,42,19],[35,1,36,4],[35,16,36,16],[35,17,36,17],[35,18,36,18],[35,19,36,19],[35,20,36,22],[30,5,30,15],[31,5,31,15],[29,1,30,4],[29,16,30,16],[29,17,30,17],[29,18,30,18],[39,20,40,22],[38,5,38,15],[39,5,39,15],[37,1,38,4],[37,16,38,16],[37,17,38,17],[37,18,38,18],[37,19,38,19],[37,20,38,22],[40,5,40,15],[39,1,40,4],[39,16,40,16],[39,17,40,17],[39,18,40,18],[39,19,40,19],[31,20,32,22],[33,20,34,22],[31,17,32,17],[31,18,32,18],[31,19,32,19],[33,1,34,4],[33,16,34,16],[33,17,34,17],[33,18,34,18],[33,19,34,19],[34,5,34,15],[33,5,33,15],[31,1,32,4],[31,16,32,16],[32,5,32,15],[45,1,46,4],[47,1,48,4],[49,1,50,4],[47,5,47,15],[48,5,48,15],[49,5,49,15],[50,5,50,15],[43,19,44,19],[43,20,44,22],[45,16,46,16],[45,17,46,17],[45,18,46,18],[45,19,46,19],[45,20,46,22],[49,16,50,16],[49,17,50,17],[49,18,50,18],[49,19,50,19],[49,20,50,22],[47,16,48,16],[47,17,48,17],[47,18,48,18],[47,19,48,19],[47,20,48,22],[51,19,52,19],[51,20,52,22],[52,5,52,15],[53,1,54,4],[53,5,53,15],[53,16,54,16],[53,17,54,17],[53,18,54,18],[53,19,54,19],[53,20,54,22],[54,5,54,15],[51,1,52,4],[51,5,51,15],[51,16,52,16],[51,17,52,17],[51,18,52,18],[55,19,56,19],[55,20,56,22],[56,5,56,15],[57,1,58,4],[57,5,57,15],[57,16,58,16],[57,17,58,17],[57,18,58,18],[57,19,58,19],[57,20,58,22],[58,5,58,15],[55,1,56,4],[55,5,55,15],[55,16,56,16],[55,17,56,17],[55,18,56,18],[63,19,64,19],[63,20,64,22],[64,5,64,15],[63,1,64,4],[63,5,63,15],[63,16,64,16],[63,17,64,17],[63,18,64,18],[59,19,60,19],[59,20,60,22],[60,5,60,15],[61,1,62,4],[61,5,61,15],[61,16,62,16],[61,17,62,17],[61,18,62,18],[61,19,62,19],[61,20,62,22],[62,5,62,15],[59,1,60,4],[59,5,59,15],[59,16,60,16],[59,17,60,17],[59,18,60,18]]}
[]
[null,"見　　積　　書"]
[]
[]
[null,null,null,null,null,null,null,null,null,null,null,null,null,null,null,null,null,null,null,null,"頁No.2"]
[]
[]
[]
[]
[null,"製造番号",null,null,null,null,null,"仕 向 先",null,null,null,null,null,null,null,"製 品(工 事)名 称"]
[]
[null,{"$f":"入力フォーム!E9&IF(入力フォーム!B12<>\"\",入力フォーム!C11&入力フォーム!B12,\"\")","v":""},null,null,null,null,null,{"$f":"IF(入力フォーム!B13=\"\",\"\",入力フォーム!B13)","v":""},null,null,null,null,null,null,null,{"$f":"入力フォーム!B15","v":0}]
[]
[null,null,null,null,null,null,null,{"$f":"IF(入力フォーム!B14=\"\",\"\",入力フォーム!B14)","v":""}]
[]
[]
[null,"品　　　名"]
[]
[null,{"$f":"入力フォーム!B16","v":0}]
[]
[]
[]
[]
[]
[null,"※科目",null,null,null,"明　細　項　目",null,null,null,null,null,null,null,null,null,null,"単位","数 量","単　価","金　額","※工種\nコード"]
[null,null,null,null,null,{"$f":"IF(入力フォーム!D31=0,\"\",入力フォーム!D31)","v":""},null,null,null,null,null,null,null,null,null,null,{"$f":"IF(入力フォーム!F31=0,\"\",入力フォーム!F31)","v":""},{"$f":"IF(入力フォーム!G31=0,\"\",入力フォーム!G31)","v":""},{"$f":"IF(入力フォーム!H31=0,\"\",入力フォーム!H31)","v":""},{"$f":"IF(AND(R26=\"\",S26=\"\"),\"\",ROUNDDOWN(R26*S26,0))","v":""}]
[null,null,null,null,null,{"$f":"IF(入力フォーム!E31=0,\"\",入力フォーム!E31)","v":""}]
[null,null,null,null,null,{"$f":"IF(入力フォーム!D32=0,\"\",入力フォーム!D32)","v":""},null,null,null,null,null,null,null,null,null,null,{"$f":"IF(入力フォーム!F32=0,\"\",入力フォーム!F32)","v":""},{"$f":"IF(入力フォーム!G32=0,\"\",入力フォーム!G32)","v":""},{"$f":"IF(入力フォーム!H32=0,\"\",入力フォーム!H32)","v":""},{"$f":"IF(AND(R28=\"\",S28=\"\"),\"\",ROUNDDOWN(R28*S28,0))","v":""}]
[null,null,null,null,null,{"$f":"IF(入力フォーム!E32=0,\"\",入力フォーム!E32)","v":""}]
[null,null,null,null,null,{"$f":"IF(入力フォーム!D33=0,\"\",入力フォーム!D33)","v":""},null,null,null,null,null,null,null,null,null,null,{"$f":"IF(入力フォーム!F33=0,\"\",入力フォーム!F33)","v":""},{"$f":"IF(入力フォーム!G33=0,\"\",入力フォーム!G33)","v":""},{"$f":"IF(入力フォーム!H33=0,\"\",入力フォーム!H33)","v":""},{"$f":"IF(AND(R30=\"\",S30=\"\"),\"\",ROUNDDOWN(R30*S30,0))","v":""}]
[null,null,null,null,null,{"$f":"IF(入力フォーム!E33=0,\"\",入力フォーム!E33)","v":""}]
[null,null,null,null,null,{"$f":"IF(入力フォーム!D34=0,\"\",入力フォーム!D34)","v":""},null,null,null,null,null,null,null,null,null,null,{"$f":"IF(入力フォーム!F34=0,\"\",入力フォーム!F34)","v":""},{"$f":"IF(入力フォーム!G34=0,\"\",入力フォーム!G34)","v":""},{"$f":"IF(入力フォーム!H34=0,\"\",入力フォーム!H34)","v":""},{"$f":"IF(AND(R32=\"\",S32=\"\"),\"\",ROUNDDOWN(R32*S32,0))","v":""}]
[null,null,null,null,null,{"$f":"IF(入力フォーム!E34=0,\"\",入力フォーム!E34)","v":""}]
[null,null,null,null,null,{"$f":"IF(入力フォーム!D35=0,\"\",入力フォーム!D35)","v":""},null,null,null,null,null,null,null,null,null,null,{"$f":"IF(入力フォーム!F35=0,\"\",入力フォーム!F35)","v":""},{"$f":"IF(入力フォーム!G35=0,\"\",入力フォーム!G35)","v":""},{"$f":"IF(入力フォーム!H35=0,\"\",入力フォーム!H35)","v":""},{"$f":"IF(AND(R34=\"\",S34=\"\"),\"\",ROUNDDOWN(R34*S34,0))","v":""}]
[null,null,null,null,null,{"$f":"IF(入力フォーム!E35=0,\"\",入力フォーム!E35)","v":""}]
[null,null,null,null,null,{"$f":"IF(入力フォーム!D36=0,\"\",入力フォーム!D36)","v":""},null,null,null,null,null,null,null,null,null,null,{"$f":"IF(入力フォーム!F36=0,\"\",入力フォーム!F36)","v":""},{"$f":"IF(入力フォーム!G36=0,\"\",入力フォーム!G36)","v":""},{"$f":"IF(入力フォーム!H36=0,\"\",入力フォーム!H36)","v":""},{"$f":"IF(AND(R36=\"\",S36=\"\"),\"\",ROUNDDOWN(R36*S36,0))","v":""}]
[null,null,null,null,null,{"$f":"IF(入力フォーム!E36=0,\"\",入力フォーム!E36)","v":""}]
[null,null,null,null,null,{"$f":"IF(入力フォーム!D37=0,\"\",入力フォーム!D37)","v":""},null,null,null,null,null,null,null,null,null,null,{"$f":"IF(入力フォーム!F37=0,\"\",入力フォーム!F37)","v":""},{"$f":"IF(入力フォーム!G37=0,\"\",入力フォーム!G37)","v":""},{"$f":"IF(入力フォーム!H37=0,\"\",入力フォーム!H37)","v":""},{"$f":"IF(AND(R38=\"\",S38=\"\"),\"\",ROUNDDOWN(R38*S38,0))","v":""}]
[null,null,null,null,null,{"$f":"IF(入力フォーム!E37=0,\"\",入力フォーム!E37)","v":""}]
[null,null,null,null,null,{"$f":"IF(入力フォーム!D38=0,\"\",入力フォーム!D38)","v":""},null,null,null,null,null,null,null,null,null,null,{"$f":"IF(入力フォーム!F38=0,\"\",入力フォーム!F38)","v":""},{"$f":"IF(入力フォーム!G38=0,\"\",入力フォーム!G38)","v":""},{"$f":"IF(入力フォーム!H38=0,\"\",入力フォーム!H38)","v":""},{"$f":"IF(AND(R40=\"\",S40=\"\"),\"\",ROUNDDOWN(R40*S40,0))","v":""}]
[null,null,null,null,null,{"$f":"IF(入力フォーム!E38=0,\"\",入力フォーム!E38)","v":""}]
[null,null,null,null,null,{"$f":"IF(入力フォーム!D39=0,\"\",入力フォーム!D39)","v":""},null,null,null,null,null,null,null,null,null,null,{"$f":"IF(入力フォーム!F39=0,\"\",入力フォーム!F39)","v":""},{"$f":"IF(入力フォーム!G39=0,\"\",入力フォーム!G39)","v":""},{"$f":"IF(入力フォーム!H39=0,\"\",入力フォーム!H39)","v":""},{"$f":"IF(AND(R42=\"\",S42=\"\"),\"\",ROUNDDOWN(R42*S42,0))","v":""}]
[null,null,null,null,null,{"$f":"IF(入力フォーム!E39=0,\"\",入力フォーム!E39)","v":""}]
[null,null,null,null,null,{"$f":"IF(入力フォーム!D40=0,\"\",入力フォーム!D40)","v":""},null,null,null,null,null,null,null,null,null,null,{"$f":"IF(入力フォーム!F40=0,\"\",入力フォーム!F40)","v":""},{"$f":"IF(入力フォーム!G40=0,\"\",入力フォーム!G40)","v":""},{"$f":"IF(入力フォーム!H40=0,\"\",入力フォーム!H40)","v":""},""]
[null,null,null,null,null,{"$f":"IF(入力フォーム!E40=0,\"\",入力フォーム!E40)","v":""}]
[null,null,null,null,null,{"$f":"IF(入力フォーム!D41=0,\"\",入力フォーム!D41)","v":""},null,null,null,null,null,null,null,null,null,null,{"$f":"IF(入力フォーム!F41=0,\"\",入力フォーム!F41)","v":""},{"$f":"IF(入力フォーム!G41=0,\"\",入力フォーム!G41)","v":""},{"$f":"IF(入力フォーム!H41=0,\"\",入力フォーム!H41)","v":""},{"$f":"IF(AND(R46=\"\",S46=\"\"),\"\",ROUNDDOWN(R46*S46,0))","v":""}]
[null,null,null,null,null,{"$f":"IF(入力フォーム!E41=0,\"\",入力フォーム!E41)","v":""}]
[null,null,null,null,null,{"$f":"IF(入力フォーム!D42=0,\"\",入力フォーム!D42)","v":""},null,null,null,null,null,null,null,null,null,null,{"$f":"IF(入力フォーム!F42=0,\"\",入力フォーム!F42)","v":""},{"$f":"IF(入力フォーム!G42=0,\"\",入力フォーム!G42)","v":""},{"$f":"IF(入力フォーム!H42=0,\"\",入力フォーム!H42)","v":""},{"$f":"IF(AND(R48=\"\",S48=\"\"),\"\",ROUNDDOWN(R48*S48,0))","v":""}]
[null,null,null,null,null,{"$f":"IF(入力フォーム!E42=0,\"\",入力フォーム!E42)","v":""}]
[null,null,null,null,null,{"$f":"IF(入力フォーム!D43=0,\"\",入力フォーム!D43)","v":""},null,null,null,null,null,null,null,null,null,null,{"$f":"IF(入力フォーム!F43=0,\"\",入力フォーム!F43)","v":""},{"$f":"IF(入力フォーム!G43=0,\"\",入力フォーム!G43)","v":""},{"$f":"IF(入力フォーム!H43=0,\"\",入力フォーム!H43)","v":""},{"$f":"IF(AND(R50=\"\",S50=\"\"),\"\",ROUNDDOWN(R50*S50,0))","v":""}]
[null,null,null,null,null,{"$f":"IF(入力フォーム!E43=0,\"\",入力フォーム!E43)","v":""}]
[null,null,null,null,null,{"$f":"IF(入力フォーム!D44=0,\"\",入力フォーム!D44)","v":""},null,null,null,null,null,null,null,null,null,null,{"$f":"IF(入力フォーム!F44=0,\"\",入力フォーム!F44)","v":""},{"$f":"IF(入力フォーム!G44=0,\"\",入力フォーム!G44)","v":""},{"$f":"IF(入力フォーム!H44=0,\"\",入力フォーム!H44)","v":""},{"$f":"IF(AND(R52=\"\",S52=\"\"),\"\",ROUNDDOWN(R52*S52,0))","v":""}]
[null,null,null,null,null,{"$f":"IF(入力フォーム!E44=0,\"\",入力フォーム!E44)","v":""}]
[null,null,null,null,null,{"$f":"IF(入力フォーム!D45=0,\"\",入力フォーム!D45)","v":""},null,null,null,null,null,null,null,null,null,null,{"$f":"IF(入力フォーム!F45=0,\"\",入力フォーム!F45)","v":""},{"$f":"IF(入力フォーム!G45=0,\"\",入力フォーム!G45)","v":""},{"$f":"IF(入力フォーム!H45=0,\"\",入力フォーム!H45)","v":""},{"$f":"IF(AND(R54=\"\",S54=\"\"),\"\",ROUNDDOWN(R54*S54,0))","v":""}]
[null,null,null,null,null,{"$f":"IF(入力フォーム!E45=0,\"\",入力フォーム!E45)","v":""}]
[null,null,null,null,null,{"$f":"IF(入力フォーム!D46=0,\"\",入力フォーム!D46)","v":""},null,null,null,null,null,null,null,null,null,null,{"$f":"IF(入力フォーム!F46=0,\"\",入力フォーム!F46)","v":""},{"$f":"IF(入力フォーム!G46=0,\"\",入力フォーム!G46)","v":""},{"$f":"IF(入力フォーム!H46=0,\"\",入力フォーム!H46)","v":""},{"$f":"IF(AND(R56=\"\",S56=\"\"),\"\",ROUNDDOWN(R56*S56,0))","v":""}]
[null,null,null,null,null,{"$f":"IF(入力フォーム!E46=0,\"\",入力フォーム!E46)","v":""}]
[null,null,null,null,null,{"$f":"IF(入力フォーム!D47=0,\"\",入力フォーム!D47)","v":""},null,null,null,null,null,null,null,null,null,null,{"$f":"IF(入力フォーム!F47=0,\"\",入力フォーム!F47)","v":""},{"$f":"IF(入力フォーム!G47=0,\"\",入力フォーム!G47)","v":""},{"$f":"IF(入力フォーム!H47=0,\"\",入力フォーム!H47)","v":""},{"$f":"IF(AND(R58=\"\",S58=\"\"),\"\",ROUNDDOWN(R58*S58,0))","v":""}]
[null,null,null,null,null,{"$f":"IF(入力フォーム!E47=0,\"\",入力フォーム!E47)","v":""}]
[null,null,null,null,null,{"$f":"IF(入力フォーム!D48=0,\"\",入力フォーム!D48)","v":""},null,null,null,null,null,null,null,null,null,null,{"$f":"IF(入力フォーム!F48=0,\"\",入力フォーム!F48)","v":""},{"$f":"IF(入力フォーム!G48=0,\"\",入力フォーム!G48)","v":""},{"$f":"IF(入力フォーム!H48=0,\"\",入力フォーム!H48)","v":""},{"$f":"IF(AND(R60=\"\",S60=\"\"),\"\",ROUNDDOWN(R60*S60,0))","v":""}]
[null,null,null,null,null,{"$f":"IF(入力フォーム!E48=0,\"\",入力フォーム!E48)","v":""}]
[null,null,null,null,null,{"$f":"IF(入力フォーム!D49=0,\"\",入力フォーム!D49)","v":""},null,null,null,null,null,null,null,null,null,null,{"$f":"IF(入力フォーム!F49=0,\"\",入力フォーム!F49)","v":""},{"$f":"IF(入力フォーム!G49=0,\"\",入力フォーム!G49)","v":""},{"$f":"IF(入力フォーム!H49=0,\"\",入力フォーム!H49)","v":""},{"$f":"IF(AND(R62=\"\",S62=\"\"),\"\",ROUNDDOWN(R62*S62,0))","v":""}]
[null,null,null,null,null,{"$f":"IF(入力フォーム!E49=0,\"\",入力フォーム!E49)","v":""}]
[null,null,null,null,null,{"$f":"IF(入力フォーム!D50=0,\"\",入力フォーム!D50)","v":""},null,null,null,null,null,null,null,null,null,null,{"$f":"IF(入力フォーム!F50=0,\"\",入力フォーム!F50)","v":""},{"$f":"IF(入力フォーム!G50=0,\"\",入力フォーム!G50)","v":""},{"$f":"IF(入力フォーム!H50=0,\"\",入力フォーム!H50)","v":""},{"$f":"IF(AND(R64=\"\",S64=\"\"),\"\",ROUNDDOWN(R64*S64,0))","v":""}]
[null,null,null,null,null,{"$f":"IF(入力フォーム!E50=0,\"\",入力フォーム!E50)","v":""}]
[null,null,null,null,null,{"$f":"IF(入力フォーム!D51=0,\"\",入力フォーム!D51)","v":""},null,null,null,null,null,null,null,null,null,null,{"$f":"IF(入力フォーム!F51=0,\"\",入力フォーム!F51)","v":""},{"$f":"IF(入力フォーム!G51=0,\"\",入力フォーム!G51)","v":""},{"$f":"IF(入力フォーム!H51=0,\"\",入力フォーム!H51)","v":""},{"$f":"IF(AND(R66=\"\",S66=\"\"),\"\",ROUNDDOWN(R66*S66,0))","v":""}]
[null,null,null,null,null,{"$f":"IF(入力フォーム!E51=0,\"\",入力フォーム!E51)","v":""}]
[null,null,null,null,null,{"$f":"IF(入力フォーム!D52=0,\"\",入力フォーム!D52)","v":""},null,null,null,null,null,null,null,null,null,null,{"$f":"IF(入力フォーム!F52=0,\"\",入力フォーム!F52)","v":""},{"$f":"IF(入力フォーム!G52=0,\"\",入力フォーム!G52)","v":""},{"$f":"IF(入力フォーム!H52=0,\"\",入力フォーム!H52)","v":""},{"$f":"IF(AND(R68=\"\",S68=\"\"),\"\",ROUNDDOWN(R68*S68,0))","v":""}]
[null,null,null,null,null,{"$f":"IF(入力フォーム!E52=0,\"\",入力フォーム!E52)","v":""}]

{"sheet":"見積書 (3)","index":5,"n_rows":69,"n_cols":21,"rows_kept":69,"cut":false,"hidden":false,"merged":[[67,19,68,19],[67,20,68,22],[68,5,68,15],[67,1,68,4],[67,5,67,15],[67,16,68,16],[67,17,68,17],[67,18,68,18],[63,19,64,19],[63,20,64,22],[64,5,64,15],[65,1,66,4],[65,5,65,15],[65,16,66,16],[65,17,66,17],[65,18,66,18],[65,19,66,19],[65,20,66,22],[66,5,66,15],[63,1,64,4],[63,5,63,15],[63,16,64,16],[63,17,64,17],[63,18,64,18],[59,19,60,19],[59,20,60,22],[60,5,60,15],[61,1,62,4],[61,5,61,15],[61,16,62,16],[61,17,62,17],[61,18,62,18],[61,19,62,19],[61,20,62,22],[62,5,62,15],[59,1,60,4],[59,5,59,15],[59,16,60,16],[59,17,60,17],[59,18,60,18],[55,19,56,19],[55,20,56,22],[56,5,56,15],[57,1,58,4],[57,5,57,15],[57,16,58,16],[57,17,58,17],[57,18,58,18],[57,19,58,19],[57,20,58,22],[58,5,58,15],[55,1,56,4],[55,5,55,15],[55,16,56,16],[55,17,56,17],[55,18,56,18],[51,19,52,19],[51,20,52,22],[52,5,52,15],[53,1,54,4],[53,5,53,15],[53,16,54,16],[53,17,54,17],[53,18,54,18],[53,19,54,19],[53,20,54,22],[54,5,54,15],[51,1,52,4],[51,5,51,15],[51,16,52,16],[51,17,52,17],[51,18,52,18],[47,19,48,19],[47,20,48,22],[48,5,48,15],[49,1,50,4],[49,5,49,15],[49,16,50,16],[49,17,50,17],[49,18,50,18],[49,19,50,19],[49,20,50,22],[50,5,50,15],[47,1,48,4],[47,5,47,15],[47,16,48,16],[47,17,48,17],[47,18,48,18],[1,1,3,22],[4,1,7,6],[4,20,7,22],[9,1,10,6],[9,7,10,14],[9,15,10,22],[11,1,14,6],[11,7,12,14],[11,15,14,22],[13,7,14,14],[16,1,17,22],[18,1,21,22],[24,1,24,4],[24,5,24,15],[24,20,24,22],[25,5,25,15],[25,1,26,4],[25,16,26,16],[25,17,26,17],[25,18,26,18],[25,19,26,19],[25,20,26,22],[26,5,26,15],[27,5,27,15],[27,1,28,4],[27,16,28,16],[27,17,28,17],[27,18,28,18],[27,19,28,19],[27,20,28,22],[28,5,28,15],[29,5,29,15],[29,1,30,4],[29,16,30,16],[29,17,30,17],[29,18,30,18],[29,19,30,19],[29,20,30,22],[30,5,30,15],[31,5,31,15],[31,1,32,4],[31,16,32,16],[31,17,32,17],[31,18,32,18],[31,19,32,19],[31,20,32,22],[32,5,32,15],[33,5,33,15],[33,1,34,4],[33,16,34,16],[33,17,34,17],[33,18,34,18],[33,19,34,19],[33,20,34,22],[34,5,34,15],[35,5,35,15],[35,1,36,4],[35,16,36,16],[35,17,36,17],[35,18,36,18],[35,19,36,19],[35,20,36,22],[36,5,36,15],[37,5,37,15],[37,1,38,4],[37,16,38,16],[37,17,38,17],[37,18,38,18],[37,19,38,19],[37,20,38,22],[38,5,38,15],[39,5,39,15],[39,1,40,4],[39,16,40,16],[39,17,40,17],[39,18,40,18],[39,19,40,19],[39,20,40,22],[40,5,40,15],[41,5,41,15],[41,16,42,16],[41,17,42,17],[41,18,42,18],[41,19,42,19],[41,20,42,22],[41,1,42,4],[42,5,42,15],[43,5,43,15],[43,1,44,4],[43,16,44,16],[43,17,44,17],[43,18,44,18],[43,19,44,19],[43,20,44,22],[46,5,46,15],[44,5,44,15],[45,5,45,15],[45,1,46,4],[45,16,46,16],[45,17,46,17],[45,18,46,18],[45,19,46,19],[45,20,46,22]]}
[]
[null,"見　　積　　書"]
[]
[]
[null,null,null,null,null,null,null,null,null,null,null,null,null,null,null,null,null,null,null,null,"頁No.3"]
[]
[]
[]
[]
[null,"製造番号",null,null,null,null,null,"仕 向 先",null,null,null,null,null,null,null,"製 品(工 事)名 称"]
[]
[null,{"$f":"入力フォーム!E9&IF(入力フォーム!B12<>\"\",入力フォーム!C11&入力フォーム!B12,\"\")","v":""},null,null,null,null,null,{"$f":"IF(入力フォーム!B13=\"\",\"\",入力フォーム!B13)","v":""},null,null,null,null,null,null,null,{"$f":"入力フォーム!B15","v":0}]
[]
[null,null,null,null,null,null,null,{"$f":"IF(入力フォーム!B14=\"\",\"\",入力フォーム!B14)","v":""}]
[]
[]
[null,"品　　　名"]
[]
[null,{"$f":"入力フォーム!B16","v":0}]
[]
[]
[]
[]
[]
[null,"※科目",null,null,null,"明　細　項　目",null,null,null,null,null,null,null,null,null,null,"単位","数 量","単　価","金　額","※工種\nコード"]
[null,null,null,null,null,{"$f":"IF(入力フォーム!D53=0,\"\",入力フォーム!D53)","v":""},null,null,null,null,null,null,null,null,null,null,{"$f":"IF(入力フォーム!F53=0,\"\",入力フォーム!F53)","v":""},{"$f":"IF(入力フォーム!G53=0,\"\",入力フォーム!G53)","v":""},{"$f":"IF(入力フォーム!H53=0,\"\",入力フォーム!H53)","v":""},{"$f":"IF(AND(R26=\"\",S26=\"\"),\"\",ROUNDDOWN(R26*S26,0))","v":""}]
[null,null,null,null,null,{"$f":"IF(入力フォーム!E53=0,\"\",入力フォーム!E53)","v":""}]
[null,null,null,null,null,{"$f":"IF(入力フォーム!D54=0,\"\",入力フォーム!D54)","v":""},null,null,null,null,null,null,null,null,null,null,{"$f":"IF(入力フォーム!F54=0,\"\",入力フォーム!F54)","v":""},{"$f":"IF(入力フォーム!G54=0,\"\",入力フォーム!G54)","v":""},{"$f":"IF(入力フォーム!H54=0,\"\",入力フォーム!H54)","v":""},{"$f":"IF(AND(R28=\"\",S28=\"\"),\"\",ROUNDDOWN(R28*S28,0))","v":""}]
[null,null,null,null,null,{"$f":"IF(入力フォーム!E54=0,\"\",入力フォーム!E54)","v":""}]
[null,null,null,null,null,{"$f":"IF(入力フォーム!D55=0,\"\",入力フォーム!D55)","v":""},null,null,null,null,null,null,null,null,null,null,{"$f":"IF(入力フォーム!F55=0,\"\",入力フォーム!F55)","v":""},{"$f":"IF(入力フォーム!G55=0,\"\",入力フォーム!G55)","v":""},{"$f":"IF(入力フォーム!H55=0,\"\",入力フォーム!H55)","v":""},{"$f":"IF(AND(R30=\"\",S30=\"\"),\"\",ROUNDDOWN(R30*S30,0))","v":""}]
[null,null,null,null,null,{"$f":"IF(入力フォーム!E55=0,\"\",入力フォーム!E55)","v":""}]
[null,null,null,null,null,{"$f":"IF(入力フォーム!D56=0,\"\",入力フォーム!D56)","v":""},null,null,null,null,null,null,null,null,null,null,{"$f":"IF(入力フォーム!F56=0,\"\",入力フォーム!F56)","v":""},{"$f":"IF(入力フォーム!G56=0,\"\",入力フォーム!G56)","v":""},{"$f":"IF(入力フォーム!H56=0,\"\",入力フォーム!H56)","v":""},""]
[null,null,null,null,null,{"$f":"IF(入力フォーム!E56=0,\"\",入力フォーム!E56)","v":""}]
[null,null,null,null,null,{"$f":"IF(入力フォーム!D57=0,\"\",入力フォーム!D57)","v":""},null,null,null,null,null,null,null,null,null,null,{"$f":"IF(入力フォーム!F57=0,\"\",入力フォーム!F57)","v":""},{"$f":"IF(入力フォーム!G57=0,\"\",入力フォーム!G57)","v":""},{"$f":"IF(入力フォーム!H57=0,\"\",入力フォーム!H57)","v":""},""]
[null,null,null,null,null,{"$f":"IF(入力フォーム!E57=0,\"\",入力フォーム!E57)","v":""}]
[null,null,null,null,null,{"$f":"IF(入力フォーム!D58=0,\"\",入力フォーム!D58)","v":""},null,null,null,null,null,null,null,null,null,null,{"$f":"IF(入力フォーム!F58=0,\"\",入力フォーム!F58)","v":""},{"$f":"IF(入力フォーム!G58=0,\"\",入力フォーム!G58)","v":""},{"$f":"IF(入力フォーム!H58=0,\"\",入力フォーム!H58)","v":""},""]
[null,null,null,null,null,{"$f":"IF(入力フォーム!E58=0,\"\",入力フォーム!E58)","v":""}]
[null,null,null,null,null,{"$f":"IF(入力フォーム!D59=0,\"\",入力フォーム!D59)","v":""},null,null,null,null,null,null,null,null,null,null,{"$f":"IF(入力フォーム!F59=0,\"\",入力フォーム!F59)","v":""},{"$f":"IF(入力フォーム!G59=0,\"\",入力フォーム!G59)","v":""},{"$f":"IF(入力フォーム!H59=0,\"\",入力フォーム!H59)","v":""},""]
[null,null,null,null,null,{"$f":"IF(入力フォーム!E59=0,\"\",入力フォーム!E59)","v":""}]
[null,null,null,null,null,{"$f":"IF(入力フォーム!D60=0,\"\",入力フォーム!D60)","v":""},null,null,null,null,null,null,null,null,null,null,{"$f":"IF(入力フォーム!F60=0,\"\",入力フォーム!F60)","v":""},{"$f":"IF(入力フォーム!G60=0,\"\",入力フォーム!G60)","v":""},{"$f":"IF(入力フォーム!H60=0,\"\",入力フォーム!H60)","v":""},""]
[null,null,null,null,null,{"$f":"IF(入力フォーム!E60=0,\"\",入力フォーム!E60)","v":""}]
[null,null,null,null,null,{"$f":"IF(入力フォーム!D61=0,\"\",入力フォーム!D61)","v":""},null,null,null,null,null,null,null,null,null,null,{"$f":"IF(入力フォーム!F61=0,\"\",入力フォーム!F61)","v":""},{"$f":"IF(入力フォーム!G61=0,\"\",入力フォーム!G61)","v":""},{"$f":"IF(入力フォーム!H61=0,\"\",入力フォーム!H61)","v":""},""]
[null,null,null,null,null,{"$f":"IF(入力フォーム!E61=0,\"\",入力フォーム!E61)","v":""}]
[null,null,null,null,null,{"$f":"IF(入力フォーム!D62=0,\"\",入力フォーム!D62)","v":""},null,null,null,null,null,null,null,null,null,null,{"$f":"IF(入力フォーム!F62=0,\"\",入力フォーム!F62)","v":""},{"$f":"IF(入力フォーム!G62=0,\"\",入力フォーム!G62)","v":""},{"$f":"IF(入力フォーム!H62=0,\"\",入力フォーム!H62)","v":""},""]
[null,null,null,null,null,{"$f":"IF(入力フォーム!E62=0,\"\",入力フォーム!E62)","v":""}]
[null,null,null,null,null,{"$f":"IF(入力フォーム!D63=0,\"\",入力フォーム!D63)","v":""},null,null,null,null,null,null,null,null,null,null,{"$f":"IF(入力フォーム!F63=0,\"\",入力フォーム!F63)","v":""},{"$f":"IF(入力フォーム!G63=0,\"\",入力フォーム!G63)","v":""},{"$f":"IF(入力フォーム!H63=0,\"\",入力フォーム!H63)","v":""},""]
[null,null,null,null,null,{"$f":"IF(入力フォーム!E63=0,\"\",入力フォーム!E63)","v":""}]
[null,null,null,null,null,{"$f":"IF(入力フォーム!D64=0,\"\",入力フォーム!D64)","v":""},null,null,null,null,null,null,null,null,null,null,{"$f":"IF(入力フォーム!F64=0,\"\",入力フォーム!F64)","v":""},{"$f":"IF(入力フォーム!G64=0,\"\",入力フォーム!G64)","v":""},{"$f":"IF(入力フォーム!H64=0,\"\",入力フォーム!H64)","v":""},{"$f":"IF(AND(R48=\"\",S48=\"\"),\"\",ROUNDDOWN(R48*S48,0))","v":""}]
[null,null,null,null,null,{"$f":"IF(入力フォーム!E64=0,\"\",入力フォーム!E64)","v":""}]
[null,null,null,null,null,{"$f":"IF(入力フォーム!D65=0,\"\",入力フォーム!D65)","v":""},null,null,null,null,null,null,null,null,null,null,{"$f":"IF(入力フォーム!F65=0,\"\",入力フォーム!F65)","v":""},{"$f":"IF(入力フォーム!G65=0,\"\",入力フォーム!G65)","v":""},{"$f":"IF(入力フォーム!H65=0,\"\",入力フォーム!H65)","v":""},{"$f":"IF(AND(R50=\"\",S50=\"\"),\"\",ROUNDDOWN(R50*S50,0))","v":""}]
[null,null,null,null,null,{"$f":"IF(入力フォーム!E65=0,\"\",入力フォーム!E65)","v":""}]
[null,null,null,null,null,{"$f":"IF(入力フォーム!D66=0,\"\",入力フォーム!D66)","v":""},null,null,null,null,null,null,null,null,null,null,{"$f":"IF(入力フォーム!F66=0,\"\",入力フォーム!F66)","v":""},{"$f":"IF(入力フォーム!G66=0,\"\",入力フォーム!G66)","v":""},{"$f":"IF(入力フォーム!H66=0,\"\",入力フォーム!H66)","v":""},{"$f":"IF(AND(R52=\"\",S52=\"\"),\"\",ROUNDDOWN(R52*S52,0))","v":""}]
[null,null,null,null,null,{"$f":"IF(入力フォーム!E66=0,\"\",入力フォーム!E66)","v":""}]
[null,null,null,null,null,{"$f":"IF(入力フォーム!D67=0,\"\",入力フォーム!D67)","v":""},null,null,null,null,null,null,null,null,null,null,{"$f":"IF(入力フォーム!F67=0,\"\",入力フォーム!F67)","v":""},{"$f":"IF(入力フォーム!G67=0,\"\",入力フォーム!G67)","v":""},{"$f":"IF(入力フォーム!H67=0,\"\",入力フォーム!H67)","v":""},{"$f":"IF(AND(R54=\"\",S54=\"\"),\"\",ROUNDDOWN(R54*S54,0))","v":""}]
[null,null,null,null,null,{"$f":"IF(入力フォーム!E67=0,\"\",入力フォーム!E67)","v":""}]
[null,null,null,null,null,{"$f":"IF(入力フォーム!D68=0,\"\",入力フォーム!D68)","v":""},null,null,null,null,null,null,null,null,null,null,{"$f":"IF(入力フォーム!F68=0,\"\",入力フォーム!F68)","v":""},{"$f":"IF(入力フォーム!G68=0,\"\",入力フォーム!G68)","v":""},{"$f":"IF(入力フォーム!H68=0,\"\",入力フォーム!H68)","v":""},{"$f":"IF(AND(R56=\"\",S56=\"\"),\"\",ROUNDDOWN(R56*S56,0))","v":""}]
[null,null,null,null,null,{"$f":"IF(入力フォーム!E68=0,\"\",入力フォーム!E68)","v":""}]
[null,null,null,null,null,{"$f":"IF(入力フォーム!D69=0,\"\",入力フォーム!D69)","v":""},null,null,null,null,null,null,null,null,null,null,{"$f":"IF(入力フォーム!F69=0,\"\",入力フォーム!F69)","v":""},{"$f":"IF(入力フォーム!G69=0,\"\",入力フォーム!G69)","v":""},{"$f":"IF(入力フォーム!H69=0,\"\",入力フォーム!H69)","v":""},{"$f":"IF(AND(R58=\"\",S58=\"\"),\"\",ROUNDDOWN(R58*S58,0))","v":""}]
[null,null,null,null,null,{"$f":"IF(入力フォーム!E69=0,\"\",入力フォーム!E69)","v":""}]
[null,null,null,null,null,{"$f":"IF(入力フォーム!D70=0,\"\",入力フォーム!D70)","v":""},null,null,null,null,null,null,null,null,null,null,{"$f":"IF(入力フォーム!F70=0,\"\",入力フォーム!F70)","v":""},{"$f":"IF(入力フォーム!G70=0,\"\",入力フォーム!G70)","v":""},{"$f":"IF(入力フォーム!H70=0,\"\",入力フォーム!H70)","v":""},{"$f":"IF(AND(R60=\"\",S60=\"\"),\"\",ROUNDDOWN(R60*S60,0))","v":""}]
[null,null,null,null,null,{"$f":"IF(入力フォーム!E70=0,\"\",入力フォーム!E70)","v":""}]
[null,null,null,null,null,{"$f":"IF(入力フォーム!D71=0,\"\",入力フォーム!D71)","v":""},null,null,null,null,null,null,null,null,null,null,{"$f":"IF(入力フォーム!F71=0,\"\",入力フォーム!F71)","v":""},{"$f":"IF(入力フォーム!G71=0,\"\",入力フォーム!G71)","v":""},{"$f":"IF(入力フォーム!H71=0,\"\",入力フォーム!H71)","v":""},{"$f":"IF(AND(R62=\"\",S62=\"\"),\"\",ROUNDDOWN(R62*S62,0))","v":""}]
[null,null,null,null,null,{"$f":"IF(入力フォーム!E71=0,\"\",入力フォーム!E71)","v":""}]
[null,null,null,null,null,{"$f":"IF(入力フォーム!D72=0,\"\",入力フォーム!D72)","v":""},null,null,null,null,null,null,null,null,null,null,{"$f":"IF(入力フォーム!F72=0,\"\",入力フォーム!F72)","v":""},{"$f":"IF(入力フォーム!G72=0,\"\",入力フォーム!G72)","v":""},{"$f":"IF(入力フォーム!H72=0,\"\",入力フォーム!H72)","v":""},{"$f":"IF(AND(R64=\"\",S64=\"\"),\"\",ROUNDDOWN(R64*S64,0))","v":""}]
[null,null,null,null,null,{"$f":"IF(入力フォーム!E72=0,\"\",入力フォーム!E72)","v":""}]
[null,null,null,null,null,{"$f":"IF(入力フォーム!D73=0,\"\",入力フォーム!D73)","v":""},null,null,null,null,null,null,null,null,null,null,{"$f":"IF(入力フォーム!F73=0,\"\",入力フォーム!F73)","v":""},{"$f":"IF(入力フォーム!G73=0,\"\",入力フォーム!G73)","v":""},{"$f":"IF(入力フォーム!H73=0,\"\",入力フォーム!H73)","v":""},{"$f":"IF(AND(R66=\"\",S66=\"\"),\"\",ROUNDDOWN(R66*S66,0))","v":""}]
[null,null,null,null,null,{"$f":"IF(入力フォーム!E73=0,\"\",入力フォーム!E73)","v":""}]
[null,null,null,null,null,{"$f":"IF(入力フォーム!D74=0,\"\",入力フォーム!D74)","v":""},null,null,null,null,null,null,null,null,null,null,{"$f":"IF(入力フォーム!F74=0,\"\",入力フォーム!F74)","v":""},{"$f":"IF(入力フォーム!G74=0,\"\",入力フォーム!G74)","v":""},{"$f":"IF(入力フォーム!H74=0,\"\",入力フォーム!H74)","v":""},{"$f":"IF(AND(R68=\"\",S68=\"\"),\"\",ROUNDDOWN(R68*S68,0))","v":""}]
[null,null,null,null,null,{"$f":"IF(入力フォーム!E74=0,\"\",入力フォーム!E74)","v":""}]

{"sheet":"出来高内訳書 (第1回請求)","index":6,"n_rows":257,"n_cols":53,"rows_kept":257,"cut":false,"hidden":false,"merged":[[200,52,201,54],[202,52,203,54],[204,52,205,54],[206,52,207,54],[208,52,209,54],[210,52,211,54],[212,52,213,54],[214,52,215,54],[240,0,241,0],[240,1,240,13],[240,14,241,15],[240,16,241,18],[240,19,241,22],[240,23,241,27],[240,28,241,30],[240,31,241,35],[240,36,241,38],[240,39,241,43],[240,44,241,46],[240,47,241,51],[240,52,241,54],[200,44,201,46],[200,47,201,51],[202,44,203,46],[202,47,203,51],[204,44,205,46],[204,47,205,51],[206,44,207,46],[206,47,207,51],[208,44,209,46],[208,47,209,51],[210,44,211,46],[210,47,211,51],[212,44,213,46],[212,47,213,51],[214,44,215,46],[214,47,215,51],[198,36,199,38],[198,39,199,43],[200,36,201,38],[200,39,201,43],[202,36,203,38],[202,39,203,43],[204,36,205,38],[204,39,205,43],[206,36,207,38],[206,39,207,43],[208,36,209,38],[208,39,209,43],[210,36,211,38],[210,39,211,43],[212,36,213,38],[212,39,213,43],[214,36,215,38],[214,39,215,43],[198,44,199,46],[198,47,199,51],[186,0,187,0],[188,0,189,0],[190,0,191,0],[192,0,193,0],[194,0,195,0],[196,0,197,0],[198,0,199,0],[200,0,201,0],[202,0,203,0],[204,0,205,0],[206,0,207,0],[208,0,209,0],[210,0,211,0],[212,0,213,0],[214,0,215,0],[198,28,199,30],[198,31,199,35],[200,28,201,30],[200,31,201,35],[202,28,203,30],[202,31,203,35],[204,28,205,30],[204,31,205,35],[206,28,207,30],[206,31,207,35],[208,28,209,30],[208,31,209,35],[210,28,211,30],[210,31,211,35],[212,28,213,30],[212,31,213,35],[214,28,215,30],[202,14,203,15],[204,14,205,15],[206,14,207,15],[208,14,209,15],[210,14,211,15],[212,14,213,15],[214,14,215,15],[198,16,199,18],[198,19,199,22],[198,23,199,27],[200,16,201,18],[200,19,201,22],[200,23,201,27],[202,16,203,18],[202,19,203,22],[202,23,203,27],[204,16,205,18],[204,19,205,22],[204,23,205,27],[206,16,207,18],[206,19,207,22],[206,23,207,27],[208,16,209,18],[208,19,209,22],[208,23,209,27],[210,16,211,18],[210,19,211,22],[210,23,211,27],[194,36,195,38],[194,39,195,43],[196,36,197,38],[196,39,197,43],[188,44,189,46],[188,47,189,51],[190,44,191,46],[190,47,191,51],[192,44,193,46],[192,47,193,51],[194,44,195,46],[194,47,195,51],[196,44,197,46],[196,47,197,51],[194,52,195,54],[196,52,197,54],[198,14,199,15],[198,52,199,54],[186,36,187,38],[186,39,187,43],[186,44,187,46],[186,47,187,51],[186,52,187,54],[188,14,189,15],[188,16,189,18],[188,19,189,22],[188,23,189,27],[190,14,191,15],[190,16,191,18],[190,19,191,22],[190,23,191,27],[192,14,193,15],[192,16,193,18],[192,19,193,22],[192,23,193,27],[188,28,189,30],[188,31,189,35],[190,28,191,30],[190,31,191,35],[192,28,193,30],[192,31,193,35],[188,52,189,54],[190,52,191,54],[192,52,193,54],[188,36,189,38],[188,39,189,43],[190,36,191,38],[190,39,191,43],[192,36,193,38],[192,39,193,43],[196,1,196,13],[197,1,197,13],[198,1,198,13],[199,1,199,13],[200,1,200,13],[186,14,187,15],[186,16,187,18],[186,19,187,22],[186,23,187,27],[186,28,187,30],[186,31,187,35],[194,14,195,15],[194,16,195,18],[194,19,195,22],[194,23,195,27],[196,14,197,15],[196,16,197,18],[196,19,197,22],[196,23,197,27],[194,28,195,30],[194,31,195,35],[196,28,197,30],[196,31,197,35],[200,14,201,15],[132,52,133,54],[134,52,135,54],[136,52,137,54],[138,52,139,54],[140,52,141,54],[142,52,143,54],[144,52,145,54],[146,52,147,54],[148,52,149,54],[150,52,151,54],[152,52,153,54],[154,52,155,54],[156,52,157,54],[158,52,159,54],[160,52,161,54],[150,44,151,46],[150,47,151,51],[152,44,153,46],[152,47,153,51],[154,44,155,46],[154,47,155,51],[156,44,157,46],[156,47,157,51],[158,44,159,46],[158,47,159,51],[160,44,161,46],[160,47,161,51],[132,44,133,46],[132,47,133,51],[134,44,135,46],[134,47,135,51],[136,44,137,46],[132,36,133,38],[132,39,133,43],[134,36,135,38],[134,39,135,43],[136,36,137,38],[136,39,137,43],[138,36,139,38],[138,39,139,43],[140,36,141,38],[140,39,141,43],[142,36,143,38],[142,39,143,43],[144,36,145,38],[144,39,145,43],[146,36,147,38],[146,39,147,43],[148,36,149,38],[148,39,149,43],[140,28,141,30],[140,31,141,35],[142,28,143,30],[142,31,143,35],[144,28,145,30],[144,31,145,35],[146,28,147,30],[146,31,147,35],[148,28,149,30],[148,31,149,35],[136,47,137,51],[138,44,139,46],[138,47,139,51],[140,44,141,46],[140,47,141,51],[142,44,143,46],[142,47,143,51],[144,44,145,46],[144,47,145,51],[146,44,147,46],[146,47,147,51],[148,44,149,46],[148,47,149,51],[148,0,149,0],[150,0,151,0],[152,0,153,0],[154,0,155,0],[156,0,157,0],[158,0,159,0],[160,0,161,0],[132,14,133,15],[132,16,133,18],[132,19,133,22],[132,23,133,27],[134,14,135,15],[134,16,135,18],[134,19,135,22],[134,23,135,27],[136,14,137,15],[136,16,137,18],[136,19,137,22],[136,23,137,27],[138,14,139,15],[138,16,139,18],[138,19,139,22],[138,23,139,27],[140,14,141,15],[140,16,141,18],[140,19,141,22],[140,23,141,27],[142,14,143,15],[142,16,143,18],[142,19,143,22],[142,23,143,27],[144,14,145,15],[94,52,95,54],[96,52,97,54],[98,52,99,54],[100,52,101,54],[102,52,103,54],[104,52,105,54],[106,52,107,54],[138,1,138,13],[139,1,139,13],[140,1,140,13],[141,1,141,13],[142,1,142,13],[143,1,143,13],[144,1,144,13],[145,1,145,13],[146,1,146,13],[132,0,133,0],[134,0,135,0],[136,0,137,0],[138,0,139,0],[140,0,141,0],[142,0,143,0],[144,0,145,0],[146,0,147,0],[144,16,145,18],[144,19,145,22],[144,23,145,27],[146,14,147,15],[146,16,147,18],[146,19,147,22],[146,23,147,27],[132,28,133,30],[94,31,95,35],[94,36,95,38],[94,39,95,43],[94,44,95,46],[94,47,95,51],[96,44,97,46],[96,47,97,51],[98,44,99,46],[98,47,99,51],[100,44,101,46],[100,47,101,51],[102,44,103,46],[102,47,103,51],[104,44,105,46],[104,47,105,51],[106,44,107,46],[106,47,107,51],[86,36,87,38],[86,39,87,43],[86,44,87,46],[86,47,87,51],[86,52,87,54],[88,28,89,30],[88,31,89,35],[88,36,89,38],[90,39,91,43],[90,44,91,46],[90,47,91,51],[90,52,91,54],[92,14,93,15],[92,16,93,18],[92,19,93,22],[92,23,93,27],[92,28,93,30],[92,31,93,35],[92,36,93,38],[92,39,93,43],[92,44,93,46],[92,47,93,51],[92,52,93,54],[106,0,107,0],[82,14,83,15],[82,16,83,18],[82,19,83,22],[82,23,83,27],[82,28,83,30],[84,14,85,15],[84,16,85,18],[84,19,85,22],[84,23,85,27],[84,28,85,30],[90,14,91,15],[90,16,91,18],[90,19,91,22],[90,23,91,27],[90,28,91,30],[96,14,97,15],[86,14,87,15],[86,16,87,18],[86,19,87,22],[86,23,87,27],[88,14,89,15],[88,16,89,18],[88,19,89,22],[88,23,89,27],[86,28,87,30],[94,14,95,15],[94,16,95,18],[94,19,95,22],[94,23,95,27],[94,28,95,30],[105,1,105,13],[78,52,79,54],[80,52,81,54],[88,39,89,43],[88,44,89,46],[88,47,89,51],[88,52,89,54],[84,0,85,0],[86,0,87,0],[88,0,89,0],[90,0,91,0],[92,0,93,0],[94,0,95,0],[96,0,97,0],[98,0,99,0],[100,0,101,0],[102,0,103,0],[104,0,105,0],[96,36,97,38],[96,39,97,43],[98,36,99,38],[98,39,99,43],[100,36,101,38],[100,39,101,43],[102,36,103,38],[102,39,103,43],[84,31,85,35],[84,36,85,38],[84,39,85,43],[84,44,85,46],[84,47,85,51],[84,52,85,54],[86,31,87,35],[78,0,79,0],[80,0,81,0],[82,0,83,0],[82,31,83,35],[82,36,83,38],[82,39,83,43],[82,44,83,46],[82,47,83,51],[82,52,83,54],[256,31,256,35],[256,36,256,38],[256,39,256,43],[256,44,256,46],[256,47,256,51],[256,52,256,54],[256,1,256,13],[256,14,256,15],[256,16,256,18],[256,19,256,22],[256,23,256,27],[256,28,256,30],[255,31,255,35],[255,36,255,38],[255,39,255,43],[255,44,255,46],[255,47,255,51],[255,52,255,54],[255,1,255,13],[255,14,255,15],[255,16,255,18],[255,19,255,22],[255,23,255,27],[255,28,255,30],[254,31,254,35],[254,36,254,38],[254,39,254,43],[254,44,254,46],[254,47,254,51],[254,52,254,54],[254,1,254,13],[254,14,254,15],[254,16,254,18],[254,19,254,22],[254,23,254,27],[254,28,254,30],[253,31,253,35],[253,36,253,38],[253,39,253,43],[253,44,253,46],[253,47,253,51],[253,52,253,54],[253,1,253,13],[253,14,253,15],[253,16,253,18],[253,19,253,22],[253,23,253,27],[253,28,253,30],[252,31,252,35],[252,36,252,38],[252,39,252,43],[252,44,252,46],[252,47,252,51],[252,52,252,54],[252,1,252,13],[252,14,252,15],[252,16,252,18],[252,19,252,22],[252,23,252,27],[252,28,252,30],[251,31,251,35],[251,36,251,38],[251,39,251,43],[251,44,251,46],[251,47,251,51],[251,52,251,54],[251,1,251,13],[251,14,251,15],[251,16,251,18],[251,19,251,22],[251,23,251,27],[251,28,251,30],[250,31,250,35],[250,36,250,38],[250,39,250,43],[250,44,250,46],[250,47,250,51],[250,52,250,54],[250,1,250,13],[250,14,250,15],[250,16,250,18],[250,19,250,22],[250,23,250,27],[250,28,250,30],[249,31,249,35],[249,36,249,38],[249,39,249,43],[249,44,249,46],[249,47,249,51],[249,52,249,54],[249,1,249,13],[249,14,249,15],[249,16,249,18],[249,19,249,22],[249,23,249,27],[249,28,249,30],[248,31,248,35],[248,36,248,38],[248,39,248,43],[248,44,248,46],[248,47,248,51],[248,52,248,54],[248,1,248,13],[248,14,248,15],[248,16,248,18],[248,19,248,22],[248,23,248,27],[248,28,248,30],[247,31,247,35],[247,36,247,38],[247,39,247,43],[247,44,247,46],[247,47,247,51],[247,52,247,54],[247,1,247,13],[247,14,247,15],[247,16,247,18],[247,19,247,22],[247,23,247,27],[247,28,247,30],[246,31,246,35],[246,36,246,38],[246,39,246,43],[246,44,246,46],[246,47,246,51],[246,52,246,54],[246,1,246,13],[246,14,246,15],[246,16,246,18],[246,19,246,22],[246,23,246,27],[246,28,246,30],[245,31,245,35],[245,36,245,38],[245,39,245,43],[245,44,245,46],[245,47,245,51],[245,52,245,54],[245,1,245,13],[245,14,245,15],[245,16,245,18],[245,19,245,22],[245,23,245,27],[245,28,245,30],[244,31,244,35],[244,36,244,38],[244,39,244,43],[244,44,244,46],[244,47,244,51],[244,52,244,54],[244,1,244,13],[244,14,244,15],[244,16,244,18],[244,19,244,22],[244,23,244,27],[244,28,244,30],[243,31,243,35],[243,36,243,38],[243,39,243,43],[243,44,243,46],[243,47,243,51],[243,52,243,54],[243,1,243,13],[243,14,243,15],[243,16,243,18],[243,19,243,22],[243,23,243,27],[243,28,243,30],[242,31,242,35],[242,36,242,38],[242,39,242,43],[242,44,242,46],[242,47,242,51],[242,52,242,54],[242,1,242,13],[242,14,242,15],[242,16,242,18],[242,19,242,22],[242,23,242,27],[242,28,242,30],[239,44,239,46],[239,47,239,51],[241,1,241,13],[238,44,238,51],[238,52,239,54],[239,14,239,15],[239,16,239,18],[239,19,239,22],[239,23,239,27],[239,28,239,30],[239,31,239,35],[239,36,239,38],[239,39,239,43],[234,19,236,22],[234,24,236,29],[238,1,239,13],[238,14,238,27],[238,28,238,35],[238,36,238,43],[221,1,227,17],[221,50,223,50],[231,1,233,5],[231,6,233,13],[231,23,236,23],[231,24,233,29],[234,1,236,5],[234,6,236,13],[234,15,236,16],[234,17,236,18],[216,31,216,35],[216,36,216,38],[216,39,216,43],[216,44,216,46],[216,47,216,51],[216,52,216,54],[216,1,216,13],[216,14,216,15],[216,16,216,18],[216,19,216,22],[216,23,216,27],[216,28,216,30],[215,1,215,13],[214,16,215,18],[214,19,215,22],[214,23,215,27],[214,31,215,35],[214,1,214,13],[213,1,213,13],[212,16,213,18],[212,19,213,22],[212,23,213,27],[212,1,212,13],[211,1,211,13],[210,1,210,13],[209,1,209,13],[208,1,208,13],[207,1,207,13],[206,1,206,13],[205,1,205,13],[204,1,204,13],[203,1,203,13],[202,1,202,13],[201,1,201,13],[185,28,185,30],[185,31,185,35],[185,36,185,38],[185,39,185,43],[185,44,185,46],[185,47,185,51],[184,1,185,13],[184,14,184,27],[184,28,184,35],[184,36,184,43],[184,44,184,51],[186,1,186,13],[187,1,187,13],[188,1,188,13],[189,1,189,13],[190,1,190,13],[191,1,191,13],[192,1,192,13],[193,1,193,13],[194,1,194,13],[195,1,195,13],[184,52,185,54],[185,14,185,15],[185,16,185,18],[185,19,185,22],[185,23,185,27],[177,1,179,5],[177,6,179,13],[177,23,182,23],[177,24,179,29],[180,1,182,5],[180,6,182,13],[180,15,182,16],[180,17,182,18],[180,19,182,22],[180,24,182,29],[167,1,173,17],[167,50,169,50],[162,31,162,35],[162,36,162,38],[162,39,162,43],[162,44,162,46],[162,47,162,51],[162,52,162,54],[162,1,162,13],[162,14,162,15],[162,16,162,18],[162,19,162,22],[162,23,162,27],[162,28,162,30],[161,1,161,13],[160,36,161,38],[160,39,161,43],[160,14,161,15],[160,16,161,18],[160,19,161,22],[160,23,161,27],[160,1,160,13],[160,28,161,30],[160,31,161,35],[159,1,159,13],[158,36,159,38],[158,39,159,43],[158,14,159,15],[158,16,159,18],[158,19,159,22],[158,23,159,27],[158,28,159,30],[158,31,159,35],[158,1,158,13],[157,1,157,13],[156,36,157,38],[156,39,157,43],[156,14,157,15],[156,16,157,18],[156,19,157,22],[156,23,157,27],[156,28,157,30],[156,31,157,35],[156,1,156,13],[155,1,155,13],[154,36,155,38],[154,39,155,43],[154,14,155,15],[154,16,155,18],[154,19,155,22],[154,23,155,27],[154,28,155,30],[154,31,155,35],[154,1,154,13],[153,1,153,13],[152,36,153,38],[152,39,153,43],[152,14,153,15],[152,16,153,18],[152,19,153,22],[152,23,153,27],[152,28,153,30],[152,31,153,35],[152,1,152,13],[151,1,151,13],[150,36,151,38],[150,39,151,43],[150,14,151,15],[150,16,151,18],[150,19,151,22],[150,23,151,27],[150,28,151,30],[150,31,151,35],[150,1,150,13],[149,1,149,13],[148,1,148,13],[131,44,131,46],[131,47,131,51],[147,1,147,13],[132,1,132,13],[133,1,133,13],[134,1,134,13],[135,1,135,13],[136,1,136,13],[137,1,137,13],[148,14,149,15],[148,16,149,18],[148,19,149,22],[148,23,149,27],[132,31,133,35],[134,28,135,30],[134,31,135,35],[136,28,137,30],[136,31,137,35],[138,28,139,30],[138,31,139,35],[130,44,130,51],[130,52,131,54],[131,14,131,15],[131,16,131,18],[131,19,131,22],[131,23,131,27],[131,28,131,30],[131,31,131,35],[131,36,131,38],[131,39,131,43],[126,19,128,22],[126,24,128,29],[130,1,131,13],[130,14,130,27],[130,28,130,35],[130,36,130,43],[113,1,119,17],[113,50,115,50],[123,1,125,5],[123,6,125,13],[123,23,128,23],[123,24,125,29],[126,1,128,5],[126,6,128,13],[126,15,128,16],[126,17,128,18],[108,31,108,35],[108,36,108,38],[108,39,108,43],[108,44,108,46],[108,47,108,51],[108,52,108,54],[108,1,108,13],[108,14,108,15],[108,16,108,18],[108,19,108,22],[108,23,108,27],[108,28,108,30],[107,1,107,13],[106,14,107,15],[106,16,107,18],[106,19,107,22],[106,23,107,27],[106,28,107,30],[106,31,107,35],[106,36,107,38],[106,39,107,43],[106,1,106,13],[104,14,105,15],[104,16,105,18],[104,19,105,22],[104,23,105,27],[104,28,105,30],[104,31,105,35],[104,36,105,38],[104,39,105,43],[104,1,104,13],[103,1,103,13],[102,14,103,15],[102,16,103,18],[102,19,103,22],[102,23,103,27],[102,28,103,30],[102,31,103,35],[102,1,102,13],[101,1,101,13],[100,14,101,15],[100,16,101,18],[100,19,101,22],[100,23,101,27],[100,28,101,30],[100,31,101,35],[100,1,100,13],[99,1,99,13],[98,16,99,18],[98,19,99,22],[98,23,99,27],[98,28,99,30],[98,31,99,35],[98,1,98,13],[97,1,97,13],[96,28,97,30],[96,31,97,35],[96,16,97,18],[96,19,97,22],[96,23,97,27],[98,14,99,15],[91,1,91,13],[92,1,92,13],[96,1,96,13],[95,1,95,13],[90,31,91,35],[90,36,91,38],[59,1,65,17],[59,50,61,50],[69,1,71,5],[69,6,71,13],[69,23,74,23],[69,24,71,29],[72,1,74,5],[72,6,74,13],[72,15,74,16],[72,17,74,18],[94,1,94,13],[77,44,77,46],[77,47,77,51],[93,1,93,13],[78,28,79,30],[80,28,81,30],[78,31,79,35],[80,31,81,35],[78,36,79,38],[78,39,79,43],[80,36,81,38],[80,39,81,43],[78,44,79,46],[78,47,79,51],[80,44,81,46],[80,47,81,51],[57,31,57,35],[57,36,57,38],[57,39,57,43],[57,44,57,46],[57,47,57,51],[57,52,57,54],[57,1,57,13],[57,14,57,15],[57,16,57,18],[57,19,57,22],[57,23,57,27],[57,28,57,30],[56,1,56,13],[55,47,56,51],[76,44,76,51],[76,52,77,54],[77,14,77,15],[77,16,77,18],[77,19,77,22],[77,23,77,27],[77,28,77,30],[77,31,77,35],[77,36,77,38],[77,39,77,43],[72,19,74,22],[72,24,74,29],[76,1,77,13],[76,14,76,27],[76,28,76,35],[76,36,76,43],[37,44,38,46],[37,47,38,51],[37,52,38,54],[40,1,40,13],[39,1,39,13],[39,44,40,46],[39,47,40,51],[39,52,40,54],[42,1,42,13],[41,1,41,13],[41,28,42,30],[41,31,42,35],[41,36,42,38],[41,39,42,43],[41,44,42,46],[41,47,42,51],[37,31,38,35],[37,36,38,38],[37,39,38,43],[39,14,40,15],[39,16,40,18],[39,19,40,22],[39,23,40,27],[39,28,40,30],[39,31,40,35],[39,36,40,38],[39,39,40,43],[41,14,42,15],[41,16,42,18],[41,19,42,22],[41,23,42,27],[33,52,34,54],[34,14,34,15],[34,16,34,18],[34,19,34,22]],"merged_total":1198,"flags":["merged_cut"]}
[null,null,null,null,null,null,null,null,"請 求 書（出来高・分割納入用）",null,null,null,null,null,null,null,null,null,null,null,null,null,null,null,null,null,null,null,null,null,null,null,null,null,null,null,null,null,null,null,null,null,null,null,null,null,null,null,null,null,"No."]
[null,null,null,null,null,null,null,null,null,null,null,null,null,null,null,null,null,null,null,null,null,null,null,null,null,null,null,null,null,null,null,null,null,null,null,null,null,null,null,"日付",null,null,null,null,"年",null,"月",null,"日"]
[]
[]
[null,null,null,null,null,null,null,null,null,null,null,null,null,null,null,null,null,null,null,null,null,null,null,null,null,null,null,null,null,null,null,null,null,null,null,null,null,"請求者住所･氏名･印･電話",null,null,null,null,null,"取引先コード",null,null,null,null,{"$f":"入力フォーム!B3","v":0}]
[]
[null,null,null,null,null,null,null,null,null,null,null,null,null,null,null,null,null,"御中"]
[null,null,null,null,null,null,null,null,null,null,null,null,null,null,null,null,null,null,null,null,null,null,null,null,null,null,null,null,null,null,null,null,null,null,null,null,null,{"$f":"\"登録番号\"&\" \"&入力フォーム!B4","v":"登録番号 "}]
[]
[]
[]
[null,"下記の通り請求いたします。"]
[]
[]
[null,null,null,"月分請求内訳書",null,null,null,null,null,null,null,"枚 (本用紙を含む)"]
[]
[]
[null,"請 求 金 額",null,null,null,null,{"$f":"SUM(G23:P32)","v":0}]
[]
[]
[]
[null,null,null,null,null,null,null,null,null,null,null,null,null,null,null,null,null,null,null,"製造番号",null,null,null,null,{"$f":"見積書!$B$47","v":""}]
[null,"内　訳","税抜金額",null,null,null,{"$f":"AN58+AN109+AN163+AN217+AN257","v":0},null,null,null,null,null,null,null,null,null,null,null,null,null,null,null,null,null,null,null,null,null,null,null,null,null,null,"第",null,1,null,"回請求"]
[]
[null,null,null,null,null,null,null,null,null,null,null,null,null,null,null,null,null,null,null,"注文番号"]
[]
[null,null,null,null,null,null,null,null,null,null,null,null,null,null,null,null,null,null,null,null,null,null,null,null,null,null,null,null,null,null,null,null,null,null,"※科目"]
[null,null,"消費税額等",null,null,null,{"$f":"IF(AC28=\"10％\",ROUNDDOWN(G23*10%,0),IF(AC28=\"(軽)8%\",ROUNDDOWN(G23*8%,0),0))","v":0},null,null,null,null,null,null,null,null,null,null,null,null,"消費税率",null,null,null,null,null,null,null,null,{"$f":"入力フォーム!B10","v":"10％"}]
[]
[]
[]
[]
[]
[null,"工　種・品　名",null,null,null,null,null,null,null,null,null,null,null,null,"契　約　金　額",null,null,null,null,null,null,null,null,null,null,null,null,null,"前回までの出来高",null,null,null,null,null,null,null,"今回出来高",null,null,null,null,null,null,null,"残高",null,null,null,null,null,null,null,"備　考"]
[null,null,null,null,null,null,null,null,null,null,null,null,null,null,"単位",null,"数量",null,null,"単価",null,null,null,"金額",null,null,null,null,"数量",null,null,"金額",null,null,null,null,"数量",null,null,"金額",null,null,null,null,"数量",null,null,"金額"]
[1,{"$f":"見積書!F61","v":""},null,null,null,null,null,null,null,null,null,null,null,null,{"$f":"見積書!Q61","v":""},null,{"$f":"見積書!R61","v":""},null,null,{"$f":"見積書!S61","v":""},null,null,null,{"$f":"見積書!T61","v":""},null,null,null,null,{"$f":"IF(Q36=\"\",\"\",0)","v":""},null,null,{"$f":"IF(T36=\"\",\"\",ROUND(T36*AC36,0))","v":""},null,null,null,null,null,null,null,{"$f":"IF(T36=\"\",\"\",ROUND(T36*AK36,0))","v":""},null,null,null,null,{"$f":"IF(Q36=\"\",\"\",ROUND(Q36-AC36-AK36,2))","v":""},null,null,{"$f":"IF(T36=\"\",\"\",(IF(AS36<0,\"出来高が契約を超過\",X36-AN36-AF36)))","v":""}]
[null,{"$f":"見積書!F62","v":""}]
[2,{"$f":"見積書!F63","v":""},null,null,null,null,null,null,null,null,null,null,null,null,{"$f":"見積書!Q63","v":""},null,{"$f":"見積書!R63","v":""},null,null,{"$f":"見積書!S63","v":""},null,null,null,{"$f":"見積書!T63","v":""},null,null,null,null,{"$f":"IF(Q38=\"\",\"\",0)","v":""},null,null,{"$f":"IF(T38=\"\",\"\",ROUND(T38*AC38,0))","v":""},null,null,null,null,null,null,null,{"$f":"IF(T38=\"\",\"\",ROUND(T38*AK38,0))","v":""},null,null,null,null,{"$f":"IF(Q38=\"\",\"\",ROUND(Q38-AC38-AK38,2))","v":""},null,null,{"$f":"IF(T38=\"\",\"\",(IF(AS38<0,\"出来高が契約を超過\",X38-AN38-AF38)))","v":""}]
[null,{"$f":"見積書!F64","v":""}]
[3,{"$f":"見積書!F65","v":""},null,null,null,null,null,null,null,null,null,null,null,null,{"$f":"見積書!Q65","v":""},null,{"$f":"見積書!R65","v":""},null,null,{"$f":"見積書!S65","v":""},null,null,null,{"$f":"見積書!T65","v":""},null,null,null,null,{"$f":"IF(Q40=\"\",\"\",0)","v":""},null,null,{"$f":"IF(T40=\"\",\"\",ROUND(T40*AC40,0))","v":""},null,null,null,null,null,null,null,{"$f":"IF(T40=\"\",\"\",ROUND(T40*AK40,0))","v":""},null,null,null,null,{"$f":"IF(Q40=\"\",\"\",ROUND(Q40-AC40-AK40,2))","v":""},null,null,{"$f":"IF(T40=\"\",\"\",(IF(AS40<0,\"出来高が契約を超過\",X40-AN40-AF40)))","v":""}]
[null,{"$f":"見積書!F66","v":""}]
[4,{"$f":"見積書!F67","v":""},null,null,null,null,null,null,null,null,null,null,null,null,{"$f":"見積書!Q67","v":""},null,{"$f":"見積書!R67","v":""},null,null,{"$f":"見積書!S67","v":""},null,null,null,{"$f":"見積書!T67","v":""},null,null,null,null,{"$f":"IF(Q42=\"\",\"\",0)","v":""},null,null,{"$f":"IF(T42=\"\",\"\",ROUND(T42*AC42,0))","v":""},null,null,null,null,null,null,null,{"$f":"IF(T42=\"\",\"\",ROUND(T42*AK42,0))","v":""},null,null,null,null,{"$f":"IF(Q42=\"\",\"\",ROUND(Q42-AC42-AK42,2))","v":""},null,null,{"$f":"IF(T42=\"\",\"\",(IF(AS42<0,\"出来高が契約を超過\",X42-AN42-AF42)))","v":""}]
[null,{"$f":"見積書!F68","v":""}]
[5,{"$f":"見積書!F69","v":""},null,null,null,null,null,null,null,null,null,null,null,null,{"$f":"見積書!Q69","v":""},null,{"$f":"見積書!R69","v":""},null,null,{"$f":"見積書!S69","v":""},null,null,null,{"$f":"見積書!T69","v":""},null,null,null,null,{"$f":"IF(Q44=\"\",\"\",0)","v":""},null,null,{"$f":"IF(T44=\"\",\"\",ROUND(T44*AC44,0))","v":""},null,null,null,null,null,null,null,{"$f":"IF(T44=\"\",\"\",ROUND(T44*AK44,0))","v":""},null,null,null,null,{"$f":"IF(Q44=\"\",\"\",ROUND(Q44-AC44-AK44,2))","v":""},null,null,{"$f":"IF(T44=\"\",\"\",(IF(AS44<0,\"出来高が契約を超過\",X44-AN44-AF44)))","v":""}]
[null,{"$f":"見積書!F70","v":""}]
[6,{"$f":"見積書!F71","v":""},null,null,null,null,null,null,null,null,null,null,null,null,{"$f":"見積書!Q71","v":""},null,{"$f":"見積書!R71","v":""},null,null,{"$f":"見積書!S71","v":""},null,null,null,{"$f":"見積書!T71","v":""},null,null,null,null,{"$f":"IF(Q46=\"\",\"\",0)","v":""},null,null,{"$f":"IF(T46=\"\",\"\",ROUND(T46*AC46,0))","v":""},null,null,null,null,null,null,null,{"$f":"IF(T46=\"\",\"\",ROUND(T46*AK46,0))","v":""},null,null,null,null,{"$f":"IF(Q46=\"\",\"\",ROUND(Q46-AC46-AK46,2))","v":""},null,null,{"$f":"IF(T46=\"\",\"\",(IF(AS46<0,\"出来高が契約を超過\",X46-AN46-AF46)))","v":""}]
[null,{"$f":"見積書!F72","v":""}]
[7,{"$f":"見積書!F73","v":""},null,null,null,null,null,null,null,null,null,null,null,null,{"$f":"見積書!Q73","v":""},null,{"$f":"見積書!R73","v":""},null,null,{"$f":"見積書!S73","v":""},null,null,null,{"$f":"見積書!T73","v":""},null,null,null,null,{"$f":"IF(Q48=\"\",\"\",0)","v":""},null,null,{"$f":"IF(T48=\"\",\"\",ROUND(T48*AC48,0))","v":""},null,null,null,null,null,null,null,{"$f":"IF(T48=\"\",\"\",ROUND(T48*AK48,0))","v":""},null,null,null,null,{"$f":"IF(Q48=\"\",\"\",ROUND(Q48-AC48-AK48,2))","v":""},null,null,{"$f":"IF(T48=\"\",\"\",(IF(AS48<0,\"出来高が契約を超過\",X48-AN48-AF48)))","v":""}]
[null,{"$f":"見積書!F74","v":""}]
[8,{"$f":"見積書!F75","v":""},null,null,null,null,null,null,null,null,null,null,null,null,{"$f":"見積書!Q75","v":""},null,{"$f":"見積書!R75","v":""},null,null,{"$f":"見積書!S75","v":""},null,null,null,{"$f":"見積書!T75","v":""},null,null,null,null,{"$f":"IF(Q50=\"\",\"\",0)","v":""},null,null,{"$f":"IF(T50=\"\",\"\",ROUND(T50*AC50,0))","v":""},null,null,null,null,null,null,null,{"$f":"IF(T50=\"\",\"\",ROUND(T50*AK50,0))","v":""},null,null,null,null,{"$f":"IF(Q50=\"\",\"\",ROUND(Q50-AC50-AK50,2))","v":""},null,null,{"$f":"IF(T50=\"\",\"\",(IF(AS50<0,\"出来高が契約を超過\",X50-AN50-AF50)))","v":""}]
[null,{"$f":"見積書!F76","v":""}]
[9,{"$f":"見積書!F77","v":""},null,null,null,null,null,null,null,null,null,null,null,null,{"$f":"見積書!Q77","v":""},null,{"$f":"見積書!R77","v":""},null,null,{"$f":"見積書!S77","v":""},null,null,null,{"$f":"見積書!T77","v":""},null,null,null,null,{"$f":"IF(Q52=\"\",\"\",0)","v":""},null,null,{"$f":"IF(T52=\"\",\"\",ROUND(T52*AC52,0))","v":""},null,null,null,null,null,null,null,{"$f":"IF(T52=\"\",\"\",ROUND(T52*AK52,0))","v":""},null,null,null,null,{"$f":"IF(Q52=\"\",\"\",ROUND(Q52-AC52-AK52,2))","v":""},null,null,{"$f":"IF(T52=\"\",\"\",(IF(AS52<0,\"出来高が契約を超過\",X52-AN52-AF52)))","v":""}]
[null,{"$f":"見積書!F78","v":""}]
[10,{"$f":"見積書!F79","v":""},null,null,null,null,null,null,null,null,null,null,null,null,{"$f":"見積書!Q79","v":""},null,{"$f":"見積書!R79","v":""},null,null,{"$f":"見積書!S79","v":""},null,null,null,{"$f":"見積書!T79","v":""},null,null,null,null,{"$f":"IF(Q54=\"\",\"\",0)","v":""},null,null,{"$f":"IF(T54=\"\",\"\",ROUND(T54*AC54,0))","v":""},null,null,null,null,null,null,null,{"$f":"IF(T54=\"\",\"\",ROUND(T54*AK54,0))","v":""},null,null,null,null,{"$f":"IF(Q54=\"\",\"\",ROUND(Q54-AC54-AK54,2))","v":""},null,null,{"$f":"IF(T54=\"\",\"\",(IF(AS54<0,\"出来高が契約を超過\",X54-AN54-AF54)))","v":""}]
[null,{"$f":"見積書!F80","v":""}]
[11,{"$f":"見積書!F81","v":""},null,null,null,null,null,null,null,null,null,null,null,null,{"$f":"見積書!Q81","v":""},null,{"$f":"見積書!R81","v":""},null,null,{"$f":"見積書!S81","v":""},null,null,null,{"$f":"見積書!T81","v":""},null,null,null,null,{"$f":"IF(Q56=\"\",\"\",0)","v":""},null,null,{"$f":"IF(T56=\"\",\"\",ROUND(T56*AC56,0))","v":""},null,null,null,null,null,null,null,{"$f":"IF(T56=\"\",\"\",ROUND(T56*AK56,0))","v":""},null,null,null,null,{"$f":"IF(Q56=\"\",\"\",ROUND(Q56-AC56-AK56,2))","v":""},null,null,{"$f":"IF(T56=\"\",\"\",(IF(AS56<0,\"出来高が契約を超過\",X56-AN56-AF56)))","v":""}]
[null,{"$f":"見積書!F82","v":""}]
[null,"小計",null,null,null,null,null,null,null,null,null,null,null,null,null,null,null,null,null,null,null,null,null,{"$f":"SUM(X36:AB57)","v":0},null,null,null,null,null,null,null,{"$f":"SUM(AF36:AJ57)","v":0},null,null,null,null,null,null,null,{"$f":"SUM(AN36:AR57)","v":0},null,null,null,null,null,null,null,{"$f":"X58-AF58-AN58","v":0}]
[]
[null,"請求内訳書（出来高・分割納入用）",null,null,null,null,null,null,null,null,null,null,null,null,null,null,null,null,null,null,null,null,null,null,null,null,null,null,null,null,null,null,null,null,null,null,null,null,null,null,null,null,null,null,null,null,null,null,null,null,"No."]
[]
[]
[]
[]
[]
[]
[]
[]
[]
[null,"製造番号",null,null,null,null,{"$f":"Y22","v":""},null,null,null,null,null,null,null,null,null,null,null,null,null,null,null,null,"※科目"]
[]
[]
[null,"注文番号",null,null,null,null,{"$f":"Y25","v":0},null,null,null,null,null,null,null,null,"第",null,{"$f":"AJ23","v":1},null,"回請求"]
[]
[]
[]
[null,"工　種・品　名",null,null,null,null,null,null,null,null,null,null,null,null,"契　約　金　額",null,null,null,null,null,null,null,null,null,null,null,null,null,"前回までの出来高",null,null,null,null,null,null,null,"今回出来高",null,null,null,null,null,null,null,"残高",null,null,null,null,null,null,null,"備　考"]
[null,null,null,null,null,null,null,null,null,null,null,null,null,null,"単位",null,"数量",null,null,"単価",null,null,null,"金額",null,null,null,null,"数量",null,null,"金額",null,null,null,null,"数量",null,null,"金額",null,null,null,null,"数量",null,null,"金額"]
[12,{"$f":"見積書!F83","v":""},null,null,null,null,null,null,null,null,null,null,null,null,{"$f":"見積書!Q83","v":""},null,{"$f":"見積書!R83","v":""},null,null,{"$f":"見積書!S83","v":""},null,null,null,{"$f":"見積書!T83","v":""},null,null,null,null,{"$f":"IF(Q79=\"\",\"\",0)","v":""},null,null,{"$f":"IF(T79=\"\",\"\",ROUND(T79*AC79,0))","v":""},null,null,null,null,null,null,null,{"$f":"IF(T79=\"\",\"\",ROUND(T79*AK79,0))","v":""},null,null,null,null,{"$f":"IF(Q79=\"\",\"\",ROUND(Q79-AC79-AK79,2))","v":""},null,null,{"$f":"IF(T79=\"\",\"\",(IF(AS79<0,\"出来高が契約を超過\",X79-AN79-AF79)))","v":""}]
[null,{"$f":"見積書!F84","v":""}]
[13,{"$f":"見積書!F85","v":""},null,null,null,null,null,null,null,null,null,null,null,null,{"$f":"見積書!Q85","v":""},null,{"$f":"見積書!R85","v":""},null,null,{"$f":"見積書!S85","v":""},null,null,null,{"$f":"見積書!T85","v":""},null,null,null,null,{"$f":"IF(Q81=\"\",\"\",0)","v":""},null,null,{"$f":"IF(T81=\"\",\"\",ROUND(T81*AC81,0))","v":""},null,null,null,null,null,null,null,{"$f":"IF(T81=\"\",\"\",ROUND(T81*AK81,0))","v":""},null,null,null,null,{"$f":"IF(Q81=\"\",\"\",ROUND(Q81-AC81-AK81,2))","v":""},null,null,{"$f":"IF(T81=\"\",\"\",(IF(AS81<0,\"出来高が契約を超過\",X81-AN81-AF81)))","v":""}]
[null,{"$f":"見積書!F86","v":""}]
[14,{"$f":"'見積書 (2)'!F26","v":""},null,null,null,null,null,null,null,null,null,null,null,null,{"$f":"'見積書 (2)'!Q26","v":""},null,{"$f":"'見積書 (2)'!R26","v":""},null,null,{"$f":"'見積書 (2)'!S26","v":""},null,null,null,{"$f":"'見積書 (2)'!T26","v":""},null,null,null,null,{"$f":"IF(Q83=\"\",\"\",0)","v":""},null,null,{"$f":"IF(T83=\"\",\"\",ROUND(T83*AC83,0))","v":""},null,null,null,null,null,null,null,{"$f":"IF(T83=\"\",\"\",ROUND(T83*AK83,0))","v":""},null,null,null,null,{"$f":"IF(Q83=\"\",\"\",ROUND(Q83-AC83-AK83,2))","v":""},null,null,{"$f":"IF(T83=\"\",\"\",(IF(AS83<0,\"出来高が契約を超過\",X83-AN83-AF83)))","v":""}]
[null,{"$f":"'見積書 (2)'!F27","v":""}]
[15,{"$f":"'見積書 (2)'!F28","v":""},null,null,null,null,null,null,null,null,null,null,null,null,{"$f":"'見積書 (2)'!Q28","v":""},null,{"$f":"'見積書 (2)'!R28","v":""},null,null,{"$f":"'見積書 (2)'!S28","v":""},null,null,null,{"$f":"'見積書 (2)'!T28","v":""},null,null,null,null,{"$f":"IF(Q85=\"\",\"\",0)","v":""},null,null,{"$f":"IF(T85=\"\",\"\",ROUND(T85*AC85,0))","v":""},null,null,null,null,null,null,null,{"$f":"IF(T85=\"\",\"\",ROUND(T85*AK85,0))","v":""},null,null,null,null,{"$f":"IF(Q85=\"\",\"\",ROUND(Q85-AC85-AK85,2))","v":""},null,null,{"$f":"IF(T85=\"\",\"\",(IF(AS85<0,\"出来高が契約を超過\",X85-AN85-AF85)))","v":""}]
[null,{"$f":"'見積書 (2)'!F29","v":""}]
[16,{"$f":"'見積書 (2)'!F30","v":""},null,null,null,null,null,null,null,null,null,null,null,null,{"$f":"'見積書 (2)'!Q30","v":""},null,{"$f":"'見積書 (2)'!R30","v":""},null,null,{"$f":"'見積書 (2)'!S30","v":""},null,null,null,{"$f":"'見積書 (2)'!T30","v":""},null,null,null,null,{"$f":"IF(Q87=\"\",\"\",0)","v":""},null,null,{"$f":"IF(T87=\"\",\"\",ROUND(T87*AC87,0))","v":""},null,null,null,null,null,null,null,{"$f":"IF(T87=\"\",\"\",ROUND(T87*AK87,0))","v":""},null,null,null,null,{"$f":"IF(Q87=\"\",\"\",ROUND(Q87-AC87-AK87,2))","v":""},null,null,{"$f":"IF(T87=\"\",\"\",(IF(AS87<0,\"出来高が契約を超過\",X87-AN87-AF87)))","v":""}]
[null,{"$f":"'見積書 (2)'!F31","v":""}]
[17,{"$f":"'見積書 (2)'!F32","v":""},null,null,null,null,null,null,null,null,null,null,null,null,{"$f":"'見積書 (2)'!Q32","v":""},null,{"$f":"'見積書 (2)'!R32","v":""},null,null,{"$f":"'見積書 (2)'!S32","v":""},null,null,null,{"$f":"'見積書 (2)'!T32","v":""},null,null,null,null,{"$f":"IF(Q89=\"\",\"\",0)","v":""},null,null,{"$f":"IF(T89=\"\",\"\",ROUND(T89*AC89,0))","v":""},null,null,null,null,null,null,null,{"$f":"IF(T89=\"\",\"\",ROUND(T89*AK89,0))","v":""},null,null,null,null,{"$f":"IF(Q89=\"\",\"\",ROUND(Q89-AC89-AK89,2))","v":""},null,null,{"$f":"IF(T89=\"\",\"\",(IF(AS89<0,\"出来高が契約を超過\",X89-AN89-AF89)))","v":""}]
[null,{"$f":"'見積書 (2)'!F33","v":""}]
[18,{"$f":"'見積書 (2)'!F34","v":""},null,null,null,null,null,null,null,null,null,null,null,null,{"$f":"'見積書 (2)'!Q34","v":""},null,{"$f":"'見積書 (2)'!R34","v":""},null,null,{"$f":"'見積書 (2)'!S34","v":""},null,null,null,{"$f":"'見積書 (2)'!T34","v":""},null,null,null,null,{"$f":"IF(Q91=\"\",\"\",0)","v":""},null,null,{"$f":"IF(T91=\"\",\"\",ROUND(T91*AC91,0))","v":""},null,null,null,null,null,null,null,{"$f":"IF(T91=\"\",\"\",ROUND(T91*AK91,0))","v":""},null,null,null,null,{"$f":"IF(Q91=\"\",\"\",ROUND(Q91-AC91-AK91,2))","v":""},null,null,{"$f":"IF(T91=\"\",\"\",(IF(AS91<0,\"出来高が契約を超過\",X91-AN91-AF91)))","v":""}]
[null,{"$f":"'見積書 (2)'!F35","v":""}]
[19,{"$f":"'見積書 (2)'!F36","v":""},null,null,null,null,null,null,null,null,null,null,null,null,{"$f":"'見積書 (2)'!Q36","v":""},null,{"$f":"'見積書 (2)'!R36","v":""},null,null,{"$f":"'見積書 (2)'!S36","v":""},null,null,null,{"$f":"'見積書 (2)'!T36","v":""},null,null,null,null,{"$f":"IF(Q93=\"\",\"\",0)","v":""},null,null,{"$f":"IF(T93=\"\",\"\",ROUND(T93*AC93,0))","v":""},null,null,null,null,null,null,null,{"$f":"IF(T93=\"\",\"\",ROUND(T93*AK93,0))","v":""},null,null,null,null,{"$f":"IF(Q93=\"\",\"\",ROUND(Q93-AC93-AK93,2))","v":""},null,null,{"$f":"IF(T93=\"\",\"\",(IF(AS93<0,\"出来高が契約を超過\",X93-AN93-AF93)))","v":""}]
[null,{"$f":"'見積書 (2)'!F37","v":""}]
[20,{"$f":"'見積書 (2)'!F38","v":""},null,null,null,null,null,null,null,null,null,null,null,null,{"$f":"'見積書 (2)'!Q38","v":""},null,{"$f":"'見積書 (2)'!R38","v":""},null,null,{"$f":"'見積書 (2)'!S38","v":""},null,null,null,{"$f":"'見積書 (2)'!T38","v":""},null,null,null,null,{"$f":"IF(Q95=\"\",\"\",0)","v":""},null,null,{"$f":"IF(T95=\"\",\"\",ROUND(T95*AC95,0))","v":""},null,null,null,null,null,null,null,{"$f":"IF(T95=\"\",\"\",ROUND(T95*AK95,0))","v":""},null,null,null,null,{"$f":"IF(Q95=\"\",\"\",ROUND(Q95-AC95-AK95,2))","v":""},null,null,{"$f":"IF(T95=\"\",\"\",(IF(AS95<0,\"出来高が契約を超過\",X95-AN95-AF95)))","v":""}]
[null,{"$f":"'見積書 (2)'!F39","v":""}]
[21,{"$f":"'見積書 (2)'!F40","v":""},null,null,null,null,null,null,null,null,null,null,null,null,{"$f":"'見積書 (2)'!Q40","v":""},null,{"$f":"'見積書 (2)'!R40","v":""},null,null,{"$f":"'見積書 (2)'!S40","v":""},null,null,null,{"$f":"'見積書 (2)'!T40","v":""},null,null,null,null,{"$f":"IF(Q97=\"\",\"\",0)","v":""},null,null,{"$f":"IF(T97=\"\",\"\",ROUND(T97*AC97,0))","v":""},null,null,null,null,null,null,null,{"$f":"IF(T97=\"\",\"\",ROUND(T97*AK97,0))","v":""},null,null,null,null,{"$f":"IF(Q97=\"\",\"\",ROUND(Q97-AC97-AK97,2))","v":""},null,null,{"$f":"IF(T97=\"\",\"\",(IF(AS97<0,\"出来高が契約を超過\",X97-AN97-AF97)))","v":""}]
[null,{"$f":"'見積書 (2)'!F41","v":""}]
[22,{"$f":"'見積書 (2)'!F42","v":""},null,null,null,null,null,null,null,null,null,null,null,null,{"$f":"'見積書 (2)'!Q42","v":""},null,{"$f":"'見積書 (2)'!R42","v":""},null,null,{"$f":"'見積書 (2)'!S42","v":""},null,null,null,{"$f":"'見積書 (2)'!T42","v":""},null,null,null,null,{"$f":"IF(Q99=\"\",\"\",0)","v":""},null,null,{"$f":"IF(T99=\"\",\"\",ROUND(T99*AC99,0))","v":""},null,null,null,null,null,null,null,{"$f":"IF(T99=\"\",\"\",ROUND(T99*AK99,0))","v":""},null,null,null,null,{"$f":"IF(Q99=\"\",\"\",ROUND(Q99-AC99-AK99,2))","v":""},null,null,{"$f":"IF(T99=\"\",\"\",(IF(AS99<0,\"出来高が契約を超過\",X99-AN99-AF99)))","v":""}]
[null,{"$f":"'見積書 (2)'!F43","v":""}]
[23,{"$f":"'見積書 (2)'!F44","v":""},null,null,null,null,null,null,null,null,null,null,null,null,{"$f":"'見積書 (2)'!Q44","v":""},null,{"$f":"'見積書 (2)'!R44","v":""},null,null,{"$f":"'見積書 (2)'!S44","v":""},null,null,null,{"$f":"'見積書 (2)'!T44","v":""},null,null,null,null,{"$f":"IF(Q101=\"\",\"\",0)","v":""},null,null,{"$f":"IF(T101=\"\",\"\",ROUND(T101*AC101,0))","v":""},null,null,null,null,null,null,null,{"$f":"IF(T101=\"\",\"\",ROUND(T101*AK101,0))","v":""},null,null,null,null,{"$f":"IF(Q101=\"\",\"\",ROUND(Q101-AC101-AK101,2))","v":""},null,null,{"$f":"IF(T101=\"\",\"\",(IF(AS101<0,\"出来高が契約を超過\",X101-AN101-AF101)))","v":""}]
[null,{"$f":"'見積書 (2)'!F45","v":""}]
[24,{"$f":"'見積書 (2)'!F46","v":""},null,null,null,null,null,null,null,null,null,null,null,null,{"$f":"'見積書 (2)'!Q46","v":""},null,{"$f":"'見積書 (2)'!R46","v":""},null,null,{"$f":"'見積書 (2)'!S46","v":""},null,null,null,{"$f":"'見積書 (2)'!T46","v":""},null,null,null,null,{"$f":"IF(Q103=\"\",\"\",0)","v":""},null,null,{"$f":"IF(T103=\"\",\"\",ROUND(T103*AC103,0))","v":""},null,null,null,null,null,null,null,{"$f":"IF(T103=\"\",\"\",ROUND(T103*AK103,0))","v":""},null,null,null,null,{"$f":"IF(Q103=\"\",\"\",ROUND(Q103-AC103-AK103,2))","v":""},null,null,{"$f":"IF(T103=\"\",\"\",(IF(AS103<0,\"出来高が契約を超過\",X103-AN103-AF103)))","v":""}]
[null,{"$f":"'見積書 (2)'!F47","v":""}]
[25,{"$f":"'見積書 (2)'!F48","v":""},null,null,null,null,null,null,null,null,null,null,null,null,{"$f":"'見積書 (2)'!Q48","v":""},null,{"$f":"'見積書 (2)'!R48","v":""},null,null,{"$f":"'見積書 (2)'!S48","v":""},null,null,null,{"$f":"'見積書 (2)'!T48","v":""},null,null,null,null,{"$f":"IF(Q105=\"\",\"\",0)","v":""},null,null,{"$f":"IF(T105=\"\",\"\",ROUND(T105*AC105,0))","v":""},null,null,null,null,null,null,null,{"$f":"IF(T105=\"\",\"\",ROUND(T105*AK105,0))","v":""},null,null,null,null,{"$f":"IF(Q105=\"\",\"\",ROUND(Q105-AC105-AK105,2))","v":""},null,null,{"$f":"IF(T105=\"\",\"\",(IF(AS105<0,\"出来高が契約を超過\",X105-AN105-AF105)))","v":""}]
[null,{"$f":"'見積書 (2)'!F49","v":""}]
[26,{"$f":"'見積書 (2)'!F50","v":""},null,null,null,null,null,null,null,null,null,null,null,null,{"$f":"'見積書 (2)'!Q50","v":""},null,{"$f":"'見積書 (2)'!R50","v":""},null,null,{"$f":"'見積書 (2)'!S50","v":""},null,null,null,{"$f":"'見積書 (2)'!T50","v":""},null,null,null,null,{"$f":"IF(Q107=\"\",\"\",0)","v":""},null,null,{"$f":"IF(T107=\"\",\"\",ROUND(T107*AC107,0))","v":""},null,null,null,null,null,null,null,{"$f":"IF(T107=\"\",\"\",ROUND(T107*AK107,0))","v":""},null,null,null,null,{"$f":"IF(Q107=\"\",\"\",ROUND(Q107-AC107-AK107,2))","v":""},null,null,{"$f":"IF(T107=\"\",\"\",(IF(AS107<0,\"出来高が契約を超過\",X107-AN107-AF107)))","v":""}]
[null,{"$f":"'見積書 (2)'!F51","v":""}]
[null,"小計",null,null,null,null,null,null,null,null,null,null,null,null,null,null,null,null,null,null,null,null,null,{"$f":"SUM(X79:AB108)","v":0},null,null,null,null,null,null,null,{"$f":"SUM(AF79:AJ108)","v":0},null,null,null,null,null,null,null,{"$f":"SUM(AN79:AR108)","v":0},null,null,null,null,null,null,null,{"$f":"X109-AF109-AN109","v":0}]
[]
[]
[]
[]
[null,"請求内訳書（出来高・分割納入用）",null,null,null,null,null,null,null,null,null,null,null,null,null,null,null,null,null,null,null,null,null,null,null,null,null,null,null,null,null,null,null,null,null,null,null,null,null,null,null,null,null,null,null,null,null,null,null,null,"No."]
[]
[]
[]
[]
[]
[]
[]
[]
[]
[null,"製造番号",null,null,null,null,{"$f":"Y22","v":""},null,null,null,null,null,null,null,null,null,null,null,null,null,null,null,null,"※科目"]
[]
[]
[null,"注文番号",null,null,null,null,{"$f":"Y25","v":0},null,null,null,null,null,null,null,null,"第",null,{"$f":"AJ23","v":1},null,"回請求"]
[]
[]
[]
[null,"工　種・品　名",null,null,null,null,null,null,null,null,null,null,null,null,"契　約　金　額",null,null,null,null,null,null,null,null,null,null,null,null,null,"前回までの出来高",null,null,null,null,null,null,null,"今回出来高",null,null,null,null,null,null,null,"残高",null,null,null,null,null,null,null,"備　考"]
[null,null,null,null,null,null,null,null,null,null,null,null,null,null,"単位",null,"数量",null,null,"単価",null,null,null,"金額",null,null,null,null,"数量",null,null,"金額",null,null,null,null,"数量",null,null,"金額",null,null,null,null,"数量",null,null,"金額"]
[27,{"$f":"'見積書 (2)'!F52","v":""},null,null,null,null,null,null,null,null,null,null,null,null,{"$f":"'見積書 (2)'!Q52","v":""},null,{"$f":"'見積書 (2)'!R52","v":""},null,null,{"$f":"'見積書 (2)'!S52","v":""},null,null,null,{"$f":"'見積書 (2)'!T52","v":""},null,null,null,null,{"$f":"IF(Q133=\"\",\"\",0)","v":""},null,null,{"$f":"IF(T133=\"\",\"\",ROUND(T133*AC133,0))","v":""},null,null,null,null,null,null,null,{"$f":"IF(T133=\"\",\"\",ROUND(T133*AK133,0))","v":""},null,null,null,null,{"$f":"IF(Q133=\"\",\"\",ROUND(Q133-AC133-AK133,2))","v":""},null,null,{"$f":"IF(T133=\"\",\"\",(IF(AS133<0,\"出来高が契約を超過\",X133-AN133-AF133)))","v":""}]
[null,{"$f":"'見積書 (2)'!F53","v":""}]
[28,{"$f":"'見積書 (2)'!F54","v":""},null,null,null,null,null,null,null,null,null,null,null,null,{"$f":"'見積書 (2)'!Q54","v":""},null,{"$f":"'見積書 (2)'!R54","v":""},null,null,{"$f":"'見積書 (2)'!S54","v":""},null,null,null,{"$f":"'見積書 (2)'!T54","v":""},null,null,null,null,{"$f":"IF(Q135=\"\",\"\",0)","v":""},null,null,{"$f":"IF(T135=\"\",\"\",ROUND(T135*AC135,0))","v":""},null,null,null,null,null,null,null,{"$f":"IF(T135=\"\",\"\",ROUND(T135*AK135,0))","v":""},null,null,null,null,{"$f":"IF(Q135=\"\",\"\",ROUND(Q135-AC135-AK135,2))","v":""},null,null,{"$f":"IF(T135=\"\",\"\",(IF(AS135<0,\"出来高が契約を超過\",X135-AN135-AF135)))","v":""}]
[null,{"$f":"'見積書 (2)'!F55","v":""}]
[29,{"$f":"'見積書 (2)'!F56","v":""},null,null,null,null,null,null,null,null,null,null,null,null,{"$f":"'見積書 (2)'!Q56","v":""},null,{"$f":"'見積書 (2)'!R56","v":""},null,null,{"$f":"'見積書 (2)'!S56","v":""},null,null,null,{"$f":"'見積書 (2)'!T56","v":""},null,null,null,null,{"$f":"IF(Q137=\"\",\"\",0)","v":""},null,null,{"$f":"IF(T137=\"\",\"\",ROUND(T137*AC137,0))","v":""},null,null,null,null,null,null,null,{"$f":"IF(T137=\"\",\"\",ROUND(T137*AK137,0))","v":""},null,null,null,null,{"$f":"IF(Q137=\"\",\"\",ROUND(Q137-AC137-AK137,2))","v":""},null,null,{"$f":"IF(T137=\"\",\"\",(IF(AS137<0,\"出来高が契約を超過\",X137-AN137-AF137)))","v":""}]
[null,{"$f":"'見積書 (2)'!F57","v":""}]
[30,{"$f":"'見積書 (2)'!F58","v":""},null,null,null,null,null,null,null,null,null,null,null,null,{"$f":"'見積書 (2)'!Q58","v":""},null,{"$f":"'見積書 (2)'!R58","v":""},null,null,{"$f":"'見積書 (2)'!S58","v":""},null,null,null,{"$f":"'見積書 (2)'!T58","v":""},null,null,null,null,{"$f":"IF(Q139=\"\",\"\",0)","v":""},null,null,{"$f":"IF(T139=\"\",\"\",ROUND(T139*AC139,0))","v":""},null,null,null,null,null,null,null,{"$f":"IF(T139=\"\",\"\",ROUND(T139*AK139,0))","v":""},null,null,null,null,{"$f":"IF(Q139=\"\",\"\",ROUND(Q139-AC139-AK139,2))","v":""},null,null,{"$f":"IF(T139=\"\",\"\",(IF(AS139<0,\"出来高が契約を超過\",X139-AN139-AF139)))","v":""}]
[null,{"$f":"'見積書 (2)'!F59","v":""}]
[31,{"$f":"'見積書 (2)'!F60","v":""},null,null,null,null,null,null,null,null,null,null,null,null,{"$f":"'見積書 (2)'!Q60","v":""},null,{"$f":"'見積書 (2)'!R60","v":""},null,null,{"$f":"'見積書 (2)'!S60","v":""},null,null,null,{"$f":"'見積書 (2)'!T60","v":""},null,null,null,null,{"$f":"IF(Q141=\"\",\"\",0)","v":""},null,null,{"$f":"IF(T141=\"\",\"\",ROUND(T141*AC141,0))","v":""},null,null,null,null,null,null,null,{"$f":"IF(T141=\"\",\"\",ROUND(T141*AK141,0))","v":""},null,null,null,null,{"$f":"IF(Q141=\"\",\"\",ROUND(Q141-AC141-AK141,2))","v":""},null,null,{"$f":"IF(T141=\"\",\"\",(IF(AS141<0,\"出来高が契約を超過\",X141-AN141-AF141)))","v":""}]
[null,{"$f":"'見積書 (2)'!F61","v":""}]
[32,{"$f":"'見積書 (2)'!F62","v":""},null,null,null,null,null,null,null,null,null,null,null,null,{"$f":"'見積書 (2)'!Q62","v":""},null,{"$f":"'見積書 (2)'!R62","v":""},null,null,{"$f":"'見積書 (2)'!S62","v":""},null,null,null,{"$f":"'見積書 (2)'!T62","v":""},null,null,null,null,{"$f":"IF(Q143=\"\",\"\",0)","v":""},null,null,{"$f":"IF(T143=\"\",\"\",ROUND(T143*AC143,0))","v":""},null,null,null,null,null,null,null,{"$f":"IF(T143=\"\",\"\",ROUND(T143*AK143,0))","v":""},null,null,null,null,{"$f":"IF(Q143=\"\",\"\",ROUND(Q143-AC143-AK143,2))","v":""},null,null,{"$f":"IF(T143=\"\",\"\",(IF(AS143<0,\"出来高が契約を超過\",X143-AN143-AF143)))","v":""}]
[null,{"$f":"'見積書 (2)'!F63","v":""}]
[33,{"$f":"'見積書 (2)'!F64","v":""},null,null,null,null,null,null,null,null,null,null,null,null,{"$f":"'見積書 (2)'!Q64","v":""},null,{"$f":"'見積書 (2)'!R64","v":""},null,null,{"$f":"'見積書 (2)'!S64","v":""},null,null,null,{"$f":"'見積書 (2)'!T64","v":""},null,null,null,null,{"$f":"IF(Q145=\"\",\"\",0)","v":""},null,null,{"$f":"IF(T145=\"\",\"\",ROUND(T145*AC145,0))","v":""},null,null,null,null,null,null,null,{"$f":"IF(T145=\"\",\"\",ROUND(T145*AK145,0))","v":""},null,null,null,null,{"$f":"IF(Q145=\"\",\"\",ROUND(Q145-AC145-AK145,2))","v":""},null,null,{"$f":"IF(T145=\"\",\"\",(IF(AS145<0,\"出来高が契約を超過\",X145-AN145-AF145)))","v":""}]
[null,{"$f":"'見積書 (2)'!F65","v":""}]
[34,{"$f":"'見積書 (2)'!F66","v":""},null,null,null,null,null,null,null,null,null,null,null,null,{"$f":"'見積書 (2)'!Q66","v":""},null,{"$f":"'見積書 (2)'!R66","v":""},null,null,{"$f":"'見積書 (2)'!S66","v":""},null,null,null,{"$f":"'見積書 (2)'!T66","v":""},null,null,null,null,{"$f":"IF(Q147=\"\",\"\",0)","v":""},null,null,{"$f":"IF(T147=\"\",\"\",ROUND(T147*AC147,0))","v":""},null,null,null,null,null,null,null,{"$f":"IF(T147=\"\",\"\",ROUND(T147*AK147,0))","v":""},null,null,null,null,{"$f":"IF(Q147=\"\",\"\",ROUND(Q147-AC147-AK147,2))","v":""},null,null,{"$f":"IF(T147=\"\",\"\",(IF(AS147<0,\"出来高が契約を超過\",X147-AN147-AF147)))","v":""}]
[null,{"$f":"'見積書 (2)'!F67","v":""}]
[35,{"$f":"'見積書 (2)'!F68","v":""},null,null,null,null,null,null,null,null,null,null,null,null,{"$f":"'見積書 (2)'!Q68","v":""},null,{"$f":"'見積書 (2)'!R68","v":""},null,null,{"$f":"'見積書 (2)'!S68","v":""},null,null,null,{"$f":"'見積書 (2)'!T68","v":""},null,null,null,null,{"$f":"IF(Q149=\"\",\"\",0)","v":""},null,null,{"$f":"IF(T149=\"\",\"\",ROUND(T149*AC149,0))","v":""},null,null,null,null,null,null,null,{"$f":"IF(T149=\"\",\"\",ROUND(T149*AK149,0))","v":""},null,null,null,null,{"$f":"IF(Q149=\"\",\"\",ROUND(Q149-AC149-AK149,2))","v":""},null,null,{"$f":"IF(T149=\"\",\"\",(IF(AS149<0,\"出来高が契約を超過\",X149-AN149-AF149)))","v":""}]
[null,{"$f":"'見積書 (2)'!F69","v":""}]
[36,{"$f":"'見積書 (3)'!F26","v":""},null,null,null,null,null,null,null,null,null,null,null,null,{"$f":"'見積書 (3)'!Q26","v":""},null,{"$f":"'見積書 (3)'!R26","v":""},null,null,{"$f":"'見積書 (3)'!S26","v":""},null,null,null,{"$f":"'見積書 (3)'!T26","v":""},null,null,null,null,{"$f":"IF(Q151=\"\",\"\",0)","v":""},null,null,{"$f":"IF(T151=\"\",\"\",ROUND(T151*AC151,0))","v":""},null,null,null,null,null,null,null,{"$f":"IF(T151=\"\",\"\",ROUND(T151*AK151,0))","v":""},null,null,null,null,{"$f":"IF(Q151=\"\",\"\",ROUND(Q151-AC151-AK151,2))","v":""},null,null,{"$f":"IF(T151=\"\",\"\",(IF(AS151<0,\"出来高が契約を超過\",X151-AN151-AF151)))","v":""}]
[null,{"$f":"'見積書 (3)'!F27","v":""}]
[37,{"$f":"'見積書 (3)'!F28","v":""},null,null,null,null,null,null,null,null,null,null,null,null,{"$f":"'見積書 (3)'!Q28","v":""},null,{"$f":"'見積書 (3)'!R28","v":""},null,null,{"$f":"'見積書 (3)'!S28","v":""},null,null,null,{"$f":"'見積書 (3)'!T28","v":""},null,null,null,null,{"$f":"IF(Q153=\"\",\"\",0)","v":""},null,null,{"$f":"IF(T153=\"\",\"\",ROUND(T153*AC153,0))","v":""},null,null,null,null,null,null,null,{"$f":"IF(T153=\"\",\"\",ROUND(T153*AK153,0))","v":""},null,null,null,null,{"$f":"IF(Q153=\"\",\"\",ROUND(Q153-AC153-AK153,2))","v":""},null,null,{"$f":"IF(T153=\"\",\"\",(IF(AS153<0,\"出来高が契約を超過\",X153-AN153-AF153)))","v":""}]
[null,{"$f":"'見積書 (3)'!F29","v":""}]
[38,{"$f":"'見積書 (3)'!F30","v":""},null,null,null,null,null,null,null,null,null,null,null,null,{"$f":"'見積書 (3)'!Q30","v":""},null,{"$f":"'見積書 (3)'!R30","v":""},null,null,{"$f":"'見積書 (3)'!S30","v":""},null,null,null,{"$f":"'見積書 (3)'!T30","v":""},null,null,null,null,{"$f":"IF(Q155=\"\",\"\",0)","v":""},null,null,{"$f":"IF(T155=\"\",\"\",ROUND(T155*AC155,0))","v":""},null,null,null,null,null,null,null,{"$f":"IF(T155=\"\",\"\",ROUND(T155*AK155,0))","v":""},null,null,null,null,{"$f":"IF(Q155=\"\",\"\",ROUND(Q155-AC155-AK155,2))","v":""},null,null,{"$f":"IF(T155=\"\",\"\",(IF(AS155<0,\"出来高が契約を超過\",X155-AN155-AF155)))","v":""}]
[null,{"$f":"'見積書 (3)'!F31","v":""}]
[39,{"$f":"'見積書 (3)'!F32","v":""},null,null,null,null,null,null,null,null,null,null,null,null,{"$f":"'見積書 (3)'!Q32","v":""},null,{"$f":"'見積書 (3)'!R32","v":""},null,null,{"$f":"'見積書 (3)'!S32","v":""},null,null,null,{"$f":"'見積書 (3)'!T32","v":""},null,null,null,null,{"$f":"IF(Q157=\"\",\"\",0)","v":""},null,null,{"$f":"IF(T157=\"\",\"\",ROUND(T157*AC157,0))","v":""},null,null,null,null,null,null,null,{"$f":"IF(T157=\"\",\"\",ROUND(T157*AK157,0))","v":""},null,null,null,null,{"$f":"IF(Q157=\"\",\"\",ROUND(Q157-AC157-AK157,2))","v":""},null,null,{"$f":"IF(T157=\"\",\"\",(IF(AS157<0,\"出来高が契約を超過\",X157-AN157-AF157)))","v":""}]
[null,{"$f":"'見積書 (3)'!F33","v":""}]
[40,{"$f":"'見積書 (3)'!F34","v":""},null,null,null,null,null,null,null,null,null,null,null,null,{"$f":"'見積書 (3)'!Q34","v":""},null,{"$f":"'見積書 (3)'!R34","v":""},null,null,{"$f":"'見積書 (3)'!S34","v":""},null,null,null,{"$f":"'見積書 (3)'!T34","v":""},null,null,null,null,{"$f":"IF(Q159=\"\",\"\",0)","v":""},null,null,{"$f":"IF(T159=\"\",\"\",ROUND(T159*AC159,0))","v":""},null,null,null,null,null,null,null,{"$f":"IF(T159=\"\",\"\",ROUND(T159*AK159,0))","v":""},null,null,null,null,{"$f":"IF(Q159=\"\",\"\",ROUND(Q159-AC159-AK159,2))","v":""},null,null,{"$f":"IF(T159=\"\",\"\",(IF(AS159<0,\"出来高が契約を超過\",X159-AN159-AF159)))","v":""}]
[null,{"$f":"'見積書 (3)'!F35","v":""}]
[41,{"$f":"'見積書 (3)'!F36","v":""},null,null,null,null,null,null,null,null,null,null,null,null,{"$f":"'見積書 (3)'!Q36","v":""},null,{"$f":"'見積書 (3)'!R36","v":""},null,null,{"$f":"'見積書 (3)'!S36","v":""},null,null,null,{"$f":"'見積書 (3)'!T36","v":""},null,null,null,null,{"$f":"IF(Q161=\"\",\"\",0)","v":""},null,null,{"$f":"IF(T161=\"\",\"\",ROUND(T161*AC161,0))","v":""},null,null,null,null,null,null,null,{"$f":"IF(T161=\"\",\"\",ROUND(T161*AK161,0))","v":""},null,null,null,null,{"$f":"IF(Q161=\"\",\"\",ROUND(Q161-AC161-AK161,2))","v":""},null,null,{"$f":"IF(T161=\"\",\"\",(IF(AS161<0,\"出来高が契約を超過\",X161-AN161-AF161)))","v":""}]
[null,{"$f":"'見積書 (3)'!F37","v":""}]
[null,"小計",null,null,null,null,null,null,null,null,null,null,null,null,null,null,null,null,null,null,null,null,null,{"$f":"SUM(X133:AB162)","v":0},null,null,null,null,null,null,null,{"$f":"SUM(AF133:AJ162)","v":0},null,null,null,null,null,null,null,{"$f":"SUM(AN133:AR162)","v":0},null,null,null,null,null,null,null,{"$f":"X163-AF163-AN163","v":0}]
[]
[]
[]
[]
[null,"請求内訳書（出来高・分割納入用）",null,null,null,null,null,null,null,null,null,null,null,null,null,null,null,null,null,null,null,null,null,null,null,null,null,null,null,null,null,null,null,null,null,null,null,null,null,null,null,null,null,null,null,null,null,null,null,null,"No."]
[]
[]
[]
[]
[]
[]
[]
[]
[]
[null,"製造番号",null,null,null,null,{"$f":"Y22","v":""},null,null,null,null,null,null,null,null,null,null,null,null,null,null,null,null,"※科目"]
[]
[]
[null,"注文番号",null,null,null,null,{"$f":"Y25","v":0},null,null,null,null,null,null,null,null,"第",null,{"$f":"AJ23","v":1},null,"回請求"]
[]
[]
[]
[null,"工　種・品　名",null,null,null,null,null,null,null,null,null,null,null,null,"契　約　金　額",null,null,null,null,null,null,null,null,null,null,null,null,null,"前回までの出来高",null,null,null,null,null,null,null,"今回出来高",null,null,null,null,null,null,null,"残高",null,null,null,null,null,null,null,"備　考"]
[null,null,null,null,null,null,null,null,null,null,null,null,null,null,"単位",null,"数量",null,null,"単価",null,null,null,"金額",null,null,null,null,"数量",null,null,"金額",null,null,null,null,"数量",null,null,"金額",null,null,null,null,"数量",null,null,"金額"]
[42,{"$f":"'見積書 (3)'!F38","v":""},null,null,null,null,null,null,null,null,null,null,null,null,{"$f":"'見積書 (3)'!Q38","v":""},null,{"$f":"'見積書 (3)'!R38","v":""},null,null,{"$f":"'見積書 (3)'!S38","v":""},null,null,null,{"$f":"'見積書 (3)'!T38","v":""},null,null,null,null,{"$f":"IF(Q187=\"\",\"\",0)","v":""},null,null,{"$f":"IF(T187=\"\",\"\",ROUND(T187*AC187,0))","v":""},null,null,null,null,null,null,null,{"$f":"IF(T187=\"\",\"\",ROUND(T187*AK187,0))","v":""},null,null,null,null,{"$f":"IF(Q187=\"\",\"\",ROUND(Q187-AC187-AK187,2))","v":""},null,null,{"$f":"IF(T187=\"\",\"\",(IF(AS187<0,\"出来高が契約を超過\",X187-AN187-AF187)))","v":""}]
[null,{"$f":"'見積書 (3)'!F39","v":""}]
[43,{"$f":"'見積書 (3)'!F40","v":""},null,null,null,null,null,null,null,null,null,null,null,null,{"$f":"'見積書 (3)'!Q40","v":""},null,{"$f":"'見積書 (3)'!R40","v":""},null,null,{"$f":"'見積書 (3)'!S40","v":""},null,null,null,{"$f":"'見積書 (3)'!T40","v":""},null,null,null,null,{"$f":"IF(Q189=\"\",\"\",0)","v":""},null,null,{"$f":"IF(T189=\"\",\"\",ROUND(T189*AC189,0))","v":""},null,null,null,null,null,null,null,{"$f":"IF(T189=\"\",\"\",ROUND(T189*AK189,0))","v":""},null,null,null,null,{"$f":"IF(Q189=\"\",\"\",ROUND(Q189-AC189-AK189,2))","v":""},null,null,{"$f":"IF(T189=\"\",\"\",(IF(AS189<0,\"出来高が契約を超過\",X189-AN189-AF189)))","v":""}]
[null,{"$f":"'見積書 (3)'!F41","v":""}]
[44,{"$f":"'見積書 (3)'!F42","v":""},null,null,null,null,null,null,null,null,null,null,null,null,{"$f":"'見積書 (3)'!Q42","v":""},null,{"$f":"'見積書 (3)'!R42","v":""},null,null,{"$f":"'見積書 (3)'!S42","v":""},null,null,null,{"$f":"'見積書 (3)'!T42","v":""},null,null,null,null,{"$f":"IF(Q191=\"\",\"\",0)","v":""},null,null,{"$f":"IF(T191=\"\",\"\",ROUND(T191*AC191,0))","v":""},null,null,null,null,null,null,null,{"$f":"IF(T191=\"\",\"\",ROUND(T191*AK191,0))","v":""},null,null,null,null,{"$f":"IF(Q191=\"\",\"\",ROUND(Q191-AC191-AK191,2))","v":""},null,null,{"$f":"IF(T191=\"\",\"\",(IF(AS191<0,\"出来高が契約を超過\",X191-AN191-AF191)))","v":""}]
[null,{"$f":"'見積書 (3)'!F43","v":""}]
[45,{"$f":"'見積書 (3)'!F44","v":""},null,null,null,null,null,null,null,null,null,null,null,null,{"$f":"'見積書 (3)'!Q44","v":""},null,{"$f":"'見積書 (3)'!R44","v":""},null,null,{"$f":"'見積書 (3)'!S44","v":""},null,null,null,{"$f":"'見積書 (3)'!T44","v":""},null,null,null,null,{"$f":"IF(Q193=\"\",\"\",0)","v":""},null,null,{"$f":"IF(T193=\"\",\"\",ROUND(T193*AC193,0))","v":""},null,null,null,null,null,null,null,{"$f":"IF(T193=\"\",\"\",ROUND(T193*AK193,0))","v":""},null,null,null,null,{"$f":"IF(Q193=\"\",\"\",ROUND(Q193-AC193-AK193,2))","v":""},null,null,{"$f":"IF(T193=\"\",\"\",(IF(AS193<0,\"出来高が契約を超過\",X193-AN193-AF193)))","v":""}]
[null,{"$f":"'見積書 (3)'!F45","v":""}]
[46,{"$f":"'見積書 (3)'!F46","v":""},null,null,null,null,null,null,null,null,null,null,null,null,{"$f":"'見積書 (3)'!Q46","v":""},null,{"$f":"'見積書 (3)'!R46","v":""},null,null,{"$f":"'見積書 (3)'!S46","v":""},null,null,null,{"$f":"'見積書 (3)'!T46","v":""},null,null,null,null,{"$f":"IF(Q195=\"\",\"\",0)","v":""},null,null,{"$f":"IF(T195=\"\",\"\",ROUND(T195*AC195,0))","v":""},null,null,null,null,null,null,null,{"$f":"IF(T195=\"\",\"\",ROUND(T195*AK195,0))","v":""},null,null,null,null,{"$f":"IF(Q195=\"\",\"\",ROUND(Q195-AC195-AK195,2))","v":""},null,null,{"$f":"IF(T195=\"\",\"\",(IF(AS195<0,\"出来高が契約を超過\",X195-AN195-AF195)))","v":""}]
[null,{"$f":"'見積書 (3)'!F47","v":""}]
[47,{"$f":"'見積書 (3)'!F48","v":""},null,null,null,null,null,null,null,null,null,null,null,null,{"$f":"'見積書 (3)'!Q48","v":""},null,{"$f":"'見積書 (3)'!R48","v":""},null,null,{"$f":"'見積書 (3)'!S48","v":""},null,null,null,{"$f":"'見積書 (3)'!T48","v":""},null,null,null,null,{"$f":"IF(Q197=\"\",\"\",0)","v":""},null,null,{"$f":"IF(T197=\"\",\"\",ROUND(T197*AC197,0))","v":""},null,null,null,null,null,null,null,{"$f":"IF(T197=\"\",\"\",ROUND(T197*AK197,0))","v":""},null,null,null,null,{"$f":"IF(Q197=\"\",\"\",ROUND(Q197-AC197-AK197,2))","v":""},null,null,{"$f":"IF(T197=\"\",\"\",(IF(AS197<0,\"出来高が契約を超過\",X197-AN197-AF197)))","v":""}]
[null,{"$f":"'見積書 (3)'!F49","v":""}]
[48,{"$f":"'見積書 (3)'!F50","v":""},null,null,null,null,null,null,null,null,null,null,null,null,{"$f":"'見積書 (3)'!Q50","v":""},null,{"$f":"'見積書 (3)'!R50","v":""},null,null,{"$f":"'見積書 (3)'!S50","v":""},null,null,null,{"$f":"'見積書 (3)'!T50","v":""},null,null,null,null,{"$f":"IF(Q199=\"\",\"\",0)","v":""},null,null,{"$f":"IF(T199=\"\",\"\",ROUND(T199*AC199,0))","v":""},null,null,null,null,null,null,null,{"$f":"IF(T199=\"\",\"\",ROUND(T199*AK199,0))","v":""},null,null,null,null,{"$f":"IF(Q199=\"\",\"\",ROUND(Q199-AC199-AK199,2))","v":""},null,null,{"$f":"IF(T199=\"\",\"\",(IF(AS199<0,\"出来高が契約を超過\",X199-AN199-AF199)))","v":""}]
[null,{"$f":"'見積書 (3)'!F51","v":""}]
[49,{"$f":"'見積書 (3)'!F52","v":""},null,null,null,null,null,null,null,null,null,null,null,null,{"$f":"'見積書 (3)'!Q52","v":""},null,{"$f":"'見積書 (3)'!R52","v":""},null,null,{"$f":"'見積書 (3)'!S52","v":""},null,null,null,{"$f":"'見積書 (3)'!T52","v":""},null,null,null,null,{"$f":"IF(Q201=\"\",\"\",0)","v":""},null,null,{"$f":"IF(T201=\"\",\"\",ROUND(T201*AC201,0))","v":""},null,null,null,null,null,null,null,{"$f":"IF(T201=\"\",\"\",ROUND(T201*AK201,0))","v":""},null,null,null,null,{"$f":"IF(Q201=\"\",\"\",ROUND(Q201-AC201-AK201,2))","v":""},null,null,{"$f":"IF(T201=\"\",\"\",(IF(AS201<0,\"出来高が契約を超過\",X201-AN201-AF201)))","v":""}]
[null,{"$f":"'見積書 (3)'!F53","v":""}]
[50,{"$f":"'見積書 (3)'!F54","v":""},null,null,null,null,null,null,null,null,null,null,null,null,{"$f":"'見積書 (3)'!Q54","v":""},null,{"$f":"'見積書 (3)'!R54","v":""},null,null,{"$f":"'見積書 (3)'!S54","v":""},null,null,null,{"$f":"'見積書 (3)'!T54","v":""},null,null,null,null,{"$f":"IF(Q203=\"\",\"\",0)","v":""},null,null,{"$f":"IF(T203=\"\",\"\",ROUND(T203*AC203,0))","v":""},null,null,null,null,null,null,null,{"$f":"IF(T203=\"\",\"\",ROUND(T203*AK203,0))","v":""},null,null,null,null,{"$f":"IF(Q203=\"\",\"\",ROUND(Q203-AC203-AK203,2))","v":""},null,null,{"$f":"IF(T203=\"\",\"\",(IF(AS203<0,\"出来高が契約を超過\",X203-AN203-AF203)))","v":""}]
[null,{"$f":"'見積書 (3)'!F55","v":""}]
[51,{"$f":"'見積書 (3)'!F56","v":""},null,null,null,null,null,null,null,null,null,null,null,null,{"$f":"'見積書 (3)'!Q56","v":""},null,{"$f":"'見積書 (3)'!R56","v":""},null,null,{"$f":"'見積書 (3)'!S56","v":""},null,null,null,{"$f":"'見積書 (3)'!T56","v":""},null,null,null,null,{"$f":"IF(Q205=\"\",\"\",0)","v":""},null,null,{"$f":"IF(T205=\"\",\"\",ROUND(T205*AC205,0))","v":""},null,null,null,null,null,null,null,{"$f":"IF(T205=\"\",\"\",ROUND(T205*AK205,0))","v":""},null,null,null,null,{"$f":"IF(Q205=\"\",\"\",ROUND(Q205-AC205-AK205,2))","v":""},null,null,{"$f":"IF(T205=\"\",\"\",(IF(AS205<0,\"出来高が契約を超過\",X205-AN205-AF205)))","v":""}]
[null,{"$f":"'見積書 (3)'!F57","v":""}]
[52,{"$f":"'見積書 (3)'!F58","v":""},null,null,null,null,null,null,null,null,null,null,null,null,{"$f":"'見積書 (3)'!Q58","v":""},null,{"$f":"'見積書 (3)'!R58","v":""},null,null,{"$f":"'見積書 (3)'!S58","v":""},null,null,null,{"$f":"'見積書 (3)'!T58","v":""},null,null,null,null,{"$f":"IF(Q207=\"\",\"\",0)","v":""},null,null,{"$f":"IF(T207=\"\",\"\",ROUND(T207*AC207,0))","v":""},null,null,null,null,null,null,null,{"$f":"IF(T207=\"\",\"\",ROUND(T207*AK207,0))","v":""},null,null,null,null,{"$f":"IF(Q207=\"\",\"\",ROUND(Q207-AC207-AK207,2))","v":""},null,null,{"$f":"IF(T207=\"\",\"\",(IF(AS207<0,\"出来高が契約を超過\",X207-AN207-AF207)))","v":""}]
[null,{"$f":"'見積書 (3)'!F59","v":""}]
[53,{"$f":"'見積書 (3)'!F60","v":""},null,null,null,null,null,null,null,null,null,null,null,null,{"$f":"'見積書 (3)'!Q60","v":""},null,{"$f":"'見積書 (3)'!R60","v":""},null,null,{"$f":"'見積書 (3)'!S60","v":""},null,null,null,{"$f":"'見積書 (3)'!T60","v":""},null,null,null,null,{"$f":"IF(Q209=\"\",\"\",0)","v":""},null,null,{"$f":"IF(T209=\"\",\"\",ROUND(T209*AC209,0))","v":""},null,null,null,null,null,null,null,{"$f":"IF(T209=\"\",\"\",ROUND(T209*AK209,0))","v":""},null,null,null,null,{"$f":"IF(Q209=\"\",\"\",ROUND(Q209-AC209-AK209,2))","v":""},null,null,{"$f":"IF(T209=\"\",\"\",(IF(AS209<0,\"出来高が契約を超過\",X209-AN209-AF209)))","v":""}]
[null,{"$f":"'見積書 (3)'!F61","v":""}]
[54,{"$f":"'見積書 (3)'!F62","v":""},null,null,null,null,null,null,null,null,null,null,null,null,{"$f":"'見積書 (3)'!Q62","v":""},null,{"$f":"'見積書 (3)'!R62","v":""},null,null,{"$f":"'見積書 (3)'!S62","v":""},null,null,null,{"$f":"'見積書 (3)'!T62","v":""},null,null,null,null,{"$f":"IF(Q211=\"\",\"\",0)","v":""},null,null,{"$f":"IF(T211=\"\",\"\",ROUND(T211*AC211,0))","v":""},null,null,null,null,null,null,null,{"$f":"IF(T211=\"\",\"\",ROUND(T211*AK211,0))","v":""},null,null,null,null,{"$f":"IF(Q211=\"\",\"\",ROUND(Q211-AC211-AK211,2))","v":""},null,null,{"$f":"IF(T211=\"\",\"\",(IF(AS211<0,\"出来高が契約を超過\",X211-AN211-AF211)))","v":""}]
[null,{"$f":"'見積書 (3)'!F63","v":""}]
[55,{"$f":"'見積書 (3)'!F64","v":""},null,null,null,null,null,null,null,null,null,null,null,null,{"$f":"'見積書 (3)'!Q64","v":""},null,{"$f":"'見積書 (3)'!R64","v":""},null,null,{"$f":"'見積書 (3)'!S64","v":""},null,null,null,{"$f":"'見積書 (3)'!T64","v":""},null,null,null,null,{"$f":"IF(Q213=\"\",\"\",0)","v":""},null,null,{"$f":"IF(T213=\"\",\"\",ROUND(T213*AC213,0))","v":""},null,null,null,null,null,null,null,{"$f":"IF(T213=\"\",\"\",ROUND(T213*AK213,0))","v":""},null,null,null,null,{"$f":"IF(Q213=\"\",\"\",ROUND(Q213-AC213-AK213,2))","v":""},null,null,{"$f":"IF(T213=\"\",\"\",(IF(AS213<0,\"出来高が契約を超過\",X213-AN213-AF213)))","v":""}]
[null,{"$f":"'見積書 (3)'!F65","v":""}]
[56,{"$f":"'見積書 (3)'!F66","v":""},null,null,null,null,null,null,null,null,null,null,null,null,{"$f":"'見積書 (3)'!Q66","v":""},null,{"$f":"'見積書 (3)'!R66","v":""},null,null,{"$f":"'見積書 (3)'!S66","v":""},null,null,null,{"$f":"'見積書 (3)'!T66","v":""},null,null,null,null,{"$f":"IF(Q215=\"\",\"\",0)","v":""},null,null,{"$f":"IF(T215=\"\",\"\",ROUND(T215*AC215,0))","v":""},null,null,null,null,null,null,null,{"$f":"IF(T215=\"\",\"\",ROUND(T215*AK215,0))","v":""},null,null,null,null,{"$f":"IF(Q215=\"\",\"\",ROUND(Q215-AC215-AK215,2))","v":""},null,null,{"$f":"IF(T215=\"\",\"\",(IF(AS215<0,\"出来高が契約を超過\",X215-AN215-AF215)))","v":""}]
[null,{"$f":"'見積書 (3)'!F67","v":""}]
[null,"小計",null,null,null,null,null,null,null,null,null,null,null,null,null,null,null,null,null,null,null,null,null,{"$f":"SUM(X187:AB216)","v":0},null,null,null,null,null,null,null,{"$f":"SUM(AF187:AJ216)","v":0},null,null,null,null,null,null,null,{"$f":"SUM(AN187:AR216)","v":0},null,null,null,null,null,null,null,{"$f":"X217-AF217-AN217","v":0}]
[]
[]
[]
[]
[null,"請求内訳書（出来高・分割納入用）",null,null,null,null,null,null,null,null,null,null,null,null,null,null,null,null,null,null,null,null,null,null,null,null,null,null,null,null,null,null,null,null,null,null,null,null,null,null,null,null,null,null,null,null,null,null,null,null,"No."]
[]
[]
[]
[]
[]
[]
[]
[]
[]
[null,"製造番号",null,null,null,null,{"$f":"Y22","v":""},null,null,null,null,null,null,null,null,null,null,null,null,null,null,null,null,"※科目"]
[]
[]
[null,"注文番号",null,null,null,null,{"$f":"Y129","v":0},null,null,null,null,null,null,null,null,"第",null,{"$f":"AJ23","v":1},null,"回請求"]
[]
[]
[]
[null,"工　種・品　名",null,null,null,null,null,null,null,null,null,null,null,null,"契　約　金　額",null,null,null,null,null,null,null,null,null,null,null,null,null,"前回までの出来高",null,null,null,null,null,null,null,"今回出来高",null,null,null,null,null,null,null,"残高",null,null,null,null,null,null,null,"備　考"]
[null,null,null,null,null,null,null,null,null,null,null,null,null,null,"単位",null,"数量",null,null,"単価",null,null,null,"金額",null,null,null,null,"数量",null,null,"金額",null,null,null,null,"数量",null,null,"金額",null,null,null,null,"数量",null,null,"金額"]
[57,{"$f":"'見積書 (3)'!F68","v":""},null,null,null,null,null,null,null,null,null,null,null,null,{"$f":"'見積書 (3)'!Q68","v":""},null,{"$f":"'見積書 (3)'!R68","v":""},null,null,{"$f":"'見積書 (3)'!S68","v":""},null,null,null,{"$f":"'見積書 (3)'!T68","v":""},null,null,null,null,{"$f":"IF(Q241=\"\",\"\",0)","v":""},null,null,{"$f":"IF(T241=\"\",\"\",ROUND(T241*AC241,0))","v":""},null,null,null,null,null,null,null,{"$f":"IF(T241=\"\",\"\",ROUND(T241*AK241,0))","v":""},null,null,null,null,{"$f":"IF(Q241=\"\",\"\",ROUND(Q241-AC241-AK241,2))","v":""},null,null,{"$f":"IF(T241=\"\",\"\",(IF(AS241<0,\"出来高が契約を超過\",X241-AN241-AF241)))","v":""}]
[null,{"$f":"'見積書 (3)'!F68","v":""}]
[null,null,null,null,null,null,null,null,null,null,null,null,null,null,null,null,null,null,null,null,null,null,null,null,null,null,null,null,null,null,null,null,null,null,null,null,null,null,null,null,null,null,null,null,null,null,null,""]
[]
[]
[]
[]
[]
[]
[]
[]
[]
[]
[]
[]
[]
[null,"小計",null,null,null,null,null,null,null,null,null,null,null,null,null,null,null,null,null,null,null,null,null,{"$f":"SUM(X241:AB256)","v":0},null,null,null,null,null,null,null,{"$f":"SUM(AF241:AJ256)","v":0},null,null,null,null,null,null,null,{"$f":"SUM(AN241:AR256)","v":0},null,null,null,null,null,null,null,{"$f":"SUM(AV241:AZ256)","v":0}]

{"sheet":"出来高内訳書 (記載例)","index":7,"n_rows":58,"n_cols":53,"rows_kept":58,"cut":false,"hidden":false,"merged":[[1,48,2,48],[4,37,6,42],[7,37,8,54],[17,1,21,5],[17,6,21,15],[27,2,31,5],[27,6,31,15],[27,19,29,27],[27,28,29,31],[29,35,31,40],[21,19,23,23],[21,24,23,31],[9,37,18,54],[4,43,6,47],[4,48,6,54],[6,17,8,19],[11,1,12,14],[14,1,15,2],[14,3,15,8],[14,9,15,10],[14,11,15,17],[0,8,4,33],[0,50,2,50],[1,39,2,41],[1,42,2,43],[1,44,2,44],[1,45,2,45],[1,46,2,46],[1,47,2,47],[22,1,31,1],[22,2,26,5],[22,6,26,15],[22,33,24,34],[22,35,24,36],[30,19,31,23],[30,24,31,27],[22,37,24,40],[24,19,26,23],[24,24,26,31],[26,34,31,34],[26,35,28,40],[33,52,34,54],[34,14,34,15],[34,16,34,18],[34,19,34,22],[34,23,34,27],[34,28,34,30],[34,31,34,35],[34,36,34,38],[34,39,34,43],[33,14,33,27],[33,28,33,35],[33,36,33,43],[36,1,36,13],[34,44,34,46],[34,47,34,51],[35,0,36,0],[35,1,35,13],[35,14,36,15],[35,16,36,18],[35,19,36,22],[35,23,36,27],[35,28,36,30],[35,31,36,35],[33,1,34,13],[33,44,33,51],[37,14,38,15],[37,16,38,18],[37,19,38,22],[37,23,38,27],[35,36,36,38],[35,39,36,43],[35,44,36,46],[35,47,36,51],[35,52,36,54],[39,36,40,38],[39,39,40,43],[39,44,40,46],[39,47,40,51],[39,52,40,54],[40,1,40,13],[37,52,38,54],[38,1,38,13],[39,0,40,0],[39,1,39,13],[39,14,40,15],[39,16,40,18],[39,19,40,22],[39,23,40,27],[39,28,40,30],[39,31,40,35],[37,28,38,30],[37,31,38,35],[37,36,38,38],[37,39,38,43],[37,44,38,46],[37,47,38,51],[37,0,38,0],[37,1,37,13],[44,1,44,13],[41,52,42,54],[42,1,42,13],[43,0,44,0],[43,1,43,13],[43,14,44,15],[43,16,44,18],[43,19,44,22],[43,23,44,27],[43,28,44,30],[43,31,44,35],[41,28,42,30],[41,31,42,35],[41,36,42,38],[41,39,42,43],[41,44,42,46],[41,47,42,51],[41,0,42,0],[41,1,41,13],[41,14,42,15],[41,16,42,18],[41,19,42,22],[41,23,42,27],[45,14,46,15],[45,16,46,18],[45,19,46,22],[45,23,46,27],[43,36,44,38],[43,39,44,43],[43,44,44,46],[43,47,44,51],[43,52,44,54],[47,36,48,38],[47,39,48,43],[47,44,48,46],[47,47,48,51],[47,52,48,54],[48,1,48,13],[45,52,46,54],[46,1,46,13],[47,0,48,0],[47,1,47,13],[47,14,48,15],[47,16,48,18],[47,19,48,22],[47,23,48,27],[47,28,48,30],[47,31,48,35],[45,28,46,30],[45,31,46,35],[45,36,46,38],[45,39,46,43],[45,44,46,46],[45,47,46,51],[45,0,46,0],[45,1,45,13],[52,1,52,13],[49,52,50,54],[50,1,50,13],[51,0,52,0],[51,1,51,13],[51,14,52,15],[51,16,52,18],[51,19,52,22],[51,23,52,27],[51,28,52,30],[51,31,52,35],[49,28,50,30],[49,31,50,35],[49,36,50,38],[49,39,50,43],[49,44,50,46],[49,47,50,51],[49,0,50,0],[49,1,49,13],[49,14,50,15],[49,16,50,18],[49,19,50,22],[49,23,50,27],[53,14,54,15],[53,16,54,18],[53,19,54,22],[53,23,54,27],[51,36,52,38],[51,39,52,43],[51,44,52,46],[51,47,52,51],[51,52,52,54],[55,36,56,38],[55,39,56,43],[55,44,56,46],[55,47,56,51],[55,52,56,54],[56,1,56,13],[53,52,54,54],[54,1,54,13],[55,0,56,0],[55,1,55,13],[55,14,56,15],[55,16,56,18],[55,19,56,22],[55,23,56,27],[55,28,56,30],[55,31,56,35],[53,28,54,30],[53,31,54,35],[53,36,54,38],[53,39,54,43],[53,44,54,46],[53,47,54,51],[53,0,54,0],[53,1,53,13],[57,31,57,35],[57,36,57,38],[57,39,57,43],[57,44,57,46],[57,47,57,51],[57,52,57,54],[57,1,57,13],[57,14,57,15],[57,16,57,18],[57,19,57,22],[57,23,57,27],[57,28,57,30]]}
[null,null,null,null,null,null,null,null,"請 求 書（出来高・分割納入用）",null,null,null,null,null,null,null,null,null,null,null,null,null,null,null,null,null,null,null,null,null,null,null,null,null,null,null,null,null,null,null,null,null,null,null,null,null,null,null,null,null,"No."]
[null,null,null,null,null,null,null,null,null,null,null,null,null,null,null,null,null,null,null,null,null,null,null,null,null,null,null,null,null,null,null,null,null,null,null,null,null,null,null,"日付",null,null,null,null,"年",null,"月",null,"日"]
[]
[]
[null,null,null,null,null,null,null,null,null,null,null,null,null,null,null,null,null,null,null,null,null,null,null,null,null,null,null,null,null,null,null,null,null,null,null,null,null,"請求者住所･氏名･印･電話",null,null,null,null,null,"取引先コード",null,null,null,null,"01234"]
[]
[null,null,null,null,null,null,null,null,null,null,null,null,null,null,null,null,null,"御中"]
[null,null,null,null,null,null,null,null,null,null,null,null,null,null,null,null,null,null,null,null,null,null,null,null,null,null,null,null,null,null,null,null,null,null,null,null,null,"登録番号 T111222333444"]
[]
[]
[]
[null,"下記の通り請求いたします。"]
[]
[]
[null,null,null,"月分請求内訳書",null,null,null,null,null,null,null,"枚 (本用紙を含む)"]
[]
[]
[null,"請 求 金 額",null,null,null,null,1567500]
[]
[]
[]
[null,null,null,null,null,null,null,null,null,null,null,null,null,null,null,null,null,null,null,"製造番号",null,null,null,null,"20160025-00"]
[null,"内　訳","税抜金額",null,null,null,1425000,null,null,null,null,null,null,null,null,null,null,null,null,null,null,null,null,null,null,null,null,null,null,null,null,null,null,"第",null,1,null,"回請求"]
[]
[null,null,null,null,null,null,null,null,null,null,null,null,null,null,null,null,null,null,null,"注文番号"]
[]
[null,null,null,null,null,null,null,null,null,null,null,null,null,null,null,null,null,null,null,null,null,null,null,null,null,null,null,null,null,null,null,null,null,null,"※科目"]
[null,null,"消費税額等",null,null,null,142500,null,null,null,null,null,null,null,null,null,null,null,null,"消費税率",null,null,null,null,null,null,null,null,"10％"]
[]
[]
[]
[]
[]
[null,"工　種・品　名",null,null,null,null,null,null,null,null,null,null,null,null,"契　約　金　額",null,null,null,null,null,null,null,null,null,null,null,null,null,"前回までの出来高",null,null,null,null,null,null,null,"今回出来高",null,null,null,null,null,null,null,"残高",null,null,null,null,null,null,null,"備　考"]
[null,null,null,null,null,null,null,null,null,null,null,null,null,null,"単位",null,"数量",null,null,"単価",null,null,null,"金額",null,null,null,null,"数量",null,null,"金額",null,null,null,null,"数量",null,null,"金額",null,null,null,null,"数量",null,null,"金額"]
[1,"製作費",null,null,null,null,null,null,null,null,null,null,null,null,"式",null,1,null,null,1500000,null,null,null,1500000,null,null,null,null,0,null,null,0,null,null,null,null,0.5,null,null,750000,null,null,null,null,0.5,null,null,750000]
[null,""]
[2,"運送費",null,null,null,null,null,null,null,null,null,null,null,null,"式",null,1,null,null,1500000,null,null,null,1500000,null,null,null,null,0,null,null,0,null,null,null,null,0.5,null,null,750000,null,null,null,null,0.5,null,null,750000]
[null,"本社～現場"]
[3,"品質・工程・調達等管理費",null,null,null,null,null,null,null,null,null,null,null,null,"式",null,1,null,null,20000,null,null,null,20000,null,null,null,null,0,null,null,0,null,null,null,null,0.5,null,null,10000,null,null,null,null,0.5,null,null,10000]
[null,""]
[4,"諸経費",null,null,null,null,null,null,null,null,null,null,null,null,"式",null,1,null,null,30000,null,null,null,30000,null,null,null,null,0,null,null,0,null,null,null,null,0.5,null,null,15000,null,null,null,null,0.5,null,null,15000]
[null,""]
[5,"出精値引き",null,null,null,null,null,null,null,null,null,null,null,null,"式",null,1,null,null,-500000,null,null,null,-500000,null,null,null,null,0,null,null,0,null,null,null,null,0.2,null,null,-100000,null,null,null,null,0.8,null,null,-400000]
[null,""]
[6,"",null,null,null,null,null,null,null,null,null,null,null,null,"",null,"",null,null,"",null,null,null,"",null,null,null,null,"",null,null,"",null,null,null,null,null,null,null,"",null,null,null,null,"",null,null,""]
[null,""]
[7,"",null,null,null,null,null,null,null,null,null,null,null,null,"",null,"",null,null,"",null,null,null,"",null,null,null,null,"",null,null,"",null,null,null,null,null,null,null,"",null,null,null,null,"",null,null,""]
[null,""]
[8,"",null,null,null,null,null,null,null,null,null,null,null,null,"",null,"",null,null,"",null,null,null,"",null,null,null,null,"",null,null,"",null,null,null,null,null,null,null,"",null,null,null,null,"",null,null,""]
[null,""]
[9,"",null,null,null,null,null,null,null,null,null,null,null,null,"",null,"",null,null,"",null,null,null,"",null,null,null,null,"",null,null,"",null,null,null,null,null,null,null,"",null,null,null,null,"",null,null,""]
[null,""]
[10,"",null,null,null,null,null,null,null,null,null,null,null,null,"",null,"",null,null,"",null,null,null,"",null,null,null,null,"",null,null,"",null,null,null,null,null,null,null,"",null,null,null,null,"",null,null,""]
[null,""]
[11,"",null,null,null,null,null,null,null,null,null,null,null,null,"",null,"",null,null,"",null,null,null,"",null,null,null,null,"",null,null,"",null,null,null,null,null,null,null,"",null,null,null,null,"",null,null,""]
[null,""]
[null,"小計",null,null,null,null,null,null,null,null,null,null,null,null,null,null,null,null,null,null,null,null,null,2550000,null,null,null,null,null,null,null,0,null,null,null,null,null,null,null,1425000,null,null,null,null,null,null,null,1125000]

{"sheet":"取込用シート","index":8,"n_rows":58,"n_cols":77,"rows_kept":58,"cut":false,"hidden":true,"merged":[]}
["伝票番号","見積番号","発注日","納期","仕入先コード","仕入先名","製造番号","製造番号枝番","製品名","発注担当コード","発注担当名","支払予定日","備考1","備考2","スタンプ1","スタンプ2","スタンプ3","第２区分","税計算","消費税率","税端数","金額端数","承認","承認依頼","仮伝票","明細で製品を入力する","完納扱いにする","税抜金額","消費税額","合計金額","条件記入1","条件記入2","条件記入3","条件記入4","条件記入5","条件記入6","条件記入7","条件記入8","条件記入9","条件記入10","条件記入11","条件記入12","条件記入13","条件記入14","条件記入15","条件記入16","条件記入17","条件記入18","条件記入19","条件記入20","残管理","システム予約2","システム予約3","No","属性","入荷","原価締","科目コード","科目名","商品コード","商品","仕様 摘要","単位","数量","残","単価","税区分","金額","消費税","明細製造番号","明細製造番号枝番","明細製品名","工種コード","工種名","部門コード","部門名","備考"]
[1,null,{"$f":"入力フォーム!$F$3","v":"00:00:00"},{"$f":"入力フォーム!$B$7","v":"00:00:00"},{"$f":"入力フォーム!$B$3","v":0},null,{"$f":"入力フォーム!$E$9","v":""},{"$f":"入力フォーム!$B$12","v":0},null,{"$f":"入力フォーム!$F$4","v":0},null,null,{"$f":"入力フォーム!$F$6","v":0},{"$f":"入力フォーム!$B$8","v":0},0,0,0,null,1,10,0,0,0,0,0,0,0,null,null,null,null,null,null,null,null,null,null,null,null,null,null,null,null,null,null,null,null,null,null,null,0,null,null,null,0,1,null,{"$f":"入力フォーム!C18","v":0},null,null,{"$f":"入力フォーム!D18","v":0},{"$f":"IF(入力フォーム!E18<>0,入力フォーム!E18,\"\")","v":""},{"$f":"入力フォーム!F18","v":0},{"$f":"入力フォーム!G18","v":0},0,{"$f":"入力フォーム!H18","v":0},0,{"$f":"入力フォーム!I18","v":0},{"$f":"ROUNDDOWN(BP2*10%,0)","v":0},null,null,null,{"$f":"IF(入力フォーム!J18=0,\"\",入力フォーム!J18)","v":""},null,{"$f":"入力フォーム!$F$5","v":0}]
[1,null,{"$f":"入力フォーム!$F$3","v":"00:00:00"},{"$f":"入力フォーム!$B$7","v":"00:00:00"},{"$f":"入力フォーム!$B$3","v":0},null,{"$f":"入力フォーム!$E$9","v":""},{"$f":"入力フォーム!$B$12","v":0},null,{"$f":"入力フォーム!$F$4","v":0},null,null,{"$f":"入力フォーム!$F$6","v":0},{"$f":"入力フォーム!$B$8","v":0},0,0,0,null,1,10,0,0,0,0,0,0,0,null,null,null,null,null,null,null,null,null,null,null,null,null,null,null,null,null,null,null,null,null,null,null,0,null,null,null,0,1,null,{"$f":"入力フォーム!C19","v":0},null,null,{"$f":"入力フォーム!D19","v":0},{"$f":"IF(入力フォーム!E19<>0,入力フォーム!E19,\"\")","v":""},{"$f":"入力フォーム!F19","v":0},{"$f":"入力フォーム!G19","v":0},0,{"$f":"入力フォーム!H19","v":0},0,{"$f":"入力フォーム!I19","v":0},{"$f":"ROUNDDOWN(BP3*10%,0)","v":0},null,null,null,{"$f":"IF(入力フォーム!J19=0,\"\",入力フォーム!J19)","v":""},null,{"$f":"入力フォーム!$F$5","v":0}]
[1,null,{"$f":"入力フォーム!$F$3","v":"00:00:00"},{"$f":"入力フォーム!$B$7","v":"00:00:00"},{"$f":"入力フォーム!$B$3","v":0},null,{"$f":"入力フォーム!$E$9","v":""},{"$f":"入力フォーム!$B$12","v":0},null,{"$f":"入力フォーム!$F$4","v":0},null,null,{"$f":"入力フォーム!$F$6","v":0},{"$f":"入力フォーム!$B$8","v":0},0,0,0,null,1,10,0,0,0,0,0,0,0,null,null,null,null,null,null,null,null,null,null,null,null,null,null,null,null,null,null,null,null,null,null,null,0,null,null,null,0,1,null,{"$f":"入力フォーム!C20","v":0},null,null,{"$f":"入力フォーム!D20","v":0},{"$f":"IF(入力フォーム!E20<>0,入力フォーム!E20,\"\")","v":""},{"$f":"入力フォーム!F20","v":0},{"$f":"入力フォーム!G20","v":0},0,{"$f":"入力フォーム!H20","v":0},0,{"$f":"入力フォーム!I20","v":0},0,null,null,null,{"$f":"IF(入力フォーム!J20=0,\"\",入力フォーム!J20)","v":""},null,{"$f":"入力フォーム!$F$5","v":0}]
[1,null,{"$f":"入力フォーム!$F$3","v":"00:00:00"},{"$f":"入力フォーム!$B$7","v":"00:00:00"},{"$f":"入力フォーム!$B$3","v":0},null,{"$f":"入力フォーム!$E$9","v":""},{"$f":"入力フォーム!$B$12","v":0},null,{"$f":"入力フォーム!$F$4","v":0},null,null,{"$f":"入力フォーム!$F$6","v":0},{"$f":"入力フォーム!$B$8","v":0},0,0,0,null,1,10,0,0,0,0,0,0,0,null,null,null,null,null,null,null,null,null,null,null,null,null,null,null,null,null,null,null,null,null,null,null,0,null,null,null,0,1,null,{"$f":"入力フォーム!C21","v":0},null,null,{"$f":"入力フォーム!D21","v":0},{"$f":"IF(入力フォーム!E21<>0,入力フォーム!E21,\"\")","v":""},{"$f":"入力フォーム!F21","v":0},{"$f":"入力フォーム!G21","v":0},0,{"$f":"入力フォーム!H21","v":0},0,{"$f":"入力フォーム!I21","v":0},0,null,null,null,{"$f":"IF(入力フォーム!J21=0,\"\",入力フォーム!J21)","v":""},null,{"$f":"入力フォーム!$F$5","v":0}]
[1,null,{"$f":"入力フォーム!$F$3","v":"00:00:00"},{"$f":"入力フォーム!$B$7","v":"00:00:00"},{"$f":"入力フォーム!$B$3","v":0},null,{"$f":"入力フォーム!$E$9","v":""},{"$f":"入力フォーム!$B$12","v":0},null,{"$f":"入力フォーム!$F$4","v":0},null,null,{"$f":"入力フォーム!$F$6","v":0},{"$f":"入力フォーム!$B$8","v":0},0,0,0,null,1,10,0,0,0,0,0,0,0,null,null,null,null,null,null,null,null,null,null,null,null,null,null,null,null,null,null,null,null,null,null,null,0,null,null,null,0,1,null,{"$f":"入力フォーム!C22","v":0},null,null,{"$f":"入力フォーム!D22","v":0},{"$f":"IF(入力フォーム!E22<>0,入力フォーム!E22,\"\")","v":""},{"$f":"入力フォーム!F22","v":0},{"$f":"入力フォーム!G22","v":0},0,{"$f":"入力フォーム!H22","v":0},0,{"$f":"入力フォーム!I22","v":0},0,null,null,null,{"$f":"IF(入力フォーム!J22=0,\"\",入力フォーム!J22)","v":""},null,{"$f":"入力フォーム!$F$5","v":0}]
[1,null,{"$f":"入力フォーム!$F$3","v":"00:00:00"},{"$f":"入力フォーム!$B$7","v":"00:00:00"},{"$f":"入力フォーム!$B$3","v":0},null,{"$f":"入力フォーム!$E$9","v":""},{"$f":"入力フォーム!$B$12","v":0},null,{"$f":"入力フォーム!$F$4","v":0},null,null,{"$f":"入力フォーム!$F$6","v":0},{"$f":"入力フォーム!$B$8","v":0},0,0,0,null,1,10,0,0,0,0,0,0,0,null,null,null,null,null,null,null,null,null,null,null,null,null,null,null,null,null,null,null,null,null,null,null,0,null,null,null,0,1,null,{"$f":"入力フォーム!C23","v":0},null,null,{"$f":"入力フォーム!D23","v":0},{"$f":"IF(入力フォーム!E23<>0,入力フォーム!E23,\"\")","v":""},{"$f":"入力フォーム!F23","v":0},{"$f":"入力フォーム!G23","v":0},0,{"$f":"入力フォーム!H23","v":0},0,{"$f":"入力フォーム!I23","v":0},0,null,null,null,{"$f":"IF(入力フォーム!J23=0,\"\",入力フォーム!J23)","v":""},null,{"$f":"入力フォーム!$F$5","v":0}]
[1,null,{"$f":"入力フォーム!$F$3","v":"00:00:00"},{"$f":"入力フォーム!$B$7","v":"00:00:00"},{"$f":"入力フォーム!$B$3","v":0},null,{"$f":"入力フォーム!$E$9","v":""},{"$f":"入力フォーム!$B$12","v":0},null,{"$f":"入力フォーム!$F$4","v":0},null,null,{"$f":"入力フォーム!$F$6","v":0},{"$f":"入力フォーム!$B$8","v":0},0,0,0,null,1,10,0,0,0,0,0,0,0,null,null,null,null,null,null,null,null,null,null,null,null,null,null,null,null,null,null,null,null,null,null,null,0,null,null,null,0,1,null,{"$f":"入力フォーム!C24","v":0},null,null,{"$f":"入力フォーム!D24","v":0},{"$f":"IF(入力フォーム!E24<>0,入力フォーム!E24,\"\")","v":""},{"$f":"入力フォーム!F24","v":0},{"$f":"入力フォーム!G24","v":0},0,{"$f":"入力フォーム!H24","v":0},0,{"$f":"入力フォーム!I24","v":0},0,null,null,null,{"$f":"IF(入力フォーム!J24=0,\"\",入力フォーム!J24)","v":""},null,{"$f":"入力フォーム!$F$5","v":0}]
[1,null,{"$f":"入力フォーム!$F$3","v":"00:00:00"},{"$f":"入力フォーム!$B$7","v":"00:00:00"},{"$f":"入力フォーム!$B$3","v":0},null,{"$f":"入力フォーム!$E$9","v":""},{"$f":"入力フォーム!$B$12","v":0},null,{"$f":"入力フォーム!$F$4","v":0},null,null,{"$f":"入力フォーム!$F$6","v":0},{"$f":"入力フォーム!$B$8","v":0},0,0,0,null,1,10,0,0,0,0,0,0,0,null,null,null,null,null,null,null,null,null,null,null,null,null,null,null,null,null,null,null,null,null,null,null,0,null,null,null,0,1,null,{"$f":"入力フォーム!C25","v":0},null,null,{"$f":"入力フォーム!D25","v":0},{"$f":"IF(入力フォーム!E25<>0,入力フォーム!E25,\"\")","v":""},{"$f":"入力フォーム!F25","v":0},{"$f":"入力フォーム!G25","v":0},0,{"$f":"入力フォーム!H25","v":0},0,{"$f":"入力フォーム!I25","v":0},0,null,null,null,{"$f":"IF(入力フォーム!J25=0,\"\",入力フォーム!J25)","v":""},null,{"$f":"入力フォーム!$F$5","v":0}]
[1,null,{"$f":"入力フォーム!$F$3","v":"00:00:00"},{"$f":"入力フォーム!$B$7","v":"00:00:00"},{"$f":"入力フォーム!$B$3","v":0},null,{"$f":"入力フォーム!$E$9","v":""},{"$f":"入力フォーム!$B$12","v":0},null,{"$f":"入力フォーム!$F$4","v":0},null,null,{"$f":"入力フォーム!$F$6","v":0},{"$f":"入力フォーム!$B$8","v":0},0,0,0,null,1,10,0,0,0,0,0,0,0,null,null,null,null,null,null,null,null,null,null,null,null,null,null,null,null,null,null,null,null,null,null,null,0,null,null,null,0,1,null,{"$f":"入力フォーム!C26","v":0},null,null,{"$f":"入力フォーム!D26","v":0},{"$f":"IF(入力フォーム!E26<>0,入力フォーム!E26,\"\")","v":""},{"$f":"入力フォーム!F26","v":0},{"$f":"入力フォーム!G26","v":0},0,{"$f":"入力フォーム!H26","v":0},0,{"$f":"入力フォーム!I26","v":0},0,null,null,null,{"$f":"IF(入力フォーム!J26=0,\"\",入力フォーム!J26)","v":""},null,{"$f":"入力フォーム!$F$5","v":0}]
[1,null,{"$f":"入力フォーム!$F$3","v":"00:00:00"},{"$f":"入力フォーム!$B$7","v":"00:00:00"},{"$f":"入力フォーム!$B$3","v":0},null,{"$f":"入力フォーム!$E$9","v":""},{"$f":"入力フォーム!$B$12","v":0},null,{"$f":"入力フォーム!$F$4","v":0},null,null,{"$f":"入力フォーム!$F$6","v":0},{"$f":"入力フォーム!$B$8","v":0},0,0,0,null,1,10,0,0,0,0,0,0,0,null,null,null,null,null,null,null,null,null,null,null,null,null,null,null,null,null,null,null,null,null,null,null,0,null,null,null,0,1,null,{"$f":"入力フォーム!C27","v":0},null,null,{"$f":"入力フォーム!D27","v":0},{"$f":"IF(入力フォーム!E27<>0,入力フォーム!E27,\"\")","v":""},{"$f":"入力フォーム!F27","v":0},{"$f":"入力フォーム!G27","v":0},0,{"$f":"入力フォーム!H27","v":0},0,{"$f":"入力フォーム!I27","v":0},0,null,null,null,{"$f":"IF(入力フォーム!J27=0,\"\",入力フォーム!J27)","v":""},null,{"$f":"入力フォーム!$F$5","v":0}]
[1,null,{"$f":"入力フォーム!$F$3","v":"00:00:00"},{"$f":"入力フォーム!$B$7","v":"00:00:00"},{"$f":"入力フォーム!$B$3","v":0},null,{"$f":"入力フォーム!$E$9","v":""},{"$f":"入力フォーム!$B$12","v":0},null,{"$f":"入力フォーム!$F$4","v":0},null,null,{"$f":"入力フォーム!$F$6","v":0},{"$f":"入力フォーム!$B$8","v":0},0,0,0,null,1,10,0,0,0,0,0,0,0,null,null,null,null,null,null,null,null,null,null,null,null,null,null,null,null,null,null,null,null,null,null,null,0,null,null,null,0,1,null,{"$f":"入力フォーム!C28","v":0},null,null,{"$f":"入力フォーム!D28","v":0},{"$f":"IF(入力フォーム!E28<>0,入力フォーム!E28,\"\")","v":""},{"$f":"入力フォーム!F28","v":0},{"$f":"入力フォーム!G28","v":0},0,{"$f":"入力フォーム!H28","v":0},0,{"$f":"入力フォーム!I28","v":0},0,null,null,null,{"$f":"IF(入力フォーム!J28=0,\"\",入力フォーム!J28)","v":""},null,{"$f":"入力フォーム!$F$5","v":0}]
[1,null,{"$f":"入力フォーム!$F$3","v":"00:00:00"},{"$f":"入力フォーム!$B$7","v":"00:00:00"},{"$f":"入力フォーム!$B$3","v":0},null,{"$f":"入力フォーム!$E$9","v":""},{"$f":"入力フォーム!$B$12","v":0},null,{"$f":"入力フォーム!$F$4","v":0},null,null,{"$f":"入力フォーム!$F$6","v":0},{"$f":"入力フォーム!$B$8","v":0},0,0,0,null,1,10,0,0,0,0,0,0,0,null,null,null,null,null,null,null,null,null,null,null,null,null,null,null,null,null,null,null,null,null,null,null,0,null,null,null,0,1,null,{"$f":"入力フォーム!C29","v":0},null,null,{"$f":"入力フォーム!D29","v":0},{"$f":"IF(入力フォーム!E29<>0,入力フォーム!E29,\"\")","v":""},{"$f":"入力フォーム!F29","v":0},{"$f":"入力フォーム!G29","v":0},0,{"$f":"入力フォーム!H29","v":0},0,{"$f":"入力フォーム!I29","v":0},0,null,null,null,{"$f":"IF(入力フォーム!J29=0,\"\",入力フォーム!J29)","v":""},null,{"$f":"入力フォーム!$F$5","v":0}]
[1,null,{"$f":"入力フォーム!$F$3","v":"00:00:00"},{"$f":"入力フォーム!$B$7","v":"00:00:00"},{"$f":"入力フォーム!$B$3","v":0},null,{"$f":"入力フォーム!$E$9","v":""},{"$f":"入力フォーム!$B$12","v":0},null,{"$f":"入力フォーム!$F$4","v":0},null,null,{"$f":"入力フォーム!$F$6","v":0},{"$f":"入力フォーム!$B$8","v":0},0,0,0,null,1,10,0,0,0,0,0,0,0,null,null,null,null,null,null,null,null,null,null,null,null,null,null,null,null,null,null,null,null,null,null,null,0,null,null,null,0,1,null,{"$f":"入力フォーム!C30","v":0},null,null,{"$f":"入力フォーム!D30","v":0},{"$f":"IF(入力フォーム!E30<>0,入力フォーム!E30,\"\")","v":""},{"$f":"入力フォーム!F30","v":0},{"$f":"入力フォーム!G30","v":0},0,{"$f":"入力フォーム!H30","v":0},0,{"$f":"入力フォーム!I30","v":0},0,null,null,null,{"$f":"IF(入力フォーム!J30=0,\"\",入力フォーム!J30)","v":""},null,{"$f":"入力フォーム!$F$5","v":0}]
[1,null,{"$f":"入力フォーム!$F$3","v":"00:00:00"},{"$f":"入力フォーム!$B$7","v":"00:00:00"},{"$f":"入力フォーム!$B$3","v":0},null,{"$f":"入力フォーム!$E$9","v":""},{"$f":"入力フォーム!$B$12","v":0},null,{"$f":"入力フォーム!$F$4","v":0},null,null,{"$f":"入力フォーム!$F$6","v":0},{"$f":"入力フォーム!$B$8","v":0},0,0,0,null,1,10,0,0,0,0,0,0,0,null,null,null,null,null,null,null,null,null,null,null,null,null,null,null,null,null,null,null,null,null,null,null,0,null,null,null,0,1,null,{"$f":"入力フォーム!C31","v":0},null,null,{"$f":"入力フォーム!D31","v":0},{"$f":"IF(入力フォーム!E31<>0,入力フォーム!E31,\"\")","v":""},{"$f":"入力フォーム!F31","v":0},{"$f":"入力フォーム!G31","v":0},0,{"$f":"入力フォーム!H31","v":0},0,{"$f":"入力フォーム!I31","v":0},0,null,null,null,{"$f":"IF(入力フォーム!J31=0,\"\",入力フォーム!J31)","v":""},null,{"$f":"入力フォーム!$F$5","v":0}]
[1,null,{"$f":"入力フォーム!$F$3","v":"00:00:00"},{"$f":"入力フォーム!$B$7","v":"00:00:00"},{"$f":"入力フォーム!$B$3","v":0},null,{"$f":"入力フォーム!$E$9","v":""},{"$f":"入力フォーム!$B$12","v":0},null,{"$f":"入力フォーム!$F$4","v":0},null,null,{"$f":"入力フォーム!$F$6","v":0},{"$f":"入力フォーム!$B$8","v":0},0,0,0,null,1,10,0,0,0,0,0,0,0,null,null,null,null,null,null,null,null,null,null,null,null,null,null,null,null,null,null,null,null,null,null,null,0,null,null,null,0,1,null,{"$f":"入力フォーム!C32","v":0},null,null,{"$f":"入力フォーム!D32","v":0},{"$f":"IF(入力フォーム!E32<>0,入力フォーム!E32,\"\")","v":""},{"$f":"入力フォーム!F32","v":0},{"$f":"入力フォーム!G32","v":0},0,{"$f":"入力フォーム!H32","v":0},0,{"$f":"入力フォーム!I32","v":0},0,null,null,null,{"$f":"IF(入力フォーム!J32=0,\"\",入力フォーム!J32)","v":""},null,{"$f":"入力フォーム!$F$5","v":0}]
[1,null,{"$f":"入力フォーム!$F$3","v":"00:00:00"},{"$f":"入力フォーム!$B$7","v":"00:00:00"},{"$f":"入力フォーム!$B$3","v":0},null,{"$f":"入力フォーム!$E$9","v":""},{"$f":"入力フォーム!$B$12","v":0},null,{"$f":"入力フォーム!$F$4","v":0},null,null,{"$f":"入力フォーム!$F$6","v":0},{"$f":"入力フォーム!$B$8","v":0},0,0,0,null,1,10,0,0,0,0,0,0,0,null,null,null,null,null,null,null,null,null,null,null,null,null,null,null,null,null,null,null,null,null,null,null,0,null,null,null,0,1,null,{"$f":"入力フォーム!C33","v":0},null,null,{"$f":"入力フォーム!D33","v":0},{"$f":"IF(入力フォーム!E33<>0,入力フォーム!E33,\"\")","v":""},{"$f":"入力フォーム!F33","v":0},{"$f":"入力フォーム!G33","v":0},0,{"$f":"入力フォーム!H33","v":0},0,{"$f":"入力フォーム!I33","v":0},0,null,null,null,{"$f":"IF(入力フォーム!J33=0,\"\",入力フォーム!J33)","v":""},null,{"$f":"入力フォーム!$F$5","v":0}]
[1,null,{"$f":"入力フォーム!$F$3","v":"00:00:00"},{"$f":"入力フォーム!$B$7","v":"00:00:00"},{"$f":"入力フォーム!$B$3","v":0},null,{"$f":"入力フォーム!$E$9","v":""},{"$f":"入力フォーム!$B$12","v":0},null,{"$f":"入力フォーム!$F$4","v":0},null,null,{"$f":"入力フォーム!$F$6","v":0},{"$f":"入力フォーム!$B$8","v":0},0,0,0,null,1,10,0,0,0,0,0,0,0,null,null,null,null,null,null,null,null,null,null,null,null,null,null,null,null,null,null,null,null,null,null,null,0,null,null,null,0,1,null,{"$f":"入力フォーム!C34","v":0},null,null,{"$f":"入力フォーム!D34","v":0},{"$f":"IF(入力フォーム!E34<>0,入力フォーム!E34,\"\")","v":""},{"$f":"入力フォーム!F34","v":0},{"$f":"入力フォーム!G34","v":0},0,{"$f":"入力フォーム!H34","v":0},0,{"$f":"入力フォーム!I34","v":0},0,null,null,null,{"$f":"IF(入力フォーム!J34=0,\"\",入力フォーム!J34)","v":""},null,{"$f":"入力フォーム!$F$5","v":0}]
[1,null,{"$f":"入力フォーム!$F$3","v":"00:00:00"},{"$f":"入力フォーム!$B$7","v":"00:00:00"},{"$f":"入力フォーム!$B$3","v":0},null,{"$f":"入力フォーム!$E$9","v":""},{"$f":"入力フォーム!$B$12","v":0},null,{"$f":"入力フォーム!$F$4","v":0},null,null,{"$f":"入力フォーム!$F$6","v":0},{"$f":"入力フォーム!$B$8","v":0},0,0,0,null,1,10,0,0,0,0,0,0,0,null,null,null,null,null,null,null,null,null,null,null,null,null,null,null,null,null,null,null,null,null,null,null,0,null,null,null,0,1,null,{"$f":"入力フォーム!C35","v":0},null,null,{"$f":"入力フォーム!D35","v":0},{"$f":"IF(入力フォーム!E35<>0,入力フォーム!E35,\"\")","v":""},{"$f":"入力フォーム!F35","v":0},{"$f":"入力フォーム!G35","v":0},0,{"$f":"入力フォーム!H35","v":0},0,{"$f":"入力フォーム!I35","v":0},0,null,null,null,{"$f":"IF(入力フォーム!J35=0,\"\",入力フォーム!J35)","v":""},null,{"$f":"入力フォーム!$F$5","v":0}]
[1,null,{"$f":"入力フォーム!$F$3","v":"00:00:00"},{"$f":"入力フォーム!$B$7","v":"00:00:00"},{"$f":"入力フォーム!$B$3","v":0},null,{"$f":"入力フォーム!$E$9","v":""},{"$f":"入力フォーム!$B$12","v":0},null,{"$f":"入力フォーム!$F$4","v":0},null,null,{"$f":"入力フォーム!$F$6","v":0},{"$f":"入力フォーム!$B$8","v":0},0,0,0,null,1,10,0,0,0,0,0,0,0,null,null,null,null,null,null,null,null,null,null,null,null,null,null,null,null,null,null,null,null,null,null,null,0,null,null,null,0,1,null,{"$f":"入力フォーム!C36","v":0},null,null,{"$f":"入力フォーム!D36","v":0},{"$f":"IF(入力フォーム!E36<>0,入力フォーム!E36,\"\")","v":""},{"$f":"入力フォーム!F36","v":0},{"$f":"入力フォーム!G36","v":0},0,{"$f":"入力フォーム!H36","v":0},0,{"$f":"入力フォーム!I36","v":0},0,null,null,null,{"$f":"IF(入力フォーム!J36=0,\"\",入力フォーム!J36)","v":""},null,{"$f":"入力フォーム!$F$5","v":0}]
[1,null,{"$f":"入力フォーム!$F$3","v":"00:00:00"},{"$f":"入力フォーム!$B$7","v":"00:00:00"},{"$f":"入力フォーム!$B$3","v":0},null,{"$f":"入力フォーム!$E$9","v":""},{"$f":"入力フォーム!$B$12","v":0},null,{"$f":"入力フォーム!$F$4","v":0},null,null,{"$f":"入力フォーム!$F$6","v":0},{"$f":"入力フォーム!$B$8","v":0},0,0,0,null,1,10,0,0,0,0,0,0,0,null,null,null,null,null,null,null,null,null,null,null,null,null,null,null,null,null,null,null,null,null,null,null,0,null,null,null,0,1,null,{"$f":"入力フォーム!C37","v":0},null,null,{"$f":"入力フォーム!D37","v":0},{"$f":"IF(入力フォーム!E37<>0,入力フォーム!E37,\"\")","v":""},{"$f":"入力フォーム!F37","v":0},{"$f":"入力フォーム!G37","v":0},0,{"$f":"入力フォーム!H37","v":0},0,{"$f":"入力フォーム!I37","v":0},0,null,null,null,{"$f":"IF(入力フォーム!J37=0,\"\",入力フォーム!J37)","v":""},null,{"$f":"入力フォーム!$F$5","v":0}]
[1,null,{"$f":"入力フォーム!$F$3","v":"00:00:00"},{"$f":"入力フォーム!$B$7","v":"00:00:00"},{"$f":"入力フォーム!$B$3","v":0},null,{"$f":"入力フォーム!$E$9","v":""},{"$f":"入力フォーム!$B$12","v":0},null,{"$f":"入力フォーム!$F$4","v":0},null,null,{"$f":"入力フォーム!$F$6","v":0},{"$f":"入力フォーム!$B$8","v":0},0,0,0,null,1,10,0,0,0,0,0,0,0,null,null,null,null,null,null,null,null,null,null,null,null,null,null,null,null,null,null,null,null,null,null,null,0,null,null,null,0,1,null,{"$f":"入力フォーム!C38","v":0},null,null,{"$f":"入力フォーム!D38","v":0},{"$f":"IF(入力フォーム!E38<>0,入力フォーム!E38,\"\")","v":""},{"$f":"入力フォーム!F38","v":0},{"$f":"入力フォーム!G38","v":0},0,{"$f":"入力フォーム!H38","v":0},0,{"$f":"入力フォーム!I38","v":0},0,null,null,null,{"$f":"IF(入力フォーム!J38=0,\"\",入力フォーム!J38)","v":""},null,{"$f":"入力フォーム!$F$5","v":0}]
[1,null,{"$f":"入力フォーム!$F$3","v":"00:00:00"},{"$f":"入力フォーム!$B$7","v":"00:00:00"},{"$f":"入力フォーム!$B$3","v":0},null,{"$f":"入力フォーム!$E$9","v":""},{"$f":"入力フォーム!$B$12","v":0},null,{"$f":"入力フォーム!$F$4","v":0},null,null,{"$f":"入力フォーム!$F$6","v":0},{"$f":"入力フォーム!$B$8","v":0},0,0,0,null,1,10,0,0,0,0,0,0,0,null,null,null,null,null,null,null,null,null,null,null,null,null,null,null,null,null,null,null,null,null,null,null,0,null,null,null,0,1,null,{"$f":"入力フォーム!C39","v":0},null,null,{"$f":"入力フォーム!D39","v":0},{"$f":"IF(入力フォーム!E39<>0,入力フォーム!E39,\"\")","v":""},{"$f":"入力フォーム!F39","v":0},{"$f":"入力フォーム!G39","v":0},0,{"$f":"入力フォーム!H39","v":0},0,{"$f":"入力フォーム!I39","v":0},0,null,null,null,{"$f":"IF(入力フォーム!J39=0,\"\",入力フォーム!J39)","v":""},null,{"$f":"入力フォーム!$F$5","v":0}]
[1,null,{"$f":"入力フォーム!$F$3","v":"00:00:00"},{"$f":"入力フォーム!$B$7","v":"00:00:00"},{"$f":"入力フォーム!$B$3","v":0},null,{"$f":"入力フォーム!$E$9","v":""},{"$f":"入力フォーム!$B$12","v":0},null,{"$f":"入力フォーム!$F$4","v":0},null,null,{"$f":"入力フォーム!$F$6","v":0},{"$f":"入力フォーム!$B$8","v":0},0,0,0,null,1,10,0,0,0,0,0,0,0,null,null,null,null,null,null,null,null,null,null,null,null,null,null,null,null,null,null,null,null,null,null,null,0,null,null,null,0,1,null,{"$f":"入力フォーム!C40","v":0},null,null,{"$f":"入力フォーム!D40","v":0},{"$f":"IF(入力フォーム!E40<>0,入力フォーム!E40,\"\")","v":""},{"$f":"入力フォーム!F40","v":0},{"$f":"入力フォーム!G40","v":0},0,{"$f":"入力フォーム!H40","v":0},0,{"$f":"入力フォーム!I40","v":0},0,null,null,null,{"$f":"IF(入力フォーム!J40=0,\"\",入力フォーム!J40)","v":""},null,{"$f":"入力フォーム!$F$5","v":0}]
[1,null,{"$f":"入力フォーム!$F$3","v":"00:00:00"},{"$f":"入力フォーム!$B$7","v":"00:00:00"},{"$f":"入力フォーム!$B$3","v":0},null,{"$f":"入力フォーム!$E$9","v":""},{"$f":"入力フォーム!$B$12","v":0},null,{"$f":"入力フォーム!$F$4","v":0},null,null,{"$f":"入力フォーム!$F$6","v":0},{"$f":"入力フォーム!$B$8","v":0},0,0,0,null,1,10,0,0,0,0,0,0,0,null,null,null,null,null,null,null,null,null,null,null,null,null,null,null,null,null,null,null,null,null,null,null,0,null,null,null,0,1,null,{"$f":"入力フォーム!C41","v":0},null,null,{"$f":"入力フォーム!D41","v":0},{"$f":"IF(入力フォーム!E41<>0,入力フォーム!E41,\"\")","v":""},{"$f":"入力フォーム!F41","v":0},{"$f":"入力フォーム!G41","v":0},0,{"$f":"入力フォーム!H41","v":0},0,{"$f":"入力フォーム!I41","v":0},0,null,null,null,{"$f":"IF(入力フォーム!J41=0,\"\",入力フォーム!J41)","v":""},null,{"$f":"入力フォーム!$F$5","v":0}]
[1,null,{"$f":"入力フォーム!$F$3","v":"00:00:00"},{"$f":"入力フォーム!$B$7","v":"00:00:00"},{"$f":"入力フォーム!$B$3","v":0},null,{"$f":"入力フォーム!$E$9","v":""},{"$f":"入力フォーム!$B$12","v":0},null,{"$f":"入力フォーム!$F$4","v":0},null,null,{"$f":"入力フォーム!$F$6","v":0},{"$f":"入力フォーム!$B$8","v":0},0,0,0,null,1,10,0,0,0,0,0,0,0,null,null,null,null,null,null,null,null,null,null,null,null,null,null,null,null,null,null,null,null,null,null,null,0,null,null,null,0,1,null,{"$f":"入力フォーム!C42","v":0},null,null,{"$f":"入力フォーム!D42","v":0},{"$f":"IF(入力フォーム!E42<>0,入力フォーム!E42,\"\")","v":""},{"$f":"入力フォーム!F42","v":0},{"$f":"入力フォーム!G42","v":0},0,{"$f":"入力フォーム!H42","v":0},0,{"$f":"入力フォーム!I42","v":0},0,null,null,null,{"$f":"IF(入力フォーム!J42=0,\"\",入力フォーム!J42)","v":""},null,{"$f":"入力フォーム!$F$5","v":0}]
[1,null,{"$f":"入力フォーム!$F$3","v":"00:00:00"},{"$f":"入力フォーム!$B$7","v":"00:00:00"},{"$f":"入力フォーム!$B$3","v":0},null,{"$f":"入力フォーム!$E$9","v":""},{"$f":"入力フォーム!$B$12","v":0},null,{"$f":"入力フォーム!$F$4","v":0},null,null,{"$f":"入力フォーム!$F$6","v":0},{"$f":"入力フォーム!$B$8","v":0},0,0,0,null,1,10,0,0,0,0,0,0,0,null,null,null,null,null,null,null,null,null,null,null,null,null,null,null,null,null,null,null,null,null,null,null,0,null,null,null,0,1,null,{"$f":"入力フォーム!C43","v":0},null,null,{"$f":"入力フォーム!D43","v":0},{"$f":"IF(入力フォーム!E43<>0,入力フォーム!E43,\"\")","v":""},{"$f":"入力フォーム!F43","v":0},{"$f":"入力フォーム!G43","v":0},0,{"$f":"入力フォーム!H43","v":0},0,{"$f":"入力フォーム!I43","v":0},0,null,null,null,{"$f":"IF(入力フォーム!J43=0,\"\",入力フォーム!J43)","v":""},null,{"$f":"入力フォーム!$F$5","v":0}]
[1,null,{"$f":"入力フォーム!$F$3","v":"00:00:00"},{"$f":"入力フォーム!$B$7","v":"00:00:00"},{"$f":"入力フォーム!$B$3","v":0},null,{"$f":"入力フォーム!$E$9","v":""},{"$f":"入力フォーム!$B$12","v":0},null,{"$f":"入力フォーム!$F$4","v":0},null,null,{"$f":"入力フォーム!$F$6","v":0},{"$f":"入力フォーム!$B$8","v":0},0,0,0,null,1,10,0,0,0,0,0,0,0,null,null,null,null,null,null,null,null,null,null,null,null,null,null,null,null,null,null,null,null,null,null,null,0,null,null,null,0,1,null,{"$f":"入力フォーム!C44","v":0},null,null,{"$f":"入力フォーム!D44","v":0},{"$f":"IF(入力フォーム!E44<>0,入力フォーム!E44,\"\")","v":""},{"$f":"入力フォーム!F44","v":0},{"$f":"入力フォーム!G44","v":0},0,{"$f":"入力フォーム!H44","v":0},0,{"$f":"入力フォーム!I44","v":0},0,null,null,null,{"$f":"IF(入力フォーム!J44=0,\"\",入力フォーム!J44)","v":""},null,{"$f":"入力フォーム!$F$5","v":0}]
[1,null,{"$f":"入力フォーム!$F$3","v":"00:00:00"},{"$f":"入力フォーム!$B$7","v":"00:00:00"},{"$f":"入力フォーム!$B$3","v":0},null,{"$f":"入力フォーム!$E$9","v":""},{"$f":"入力フォーム!$B$12","v":0},null,{"$f":"入力フォーム!$F$4","v":0},null,null,{"$f":"入力フォーム!$F$6","v":0},{"$f":"入力フォーム!$B$8","v":0},0,0,0,null,1,10,0,0,0,0,0,0,0,null,null,null,null,null,null,null,null,null,null,null,null,null,null,null,null,null,null,null,null,null,null,null,0,null,null,null,0,1,null,{"$f":"入力フォーム!C45","v":0},null,null,{"$f":"入力フォーム!D45","v":0},{"$f":"IF(入力フォーム!E45<>0,入力フォーム!E45,\"\")","v":""},{"$f":"入力フォーム!F45","v":0},{"$f":"入力フォーム!G45","v":0},0,{"$f":"入力フォーム!H45","v":0},0,{"$f":"入力フォーム!I45","v":0},0,null,null,null,{"$f":"IF(入力フォーム!J45=0,\"\",入力フォーム!J45)","v":""},null,{"$f":"入力フォーム!$F$5","v":0}]
[1,null,{"$f":"入力フォーム!$F$3","v":"00:00:00"},{"$f":"入力フォーム!$B$7","v":"00:00:00"},{"$f":"入力フォーム!$B$3","v":0},null,{"$f":"入力フォーム!$E$9","v":""},{"$f":"入力フォーム!$B$12","v":0},null,{"$f":"入力フォーム!$F$4","v":0},null,null,{"$f":"入力フォーム!$F$6","v":0},{"$f":"入力フォーム!$B$8","v":0},0,0,0,null,1,10,0,0,0,0,0,0,0,null,null,null,null,null,null,null,null,null,null,null,null,null,null,null,null,null,null,null,null,null,null,null,0,null,null,null,0,1,null,{"$f":"入力フォーム!C46","v":0},null,null,{"$f":"入力フォーム!D46","v":0},{"$f":"IF(入力フォーム!E46<>0,入力フォーム!E46,\"\")","v":""},{"$f":"入力フォーム!F46","v":0},{"$f":"入力フォーム!G46","v":0},0,{"$f":"入力フォーム!H46","v":0},0,{"$f":"入力フォーム!I46","v":0},0,null,null,null,{"$f":"IF(入力フォーム!J46=0,\"\",入力フォーム!J46)","v":""},null,{"$f":"入力フォーム!$F$5","v":0}]
[1,null,{"$f":"入力フォーム!$F$3","v":"00:00:00"},{"$f":"入力フォーム!$B$7","v":"00:00:00"},{"$f":"入力フォーム!$B$3","v":0},null,{"$f":"入力フォーム!$E$9","v":""},{"$f":"入力フォーム!$B$12","v":0},null,{"$f":"入力フォーム!$F$4","v":0},null,null,{"$f":"入力フォーム!$F$6","v":0},{"$f":"入力フォーム!$B$8","v":0},0,0,0,null,1,10,0,0,0,0,0,0,0,null,null,null,null,null,null,null,null,null,null,null,null,null,null,null,null,null,null,null,null,null,null,null,0,null,null,null,0,1,null,{"$f":"入力フォーム!C47","v":0},null,null,{"$f":"入力フォーム!D47","v":0},{"$f":"IF(入力フォーム!E47<>0,入力フォーム!E47,\"\")","v":""},{"$f":"入力フォーム!F47","v":0},{"$f":"入力フォーム!G47","v":0},0,{"$f":"入力フォーム!H47","v":0},0,{"$f":"入力フォーム!I47","v":0},0,null,null,null,{"$f":"IF(入力フォーム!J47=0,\"\",入力フォーム!J47)","v":""},null,{"$f":"入力フォーム!$F$5","v":0}]
[1,null,{"$f":"入力フォーム!$F$3","v":"00:00:00"},{"$f":"入力フォーム!$B$7","v":"00:00:00"},{"$f":"入力フォーム!$B$3","v":0},null,{"$f":"入力フォーム!$E$9","v":""},{"$f":"入力フォーム!$B$12","v":0},null,{"$f":"入力フォーム!$F$4","v":0},null,null,{"$f":"入力フォーム!$F$6","v":0},{"$f":"入力フォーム!$B$8","v":0},0,0,0,null,1,10,0,0,0,0,0,0,0,null,null,null,null,null,null,null,null,null,null,null,null,null,null,null,null,null,null,null,null,null,null,null,0,null,null,null,0,1,null,{"$f":"入力フォーム!C48","v":0},null,null,{"$f":"入力フォーム!D48","v":0},{"$f":"IF(入力フォーム!E48<>0,入力フォーム!E48,\"\")","v":""},{"$f":"入力フォーム!F48","v":0},{"$f":"入力フォーム!G48","v":0},0,{"$f":"入力フォーム!H48","v":0},0,{"$f":"入力フォーム!I48","v":0},0,null,null,null,{"$f":"IF(入力フォーム!J48=0,\"\",入力フォーム!J48)","v":""},null,{"$f":"入力フォーム!$F$5","v":0}]
[1,null,{"$f":"入力フォーム!$F$3","v":"00:00:00"},{"$f":"入力フォーム!$B$7","v":"00:00:00"},{"$f":"入力フォーム!$B$3","v":0},null,{"$f":"入力フォーム!$E$9","v":""},{"$f":"入力フォーム!$B$12","v":0},null,{"$f":"入力フォーム!$F$4","v":0},null,null,{"$f":"入力フォーム!$F$6","v":0},{"$f":"入力フォーム!$B$8","v":0},0,0,0,null,1,10,0,0,0,0,0,0,0,null,null,null,null,null,null,null,null,null,null,null,null,null,null,null,null,null,null,null,null,null,null,null,0,null,null,null,0,1,null,{"$f":"入力フォーム!C49","v":0},null,null,{"$f":"入力フォーム!D49","v":0},{"$f":"IF(入力フォーム!E49<>0,入力フォーム!E49,\"\")","v":""},{"$f":"入力フォーム!F49","v":0},{"$f":"入力フォーム!G49","v":0},0,{"$f":"入力フォーム!H49","v":0},0,{"$f":"入力フォーム!I49","v":0},0,null,null,null,{"$f":"IF(入力フォーム!J49=0,\"\",入力フォーム!J49)","v":""},null,{"$f":"入力フォーム!$F$5","v":0}]
[1,null,{"$f":"入力フォーム!$F$3","v":"00:00:00"},{"$f":"入力フォーム!$B$7","v":"00:00:00"},{"$f":"入力フォーム!$B$3","v":0},null,{"$f":"入力フォーム!$E$9","v":""},{"$f":"入力フォーム!$B$12","v":0},null,{"$f":"入力フォーム!$F$4","v":0},null,null,{"$f":"入力フォーム!$F$6","v":0},{"$f":"入力フォーム!$B$8","v":0},0,0,0,null,1,10,0,0,0,0,0,0,0,null,null,null,null,null,null,null,null,null,null,null,null,null,null,null,null,null,null,null,null,null,null,null,0,null,null,null,0,1,null,{"$f":"入力フォーム!C50","v":0},null,null,{"$f":"入力フォーム!D50","v":0},{"$f":"IF(入力フォーム!E50<>0,入力フォーム!E50,\"\")","v":""},{"$f":"入力フォーム!F50","v":0},{"$f":"入力フォーム!G50","v":0},0,{"$f":"入力フォーム!H50","v":0},0,{"$f":"入力フォーム!I50","v":0},0,null,null,null,{"$f":"IF(入力フォーム!J50=0,\"\",入力フォーム!J50)","v":""},null,{"$f":"入力フォーム!$F$5","v":0}]
[1,null,{"$f":"入力フォーム!$F$3","v":"00:00:00"},{"$f":"入力フォーム!$B$7","v":"00:00:00"},{"$f":"入力フォーム!$B$3","v":0},null,{"$f":"入力フォーム!$E$9","v":""},{"$f":"入力フォーム!$B$12","v":0},null,{"$f":"入力フォーム!$F$4","v":0},null,null,{"$f":"入力フォーム!$F$6","v":0},{"$f":"入力フォーム!$B$8","v":0},0,0,0,null,1,10,0,0,0,0,0,0,0,null,null,null,null,null,null,null,null,null,null,null,null,null,null,null,null,null,null,null,null,null,null,null,0,null,null,null,0,1,null,{"$f":"入力フォーム!C51","v":0},null,null,{"$f":"入力フォーム!D51","v":0},{"$f":"IF(入力フォーム!E51<>0,入力フォーム!E51,\"\")","v":""},{"$f":"入力フォーム!F51","v":0},{"$f":"入力フォーム!G51","v":0},0,{"$f":"入力フォーム!H51","v":0},0,{"$f":"入力フォーム!I51","v":0},0,null,null,null,{"$f":"IF(入力フォーム!J51=0,\"\",入力フォーム!J51)","v":""},null,{"$f":"入力フォーム!$F$5","v":0}]
[1,null,{"$f":"入力フォーム!$F$3","v":"00:00:00"},{"$f":"入力フォーム!$B$7","v":"00:00:00"},{"$f":"入力フォーム!$B$3","v":0},null,{"$f":"入力フォーム!$E$9","v":""},{"$f":"入力フォーム!$B$12","v":0},null,{"$f":"入力フォーム!$F$4","v":0},null,null,{"$f":"入力フォーム!$F$6","v":0},{"$f":"入力フォーム!$B$8","v":0},0,0,0,null,1,10,0,0,0,0,0,0,0,null,null,null,null,null,null,null,null,null,null,null,null,null,null,null,null,null,null,null,null,null,null,null,0,null,null,null,0,1,null,{"$f":"入力フォーム!C52","v":0},null,null,{"$f":"入力フォーム!D52","v":0},{"$f":"IF(入力フォーム!E52<>0,入力フォーム!E52,\"\")","v":""},{"$f":"入力フォーム!F52","v":0},{"$f":"入力フォーム!G52","v":0},0,{"$f":"入力フォーム!H52","v":0},0,{"$f":"入力フォーム!I52","v":0},0,null,null,null,{"$f":"IF(入力フォーム!J52=0,\"\",入力フォーム!J52)","v":""},null,{"$f":"入力フォーム!$F$5","v":0}]
[1,null,{"$f":"入力フォーム!$F$3","v":"00:00:00"},{"$f":"入力フォーム!$B$7","v":"00:00:00"},{"$f":"入力フォーム!$B$3","v":0},null,{"$f":"入力フォーム!$E$9","v":""},{"$f":"入力フォーム!$B$12","v":0},null,{"$f":"入力フォーム!$F$4","v":0},null,null,{"$f":"入力フォーム!$F$6","v":0},{"$f":"入力フォーム!$B$8","v":0},0,0,0,null,1,10,0,0,0,0,0,0,0,null,null,null,null,null,null,null,null,null,null,null,null,null,null,null,null,null,null,null,null,null,null,null,0,null,null,null,0,1,null,{"$f":"入力フォーム!C53","v":0},null,null,{"$f":"入力フォーム!D53","v":0},{"$f":"IF(入力フォーム!E53<>0,入力フォーム!E53,\"\")","v":""},{"$f":"入力フォーム!F53","v":0},{"$f":"入力フォーム!G53","v":0},0,{"$f":"入力フォーム!H53","v":0},0,{"$f":"入力フォーム!I53","v":0},0,null,null,null,{"$f":"IF(入力フォーム!J53=0,\"\",入力フォーム!J53)","v":""},null,{"$f":"入力フォーム!$F$5","v":0}]
[1,null,{"$f":"入力フォーム!$F$3","v":"00:00:00"},{"$f":"入力フォーム!$B$7","v":"00:00:00"},{"$f":"入力フォーム!$B$3","v":0},null,{"$f":"入力フォーム!$E$9","v":""},{"$f":"入力フォーム!$B$12","v":0},null,{"$f":"入力フォーム!$F$4","v":0},null,null,{"$f":"入力フォーム!$F$6","v":0},{"$f":"入力フォーム!$B$8","v":0},0,0,0,null,1,10,0,0,0,0,0,0,0,null,null,null,null,null,null,null,null,null,null,null,null,null,null,null,null,null,null,null,null,null,null,null,0,null,null,null,0,1,null,{"$f":"入力フォーム!C54","v":0},null,null,{"$f":"入力フォーム!D54","v":0},{"$f":"IF(入力フォーム!E54<>0,入力フォーム!E54,\"\")","v":""},{"$f":"入力フォーム!F54","v":0},{"$f":"入力フォーム!G54","v":0},0,{"$f":"入力フォーム!H54","v":0},0,{"$f":"入力フォーム!I54","v":0},0,null,null,null,{"$f":"IF(入力フォーム!J54=0,\"\",入力フォーム!J54)","v":""},null,{"$f":"入力フォーム!$F$5","v":0}]
[1,null,{"$f":"入力フォーム!$F$3","v":"00:00:00"},{"$f":"入力フォーム!$B$7","v":"00:00:00"},{"$f":"入力フォーム!$B$3","v":0},null,{"$f":"入力フォーム!$E$9","v":""},{"$f":"入力フォーム!$B$12","v":0},null,{"$f":"入力フォーム!$F$4","v":0},null,null,{"$f":"入力フォーム!$F$6","v":0},{"$f":"入力フォーム!$B$8","v":0},0,0,0,null,1,10,0,0,0,0,0,0,0,null,null,null,null,null,null,null,null,null,null,null,null,null,null,null,null,null,null,null,null,null,null,null,0,null,null,null,0,1,null,{"$f":"入力フォーム!C55","v":0},null,null,{"$f":"入力フォーム!D55","v":0},{"$f":"IF(入力フォーム!E55<>0,入力フォーム!E55,\"\")","v":""},{"$f":"入力フォーム!F55","v":0},{"$f":"入力フォーム!G55","v":0},0,{"$f":"入力フォーム!H55","v":0},0,{"$f":"入力フォーム!I55","v":0},0,null,null,null,{"$f":"IF(入力フォーム!J55=0,\"\",入力フォーム!J55)","v":""},null,{"$f":"入力フォーム!$F$5","v":0}]
[1,null,{"$f":"入力フォーム!$F$3","v":"00:00:00"},{"$f":"入力フォーム!$B$7","v":"00:00:00"},{"$f":"入力フォーム!$B$3","v":0},null,{"$f":"入力フォーム!$E$9","v":""},{"$f":"入力フォーム!$B$12","v":0},null,{"$f":"入力フォーム!$F$4","v":0},null,null,{"$f":"入力フォーム!$F$6","v":0},{"$f":"入力フォーム!$B$8","v":0},0,0,0,null,1,10,0,0,0,0,0,0,0,null,null,null,null,null,null,null,null,null,null,null,null,null,null,null,null,null,null,null,null,null,null,null,0,null,null,null,0,1,null,{"$f":"入力フォーム!C56","v":0},null,null,{"$f":"入力フォーム!D56","v":0},{"$f":"IF(入力フォーム!E56<>0,入力フォーム!E56,\"\")","v":""},{"$f":"入力フォーム!F56","v":0},{"$f":"入力フォーム!G56","v":0},0,{"$f":"入力フォーム!H56","v":0},0,{"$f":"入力フォーム!I56","v":0},0,null,null,null,{"$f":"IF(入力フォーム!J56=0,\"\",入力フォーム!J56)","v":""},null,{"$f":"入力フォーム!$F$5","v":0}]
[1,null,{"$f":"入力フォーム!$F$3","v":"00:00:00"},{"$f":"入力フォーム!$B$7","v":"00:00:00"},{"$f":"入力フォーム!$B$3","v":0},null,{"$f":"入力フォーム!$E$9","v":""},{"$f":"入力フォーム!$B$12","v":0},null,{"$f":"入力フォーム!$F$4","v":0},null,null,{"$f":"入力フォーム!$F$6","v":0},{"$f":"入力フォーム!$B$8","v":0},0,0,0,null,1,10,0,0,0,0,0,0,0,null,null,null,null,null,null,null,null,null,null,null,null,null,null,null,null,null,null,null,null,null,null,null,0,null,null,null,0,1,null,{"$f":"入力フォーム!C57","v":0},null,null,{"$f":"入力フォーム!D57","v":0},{"$f":"IF(入力フォーム!E57<>0,入力フォーム!E57,\"\")","v":""},{"$f":"入力フォーム!F57","v":0},{"$f":"入力フォーム!G57","v":0},0,{"$f":"入力フォーム!H57","v":0},0,{"$f":"入力フォーム!I57","v":0},0,null,null,null,{"$f":"IF(入力フォーム!J57=0,\"\",入力フォーム!J57)","v":""},null,{"$f":"入力フォーム!$F$5","v":0}]
[1,null,{"$f":"入力フォーム!$F$3","v":"00:00:00"},{"$f":"入力フォーム!$B$7","v":"00:00:00"},{"$f":"入力フォーム!$B$3","v":0},null,{"$f":"入力フォーム!$E$9","v":""},{"$f":"入力フォーム!$B$12","v":0},null,{"$f":"入力フォーム!$F$4","v":0},null,null,{"$f":"入力フォーム!$F$6","v":0},{"$f":"入力フォーム!$B$8","v":0},0,0,0,null,1,10,0,0,0,0,0,0,0,null,null,null,null,null,null,null,null,null,null,null,null,null,null,null,null,null,null,null,null,null,null,null,0,null,null,null,0,1,null,{"$f":"入力フォーム!C58","v":0},null,null,{"$f":"入力フォーム!D58","v":0},{"$f":"IF(入力フォーム!E58<>0,入力フォーム!E58,\"\")","v":""},{"$f":"入力フォーム!F58","v":0},{"$f":"入力フォーム!G58","v":0},0,{"$f":"入力フォーム!H58","v":0},0,{"$f":"入力フォーム!I58","v":0},0,null,null,null,{"$f":"IF(入力フォーム!J58=0,\"\",入力フォーム!J58)","v":""},null,{"$f":"入力フォーム!$F$5","v":0}]
[1,null,{"$f":"入力フォーム!$F$3","v":"00:00:00"},{"$f":"入力フォーム!$B$7","v":"00:00:00"},{"$f":"入力フォーム!$B$3","v":0},null,{"$f":"入力フォーム!$E$9","v":""},{"$f":"入力フォーム!$B$12","v":0},null,{"$f":"入力フォーム!$F$4","v":0},null,null,{"$f":"入力フォーム!$F$6","v":0},{"$f":"入力フォーム!$B$8","v":0},0,0,0,null,1,10,0,0,0,0,0,0,0,null,null,null,null,null,null,null,null,null,null,null,null,null,null,null,null,null,null,null,null,null,null,null,0,null,null,null,0,1,null,{"$f":"入力フォーム!C59","v":0},null,null,{"$f":"入力フォーム!D59","v":0},{"$f":"IF(入力フォーム!E59<>0,入力フォーム!E59,\"\")","v":""},{"$f":"入力フォーム!F59","v":0},{"$f":"入力フォーム!G59","v":0},0,{"$f":"入力フォーム!H59","v":0},0,{"$f":"入力フォーム!I59","v":0},0,null,null,null,{"$f":"IF(入力フォーム!J59=0,\"\",入力フォーム!J59)","v":""},null,{"$f":"入力フォーム!$F$5","v":0}]
[1,null,{"$f":"入力フォーム!$F$3","v":"00:00:00"},{"$f":"入力フォーム!$B$7","v":"00:00:00"},{"$f":"入力フォーム!$B$3","v":0},null,{"$f":"入力フォーム!$E$9","v":""},{"$f":"入力フォーム!$B$12","v":0},null,{"$f":"入力フォーム!$F$4","v":0},null,null,{"$f":"入力フォーム!$F$6","v":0},{"$f":"入力フォーム!$B$8","v":0},0,0,0,null,1,10,0,0,0,0,0,0,0,null,null,null,null,null,null,null,null,null,null,null,null,null,null,null,null,null,null,null,null,null,null,null,0,null,null,null,0,1,null,{"$f":"入力フォーム!C60","v":0},null,null,{"$f":"入力フォーム!D60","v":0},{"$f":"IF(入力フォーム!E60<>0,入力フォーム!E60,\"\")","v":""},{"$f":"入力フォーム!F60","v":0},{"$f":"入力フォーム!G60","v":0},0,{"$f":"入力フォーム!H60","v":0},0,{"$f":"入力フォーム!I60","v":0},0,null,null,null,{"$f":"IF(入力フォーム!J60=0,\"\",入力フォーム!J60)","v":""},null,{"$f":"入力フォーム!$F$5","v":0}]
[1,null,{"$f":"入力フォーム!$F$3","v":"00:00:00"},{"$f":"入力フォーム!$B$7","v":"00:00:00"},{"$f":"入力フォーム!$B$3","v":0},null,{"$f":"入力フォーム!$E$9","v":""},{"$f":"入力フォーム!$B$12","v":0},null,{"$f":"入力フォーム!$F$4","v":0},null,null,{"$f":"入力フォーム!$F$6","v":0},{"$f":"入力フォーム!$B$8","v":0},0,0,0,null,1,10,0,0,0,0,0,0,0,null,null,null,null,null,null,null,null,null,null,null,null,null,null,null,null,null,null,null,null,null,null,null,0,null,null,null,0,1,null,{"$f":"入力フォーム!C61","v":0},null,null,{"$f":"入力フォーム!D61","v":0},{"$f":"IF(入力フォーム!E61<>0,入力フォーム!E61,\"\")","v":""},{"$f":"入力フォーム!F61","v":0},{"$f":"入力フォーム!G61","v":0},0,{"$f":"入力フォーム!H61","v":0},0,{"$f":"入力フォーム!I61","v":0},0,null,null,null,{"$f":"IF(入力フォーム!J61=0,\"\",入力フォーム!J61)","v":""},null,{"$f":"入力フォーム!$F$5","v":0}]
[1,null,{"$f":"入力フォーム!$F$3","v":"00:00:00"},{"$f":"入力フォーム!$B$7","v":"00:00:00"},{"$f":"入力フォーム!$B$3","v":0},null,{"$f":"入力フォーム!$E$9","v":""},{"$f":"入力フォーム!$B$12","v":0},null,{"$f":"入力フォーム!$F$4","v":0},null,null,{"$f":"入力フォーム!$F$6","v":0},{"$f":"入力フォーム!$B$8","v":0},0,0,0,null,1,10,0,0,0,0,0,0,0,null,null,null,null,null,null,null,null,null,null,null,null,null,null,null,null,null,null,null,null,null,null,null,0,null,null,null,0,1,null,{"$f":"入力フォーム!C62","v":0},null,null,{"$f":"入力フォーム!D62","v":0},{"$f":"IF(入力フォーム!E62<>0,入力フォーム!E62,\"\")","v":""},{"$f":"入力フォーム!F62","v":0},{"$f":"入力フォーム!G62","v":0},0,{"$f":"入力フォーム!H62","v":0},0,{"$f":"入力フォーム!I62","v":0},0,null,null,null,{"$f":"IF(入力フォーム!J62=0,\"\",入力フォーム!J62)","v":""},null,{"$f":"入力フォーム!$F$5","v":0}]
[1,null,{"$f":"入力フォーム!$F$3","v":"00:00:00"},{"$f":"入力フォーム!$B$7","v":"00:00:00"},{"$f":"入力フォーム!$B$3","v":0},null,{"$f":"入力フォーム!$E$9","v":""},{"$f":"入力フォーム!$B$12","v":0},null,{"$f":"入力フォーム!$F$4","v":0},null,null,{"$f":"入力フォーム!$F$6","v":0},{"$f":"入力フォーム!$B$8","v":0},0,0,0,null,1,10,0,0,0,0,0,0,0,null,null,null,null,null,null,null,null,null,null,null,null,null,null,null,null,null,null,null,null,null,null,null,0,null,null,null,0,1,null,{"$f":"入力フォーム!C63","v":0},null,null,{"$f":"入力フォーム!D63","v":0},{"$f":"IF(入力フォーム!E63<>0,入力フォーム!E63,\"\")","v":""},{"$f":"入力フォーム!F63","v":0},{"$f":"入力フォーム!G63","v":0},0,{"$f":"入力フォーム!H63","v":0},0,{"$f":"入力フォーム!I63","v":0},0,null,null,null,{"$f":"IF(入力フォーム!J63=0,\"\",入力フォーム!J63)","v":""},null,{"$f":"入力フォーム!$F$5","v":0}]
[1,null,{"$f":"入力フォーム!$F$3","v":"00:00:00"},{"$f":"入力フォーム!$B$7","v":"00:00:00"},{"$f":"入力フォーム!$B$3","v":0},null,{"$f":"入力フォーム!$E$9","v":""},{"$f":"入力フォーム!$B$12","v":0},null,{"$f":"入力フォーム!$F$4","v":0},null,null,{"$f":"入力フォーム!$F$6","v":0},{"$f":"入力フォーム!$B$8","v":0},0,0,0,null,1,10,0,0,0,0,0,0,0,null,null,null,null,null,null,null,null,null,null,null,null,null,null,null,null,null,null,null,null,null,null,null,0,null,null,null,0,1,null,{"$f":"入力フォーム!C64","v":0},null,null,{"$f":"入力フォーム!D64","v":0},{"$f":"IF(入力フォーム!E64<>0,入力フォーム!E64,\"\")","v":""},{"$f":"入力フォーム!F64","v":0},{"$f":"入力フォーム!G64","v":0},0,{"$f":"入力フォーム!H64","v":0},0,{"$f":"入力フォーム!I64","v":0},0,null,null,null,{"$f":"IF(入力フォーム!J64=0,\"\",入力フォーム!J64)","v":""},null,{"$f":"入力フォーム!$F$5","v":0}]
[1,null,{"$f":"入力フォーム!$F$3","v":"00:00:00"},{"$f":"入力フォーム!$B$7","v":"00:00:00"},{"$f":"入力フォーム!$B$3","v":0},null,{"$f":"入力フォーム!$E$9","v":""},{"$f":"入力フォーム!$B$12","v":0},null,{"$f":"入力フォーム!$F$4","v":0},null,null,{"$f":"入力フォーム!$F$6","v":0},{"$f":"入力フォーム!$B$8","v":0},0,0,0,null,1,10,0,0,0,0,0,0,0,null,null,null,null,null,null,null,null,null,null,null,null,null,null,null,null,null,null,null,null,null,null,null,0,null,null,null,0,1,null,{"$f":"入力フォーム!C65","v":0},null,null,{"$f":"入力フォーム!D65","v":0},{"$f":"IF(入力フォーム!E65<>0,入力フォーム!E65,\"\")","v":""},{"$f":"入力フォーム!F65","v":0},{"$f":"入力フォーム!G65","v":0},0,{"$f":"入力フォーム!H65","v":0},0,{"$f":"入力フォーム!I65","v":0},0,null,null,null,{"$f":"IF(入力フォーム!J65=0,\"\",入力フォーム!J65)","v":""},null,{"$f":"入力フォーム!$F$5","v":0}]
[1,null,{"$f":"入力フォーム!$F$3","v":"00:00:00"},{"$f":"入力フォーム!$B$7","v":"00:00:00"},{"$f":"入力フォーム!$B$3","v":0},null,{"$f":"入力フォーム!$E$9","v":""},{"$f":"入力フォーム!$B$12","v":0},null,{"$f":"入力フォーム!$F$4","v":0},null,null,{"$f":"入力フォーム!$F$6","v":0},{"$f":"入力フォーム!$B$8","v":0},0,0,0,null,1,10,0,0,0,0,0,0,0,null,null,null,null,null,null,null,null,null,null,null,null,null,null,null,null,null,null,null,null,null,null,null,0,null,null,null,0,1,null,{"$f":"入力フォーム!C66","v":0},null,null,{"$f":"入力フォーム!D66","v":0},{"$f":"IF(入力フォーム!E66<>0,入力フォーム!E66,\"\")","v":""},{"$f":"入力フォーム!F66","v":0},{"$f":"入力フォーム!G66","v":0},0,{"$f":"入力フォーム!H66","v":0},0,{"$f":"入力フォーム!I66","v":0},0,null,null,null,{"$f":"IF(入力フォーム!J66=0,\"\",入力フォーム!J66)","v":""},null,{"$f":"入力フォーム!$F$5","v":0}]
[1,null,{"$f":"入力フォーム!$F$3","v":"00:00:00"},{"$f":"入力フォーム!$B$7","v":"00:00:00"},{"$f":"入力フォーム!$B$3","v":0},null,{"$f":"入力フォーム!$E$9","v":""},{"$f":"入力フォーム!$B$12","v":0},null,{"$f":"入力フォーム!$F$4","v":0},null,null,{"$f":"入力フォーム!$F$6","v":0},{"$f":"入力フォーム!$B$8","v":0},0,0,0,null,1,10,0,0,0,0,0,0,0,null,null,null,null,null,null,null,null,null,null,null,null,null,null,null,null,null,null,null,null,null,null,null,0,null,null,null,0,1,null,{"$f":"入力フォーム!C67","v":0},null,null,{"$f":"入力フォーム!D67","v":0},{"$f":"IF(入力フォーム!E67<>0,入力フォーム!E67,\"\")","v":""},{"$f":"入力フォーム!F67","v":0},{"$f":"入力フォーム!G67","v":0},0,{"$f":"入力フォーム!H67","v":0},0,{"$f":"入力フォーム!I67","v":0},0,null,null,null,{"$f":"IF(入力フォーム!J67=0,\"\",入力フォーム!J67)","v":""},null,{"$f":"入力フォーム!$F$5","v":0}]
[1,null,{"$f":"入力フォーム!$F$3","v":"00:00:00"},{"$f":"入力フォーム!$B$7","v":"00:00:00"},{"$f":"入力フォーム!$B$3","v":0},null,{"$f":"入力フォーム!$E$9","v":""},{"$f":"入力フォーム!$B$12","v":0},null,{"$f":"入力フォーム!$F$4","v":0},null,null,{"$f":"入力フォーム!$F$6","v":0},{"$f":"入力フォーム!$B$8","v":0},0,0,0,null,1,10,0,0,0,0,0,0,0,null,null,null,null,null,null,null,null,null,null,null,null,null,null,null,null,null,null,null,null,null,null,null,0,null,null,null,0,1,null,{"$f":"入力フォーム!C68","v":0},null,null,{"$f":"入力フォーム!D68","v":0},{"$f":"IF(入力フォーム!E68<>0,入力フォーム!E68,\"\")","v":""},{"$f":"入力フォーム!F68","v":0},{"$f":"入力フォーム!G68","v":0},0,{"$f":"入力フォーム!H68","v":0},0,{"$f":"入力フォーム!I68","v":0},0,null,null,null,{"$f":"IF(入力フォーム!J68=0,\"\",入力フォーム!J68)","v":""},null,{"$f":"入力フォーム!$F$5","v":0}]
[1,null,{"$f":"入力フォーム!$F$3","v":"00:00:00"},{"$f":"入力フォーム!$B$7","v":"00:00:00"},{"$f":"入力フォーム!$B$3","v":0},null,{"$f":"入力フォーム!$E$9","v":""},{"$f":"入力フォーム!$B$12","v":0},null,{"$f":"入力フォーム!$F$4","v":0},null,null,{"$f":"入力フォーム!$F$6","v":0},{"$f":"入力フォーム!$B$8","v":0},0,0,0,null,1,10,0,0,0,0,0,0,0,null,null,null,null,null,null,null,null,null,null,null,null,null,null,null,null,null,null,null,null,null,null,null,0,null,null,null,0,1,null,{"$f":"入力フォーム!C69","v":0},null,null,{"$f":"入力フォーム!D69","v":0},{"$f":"IF(入力フォーム!E69<>0,入力フォーム!E69,\"\")","v":""},{"$f":"入力フォーム!F69","v":0},{"$f":"入力フォーム!G69","v":0},0,{"$f":"入力フォーム!H69","v":0},0,{"$f":"入力フォーム!I69","v":0},0,null,null,null,{"$f":"IF(入力フォーム!J69=0,\"\",入力フォーム!J69)","v":""},null,{"$f":"入力フォーム!$F$5","v":0}]
[1,null,{"$f":"入力フォーム!$F$3","v":"00:00:00"},{"$f":"入力フォーム!$B$7","v":"00:00:00"},{"$f":"入力フォーム!$B$3","v":0},null,{"$f":"入力フォーム!$E$9","v":""},{"$f":"入力フォーム!$B$12","v":0},null,{"$f":"入力フォーム!$F$4","v":0},null,null,{"$f":"入力フォーム!$F$6","v":0},{"$f":"入力フォーム!$B$8","v":0},0,0,0,null,1,10,0,0,0,0,0,0,0,null,null,null,null,null,null,null,null,null,null,null,null,null,null,null,null,null,null,null,null,null,null,null,0,null,null,null,0,1,null,{"$f":"入力フォーム!C70","v":0},null,null,{"$f":"入力フォーム!D70","v":0},{"$f":"IF(入力フォーム!E70<>0,入力フォーム!E70,\"\")","v":""},{"$f":"入力フォーム!F70","v":0},{"$f":"入力フォーム!G70","v":0},0,{"$f":"入力フォーム!H70","v":0},0,{"$f":"入力フォーム!I70","v":0},0,null,null,null,{"$f":"IF(入力フォーム!J70=0,\"\",入力フォーム!J70)","v":""},null,{"$f":"入力フォーム!$F$5","v":0}]
[1,null,{"$f":"入力フォーム!$F$3","v":"00:00:00"},{"$f":"入力フォーム!$B$7","v":"00:00:00"},{"$f":"入力フォーム!$B$3","v":0},null,{"$f":"入力フォーム!$E$9","v":""},{"$f":"入力フォーム!$B$12","v":0},null,{"$f":"入力フォーム!$F$4","v":0},null,null,{"$f":"入力フォーム!$F$6","v":0},{"$f":"入力フォーム!$B$8","v":0},0,0,0,null,1,10,0,0,0,0,0,0,0,null,null,null,null,null,null,null,null,null,null,null,null,null,null,null,null,null,null,null,null,null,null,null,0,null,null,null,0,1,null,{"$f":"入力フォーム!C71","v":0},null,null,{"$f":"入力フォーム!D71","v":0},{"$f":"IF(入力フォーム!E71<>0,入力フォーム!E71,\"\")","v":""},{"$f":"入力フォーム!F71","v":0},{"$f":"入力フォーム!G71","v":0},0,{"$f":"入力フォーム!H71","v":0},0,{"$f":"入力フォーム!I71","v":0},0,null,null,null,{"$f":"IF(入力フォーム!J71=0,\"\",入力フォーム!J71)","v":""},null,{"$f":"入力フォーム!$F$5","v":0}]
[1,null,{"$f":"入力フォーム!$F$3","v":"00:00:00"},{"$f":"入力フォーム!$B$7","v":"00:00:00"},{"$f":"入力フォーム!$B$3","v":0},null,{"$f":"入力フォーム!$E$9","v":""},{"$f":"入力フォーム!$B$12","v":0},null,{"$f":"入力フォーム!$F$4","v":0},null,null,{"$f":"入力フォーム!$F$6","v":0},{"$f":"入力フォーム!$B$8","v":0},0,0,0,null,1,10,0,0,0,0,0,0,0,null,null,null,null,null,null,null,null,null,null,null,null,null,null,null,null,null,null,null,null,null,null,null,0,null,null,null,0,1,null,{"$f":"入力フォーム!C72","v":0},null,null,{"$f":"入力フォーム!D72","v":0},{"$f":"IF(入力フォーム!E72<>0,入力フォーム!E72,\"\")","v":""},{"$f":"入力フォーム!F72","v":0},{"$f":"入力フォーム!G72","v":0},0,{"$f":"入力フォーム!H72","v":0},0,{"$f":"入力フォーム!I72","v":0},0,null,null,null,{"$f":"IF(入力フォーム!J72=0,\"\",入力フォーム!J72)","v":""},null,{"$f":"入力フォーム!$F$5","v":0}]
[1,null,{"$f":"入力フォーム!$F$3","v":"00:00:00"},{"$f":"入力フォーム!$B$7","v":"00:00:00"},{"$f":"入力フォーム!$B$3","v":0},null,{"$f":"入力フォーム!$E$9","v":""},{"$f":"入力フォーム!$B$12","v":0},null,{"$f":"入力フォーム!$F$4","v":0},null,null,{"$f":"入力フォーム!$F$6","v":0},{"$f":"入力フォーム!$B$8","v":0},0,0,0,null,1,10,0,0,0,0,0,0,0,null,null,null,null,null,null,null,null,null,null,null,null,null,null,null,null,null,null,null,null,null,null,null,0,null,null,null,0,1,null,{"$f":"入力フォーム!C73","v":0},null,null,{"$f":"入力フォーム!D73","v":0},{"$f":"IF(入力フォーム!E73<>0,入力フォーム!E73,\"\")","v":""},{"$f":"入力フォーム!F73","v":0},{"$f":"入力フォーム!G73","v":0},0,{"$f":"入力フォーム!H73","v":0},0,{"$f":"入力フォーム!I73","v":0},0,null,null,null,{"$f":"IF(入力フォーム!J73=0,\"\",入力フォーム!J73)","v":""},null,{"$f":"入力フォーム!$F$5","v":0}]
[1,null,{"$f":"入力フォーム!$F$3","v":"00:00:00"},{"$f":"入力フォーム!$B$7","v":"00:00:00"},{"$f":"入力フォーム!$B$3","v":0},null,{"$f":"入力フォーム!$E$9","v":""},{"$f":"入力フォーム!$B$12","v":0},null,{"$f":"入力フォーム!$F$4","v":0},null,null,{"$f":"入力フォーム!$F$6","v":0},{"$f":"入力フォーム!$B$8","v":0},0,0,0,null,1,10,0,0,0,0,0,0,0,null,null,null,null,null,null,null,null,null,null,null,null,null,null,null,null,null,null,null,null,null,null,null,0,null,null,null,0,1,null,{"$f":"入力フォーム!C74","v":0},null,null,{"$f":"入力フォーム!D74","v":0},{"$f":"IF(入力フォーム!E74<>0,入力フォーム!E74,\"\")","v":""},{"$f":"入力フォーム!F74","v":0},{"$f":"入力フォーム!G74","v":0},0,{"$f":"入力フォーム!H74","v":0},0,{"$f":"入力フォーム!I74","v":0},0,null,null,null,{"$f":"IF(入力フォーム!J74=0,\"\",入力フォーム!J74)","v":""},null,{"$f":"入力フォーム!$F$5","v":0}]

{"sheet":"出来高内訳書 (第2回請求)","index":9,"n_rows":257,"n_cols":53,"rows_kept":257,"cut":false,"hidden":false,"merged":[[186,52,187,54],[188,52,189,54],[190,52,191,54],[192,52,193,54],[194,52,195,54],[196,52,197,54],[198,52,199,54],[200,52,201,54],[202,52,203,54],[204,52,205,54],[206,52,207,54],[208,52,209,54],[210,52,211,54],[212,52,213,54],[214,52,215,54],[240,52,241,54],[206,47,207,51],[208,47,209,51],[210,47,211,51],[212,47,213,51],[214,47,215,51],[240,47,241,51],[221,51,223,55],[240,0,241,0],[186,0,187,0],[188,0,189,0],[190,0,191,0],[192,0,193,0],[194,0,195,0],[196,0,197,0],[198,0,199,0],[200,0,201,0],[202,0,203,0],[204,0,205,0],[206,0,207,0],[208,0,209,0],[210,0,211,0],[212,0,213,0],[214,0,215,0],[206,44,207,46],[208,44,209,46],[210,44,211,46],[212,44,213,46],[214,44,215,46],[240,1,240,13],[240,14,241,15],[240,16,241,18],[240,19,241,22],[240,23,241,27],[240,28,241,30],[240,31,241,35],[240,36,241,38],[240,39,241,43],[240,44,241,46],[234,19,236,22],[234,15,236,16],[186,44,187,46],[186,47,187,51],[188,44,189,46],[188,47,189,51],[190,44,191,46],[190,47,191,51],[192,44,193,46],[192,47,193,51],[194,44,195,46],[194,47,195,51],[196,44,197,46],[196,47,197,51],[198,44,199,46],[198,47,199,51],[200,44,201,46],[200,47,201,51],[202,44,203,46],[202,47,203,51],[186,36,187,38],[186,39,187,43],[188,36,189,38],[188,39,189,43],[190,36,191,38],[190,39,191,43],[192,36,193,38],[192,39,193,43],[194,36,195,38],[194,39,195,43],[196,36,197,38],[196,39,197,43],[198,36,199,38],[198,39,199,43],[200,36,201,38],[200,39,201,43],[202,36,203,38],[202,39,203,43],[200,1,200,13],[200,14,201,15],[200,16,201,18],[200,19,201,22],[200,23,201,27],[186,28,187,30],[186,31,187,35],[188,28,189,30],[188,31,189,35],[190,28,191,30],[190,31,191,35],[192,28,193,30],[192,31,193,35],[194,28,195,30],[194,31,195,35],[196,28,197,30],[196,31,197,35],[198,28,199,30],[198,31,199,35],[200,28,201,30],[200,31,201,35],[194,1,194,13],[194,14,195,15],[194,16,195,18],[194,19,195,22],[194,23,195,27],[195,1,195,13],[196,1,196,13],[196,14,197,15],[196,16,197,18],[196,19,197,22],[196,23,197,27],[197,1,197,13],[198,1,198,13],[198,14,199,15],[198,16,199,18],[198,19,199,22],[198,23,199,27],[199,1,199,13],[132,0,133,0],[134,0,135,0],[136,0,137,0],[138,0,139,0],[140,0,141,0],[142,0,143,0],[144,0,145,0],[146,0,147,0],[148,0,149,0],[150,0,151,0],[152,0,153,0],[154,0,155,0],[156,0,157,0],[158,0,159,0],[160,0,161,0],[186,1,186,13],[186,14,187,15],[187,1,187,13],[142,1,142,13],[142,14,143,15],[151,1,151,13],[150,14,151,15],[154,44,155,46],[154,47,155,51],[156,44,157,46],[156,47,157,51],[158,44,159,46],[158,47,159,51],[160,44,161,46],[160,47,161,51],[132,52,133,54],[134,52,135,54],[136,52,137,54],[138,52,139,54],[140,52,141,54],[142,52,143,54],[144,52,145,54],[146,52,147,54],[148,52,149,54],[150,52,151,54],[152,52,153,54],[154,52,155,54],[156,52,157,54],[158,52,159,54],[160,52,161,54],[134,44,135,46],[134,47,135,51],[136,44,137,46],[136,47,137,51],[138,44,139,46],[138,47,139,51],[140,44,141,46],[140,47,141,51],[142,44,143,46],[142,47,143,51],[144,44,145,46],[144,47,145,51],[146,44,147,46],[146,47,147,51],[148,44,149,46],[148,47,149,51],[150,44,151,46],[150,47,151,51],[134,36,135,38],[134,39,135,43],[136,36,137,38],[136,39,137,43],[138,36,139,38],[138,39,139,43],[140,36,141,38],[140,39,141,43],[142,36,143,38],[142,39,143,43],[144,36,145,38],[144,39,145,43],[146,36,147,38],[146,39,147,43],[148,36,149,38],[148,39,149,43],[150,36,151,38],[150,39,151,43],[134,28,135,30],[134,31,135,35],[136,28,137,30],[136,31,137,35],[138,28,139,30],[138,31,139,35],[140,28,141,30],[140,31,141,35],[142,28,143,30],[142,31,143,35],[144,28,145,30],[144,31,145,35],[146,28,147,30],[146,31,147,35],[148,28,149,30],[148,31,149,35],[150,28,151,30],[150,31,151,35],[146,14,147,15],[146,16,147,18],[146,19,147,22],[146,23,147,27],[136,1,136,13],[136,14,137,15],[136,16,137,18],[136,19,137,22],[136,23,137,27],[137,1,137,13],[138,1,138,13],[138,14,139,15],[138,16,139,18],[138,19,139,22],[138,23,139,27],[139,1,139,13],[140,1,140,13],[140,14,141,15],[140,16,141,18],[140,19,141,22],[140,23,141,27],[141,1,141,13],[104,52,105,54],[106,52,107,54],[132,1,132,13],[132,14,133,15],[132,16,133,18],[132,19,133,22],[132,23,133,27],[133,1,133,13],[132,28,133,30],[132,31,133,35],[132,36,133,38],[132,39,133,43],[132,44,133,46],[132,47,133,51],[130,44,130,51],[130,52,131,54],[131,14,131,15],[131,16,131,18],[131,19,131,22],[131,23,131,27],[131,28,131,30],[131,31,131,35],[131,36,131,38],[131,39,131,43],[126,19,128,22],[126,24,128,29],[130,1,131,13],[130,14,130,27],[130,28,130,35],[130,36,130,43],[113,1,119,17],[96,52,97,54],[98,52,99,54],[100,52,101,54],[82,47,83,51],[84,44,85,46],[84,47,85,51],[86,44,87,46],[86,47,87,51],[88,44,89,46],[88,47,89,51],[90,44,91,46],[90,47,91,51],[92,44,93,46],[92,47,93,51],[94,44,95,46],[94,47,95,51],[102,52,103,54],[84,36,85,38],[84,39,85,43],[86,36,87,38],[86,39,87,43],[88,36,89,38],[88,39,89,43],[90,36,91,38],[90,39,91,43],[92,36,93,38],[92,39,93,43],[94,36,95,38],[94,39,95,43],[78,52,79,54],[80,52,81,54],[82,52,83,54],[84,52,85,54],[86,52,87,54],[88,52,89,54],[90,52,91,54],[92,52,93,54],[94,52,95,54],[78,44,79,46],[78,47,79,51],[80,44,81,46],[80,47,81,51],[82,44,83,46],[92,28,93,30],[94,28,95,30],[96,28,97,30],[98,28,99,30],[84,16,85,18],[84,19,85,22],[84,23,85,27],[86,14,87,15],[86,16,87,18],[86,19,87,22],[86,23,87,27],[88,14,89,15],[88,16,89,18],[78,31,79,35],[80,31,81,35],[82,31,83,35],[84,31,85,35],[86,31,87,35],[88,31,89,35],[90,31,91,35],[92,31,93,35],[94,31,95,35],[96,31,97,35],[98,31,99,35],[92,14,93,15],[92,16,93,18],[92,19,93,22],[92,23,93,27],[80,0,81,0],[82,0,83,0],[84,0,85,0],[86,0,87,0],[88,0,89,0],[90,0,91,0],[92,0,93,0],[94,0,95,0],[94,14,95,15],[94,16,95,18],[94,19,95,22],[94,23,95,27],[96,0,97,0],[98,0,99,0],[100,0,101,0],[102,0,103,0],[100,19,101,22],[100,23,101,27],[104,0,105,0],[106,0,107,0],[78,14,79,15],[78,16,79,18],[80,14,81,15],[80,16,81,18],[90,14,91,15],[90,16,91,18],[105,1,105,13],[104,14,105,15],[104,16,105,18],[101,1,101,13],[100,14,101,15],[100,16,101,18],[95,1,95,13],[94,1,94,13],[82,14,83,15],[82,16,83,18],[84,14,85,15],[93,1,93,13],[78,1,78,13],[79,1,79,13],[80,1,80,13],[81,1,81,13],[82,1,82,13],[83,1,83,13],[91,1,91,13],[92,1,92,13],[107,1,107,13],[106,14,107,15],[106,16,107,18],[78,0,79,0],[39,47,40,51],[41,47,42,51],[43,47,44,51],[45,47,46,51],[47,47,48,51],[49,47,50,51],[51,47,52,51],[53,47,54,51],[55,47,56,51],[35,52,36,54],[37,52,38,54],[39,52,40,54],[41,52,42,54],[43,52,44,54],[45,52,46,54],[47,52,48,54],[49,52,50,54],[51,52,52,54],[53,52,54,54],[55,52,56,54],[35,47,36,51],[37,47,38,51],[39,39,40,43],[41,39,42,43],[43,39,44,43],[45,39,46,43],[47,39,48,43],[49,39,50,43],[51,39,52,43],[53,39,54,43],[55,39,56,43],[35,44,36,46],[37,44,38,46],[39,44,40,46],[41,44,42,46],[43,44,44,46],[45,44,46,46],[47,44,48,46],[49,44,50,46],[51,44,52,46],[53,44,54,46],[55,44,56,46],[37,39,38,43],[37,31,38,35],[39,31,40,35],[41,31,42,35],[43,31,44,35],[45,31,46,35],[47,31,48,35],[49,31,50,35],[51,31,52,35],[53,31,54,35],[55,31,56,35],[37,36,38,38],[39,36,40,38],[41,36,42,38],[43,36,44,38],[45,36,46,38],[47,36,48,38],[49,36,50,38],[51,36,52,38],[53,36,54,38],[55,36,56,38],[51,14,52,15],[51,16,52,18],[51,19,52,22],[51,23,52,27],[52,1,52,13],[53,1,53,13],[53,14,54,15],[53,16,54,18],[53,19,54,22],[53,23,54,27],[54,1,54,13],[55,1,55,13],[55,14,56,15],[55,16,56,18],[55,19,56,22],[55,23,56,27],[49,28,50,30],[51,28,52,30],[53,28,54,30],[55,28,56,30],[43,0,44,0],[45,0,46,0],[47,0,48,0],[49,0,50,0],[51,0,52,0],[53,0,54,0],[55,0,56,0],[39,14,40,15],[39,16,40,18],[39,19,40,22],[39,23,40,27],[41,14,42,15],[41,16,42,18],[41,19,42,22],[41,23,42,27],[43,14,44,15],[43,16,44,18],[43,19,44,22],[43,23,44,27],[45,14,46,15],[45,16,46,18],[45,19,46,22],[45,23,46,27],[47,14,48,15],[47,16,48,18],[47,19,48,22],[47,23,48,27],[49,1,49,13],[49,14,50,15],[49,16,50,18],[49,19,50,22],[49,23,50,27],[256,31,256,35],[256,36,256,38],[256,39,256,43],[256,44,256,46],[256,47,256,51],[256,52,256,54],[256,1,256,13],[256,14,256,15],[256,16,256,18],[256,19,256,22],[256,23,256,27],[256,28,256,30],[255,31,255,35],[255,36,255,38],[255,39,255,43],[255,44,255,46],[255,47,255,51],[255,52,255,54],[255,1,255,13],[255,14,255,15],[255,16,255,18],[255,19,255,22],[255,23,255,27],[255,28,255,30],[254,31,254,35],[254,36,254,38],[254,39,254,43],[254,44,254,46],[254,47,254,51],[254,52,254,54],[254,1,254,13],[254,14,254,15],[254,16,254,18],[254,19,254,22],[254,23,254,27],[254,28,254,30],[253,31,253,35],[253,36,253,38],[253,39,253,43],[253,44,253,46],[253,47,253,51],[253,52,253,54],[253,1,253,13],[253,14,253,15],[253,16,253,18],[253,19,253,22],[253,23,253,27],[253,28,253,30],[252,31,252,35],[252,36,252,38],[252,39,252,43],[252,44,252,46],[252,47,252,51],[252,52,252,54],[252,1,252,13],[252,14,252,15],[252,16,252,18],[252,19,252,22],[252,23,252,27],[252,28,252,30],[251,31,251,35],[251,36,251,38],[251,39,251,43],[251,44,251,46],[251,47,251,51],[251,52,251,54],[251,1,251,13],[251,14,251,15],[251,16,251,18],[251,19,251,22],[251,23,251,27],[251,28,251,30],[250,31,250,35],[250,36,250,38],[250,39,250,43],[250,44,250,46],[250,47,250,51],[250,52,250,54],[250,1,250,13],[250,14,250,15],[250,16,250,18],[250,19,250,22],[250,23,250,27],[250,28,250,30],[249,31,249,35],[249,36,249,38],[249,39,249,43],[249,44,249,46],[249,47,249,51],[249,52,249,54],[249,1,249,13],[249,14,249,15],[249,16,249,18],[249,19,249,22],[249,23,249,27],[249,28,249,30],[248,31,248,35],[248,36,248,38],[248,39,248,43],[248,44,248,46],[248,47,248,51],[248,52,248,54],[248,1,248,13],[248,14,248,15],[248,16,248,18],[248,19,248,22],[248,23,248,27],[248,28,248,30],[247,31,247,35],[247,36,247,38],[247,39,247,43],[247,44,247,46],[247,47,247,51],[247,52,247,54],[247,1,247,13],[247,14,247,15],[247,16,247,18],[247,19,247,22],[247,23,247,27],[247,28,247,30],[246,31,246,35],[246,36,246,38],[246,39,246,43],[246,44,246,46],[246,47,246,51],[246,52,246,54],[246,1,246,13],[246,14,246,15],[246,16,246,18],[246,19,246,22],[246,23,246,27],[246,28,246,30],[245,31,245,35],[245,36,245,38],[245,39,245,43],[245,44,245,46],[245,47,245,51],[245,52,245,54],[245,1,245,13],[245,14,245,15],[245,16,245,18],[245,19,245,22],[245,23,245,27],[245,28,245,30],[244,31,244,35],[244,36,244,38],[244,39,244,43],[244,44,244,46],[244,47,244,51],[244,52,244,54],[244,1,244,13],[244,14,244,15],[244,16,244,18],[244,19,244,22],[244,23,244,27],[244,28,244,30],[243,31,243,35],[243,36,243,38],[243,39,243,43],[243,44,243,46],[243,47,243,51],[243,52,243,54],[243,1,243,13],[243,14,243,15],[243,16,243,18],[243,19,243,22],[243,23,243,27],[243,28,243,30],[242,31,242,35],[242,36,242,38],[242,39,242,43],[242,44,242,46],[242,47,242,51],[242,52,242,54],[242,1,242,13],[242,14,242,15],[242,16,242,18],[242,19,242,22],[242,23,242,27],[242,28,242,30],[239,44,239,46],[239,47,239,51],[241,1,241,13],[238,44,238,51],[238,52,239,54],[239,14,239,15],[239,16,239,18],[239,19,239,22],[239,23,239,27],[239,28,239,30],[239,31,239,35],[239,36,239,38],[239,39,239,43],[238,1,239,13],[238,14,238,27],[238,28,238,35],[238,36,238,43],[234,17,236,18],[216,31,216,35],[216,36,216,38],[216,39,216,43],[216,44,216,46],[216,47,216,51],[216,52,216,54],[216,1,216,13],[216,14,216,15],[216,16,216,18],[216,19,216,22],[216,23,216,27],[216,28,216,30],[215,1,215,13],[214,14,215,15],[214,16,215,18],[214,19,215,22],[214,23,215,27],[214,28,215,30],[214,31,215,35],[214,36,215,38],[214,39,215,43],[214,1,214,13],[234,24,236,29],[221,1,227,17],[221,50,223,50],[231,1,233,5],[231,6,233,13],[231,23,236,23],[231,24,233,29],[234,1,236,5],[234,6,236,13],[213,1,213,13],[212,14,213,15],[212,16,213,18],[212,19,213,22],[212,23,213,27],[212,28,213,30],[212,31,213,35],[212,36,213,38],[212,39,213,43],[212,1,212,13],[211,1,211,13],[210,14,211,15],[210,16,211,18],[210,19,211,22],[210,23,211,27],[210,28,211,30],[210,31,211,35],[210,36,211,38],[210,39,211,43],[210,1,210,13],[209,1,209,13],[208,14,209,15],[208,16,209,18],[208,19,209,22],[208,23,209,27],[208,28,209,30],[208,31,209,35],[208,36,209,38],[208,39,209,43],[208,1,208,13],[207,1,207,13],[206,14,207,15],[206,16,207,18],[206,19,207,22],[206,23,207,27],[206,28,207,30],[206,31,207,35],[206,36,207,38],[206,39,207,43],[206,1,206,13],[205,1,205,13],[204,14,205,15],[204,16,205,18],[204,19,205,22],[204,23,205,27],[204,28,205,30],[204,31,205,35],[204,36,205,38],[204,39,205,43],[204,1,204,13],[203,1,203,13],[202,14,203,15],[202,16,203,18],[202,19,203,22],[202,23,203,27],[204,44,205,46],[204,47,205,51],[202,1,202,13],[202,28,203,30],[202,31,203,35],[201,1,201,13],[186,16,187,18],[186,19,187,22],[186,23,187,27],[188,1,188,13],[188,14,189,15],[188,16,189,18],[184,44,184,51],[184,52,185,54],[185,14,185,15],[185,16,185,18],[185,19,185,22],[185,23,185,27],[185,28,185,30],[185,31,185,35],[185,36,185,38],[185,39,185,43],[188,19,189,22],[188,23,189,27],[189,1,189,13],[190,1,190,13],[190,14,191,15],[190,16,191,18],[190,19,191,22],[190,23,191,27],[191,1,191,13],[192,1,192,13],[192,14,193,15],[192,16,193,18],[192,19,193,22],[192,23,193,27],[193,1,193,13],[180,19,182,22],[180,24,182,29],[184,1,185,13],[184,14,184,27],[184,28,184,35],[184,36,184,43],[167,1,173,17],[167,50,169,50],[177,1,179,5],[177,6,179,13],[177,23,182,23],[177,24,179,29],[180,1,182,5],[180,6,182,13],[180,15,182,16],[180,17,182,18],[162,31,162,35],[162,36,162,38],[162,39,162,43],[162,44,162,46],[162,47,162,51],[185,44,185,46],[185,47,185,51],[167,51,169,55],[162,52,162,54],[162,1,162,13],[162,14,162,15],[162,16,162,18],[162,19,162,22],[162,23,162,27],[162,28,162,30],[161,1,161,13],[160,14,161,15],[160,16,161,18],[160,19,161,22],[160,23,161,27],[160,28,161,30],[160,31,161,35],[160,36,161,38],[160,39,161,43],[160,1,160,13],[158,16,159,18],[158,19,159,22],[158,23,159,27],[158,28,159,30],[158,31,159,35],[158,36,159,38],[158,39,159,43],[158,1,158,13],[157,1,157,13],[156,14,157,15],[156,16,157,18],[156,19,157,22],[156,23,157,27],[156,28,157,30],[156,31,157,35],[156,36,157,38],[156,39,157,43],[156,1,156,13],[159,1,159,13],[158,14,159,15],[154,16,155,18],[154,19,155,22],[154,23,155,27],[154,28,155,30],[154,31,155,35],[154,36,155,38],[154,39,155,43],[154,1,154,13],[153,1,153,13],[152,14,153,15],[152,16,153,18],[152,19,153,22],[152,23,153,27],[152,28,153,30],[152,31,153,35],[152,36,153,38],[152,39,153,43],[152,1,152,13],[155,1,155,13],[154,14,155,15],[150,16,151,18],[150,19,151,22],[150,23,151,27],[152,44,153,46],[152,47,153,51],[150,1,150,13],[149,1,149,13],[148,14,149,15],[148,16,149,18],[148,19,149,22],[148,23,149,27],[148,1,148,13],[131,44,131,46],[131,47,131,51],[147,1,147,13],[134,1,134,13],[134,14,135,15],[134,16,135,18],[134,19,135,22],[134,23,135,27],[135,1,135,13],[142,16,143,18],[142,19,143,22],[142,23,143,27],[143,1,143,13],[144,1,144,13],[144,14,145,15],[144,16,145,18],[144,19,145,22],[144,23,145,27],[145,1,145,13],[146,1,146,13],[113,50,115,50],[123,1,125,5],[123,6,125,13],[123,23,128,23],[123,24,125,29],[126,1,128,5],[126,6,128,13],[126,15,128,16],[126,17,128,18],[108,31,108,35],[108,36,108,38],[108,39,108,43],[108,44,108,46],[108,47,108,51],[108,52,108,54],[108,1,108,13],[108,14,108,15],[108,16,108,18],[108,19,108,22],[108,23,108,27],[108,28,108,30],[113,51,115,55],[106,19,107,22],[106,23,107,27],[106,36,107,38],[106,39,107,43],[106,44,107,46],[106,47,107,51],[106,1,106,13],[106,28,107,30],[106,31,107,35],[104,19,105,22],[104,23,105,27],[104,36,105,38],[104,39,105,43],[104,44,105,46],[104,47,105,51],[104,1,104,13],[103,1,103,13],[102,14,103,15],[102,16,103,18],[102,19,103,22],[102,23,103,27],[102,36,103,38],[102,39,103,43],[102,44,103,46],[102,47,103,51]],"merged_total":1198,"flags":["merged_cut"]}
[null,null,null,null,null,null,null,null,"請 求 書（出来高・分割納入用）",null,null,null,null,null,null,null,null,null,null,null,null,null,null,null,null,null,null,null,null,null,null,null,null,null,null,null,null,null,null,null,null,null,null,null,null,null,null,null,null,null,"No."]
[null,null,null,null,null,null,null,null,null,null,null,null,null,null,null,null,null,null,null,null,null,null,null,null,null,null,null,null,null,null,null,null,null,null,null,null,null,null,null,"日付",null,null,null,null,"年",null,"月",null,"日"]
[]
[]
[null,null,null,null,null,null,null,null,null,null,null,null,null,null,null,null,null,null,null,null,null,null,null,null,null,null,null,null,null,null,null,null,null,null,null,null,null,"請求者住所･氏名･印･電話",null,null,null,null,null,"取引先コード",null,null,null,null,{"$f":"入力フォーム!B3","v":0}]
[]
[null,null,null,null,null,null,null,null,null,null,null,null,null,null,null,null,null,"御中"]
[null,null,null,null,null,null,null,null,null,null,null,null,null,null,null,null,null,null,null,null,null,null,null,null,null,null,null,null,null,null,null,null,null,null,null,null,null,{"$f":"\"登録番号\"&\" \"&入力フォーム!B4","v":"登録番号 "}]
[]
[]
[]
[null,"下記の通り請求いたします。"]
[]
[]
[null,null,null,"月分請求内訳書",null,null,null,null,null,null,null,"枚 (本用紙を含む)"]
[]
[]
[null,"請 求 金 額",null,null,null,null,{"$f":"SUM(G23:P32)","v":0}]
[]
[]
[]
[null,null,null,null,null,null,null,null,null,null,null,null,null,null,null,null,null,null,null,"製造番号",null,null,null,null,{"$f":"見積書!$B$47","v":""}]
[null,"内　訳","税抜金額",null,null,null,{"$f":"AN58+AN109+AN163+AN217+AN257","v":0},null,null,null,null,null,null,null,null,null,null,null,null,null,null,null,null,null,null,null,null,null,null,null,null,null,null,"第",null,2,null,"回請求"]
[]
[null,null,null,null,null,null,null,null,null,null,null,null,null,null,null,null,null,null,null,"注文番号",null,null,null,null,{"$f":"IF('出来高内訳書 (第1回請求)'!Y25=\"\",\"\",'出来高内訳書 (第1回請求)'!Y25)","v":""}]
[]
[null,null,null,null,null,null,null,null,null,null,null,null,null,null,null,null,null,null,null,null,null,null,null,null,null,null,null,null,null,null,null,null,null,null,"※科目"]
[null,null,"消費税額等",null,null,null,{"$f":"IF(AC28=\"10％\",ROUNDDOWN(G23*10%,0),IF(AC28=\"(軽)8%\",ROUNDDOWN(G23*8%,0),0))","v":0},null,null,null,null,null,null,null,null,null,null,null,null,"消費税率",null,null,null,null,null,null,null,null,{"$f":"入力フォーム!B10","v":"10％"}]
[]
[]
[]
[]
[]
[null,"工　種・品　名",null,null,null,null,null,null,null,null,null,null,null,null,"契　約　金　額",null,null,null,null,null,null,null,null,null,null,null,null,null,"前回までの出来高",null,null,null,null,null,null,null,"今回出来高",null,null,null,null,null,null,null,"残高",null,null,null,null,null,null,null,"備　考"]
[null,null,null,null,null,null,null,null,null,null,null,null,null,null,"単位",null,"数量",null,null,"単価",null,null,null,"金額",null,null,null,null,"数量",null,null,"金額",null,null,null,null,"数量",null,null,"金額",null,null,null,null,"数量",null,null,"金額"]
[1,{"$f":"見積書!F61","v":""},null,null,null,null,null,null,null,null,null,null,null,null,{"$f":"見積書!Q61","v":""},null,{"$f":"見積書!R61","v":""},null,null,{"$f":"見積書!S61","v":""},null,null,null,{"$f":"見積書!T61","v":""},null,null,null,null,{"$f":"IF(Q36=\"\",\"\",'出来高内訳書 (第1回請求)'!AC36+'出来高内訳書 (第1回請求)'!AK36)","v":""},null,null,{"$f":"IF(T36=\"\",\"\",ROUND(T36*AC36,0))","v":""},null,null,null,null,null,null,null,{"$f":"IF(T36=\"\",\"\",ROUND(T36*AK36,0))","v":""},null,null,null,null,{"$f":"IF(Q36=\"\",\"\",ROUND(Q36-AC36-AK36,2))","v":""},null,null,{"$f":"IF(T36=\"\",\"\",(IF(AS36<0,\"出来高が契約を超過\",X36-AN36-AF36)))","v":""}]
[null,{"$f":"見積書!F62","v":""}]
[2,{"$f":"見積書!F63","v":""},null,null,null,null,null,null,null,null,null,null,null,null,{"$f":"見積書!Q63","v":""},null,{"$f":"見積書!R63","v":""},null,null,{"$f":"見積書!S63","v":""},null,null,null,{"$f":"見積書!T63","v":""},null,null,null,null,{"$f":"IF(Q38=\"\",\"\",'出来高内訳書 (第1回請求)'!AC38+'出来高内訳書 (第1回請求)'!AK38)","v":""},null,null,{"$f":"IF(T38=\"\",\"\",ROUND(T38*AC38,0))","v":""},null,null,null,null,null,null,null,{"$f":"IF(T38=\"\",\"\",ROUND(T38*AK38,0))","v":""},null,null,null,null,{"$f":"IF(Q38=\"\",\"\",ROUND(Q38-AC38-AK38,2))","v":""},null,null,{"$f":"IF(T38=\"\",\"\",(IF(AS38<0,\"出来高が契約を超過\",X38-AN38-AF38)))","v":""}]
[null,{"$f":"見積書!F64","v":""}]
[3,{"$f":"見積書!F65","v":""},null,null,null,null,null,null,null,null,null,null,null,null,{"$f":"見積書!Q65","v":""},null,{"$f":"見積書!R65","v":""},null,null,{"$f":"見積書!S65","v":""},null,null,null,{"$f":"見積書!T65","v":""},null,null,null,null,{"$f":"IF(Q40=\"\",\"\",'出来高内訳書 (第1回請求)'!AC40+'出来高内訳書 (第1回請求)'!AK40)","v":""},null,null,{"$f":"IF(T40=\"\",\"\",ROUND(T40*AC40,0))","v":""},null,null,null,null,null,null,null,{"$f":"IF(T40=\"\",\"\",ROUND(T40*AK40,0))","v":""},null,null,null,null,{"$f":"IF(Q40=\"\",\"\",ROUND(Q40-AC40-AK40,2))","v":""},null,null,{"$f":"IF(T40=\"\",\"\",(IF(AS40<0,\"出来高が契約を超過\",X40-AN40-AF40)))","v":""}]
[null,{"$f":"見積書!F66","v":""}]
[4,{"$f":"見積書!F67","v":""},null,null,null,null,null,null,null,null,null,null,null,null,{"$f":"見積書!Q67","v":""},null,{"$f":"見積書!R67","v":""},null,null,{"$f":"見積書!S67","v":""},null,null,null,{"$f":"見積書!T67","v":""},null,null,null,null,{"$f":"IF(Q42=\"\",\"\",'出来高内訳書 (第1回請求)'!AC42+'出来高内訳書 (第1回請求)'!AK42)","v":""},null,null,{"$f":"IF(T42=\"\",\"\",ROUND(T42*AC42,0))","v":""},null,null,null,null,null,null,null,{"$f":"IF(T42=\"\",\"\",ROUND(T42*AK42,0))","v":""},null,null,null,null,{"$f":"IF(Q42=\"\",\"\",ROUND(Q42-AC42-AK42,2))","v":""},null,null,{"$f":"IF(T42=\"\",\"\",(IF(AS42<0,\"出来高が契約を超過\",X42-AN42-AF42)))","v":""}]
[null,{"$f":"見積書!F68","v":""}]
[5,{"$f":"見積書!F69","v":""},null,null,null,null,null,null,null,null,null,null,null,null,{"$f":"見積書!Q69","v":""},null,{"$f":"見積書!R69","v":""},null,null,{"$f":"見積書!S69","v":""},null,null,null,{"$f":"見積書!T69","v":""},null,null,null,null,{"$f":"IF(Q44=\"\",\"\",'出来高内訳書 (第1回請求)'!AC44+'出来高内訳書 (第1回請求)'!AK44)","v":""},null,null,{"$f":"IF(T44=\"\",\"\",ROUND(T44*AC44,0))","v":""},null,null,null,null,null,null,null,{"$f":"IF(T44=\"\",\"\",ROUND(T44*AK44,0))","v":""},null,null,null,null,{"$f":"IF(Q44=\"\",\"\",ROUND(Q44-AC44-AK44,2))","v":""},null,null,{"$f":"IF(T44=\"\",\"\",(IF(AS44<0,\"出来高が契約を超過\",X44-AN44-AF44)))","v":""}]
[null,{"$f":"見積書!F70","v":""}]
[6,{"$f":"見積書!F71","v":""},null,null,null,null,null,null,null,null,null,null,null,null,{"$f":"見積書!Q71","v":""},null,{"$f":"見積書!R71","v":""},null,null,{"$f":"見積書!S71","v":""},null,null,null,{"$f":"見積書!T71","v":""},null,null,null,null,{"$f":"IF(Q46=\"\",\"\",'出来高内訳書 (第1回請求)'!AC46+'出来高内訳書 (第1回請求)'!AK46)","v":""},null,null,{"$f":"IF(T46=\"\",\"\",ROUND(T46*AC46,0))","v":""},null,null,null,null,null,null,null,{"$f":"IF(T46=\"\",\"\",ROUND(T46*AK46,0))","v":""},null,null,null,null,{"$f":"IF(Q46=\"\",\"\",ROUND(Q46-AC46-AK46,2))","v":""},null,null,{"$f":"IF(T46=\"\",\"\",(IF(AS46<0,\"出来高が契約を超過\",X46-AN46-AF46)))","v":""}]
[null,{"$f":"見積書!F72","v":""}]
[7,{"$f":"見積書!F73","v":""},null,null,null,null,null,null,null,null,null,null,null,null,{"$f":"見積書!Q73","v":""},null,{"$f":"見積書!R73","v":""},null,null,{"$f":"見積書!S73","v":""},null,null,null,{"$f":"見積書!T73","v":""},null,null,null,null,{"$f":"IF(Q48=\"\",\"\",'出来高内訳書 (第1回請求)'!AC48+'出来高内訳書 (第1回請求)'!AK48)","v":""},null,null,{"$f":"IF(T48=\"\",\"\",ROUND(T48*AC48,0))","v":""},null,null,null,null,null,null,null,{"$f":"IF(T48=\"\",\"\",ROUND(T48*AK48,0))","v":""},null,null,null,null,{"$f":"IF(Q48=\"\",\"\",ROUND(Q48-AC48-AK48,2))","v":""},null,null,{"$f":"IF(T48=\"\",\"\",(IF(AS48<0,\"出来高が契約を超過\",X48-AN48-AF48)))","v":""}]
[null,{"$f":"見積書!F74","v":""}]
[8,{"$f":"見積書!F75","v":""},null,null,null,null,null,null,null,null,null,null,null,null,{"$f":"見積書!Q75","v":""},null,{"$f":"見積書!R75","v":""},null,null,{"$f":"見積書!S75","v":""},null,null,null,{"$f":"見積書!T75","v":""},null,null,null,null,{"$f":"IF(Q50=\"\",\"\",'出来高内訳書 (第1回請求)'!AC50+'出来高内訳書 (第1回請求)'!AK50)","v":""},null,null,{"$f":"IF(T50=\"\",\"\",ROUND(T50*AC50,0))","v":""},null,null,null,null,null,null,null,{"$f":"IF(T50=\"\",\"\",ROUND(T50*AK50,0))","v":""},null,null,null,null,{"$f":"IF(Q50=\"\",\"\",ROUND(Q50-AC50-AK50,2))","v":""},null,null,{"$f":"IF(T50=\"\",\"\",(IF(AS50<0,\"出来高が契約を超過\",X50-AN50-AF50)))","v":""}]
[null,{"$f":"見積書!F76","v":""}]
[9,{"$f":"見積書!F77","v":""},null,null,null,null,null,null,null,null,null,null,null,null,{"$f":"見積書!Q77","v":""},null,{"$f":"見積書!R77","v":""},null,null,{"$f":"見積書!S77","v":""},null,null,null,{"$f":"見積書!T77","v":""},null,null,null,null,{"$f":"IF(Q52=\"\",\"\",'出来高内訳書 (第1回請求)'!AC52+'出来高内訳書 (第1回請求)'!AK52)","v":""},null,null,{"$f":"IF(T52=\"\",\"\",ROUND(T52*AC52,0))","v":""},null,null,null,null,null,null,null,{"$f":"IF(T52=\"\",\"\",ROUND(T52*AK52,0))","v":""},null,null,null,null,{"$f":"IF(Q52=\"\",\"\",ROUND(Q52-AC52-AK52,2))","v":""},null,null,{"$f":"IF(T52=\"\",\"\",(IF(AS52<0,\"出来高が契約を超過\",X52-AN52-AF52)))","v":""}]
[null,{"$f":"見積書!F78","v":""}]
[10,{"$f":"見積書!F79","v":""},null,null,null,null,null,null,null,null,null,null,null,null,{"$f":"見積書!Q79","v":""},null,{"$f":"見積書!R79","v":""},null,null,{"$f":"見積書!S79","v":""},null,null,null,{"$f":"見積書!T79","v":""},null,null,null,null,{"$f":"IF(Q54=\"\",\"\",'出来高内訳書 (第1回請求)'!AC54+'出来高内訳書 (第1回請求)'!AK54)","v":""},null,null,{"$f":"IF(T54=\"\",\"\",ROUND(T54*AC54,0))","v":""},null,null,null,null,null,null,null,{"$f":"IF(T54=\"\",\"\",ROUND(T54*AK54,0))","v":""},null,null,null,null,{"$f":"IF(Q54=\"\",\"\",ROUND(Q54-AC54-AK54,2))","v":""},null,null,{"$f":"IF(T54=\"\",\"\",(IF(AS54<0,\"出来高が契約を超過\",X54-AN54-AF54)))","v":""}]
[null,{"$f":"見積書!F80","v":""}]
[11,{"$f":"見積書!F81","v":""},null,null,null,null,null,null,null,null,null,null,null,null,{"$f":"見積書!Q81","v":""},null,{"$f":"見積書!R81","v":""},null,null,{"$f":"見積書!S81","v":""},null,null,null,{"$f":"見積書!T81","v":""},null,null,null,null,{"$f":"IF(Q56=\"\",\"\",'出来高内訳書 (第1回請求)'!AC56+'出来高内訳書 (第1回請求)'!AK56)","v":""},null,null,{"$f":"IF(T56=\"\",\"\",ROUND(T56*AC56,0))","v":""},null,null,null,null,null,null,null,{"$f":"IF(T56=\"\",\"\",ROUND(T56*AK56,0))","v":""},null,null,null,null,{"$f":"IF(Q56=\"\",\"\",ROUND(Q56-AC56-AK56,2))","v":""},null,null,{"$f":"IF(T56=\"\",\"\",(IF(AS56<0,\"出来高が契約を超過\",X56-AN56-AF56)))","v":""}]
[null,{"$f":"見積書!F82","v":""}]
[null,"小計",null,null,null,null,null,null,null,null,null,null,null,null,null,null,null,null,null,null,null,null,null,{"$f":"SUM(X36:AB57)","v":0},null,null,null,null,null,null,null,{"$f":"SUM(AF36:AJ57)","v":0},null,null,null,null,null,null,null,{"$f":"SUM(AN36:AR57)","v":0},null,null,null,null,null,null,null,{"$f":"X58-AF58-AN58","v":0}]
[]
[null,"請求内訳書（出来高・分割納入用）",null,null,null,null,null,null,null,null,null,null,null,null,null,null,null,null,null,null,null,null,null,null,null,null,null,null,null,null,null,null,null,null,null,null,null,null,null,null,null,null,null,null,null,null,null,null,null,null,"No."]
[]
[]
[]
[]
[]
[]
[]
[]
[]
[null,"製造番号",null,null,null,null,{"$f":"Y22","v":""},null,null,null,null,null,null,null,null,null,null,null,null,null,null,null,null,"※科目"]
[]
[]
[null,"注文番号",null,null,null,null,{"$f":"Y25","v":""},null,null,null,null,null,null,null,null,"第",null,{"$f":"AJ23","v":2},null,"回請求"]
[]
[]
[]
[null,"工　種・品　名",null,null,null,null,null,null,null,null,null,null,null,null,"契　約　金　額",null,null,null,null,null,null,null,null,null,null,null,null,null,"前回までの出来高",null,null,null,null,null,null,null,"今回出来高",null,null,null,null,null,null,null,"残高",null,null,null,null,null,null,null,"備　考"]
[null,null,null,null,null,null,null,null,null,null,null,null,null,null,"単位",null,"数量",null,null,"単価",null,null,null,"金額",null,null,null,null,"数量",null,null,"金額",null,null,null,null,"数量",null,null,"金額",null,null,null,null,"数量",null,null,"金額"]
[12,{"$f":"見積書!F83","v":""},null,null,null,null,null,null,null,null,null,null,null,null,{"$f":"見積書!Q83","v":""},null,{"$f":"見積書!R83","v":""},null,null,{"$f":"見積書!S83","v":""},null,null,null,{"$f":"見積書!T83","v":""},null,null,null,null,{"$f":"IF(Q79=\"\",\"\",'出来高内訳書 (第1回請求)'!AC79+'出来高内訳書 (第1回請求)'!AK79)","v":""},null,null,{"$f":"IF(T79=\"\",\"\",ROUND(T79*AC79,0))","v":""},null,null,null,null,null,null,null,{"$f":"IF(T79=\"\",\"\",ROUND(T79*AK79,0))","v":""},null,null,null,null,{"$f":"IF(Q79=\"\",\"\",ROUND(Q79-AC79-AK79,2))","v":""},null,null,{"$f":"IF(T79=\"\",\"\",(IF(AS79<0,\"出来高が契約を超過\",X79-AN79-AF79)))","v":""}]
[null,{"$f":"見積書!F84","v":""}]
[13,{"$f":"見積書!F85","v":""},null,null,null,null,null,null,null,null,null,null,null,null,{"$f":"見積書!Q85","v":""},null,{"$f":"見積書!R85","v":""},null,null,{"$f":"見積書!S85","v":""},null,null,null,{"$f":"見積書!T85","v":""},null,null,null,null,{"$f":"IF(Q81=\"\",\"\",'出来高内訳書 (第1回請求)'!AC81+'出来高内訳書 (第1回請求)'!AK81)","v":""},null,null,{"$f":"IF(T81=\"\",\"\",ROUND(T81*AC81,0))","v":""},null,null,null,null,null,null,null,{"$f":"IF(T81=\"\",\"\",ROUND(T81*AK81,0))","v":""},null,null,null,null,{"$f":"IF(Q81=\"\",\"\",ROUND(Q81-AC81-AK81,2))","v":""},null,null,{"$f":"IF(T81=\"\",\"\",(IF(AS81<0,\"出来高が契約を超過\",X81-AN81-AF81)))","v":""}]
[null,{"$f":"見積書!F86","v":""}]
[14,{"$f":"'見積書 (2)'!F26","v":""},null,null,null,null,null,null,null,null,null,null,null,null,{"$f":"'見積書 (2)'!Q26","v":""},null,{"$f":"'見積書 (2)'!R26","v":""},null,null,{"$f":"'見積書 (2)'!S26","v":""},null,null,null,{"$f":"'見積書 (2)'!T26","v":""},null,null,null,null,{"$f":"IF(Q83=\"\",\"\",'出来高内訳書 (第1回請求)'!AC83+'出来高内訳書 (第1回請求)'!AK83)","v":""},null,null,{"$f":"IF(T83=\"\",\"\",ROUND(T83*AC83,0))","v":""},null,null,null,null,null,null,null,{"$f":"IF(T83=\"\",\"\",ROUND(T83*AK83,0))","v":""},null,null,null,null,{"$f":"IF(Q83=\"\",\"\",ROUND(Q83-AC83-AK83,2))","v":""},null,null,{"$f":"IF(T83=\"\",\"\",(IF(AS83<0,\"出来高が契約を超過\",X83-AN83-AF83)))","v":""}]
[null,{"$f":"'見積書 (2)'!F27","v":""}]
[15,{"$f":"'見積書 (2)'!F28","v":""},null,null,null,null,null,null,null,null,null,null,null,null,{"$f":"'見積書 (2)'!Q28","v":""},null,{"$f":"'見積書 (2)'!R28","v":""},null,null,{"$f":"'見積書 (2)'!S28","v":""},null,null,null,{"$f":"'見積書 (2)'!T28","v":""},null,null,null,null,{"$f":"IF(Q85=\"\",\"\",'出来高内訳書 (第1回請求)'!AC85+'出来高内訳書 (第1回請求)'!AK85)","v":""},null,null,{"$f":"IF(T85=\"\",\"\",ROUND(T85*AC85,0))","v":""},null,null,null,null,null,null,null,{"$f":"IF(T85=\"\",\"\",ROUND(T85*AK85,0))","v":""},null,null,null,null,{"$f":"IF(Q85=\"\",\"\",ROUND(Q85-AC85-AK85,2))","v":""},null,null,{"$f":"IF(T85=\"\",\"\",(IF(AS85<0,\"出来高が契約を超過\",X85-AN85-AF85)))","v":""}]
[null,{"$f":"'見積書 (2)'!F29","v":""}]
[16,{"$f":"'見積書 (2)'!F30","v":""},null,null,null,null,null,null,null,null,null,null,null,null,{"$f":"'見積書 (2)'!Q30","v":""},null,{"$f":"'見積書 (2)'!R30","v":""},null,null,{"$f":"'見積書 (2)'!S30","v":""},null,null,null,{"$f":"'見積書 (2)'!T30","v":""},null,null,null,null,{"$f":"IF(Q87=\"\",\"\",'出来高内訳書 (第1回請求)'!AC87+'出来高内訳書 (第1回請求)'!AK87)","v":""},null,null,{"$f":"IF(T87=\"\",\"\",ROUND(T87*AC87,0))","v":""},null,null,null,null,null,null,null,{"$f":"IF(T87=\"\",\"\",ROUND(T87*AK87,0))","v":""},null,null,null,null,{"$f":"IF(Q87=\"\",\"\",ROUND(Q87-AC87-AK87,2))","v":""},null,null,{"$f":"IF(T87=\"\",\"\",(IF(AS87<0,\"出来高が契約を超過\",X87-AN87-AF87)))","v":""}]
[null,{"$f":"'見積書 (2)'!F31","v":""}]
[17,{"$f":"'見積書 (2)'!F32","v":""},null,null,null,null,null,null,null,null,null,null,null,null,{"$f":"'見積書 (2)'!Q32","v":""},null,{"$f":"'見積書 (2)'!R32","v":""},null,null,{"$f":"'見積書 (2)'!S32","v":""},null,null,null,{"$f":"'見積書 (2)'!T32","v":""},null,null,null,null,{"$f":"IF(Q89=\"\",\"\",'出来高内訳書 (第1回請求)'!AC89+'出来高内訳書 (第1回請求)'!AK89)","v":""},null,null,{"$f":"IF(T89=\"\",\"\",ROUND(T89*AC89,0))","v":""},null,null,null,null,null,null,null,{"$f":"IF(T89=\"\",\"\",ROUND(T89*AK89,0))","v":""},null,null,null,null,{"$f":"IF(Q89=\"\",\"\",ROUND(Q89-AC89-AK89,2))","v":""},null,null,{"$f":"IF(T89=\"\",\"\",(IF(AS89<0,\"出来高が契約を超過\",X89-AN89-AF89)))","v":""}]
[null,{"$f":"'見積書 (2)'!F33","v":""}]
[18,{"$f":"'見積書 (2)'!F34","v":""},null,null,null,null,null,null,null,null,null,null,null,null,{"$f":"'見積書 (2)'!Q34","v":""},null,{"$f":"'見積書 (2)'!R34","v":""},null,null,{"$f":"'見積書 (2)'!S34","v":""},null,null,null,{"$f":"'見積書 (2)'!T34","v":""},null,null,null,null,{"$f":"IF(Q91=\"\",\"\",'出来高内訳書 (第1回請求)'!AC91+'出来高内訳書 (第1回請求)'!AK91)","v":""},null,null,{"$f":"IF(T91=\"\",\"\",ROUND(T91*AC91,0))","v":""},null,null,null,null,null,null,null,{"$f":"IF(T91=\"\",\"\",ROUND(T91*AK91,0))","v":""},null,null,null,null,{"$f":"IF(Q91=\"\",\"\",ROUND(Q91-AC91-AK91,2))","v":""},null,null,{"$f":"IF(T91=\"\",\"\",(IF(AS91<0,\"出来高が契約を超過\",X91-AN91-AF91)))","v":""}]
[null,{"$f":"'見積書 (2)'!F35","v":""}]
[19,{"$f":"'見積書 (2)'!F36","v":""},null,null,null,null,null,null,null,null,null,null,null,null,{"$f":"'見積書 (2)'!Q36","v":""},null,{"$f":"'見積書 (2)'!R36","v":""},null,null,{"$f":"'見積書 (2)'!S36","v":""},null,null,null,{"$f":"'見積書 (2)'!T36","v":""},null,null,null,null,{"$f":"IF(Q93=\"\",\"\",'出来高内訳書 (第1回請求)'!AC93+'出来高内訳書 (第1回請求)'!AK93)","v":""},null,null,{"$f":"IF(T93=\"\",\"\",ROUND(T93*AC93,0))","v":""},null,null,null,null,null,null,null,{"$f":"IF(T93=\"\",\"\",ROUND(T93*AK93,0))","v":""},null,null,null,null,{"$f":"IF(Q93=\"\",\"\",ROUND(Q93-AC93-AK93,2))","v":""},null,null,{"$f":"IF(T93=\"\",\"\",(IF(AS93<0,\"出来高が契約を超過\",X93-AN93-AF93)))","v":""}]
[null,{"$f":"'見積書 (2)'!F37","v":""}]
[20,{"$f":"'見積書 (2)'!F38","v":""},null,null,null,null,null,null,null,null,null,null,null,null,{"$f":"'見積書 (2)'!Q38","v":""},null,{"$f":"'見積書 (2)'!R38","v":""},null,null,{"$f":"'見積書 (2)'!S38","v":""},null,null,null,{"$f":"'見積書 (2)'!T38","v":""},null,null,null,null,{"$f":"IF(Q95=\"\",\"\",'出来高内訳書 (第1回請求)'!AC95+'出来高内訳書 (第1回請求)'!AK95)","v":""},null,null,{"$f":"IF(T95=\"\",\"\",ROUND(T95*AC95,0))","v":""},null,null,null,null,null,null,null,{"$f":"IF(T95=\"\",\"\",ROUND(T95*AK95,0))","v":""},null,null,null,null,{"$f":"IF(Q95=\"\",\"\",ROUND(Q95-AC95-AK95,2))","v":""},null,null,{"$f":"IF(T95=\"\",\"\",(IF(AS95<0,\"出来高が契約を超過\",X95-AN95-AF95)))","v":""}]
[null,{"$f":"'見積書 (2)'!F39","v":""}]
[21,{"$f":"'見積書 (2)'!F40","v":""},null,null,null,null,null,null,null,null,null,null,null,null,{"$f":"'見積書 (2)'!Q40","v":""},null,{"$f":"'見積書 (2)'!R40","v":""},null,null,{"$f":"'見積書 (2)'!S40","v":""},null,null,null,{"$f":"'見積書 (2)'!T40","v":""},null,null,null,null,{"$f":"IF(Q97=\"\",\"\",'出来高内訳書 (第1回請求)'!AC97+'出来高内訳書 (第1回請求)'!AK97)","v":""},null,null,{"$f":"IF(T97=\"\",\"\",ROUND(T97*AC97,0))","v":""},null,null,null,null,null,null,null,{"$f":"IF(T97=\"\",\"\",ROUND(T97*AK97,0))","v":""},null,null,null,null,{"$f":"IF(Q97=\"\",\"\",ROUND(Q97-AC97-AK97,2))","v":""},null,null,{"$f":"IF(T97=\"\",\"\",(IF(AS97<0,\"出来高が契約を超過\",X97-AN97-AF97)))","v":""}]
[null,{"$f":"'見積書 (2)'!F41","v":""}]
[22,{"$f":"'見積書 (2)'!F42","v":""},null,null,null,null,null,null,null,null,null,null,null,null,{"$f":"'見積書 (2)'!Q42","v":""},null,{"$f":"'見積書 (2)'!R42","v":""},null,null,{"$f":"'見積書 (2)'!S42","v":""},null,null,null,{"$f":"'見積書 (2)'!T42","v":""},null,null,null,null,{"$f":"IF(Q99=\"\",\"\",'出来高内訳書 (第1回請求)'!AC99+'出来高内訳書 (第1回請求)'!AK99)","v":""},null,null,{"$f":"IF(T99=\"\",\"\",ROUND(T99*AC99,0))","v":""},null,null,null,null,null,null,null,{"$f":"IF(T99=\"\",\"\",ROUND(T99*AK99,0))","v":""},null,null,null,null,{"$f":"IF(Q99=\"\",\"\",ROUND(Q99-AC99-AK99,2))","v":""},null,null,{"$f":"IF(T99=\"\",\"\",(IF(AS99<0,\"出来高が契約を超過\",X99-AN99-AF99)))","v":""}]
[null,{"$f":"'見積書 (2)'!F43","v":""}]
[23,{"$f":"'見積書 (2)'!F44","v":""},null,null,null,null,null,null,null,null,null,null,null,null,{"$f":"'見積書 (2)'!Q44","v":""},null,{"$f":"'見積書 (2)'!R44","v":""},null,null,{"$f":"'見積書 (2)'!S44","v":""},null,null,null,{"$f":"'見積書 (2)'!T44","v":""},null,null,null,null,{"$f":"IF(Q101=\"\",\"\",'出来高内訳書 (第1回請求)'!AC101+'出来高内訳書 (第1回請求)'!AK101)","v":""},null,null,{"$f":"IF(T101=\"\",\"\",ROUND(T101*AC101,0))","v":""},null,null,null,null,null,null,null,{"$f":"IF(T101=\"\",\"\",ROUND(T101*AK101,0))","v":""},null,null,null,null,{"$f":"IF(Q101=\"\",\"\",ROUND(Q101-AC101-AK101,2))","v":""},null,null,{"$f":"IF(T101=\"\",\"\",(IF(AS101<0,\"出来高が契約を超過\",X101-AN101-AF101)))","v":""}]
[null,{"$f":"'見積書 (2)'!F45","v":""}]
[24,{"$f":"'見積書 (2)'!F46","v":""},null,null,null,null,null,null,null,null,null,null,null,null,{"$f":"'見積書 (2)'!Q46","v":""},null,{"$f":"'見積書 (2)'!R46","v":""},null,null,{"$f":"'見積書 (2)'!S46","v":""},null,null,null,{"$f":"'見積書 (2)'!T46","v":""},null,null,null,null,{"$f":"IF(Q103=\"\",\"\",'出来高内訳書 (第1回請求)'!AC103+'出来高内訳書 (第1回請求)'!AK103)","v":""},null,null,{"$f":"IF(T103=\"\",\"\",ROUND(T103*AC103,0))","v":""},null,null,null,null,null,null,null,{"$f":"IF(T103=\"\",\"\",ROUND(T103*AK103,0))","v":""},null,null,null,null,{"$f":"IF(Q103=\"\",\"\",ROUND(Q103-AC103-AK103,2))","v":""},null,null,{"$f":"IF(T103=\"\",\"\",(IF(AS103<0,\"出来高が契約を超過\",X103-AN103-AF103)))","v":""}]
[null,{"$f":"'見積書 (2)'!F47","v":""}]
[25,{"$f":"'見積書 (2)'!F48","v":""},null,null,null,null,null,null,null,null,null,null,null,null,{"$f":"'見積書 (2)'!Q48","v":""},null,{"$f":"'見積書 (2)'!R48","v":""},null,null,{"$f":"'見積書 (2)'!S48","v":""},null,null,null,{"$f":"'見積書 (2)'!T48","v":""},null,null,null,null,{"$f":"IF(Q105=\"\",\"\",'出来高内訳書 (第1回請求)'!AC105+'出来高内訳書 (第1回請求)'!AK105)","v":""},null,null,{"$f":"IF(T105=\"\",\"\",ROUND(T105*AC105,0))","v":""},null,null,null,null,null,null,null,{"$f":"IF(T105=\"\",\"\",ROUND(T105*AK105,0))","v":""},null,null,null,null,{"$f":"IF(Q105=\"\",\"\",ROUND(Q105-AC105-AK105,2))","v":""},null,null,{"$f":"IF(T105=\"\",\"\",(IF(AS105<0,\"出来高が契約を超過\",X105-AN105-AF105)))","v":""}]
[null,{"$f":"'見積書 (2)'!F49","v":""}]
[26,{"$f":"'見積書 (2)'!F50","v":""},null,null,null,null,null,null,null,null,null,null,null,null,{"$f":"'見積書 (2)'!Q50","v":""},null,{"$f":"'見積書 (2)'!R50","v":""},null,null,{"$f":"'見積書 (2)'!S50","v":""},null,null,null,{"$f":"'見積書 (2)'!T50","v":""},null,null,null,null,{"$f":"IF(Q107=\"\",\"\",'出来高内訳書 (第1回請求)'!AC107+'出来高内訳書 (第1回請求)'!AK107)","v":""},null,null,{"$f":"IF(T107=\"\",\"\",ROUND(T107*AC107,0))","v":""},null,null,null,null,null,null,null,{"$f":"IF(T107=\"\",\"\",ROUND(T107*AK107,0))","v":""},null,null,null,null,{"$f":"IF(Q107=\"\",\"\",ROUND(Q107-AC107-AK107,2))","v":""},null,null,{"$f":"IF(T107=\"\",\"\",(IF(AS107<0,\"出来高が契約を超過\",X107-AN107-AF107)))","v":""}]
[null,{"$f":"'見積書 (2)'!F51","v":""}]
[null,"小計",null,null,null,null,null,null,null,null,null,null,null,null,null,null,null,null,null,null,null,null,null,{"$f":"SUM(X79:AB108)","v":0},null,null,null,null,null,null,null,{"$f":"SUM(AF79:AJ108)","v":0},null,null,null,null,null,null,null,{"$f":"SUM(AN79:AR108)","v":0},null,null,null,null,null,null,null,{"$f":"X109-AF109-AN109","v":0}]
[]
[]
[]
[]
[null,"請求内訳書（出来高・分割納入用）",null,null,null,null,null,null,null,null,null,null,null,null,null,null,null,null,null,null,null,null,null,null,null,null,null,null,null,null,null,null,null,null,null,null,null,null,null,null,null,null,null,null,null,null,null,null,null,null,"No."]
[]
[]
[]
[]
[]
[]
[]
[]
[]
[null,"製造番号",null,null,null,null,{"$f":"Y22","v":""},null,null,null,null,null,null,null,null,null,null,null,null,null,null,null,null,"※科目"]
[]
[]
[null,"注文番号",null,null,null,null,{"$f":"Y25","v":""},null,null,null,null,null,null,null,null,"第",null,{"$f":"AJ23","v":2},null,"回請求"]
[]
[]
[]
[null,"工　種・品　名",null,null,null,null,null,null,null,null,null,null,null,null,"契　約　金　額",null,null,null,null,null,null,null,null,null,null,null,null,null,"前回までの出来高",null,null,null,null,null,null,null,"今回出来高",null,null,null,null,null,null,null,"残高",null,null,null,null,null,null,null,"備　考"]
[null,null,null,null,null,null,null,null,null,null,null,null,null,null,"単位",null,"数量",null,null,"単価",null,null,null,"金額",null,null,null,null,"数量",null,null,"金額",null,null,null,null,"数量",null,null,"金額",null,null,null,null,"数量",null,null,"金額"]
[27,{"$f":"'見積書 (2)'!F52","v":""},null,null,null,null,null,null,null,null,null,null,null,null,{"$f":"'見積書 (2)'!Q52","v":""},null,{"$f":"'見積書 (2)'!R52","v":""},null,null,{"$f":"'見積書 (2)'!S52","v":""},null,null,null,{"$f":"'見積書 (2)'!T52","v":""},null,null,null,null,{"$f":"IF(Q133=\"\",\"\",'出来高内訳書 (第1回請求)'!AC133+'出来高内訳書 (第1回請求)'!AK133)","v":""},null,null,{"$f":"IF(T133=\"\",\"\",ROUND(T133*AC133,0))","v":""},null,null,null,null,null,null,null,{"$f":"IF(T133=\"\",\"\",ROUND(T133*AK133,0))","v":""},null,null,null,null,{"$f":"IF(Q133=\"\",\"\",ROUND(Q133-AC133-AK133,2))","v":""},null,null,{"$f":"IF(T133=\"\",\"\",(IF(AS133<0,\"出来高が契約を超過\",X133-AN133-AF133)))","v":""}]
[null,{"$f":"'見積書 (2)'!F53","v":""}]
[28,{"$f":"'見積書 (2)'!F54","v":""},null,null,null,null,null,null,null,null,null,null,null,null,{"$f":"'見積書 (2)'!Q54","v":""},null,{"$f":"'見積書 (2)'!R54","v":""},null,null,{"$f":"'見積書 (2)'!S54","v":""},null,null,null,{"$f":"'見積書 (2)'!T54","v":""},null,null,null,null,{"$f":"IF(Q135=\"\",\"\",'出来高内訳書 (第1回請求)'!AC135+'出来高内訳書 (第1回請求)'!AK135)","v":""},null,null,{"$f":"IF(T135=\"\",\"\",ROUND(T135*AC135,0))","v":""},null,null,null,null,null,null,null,{"$f":"IF(T135=\"\",\"\",ROUND(T135*AK135,0))","v":""},null,null,null,null,{"$f":"IF(Q135=\"\",\"\",ROUND(Q135-AC135-AK135,2))","v":""},null,null,{"$f":"IF(T135=\"\",\"\",(IF(AS135<0,\"出来高が契約を超過\",X135-AN135-AF135)))","v":""}]
[null,{"$f":"'見積書 (2)'!F55","v":""}]
[29,{"$f":"'見積書 (2)'!F56","v":""},null,null,null,null,null,null,null,null,null,null,null,null,{"$f":"'見積書 (2)'!Q56","v":""},null,{"$f":"'見積書 (2)'!R56","v":""},null,null,{"$f":"'見積書 (2)'!S56","v":""},null,null,null,{"$f":"'見積書 (2)'!T56","v":""},null,null,null,null,{"$f":"IF(Q137=\"\",\"\",'出来高内訳書 (第1回請求)'!AC137+'出来高内訳書 (第1回請求)'!AK137)","v":""},null,null,{"$f":"IF(T137=\"\",\"\",ROUND(T137*AC137,0))","v":""},null,null,null,null,null,null,null,{"$f":"IF(T137=\"\",\"\",ROUND(T137*AK137,0))","v":""},null,null,null,null,{"$f":"IF(Q137=\"\",\"\",ROUND(Q137-AC137-AK137,2))","v":""},null,null,{"$f":"IF(T137=\"\",\"\",(IF(AS137<0,\"出来高が契約を超過\",X137-AN137-AF137)))","v":""}]
[null,{"$f":"'見積書 (2)'!F57","v":""}]
[30,{"$f":"'見積書 (2)'!F58","v":""},null,null,null,null,null,null,null,null,null,null,null,null,{"$f":"'見積書 (2)'!Q58","v":""},null,{"$f":"'見積書 (2)'!R58","v":""},null,null,{"$f":"'見積書 (2)'!S58","v":""},null,null,null,{"$f":"'見積書 (2)'!T58","v":""},null,null,null,null,{"$f":"IF(Q139=\"\",\"\",'出来高内訳書 (第1回請求)'!AC139+'出来高内訳書 (第1回請求)'!AK139)","v":""},null,null,{"$f":"IF(T139=\"\",\"\",ROUND(T139*AC139,0))","v":""},null,null,null,null,null,null,null,{"$f":"IF(T139=\"\",\"\",ROUND(T139*AK139,0))","v":""},null,null,null,null,{"$f":"IF(Q139=\"\",\"\",ROUND(Q139-AC139-AK139,2))","v":""},null,null,{"$f":"IF(T139=\"\",\"\",(IF(AS139<0,\"出来高が契約を超過\",X139-AN139-AF139)))","v":""}]
[null,{"$f":"'見積書 (2)'!F59","v":""}]
[31,{"$f":"'見積書 (2)'!F60","v":""},null,null,null,null,null,null,null,null,null,null,null,null,{"$f":"'見積書 (2)'!Q60","v":""},null,{"$f":"'見積書 (2)'!R60","v":""},null,null,{"$f":"'見積書 (2)'!S60","v":""},null,null,null,{"$f":"'見積書 (2)'!T60","v":""},null,null,null,null,{"$f":"IF(Q141=\"\",\"\",'出来高内訳書 (第1回請求)'!AC141+'出来高内訳書 (第1回請求)'!AK141)","v":""},null,null,{"$f":"IF(T141=\"\",\"\",ROUND(T141*AC141,0))","v":""},null,null,null,null,null,null,null,{"$f":"IF(T141=\"\",\"\",ROUND(T141*AK141,0))","v":""},null,null,null,null,{"$f":"IF(Q141=\"\",\"\",ROUND(Q141-AC141-AK141,2))","v":""},null,null,{"$f":"IF(T141=\"\",\"\",(IF(AS141<0,\"出来高が契約を超過\",X141-AN141-AF141)))","v":""}]
[null,{"$f":"'見積書 (2)'!F61","v":""}]
[32,{"$f":"'見積書 (2)'!F62","v":""},null,null,null,null,null,null,null,null,null,null,null,null,{"$f":"'見積書 (2)'!Q62","v":""},null,{"$f":"'見積書 (2)'!R62","v":""},null,null,{"$f":"'見積書 (2)'!S62","v":""},null,null,null,{"$f":"'見積書 (2)'!T62","v":""},null,null,null,null,{"$f":"IF(Q143=\"\",\"\",'出来高内訳書 (第1回請求)'!AC143+'出来高内訳書 (第1回請求)'!AK143)","v":""},null,null,{"$f":"IF(T143=\"\",\"\",ROUND(T143*AC143,0))","v":""},null,null,null,null,null,null,null,{"$f":"IF(T143=\"\",\"\",ROUND(T143*AK143,0))","v":""},null,null,null,null,{"$f":"IF(Q143=\"\",\"\",ROUND(Q143-AC143-AK143,2))","v":""},null,null,{"$f":"IF(T143=\"\",\"\",(IF(AS143<0,\"出来高が契約を超過\",X143-AN143-AF143)))","v":""}]
[null,{"$f":"'見積書 (2)'!F63","v":""}]
[33,{"$f":"'見積書 (2)'!F64","v":""},null,null,null,null,null,null,null,null,null,null,null,null,{"$f":"'見積書 (2)'!Q64","v":""},null,{"$f":"'見積書 (2)'!R64","v":""},null,null,{"$f":"'見積書 (2)'!S64","v":""},null,null,null,{"$f":"'見積書 (2)'!T64","v":""},null,null,null,null,{"$f":"IF(Q145=\"\",\"\",'出来高内訳書 (第1回請求)'!AC145+'出来高内訳書 (第1回請求)'!AK145)","v":""},null,null,{"$f":"IF(T145=\"\",\"\",ROUND(T145*AC145,0))","v":""},null,null,null,null,null,null,null,{"$f":"IF(T145=\"\",\"\",ROUND(T145*AK145,0))","v":""},null,null,null,null,{"$f":"IF(Q145=\"\",\"\",ROUND(Q145-AC145-AK145,2))","v":""},null,null,{"$f":"IF(T145=\"\",\"\",(IF(AS145<0,\"出来高が契約を超過\",X145-AN145-AF145)))","v":""}]
[null,{"$f":"'見積書 (2)'!F65","v":""}]
[34,{"$f":"'見積書 (2)'!F66","v":""},null,null,null,null,null,null,null,null,null,null,null,null,{"$f":"'見積書 (2)'!Q66","v":""},null,{"$f":"'見積書 (2)'!R66","v":""},null,null,{"$f":"'見積書 (2)'!S66","v":""},null,null,null,{"$f":"'見積書 (2)'!T66","v":""},null,null,null,null,{"$f":"IF(Q147=\"\",\"\",'出来高内訳書 (第1回請求)'!AC147+'出来高内訳書 (第1回請求)'!AK147)","v":""},null,null,{"$f":"IF(T147=\"\",\"\",ROUND(T147*AC147,0))","v":""},null,null,null,null,null,null,null,{"$f":"IF(T147=\"\",\"\",ROUND(T147*AK147,0))","v":""},null,null,null,null,{"$f":"IF(Q147=\"\",\"\",ROUND(Q147-AC147-AK147,2))","v":""},null,null,{"$f":"IF(T147=\"\",\"\",(IF(AS147<0,\"出来高が契約を超過\",X147-AN147-AF147)))","v":""}]
[null,{"$f":"'見積書 (2)'!F67","v":""}]
[35,{"$f":"'見積書 (2)'!F68","v":""},null,null,null,null,null,null,null,null,null,null,null,null,{"$f":"'見積書 (2)'!Q68","v":""},null,{"$f":"'見積書 (2)'!R68","v":""},null,null,{"$f":"'見積書 (2)'!S68","v":""},null,null,null,{"$f":"'見積書 (2)'!T68","v":""},null,null,null,null,{"$f":"IF(Q149=\"\",\"\",'出来高内訳書 (第1回請求)'!AC149+'出来高内訳書 (第1回請求)'!AK149)","v":""},null,null,{"$f":"IF(T149=\"\",\"\",ROUND(T149*AC149,0))","v":""},null,null,null,null,null,null,null,{"$f":"IF(T149=\"\",\"\",ROUND(T149*AK149,0))","v":""},null,null,null,null,{"$f":"IF(Q149=\"\",\"\",ROUND(Q149-AC149-AK149,2))","v":""},null,null,{"$f":"IF(T149=\"\",\"\",(IF(AS149<0,\"出来高が契約を超過\",X149-AN149-AF149)))","v":""}]
[null,{"$f":"'見積書 (2)'!F69","v":""}]
[36,{"$f":"'見積書 (3)'!F26","v":""},null,null,null,null,null,null,null,null,null,null,null,null,{"$f":"'見積書 (3)'!Q26","v":""},null,{"$f":"'見積書 (3)'!R26","v":""},null,null,{"$f":"'見積書 (3)'!S26","v":""},null,null,null,{"$f":"'見積書 (3)'!T26","v":""},null,null,null,null,{"$f":"IF(Q151=\"\",\"\",'出来高内訳書 (第1回請求)'!AC151+'出来高内訳書 (第1回請求)'!AK151)","v":""},null,null,{"$f":"IF(T151=\"\",\"\",ROUND(T151*AC151,0))","v":""},null,null,null,null,null,null,null,{"$f":"IF(T151=\"\",\"\",ROUND(T151*AK151,0))","v":""},null,null,null,null,{"$f":"IF(Q151=\"\",\"\",ROUND(Q151-AC151-AK151,2))","v":""},null,null,{"$f":"IF(T151=\"\",\"\",(IF(AS151<0,\"出来高が契約を超過\",X151-AN151-AF151)))","v":""}]
[null,{"$f":"'見積書 (3)'!F27","v":""}]
[37,{"$f":"'見積書 (3)'!F28","v":""},null,null,null,null,null,null,null,null,null,null,null,null,{"$f":"'見積書 (3)'!Q28","v":""},null,{"$f":"'見積書 (3)'!R28","v":""},null,null,{"$f":"'見積書 (3)'!S28","v":""},null,null,null,{"$f":"'見積書 (3)'!T28","v":""},null,null,null,null,{"$f":"IF(Q153=\"\",\"\",'出来高内訳書 (第1回請求)'!AC153+'出来高内訳書 (第1回請求)'!AK153)","v":""},null,null,{"$f":"IF(T153=\"\",\"\",ROUND(T153*AC153,0))","v":""},null,null,null,null,null,null,null,{"$f":"IF(T153=\"\",\"\",ROUND(T153*AK153,0))","v":""},null,null,null,null,{"$f":"IF(Q153=\"\",\"\",ROUND(Q153-AC153-AK153,2))","v":""},null,null,{"$f":"IF(T153=\"\",\"\",(IF(AS153<0,\"出来高が契約を超過\",X153-AN153-AF153)))","v":""}]
[null,{"$f":"'見積書 (3)'!F29","v":""}]
[38,{"$f":"'見積書 (3)'!F30","v":""},null,null,null,null,null,null,null,null,null,null,null,null,{"$f":"'見積書 (3)'!Q30","v":""},null,{"$f":"'見積書 (3)'!R30","v":""},null,null,{"$f":"'見積書 (3)'!S30","v":""},null,null,null,{"$f":"'見積書 (3)'!T30","v":""},null,null,null,null,{"$f":"IF(Q155=\"\",\"\",'出来高内訳書 (第1回請求)'!AC155+'出来高内訳書 (第1回請求)'!AK155)","v":""},null,null,{"$f":"IF(T155=\"\",\"\",ROUND(T155*AC155,0))","v":""},null,null,null,null,null,null,null,{"$f":"IF(T155=\"\",\"\",ROUND(T155*AK155,0))","v":""},null,null,null,null,{"$f":"IF(Q155=\"\",\"\",ROUND(Q155-AC155-AK155,2))","v":""},null,null,{"$f":"IF(T155=\"\",\"\",(IF(AS155<0,\"出来高が契約を超過\",X155-AN155-AF155)))","v":""}]
[null,{"$f":"'見積書 (3)'!F31","v":""}]
[39,{"$f":"'見積書 (3)'!F32","v":""},null,null,null,null,null,null,null,null,null,null,null,null,{"$f":"'見積書 (3)'!Q32","v":""},null,{"$f":"'見積書 (3)'!R32","v":""},null,null,{"$f":"'見積書 (3)'!S32","v":""},null,null,null,{"$f":"'見積書 (3)'!T32","v":""},null,null,null,null,{"$f":"IF(Q157=\"\",\"\",'出来高内訳書 (第1回請求)'!AC157+'出来高内訳書 (第1回請求)'!AK157)","v":""},null,null,{"$f":"IF(T157=\"\",\"\",ROUND(T157*AC157,0))","v":""},null,null,null,null,null,null,null,{"$f":"IF(T157=\"\",\"\",ROUND(T157*AK157,0))","v":""},null,null,null,null,{"$f":"IF(Q157=\"\",\"\",ROUND(Q157-AC157-AK157,2))","v":""},null,null,{"$f":"IF(T157=\"\",\"\",(IF(AS157<0,\"出来高が契約を超過\",X157-AN157-AF157)))","v":""}]
[null,{"$f":"'見積書 (3)'!F33","v":""}]
[40,{"$f":"'見積書 (3)'!F34","v":""},null,null,null,null,null,null,null,null,null,null,null,null,{"$f":"'見積書 (3)'!Q34","v":""},null,{"$f":"'見積書 (3)'!R34","v":""},null,null,{"$f":"'見積書 (3)'!S34","v":""},null,null,null,{"$f":"'見積書 (3)'!T34","v":""},null,null,null,null,{"$f":"IF(Q159=\"\",\"\",'出来高内訳書 (第1回請求)'!AC159+'出来高内訳書 (第1回請求)'!AK159)","v":""},null,null,{"$f":"IF(T159=\"\",\"\",ROUND(T159*AC159,0))","v":""},null,null,null,null,null,null,null,{"$f":"IF(T159=\"\",\"\",ROUND(T159*AK159,0))","v":""},null,null,null,null,{"$f":"IF(Q159=\"\",\"\",ROUND(Q159-AC159-AK159,2))","v":""},null,null,{"$f":"IF(T159=\"\",\"\",(IF(AS159<0,\"出来高が契約を超過\",X159-AN159-AF159)))","v":""}]
[null,{"$f":"'見積書 (3)'!F35","v":""}]
[41,{"$f":"'見積書 (3)'!F36","v":""},null,null,null,null,null,null,null,null,null,null,null,null,{"$f":"'見積書 (3)'!Q36","v":""},null,{"$f":"'見積書 (3)'!R36","v":""},null,null,{"$f":"'見積書 (3)'!S36","v":""},null,null,null,{"$f":"'見積書 (3)'!T36","v":""},null,null,null,null,{"$f":"IF(Q161=\"\",\"\",'出来高内訳書 (第1回請求)'!AC161+'出来高内訳書 (第1回請求)'!AK161)","v":""},null,null,{"$f":"IF(T161=\"\",\"\",ROUND(T161*AC161,0))","v":""},null,null,null,null,null,null,null,{"$f":"IF(T161=\"\",\"\",ROUND(T161*AK161,0))","v":""},null,null,null,null,{"$f":"IF(Q161=\"\",\"\",ROUND(Q161-AC161-AK161,2))","v":""},null,null,{"$f":"IF(T161=\"\",\"\",(IF(AS161<0,\"出来高が契約を超過\",X161-AN161-AF161)))","v":""}]
[null,{"$f":"'見積書 (3)'!F37","v":""}]
[null,"小計",null,null,null,null,null,null,null,null,null,null,null,null,null,null,null,null,null,null,null,null,null,{"$f":"SUM(X133:AB162)","v":0},null,null,null,null,null,null,null,{"$f":"SUM(AF133:AJ162)","v":0},null,null,null,null,null,null,null,{"$f":"SUM(AN133:AR162)","v":0},null,null,null,null,null,null,null,{"$f":"X163-AF163-AN163","v":0}]
[]
[]
[]
[]
[null,"請求内訳書（出来高・分割納入用）",null,null,null,null,null,null,null,null,null,null,null,null,null,null,null,null,null,null,null,null,null,null,null,null,null,null,null,null,null,null,null,null,null,null,null,null,null,null,null,null,null,null,null,null,null,null,null,null,"No."]
[]
[]
[]
[]
[]
[]
[]
[]
[]
[null,"製造番号",null,null,null,null,{"$f":"Y22","v":""},null,null,null,null,null,null,null,null,null,null,null,null,null,null,null,null,"※科目"]
[]
[]
[null,"注文番号",null,null,null,null,{"$f":"Y25","v":""},null,null,null,null,null,null,null,null,"第",null,{"$f":"AJ23","v":2},null,"回請求"]
[]
[]
[]
[null,"工　種・品　名",null,null,null,null,null,null,null,null,null,null,null,null,"契　約　金　額",null,null,null,null,null,null,null,null,null,null,null,null,null,"前回までの出来高",null,null,null,null,null,null,null,"今回出来高",null,null,null,null,null,null,null,"残高",null,null,null,null,null,null,null,"備　考"]
[null,null,null,null,null,null,null,null,null,null,null,null,null,null,"単位",null,"数量",null,null,"単価",null,null,null,"金額",null,null,null,null,"数量",null,null,"金額",null,null,null,null,"数量",null,null,"金額",null,null,null,null,"数量",null,null,"金額"]
[42,{"$f":"'見積書 (3)'!F38","v":""},null,null,null,null,null,null,null,null,null,null,null,null,{"$f":"'見積書 (3)'!Q38","v":""},null,{"$f":"'見積書 (3)'!R38","v":""},null,null,{"$f":"'見積書 (3)'!S38","v":""},null,null,null,{"$f":"'見積書 (3)'!T38","v":""},null,null,null,null,{"$f":"IF(Q187=\"\",\"\",'出来高内訳書 (第1回請求)'!AC187+'出来高内訳書 (第1回請求)'!AK187)","v":""},null,null,{"$f":"IF(T187=\"\",\"\",ROUND(T187*AC187,0))","v":""},null,null,null,null,null,null,null,{"$f":"IF(T187=\"\",\"\",ROUND(T187*AK187,0))","v":""},null,null,null,null,{"$f":"IF(Q187=\"\",\"\",ROUND(Q187-AC187-AK187,2))","v":""},null,null,{"$f":"IF(T187=\"\",\"\",(IF(AS187<0,\"出来高が契約を超過\",X187-AN187-AF187)))","v":""}]
[null,{"$f":"'見積書 (3)'!F39","v":""}]
[43,{"$f":"'見積書 (3)'!F40","v":""},null,null,null,null,null,null,null,null,null,null,null,null,{"$f":"'見積書 (3)'!Q40","v":""},null,{"$f":"'見積書 (3)'!R40","v":""},null,null,{"$f":"'見積書 (3)'!S40","v":""},null,null,null,{"$f":"'見積書 (3)'!T40","v":""},null,null,null,null,{"$f":"IF(Q189=\"\",\"\",'出来高内訳書 (第1回請求)'!AC189+'出来高内訳書 (第1回請求)'!AK189)","v":""},null,null,{"$f":"IF(T189=\"\",\"\",ROUND(T189*AC189,0))","v":""},null,null,null,null,null,null,null,{"$f":"IF(T189=\"\",\"\",ROUND(T189*AK189,0))","v":""},null,null,null,null,{"$f":"IF(Q189=\"\",\"\",ROUND(Q189-AC189-AK189,2))","v":""},null,null,{"$f":"IF(T189=\"\",\"\",(IF(AS189<0,\"出来高が契約を超過\",X189-AN189-AF189)))","v":""}]
[null,{"$f":"'見積書 (3)'!F41","v":""}]
[44,{"$f":"'見積書 (3)'!F42","v":""},null,null,null,null,null,null,null,null,null,null,null,null,{"$f":"'見積書 (3)'!Q42","v":""},null,{"$f":"'見積書 (3)'!R42","v":""},null,null,{"$f":"'見積書 (3)'!S42","v":""},null,null,null,{"$f":"'見積書 (3)'!T42","v":""},null,null,null,null,{"$f":"IF(Q191=\"\",\"\",'出来高内訳書 (第1回請求)'!AC191+'出来高内訳書 (第1回請求)'!AK191)","v":""},null,null,{"$f":"IF(T191=\"\",\"\",ROUND(T191*AC191,0))","v":""},null,null,null,null,null,null,null,{"$f":"IF(T191=\"\",\"\",ROUND(T191*AK191,0))","v":""},null,null,null,null,{"$f":"IF(Q191=\"\",\"\",ROUND(Q191-AC191-AK191,2))","v":""},null,null,{"$f":"IF(T191=\"\",\"\",(IF(AS191<0,\"出来高が契約を超過\",X191-AN191-AF191)))","v":""}]
[null,{"$f":"'見積書 (3)'!F43","v":""}]
[45,{"$f":"'見積書 (3)'!F44","v":""},null,null,null,null,null,null,null,null,null,null,null,null,{"$f":"'見積書 (3)'!Q44","v":""},null,{"$f":"'見積書 (3)'!R44","v":""},null,null,{"$f":"'見積書 (3)'!S44","v":""},null,null,null,{"$f":"'見積書 (3)'!T44","v":""},null,null,null,null,{"$f":"IF(Q193=\"\",\"\",'出来高内訳書 (第1回請求)'!AC193+'出来高内訳書 (第1回請求)'!AK193)","v":""},null,null,{"$f":"IF(T193=\"\",\"\",ROUND(T193*AC193,0))","v":""},null,null,null,null,null,null,null,{"$f":"IF(T193=\"\",\"\",ROUND(T193*AK193,0))","v":""},null,null,null,null,{"$f":"IF(Q193=\"\",\"\",ROUND(Q193-AC193-AK193,2))","v":""},null,null,{"$f":"IF(T193=\"\",\"\",(IF(AS193<0,\"出来高が契約を超過\",X193-AN193-AF193)))","v":""}]
[null,{"$f":"'見積書 (3)'!F45","v":""}]
[46,{"$f":"'見積書 (3)'!F46","v":""},null,null,null,null,null,null,null,null,null,null,null,null,{"$f":"'見積書 (3)'!Q46","v":""},null,{"$f":"'見積書 (3)'!R46","v":""},null,null,{"$f":"'見積書 (3)'!S46","v":""},null,null,null,{"$f":"'見積書 (3)'!T46","v":""},null,null,null,null,{"$f":"IF(Q195=\"\",\"\",'出来高内訳書 (第1回請求)'!AC195+'出来高内訳書 (第1回請求)'!AK195)","v":""},null,null,{"$f":"IF(T195=\"\",\"\",ROUND(T195*AC195,0))","v":""},null,null,null,null,null,null,null,{"$f":"IF(T195=\"\",\"\",ROUND(T195*AK195,0))","v":""},null,null,null,null,{"$f":"IF(Q195=\"\",\"\",ROUND(Q195-AC195-AK195,2))","v":""},null,null,{"$f":"IF(T195=\"\",\"\",(IF(AS195<0,\"出来高が契約を超過\",X195-AN195-AF195)))","v":""}]
[null,{"$f":"'見積書 (3)'!F47","v":""}]
[47,{"$f":"'見積書 (3)'!F48","v":""},null,null,null,null,null,null,null,null,null,null,null,null,{"$f":"'見積書 (3)'!Q48","v":""},null,{"$f":"'見積書 (3)'!R48","v":""},null,null,{"$f":"'見積書 (3)'!S48","v":""},null,null,null,{"$f":"'見積書 (3)'!T48","v":""},null,null,null,null,{"$f":"IF(Q197=\"\",\"\",'出来高内訳書 (第1回請求)'!AC197+'出来高内訳書 (第1回請求)'!AK197)","v":""},null,null,{"$f":"IF(T197=\"\",\"\",ROUND(T197*AC197,0))","v":""},null,null,null,null,null,null,null,{"$f":"IF(T197=\"\",\"\",ROUND(T197*AK197,0))","v":""},null,null,null,null,{"$f":"IF(Q197=\"\",\"\",ROUND(Q197-AC197-AK197,2))","v":""},null,null,{"$f":"IF(T197=\"\",\"\",(IF(AS197<0,\"出来高が契約を超過\",X197-AN197-AF197)))","v":""}]
[null,{"$f":"'見積書 (3)'!F49","v":""}]
[48,{"$f":"'見積書 (3)'!F50","v":""},null,null,null,null,null,null,null,null,null,null,null,null,{"$f":"'見積書 (3)'!Q50","v":""},null,{"$f":"'見積書 (3)'!R50","v":""},null,null,{"$f":"'見積書 (3)'!S50","v":""},null,null,null,{"$f":"'見積書 (3)'!T50","v":""},null,null,null,null,{"$f":"IF(Q199=\"\",\"\",'出来高内訳書 (第1回請求)'!AC199+'出来高内訳書 (第1回請求)'!AK199)","v":""},null,null,{"$f":"IF(T199=\"\",\"\",ROUND(T199*AC199,0))","v":""},null,null,null,null,null,null,null,{"$f":"IF(T199=\"\",\"\",ROUND(T199*AK199,0))","v":""},null,null,null,null,{"$f":"IF(Q199=\"\",\"\",ROUND(Q199-AC199-AK199,2))","v":""},null,null,{"$f":"IF(T199=\"\",\"\",(IF(AS199<0,\"出来高が契約を超過\",X199-AN199-AF199)))","v":""}]
[null,{"$f":"'見積書 (3)'!F51","v":""}]
[49,{"$f":"'見積書 (3)'!F52","v":""},null,null,null,null,null,null,null,null,null,null,null,null,{"$f":"'見積書 (3)'!Q52","v":""},null,{"$f":"'見積書 (3)'!R52","v":""},null,null,{"$f":"'見積書 (3)'!S52","v":""},null,null,null,{"$f":"'見積書 (3)'!T52","v":""},null,null,null,null,{"$f":"IF(Q201=\"\",\"\",'出来高内訳書 (第1回請求)'!AC201+'出来高内訳書 (第1回請求)'!AK201)","v":""},null,null,{"$f":"IF(T201=\"\",\"\",ROUND(T201*AC201,0))","v":""},null,null,null,null,null,null,null,{"$f":"IF(T201=\"\",\"\",ROUND(T201*AK201,0))","v":""},null,null,null,null,{"$f":"IF(Q201=\"\",\"\",ROUND(Q201-AC201-AK201,2))","v":""},null,null,{"$f":"IF(T201=\"\",\"\",(IF(AS201<0,\"出来高が契約を超過\",X201-AN201-AF201)))","v":""}]
[null,{"$f":"'見積書 (3)'!F53","v":""}]
[50,{"$f":"'見積書 (3)'!F54","v":""},null,null,null,null,null,null,null,null,null,null,null,null,{"$f":"'見積書 (3)'!Q54","v":""},null,{"$f":"'見積書 (3)'!R54","v":""},null,null,{"$f":"'見積書 (3)'!S54","v":""},null,null,null,{"$f":"'見積書 (3)'!T54","v":""},null,null,null,null,{"$f":"IF(Q203=\"\",\"\",'出来高内訳書 (第1回請求)'!AC203+'出来高内訳書 (第1回請求)'!AK203)","v":""},null,null,{"$f":"IF(T203=\"\",\"\",ROUND(T203*AC203,0))","v":""},null,null,null,null,null,null,null,{"$f":"IF(T203=\"\",\"\",ROUND(T203*AK203,0))","v":""},null,null,null,null,{"$f":"IF(Q203=\"\",\"\",ROUND(Q203-AC203-AK203,2))","v":""},null,null,{"$f":"IF(T203=\"\",\"\",(IF(AS203<0,\"出来高が契約を超過\",X203-AN203-AF203)))","v":""}]
[null,{"$f":"'見積書 (3)'!F55","v":""}]
[51,{"$f":"'見積書 (3)'!F56","v":""},null,null,null,null,null,null,null,null,null,null,null,null,{"$f":"'見積書 (3)'!Q56","v":""},null,{"$f":"'見積書 (3)'!R56","v":""},null,null,{"$f":"'見積書 (3)'!S56","v":""},null,null,null,{"$f":"'見積書 (3)'!T56","v":""},null,null,null,null,{"$f":"IF(Q205=\"\",\"\",'出来高内訳書 (第1回請求)'!AC205+'出来高内訳書 (第1回請求)'!AK205)","v":""},null,null,{"$f":"IF(T205=\"\",\"\",ROUND(T205*AC205,0))","v":""},null,null,null,null,null,null,null,{"$f":"IF(T205=\"\",\"\",ROUND(T205*AK205,0))","v":""},null,null,null,null,{"$f":"IF(Q205=\"\",\"\",ROUND(Q205-AC205-AK205,2))","v":""},null,null,{"$f":"IF(T205=\"\",\"\",(IF(AS205<0,\"出来高が契約を超過\",X205-AN205-AF205)))","v":""}]
[null,{"$f":"'見積書 (3)'!F57","v":""}]
[52,{"$f":"'見積書 (3)'!F58","v":""},null,null,null,null,null,null,null,null,null,null,null,null,{"$f":"'見積書 (3)'!Q58","v":""},null,{"$f":"'見積書 (3)'!R58","v":""},null,null,{"$f":"'見積書 (3)'!S58","v":""},null,null,null,{"$f":"'見積書 (3)'!T58","v":""},null,null,null,null,{"$f":"IF(Q207=\"\",\"\",'出来高内訳書 (第1回請求)'!AC207+'出来高内訳書 (第1回請求)'!AK207)","v":""},null,null,{"$f":"IF(T207=\"\",\"\",ROUND(T207*AC207,0))","v":""},null,null,null,null,null,null,null,{"$f":"IF(T207=\"\",\"\",ROUND(T207*AK207,0))","v":""},null,null,null,null,{"$f":"IF(Q207=\"\",\"\",ROUND(Q207-AC207-AK207,2))","v":""},null,null,{"$f":"IF(T207=\"\",\"\",(IF(AS207<0,\"出来高が契約を超過\",X207-AN207-AF207)))","v":""}]
[null,{"$f":"'見積書 (3)'!F59","v":""}]
[53,{"$f":"'見積書 (3)'!F60","v":""},null,null,null,null,null,null,null,null,null,null,null,null,{"$f":"'見積書 (3)'!Q60","v":""},null,{"$f":"'見積書 (3)'!R60","v":""},null,null,{"$f":"'見積書 (3)'!S60","v":""},null,null,null,{"$f":"'見積書 (3)'!T60","v":""},null,null,null,null,{"$f":"IF(Q209=\"\",\"\",'出来高内訳書 (第1回請求)'!AC209+'出来高内訳書 (第1回請求)'!AK209)","v":""},null,null,{"$f":"IF(T209=\"\",\"\",ROUND(T209*AC209,0))","v":""},null,null,null,null,null,null,null,{"$f":"IF(T209=\"\",\"\",ROUND(T209*AK209,0))","v":""},null,null,null,null,{"$f":"IF(Q209=\"\",\"\",ROUND(Q209-AC209-AK209,2))","v":""},null,null,{"$f":"IF(T209=\"\",\"\",(IF(AS209<0,\"出来高が契約を超過\",X209-AN209-AF209)))","v":""}]
[null,{"$f":"'見積書 (3)'!F61","v":""}]
[54,{"$f":"'見積書 (3)'!F62","v":""},null,null,null,null,null,null,null,null,null,null,null,null,{"$f":"'見積書 (3)'!Q62","v":""},null,{"$f":"'見積書 (3)'!R62","v":""},null,null,{"$f":"'見積書 (3)'!S62","v":""},null,null,null,{"$f":"'見積書 (3)'!T62","v":""},null,null,null,null,{"$f":"IF(Q211=\"\",\"\",'出来高内訳書 (第1回請求)'!AC211+'出来高内訳書 (第1回請求)'!AK211)","v":""},null,null,{"$f":"IF(T211=\"\",\"\",ROUND(T211*AC211,0))","v":""},null,null,null,null,null,null,null,{"$f":"IF(T211=\"\",\"\",ROUND(T211*AK211,0))","v":""},null,null,null,null,{"$f":"IF(Q211=\"\",\"\",ROUND(Q211-AC211-AK211,2))","v":""},null,null,{"$f":"IF(T211=\"\",\"\",(IF(AS211<0,\"出来高が契約を超過\",X211-AN211-AF211)))","v":""}]
[null,{"$f":"'見積書 (3)'!F63","v":""}]
[55,{"$f":"'見積書 (3)'!F64","v":""},null,null,null,null,null,null,null,null,null,null,null,null,{"$f":"'見積書 (3)'!Q64","v":""},null,{"$f":"'見積書 (3)'!R64","v":""},null,null,{"$f":"'見積書 (3)'!S64","v":""},null,null,null,{"$f":"'見積書 (3)'!T64","v":""},null,null,null,null,{"$f":"IF(Q213=\"\",\"\",'出来高内訳書 (第1回請求)'!AC213+'出来高内訳書 (第1回請求)'!AK213)","v":""},null,null,{"$f":"IF(T213=\"\",\"\",ROUND(T213*AC213,0))","v":""},null,null,null,null,null,null,null,{"$f":"IF(T213=\"\",\"\",ROUND(T213*AK213,0))","v":""},null,null,null,null,{"$f":"IF(Q213=\"\",\"\",ROUND(Q213-AC213-AK213,2))","v":""},null,null,{"$f":"IF(T213=\"\",\"\",(IF(AS213<0,\"出来高が契約を超過\",X213-AN213-AF213)))","v":""}]
[null,{"$f":"'見積書 (3)'!F65","v":""}]
[56,{"$f":"'見積書 (3)'!F66","v":""},null,null,null,null,null,null,null,null,null,null,null,null,{"$f":"'見積書 (3)'!Q66","v":""},null,{"$f":"'見積書 (3)'!R66","v":""},null,null,{"$f":"'見積書 (3)'!S66","v":""},null,null,null,{"$f":"'見積書 (3)'!T66","v":""},null,null,null,null,{"$f":"IF(Q215=\"\",\"\",'出来高内訳書 (第1回請求)'!AC215+'出来高内訳書 (第1回請求)'!AK215)","v":""},null,null,{"$f":"IF(T215=\"\",\"\",ROUND(T215*AC215,0))","v":""},null,null,null,null,null,null,null,{"$f":"IF(T215=\"\",\"\",ROUND(T215*AK215,0))","v":""},null,null,null,null,{"$f":"IF(Q215=\"\",\"\",ROUND(Q215-AC215-AK215,2))","v":""},null,null,{"$f":"IF(T215=\"\",\"\",(IF(AS215<0,\"出来高が契約を超過\",X215-AN215-AF215)))","v":""}]
[null,{"$f":"'見積書 (3)'!F67","v":""}]
[null,"小計",null,null,null,null,null,null,null,null,null,null,null,null,null,null,null,null,null,null,null,null,null,{"$f":"SUM(X187:AB216)","v":0},null,null,null,null,null,null,null,{"$f":"SUM(AF187:AJ216)","v":0},null,null,null,null,null,null,null,{"$f":"SUM(AN187:AR216)","v":0},null,null,null,null,null,null,null,{"$f":"X217-AF217-AN217","v":0}]
[]
[]
[]
[]
[null,"請求内訳書（出来高・分割納入用）",null,null,null,null,null,null,null,null,null,null,null,null,null,null,null,null,null,null,null,null,null,null,null,null,null,null,null,null,null,null,null,null,null,null,null,null,null,null,null,null,null,null,null,null,null,null,null,null,"No."]
[]
[]
[]
[]
[]
[]
[]
[]
[]
[null,"製造番号",null,null,null,null,{"$f":"Y22","v":""},null,null,null,null,null,null,null,null,null,null,null,null,null,null,null,null,"※科目"]
[]
[]
[null,"注文番号",null,null,null,null,{"$f":"Y25","v":""},null,null,null,null,null,null,null,null,"第",null,{"$f":"AJ23","v":2},null,"回請求"]
[]
[]
[]
[null,"工　種・品　名",null,null,null,null,null,null,null,null,null,null,null,null,"契　約　金　額",null,null,null,null,null,null,null,null,null,null,null,null,null,"前回までの出来高",null,null,null,null,null,null,null,"今回出来高",null,null,null,null,null,null,null,"残高",null,null,null,null,null,null,null,"備　考"]
[null,null,null,null,null,null,null,null,null,null,null,null,null,null,"単位",null,"数量",null,null,"単価",null,null,null,"金額",null,null,null,null,"数量",null,null,"金額",null,null,null,null,"数量",null,null,"金額",null,null,null,null,"数量",null,null,"金額"]
[57,{"$f":"'見積書 (3)'!F68","v":""},null,null,null,null,null,null,null,null,null,null,null,null,{"$f":"'見積書 (3)'!Q68","v":""},null,{"$f":"'見積書 (3)'!R68","v":""},null,null,{"$f":"'見積書 (3)'!S68","v":""},null,null,null,{"$f":"'見積書 (3)'!T68","v":""},null,null,null,null,{"$f":"IF(Q241=\"\",\"\",'出来高内訳書 (第1回請求)'!AC241+'出来高内訳書 (第1回請求)'!AK241)","v":""},null,null,{"$f":"IF(T241=\"\",\"\",ROUND(T241*AC241,0))","v":""},null,null,null,null,null,null,null,{"$f":"IF(T241=\"\",\"\",ROUND(T241*AK241,0))","v":""},null,null,null,null,{"$f":"IF(Q241=\"\",\"\",ROUND(Q241-AC241-AK241,2))","v":""},null,null,{"$f":"IF(T241=\"\",\"\",(IF(AS241<0,\"出来高が契約を超過\",X241-AN241-AF241)))","v":""}]
[null,{"$f":"'見積書 (3)'!F68","v":""}]
[]
[]
[]
[]
[]
[]
[]
[]
[]
[]
[]
[]
[]
[]
[null,"小計",null,null,null,null,null,null,null,null,null,null,null,null,null,null,null,null,null,null,null,null,null,{"$f":"SUM(X241:AB256)","v":0},null,null,null,null,null,null,null,{"$f":"SUM(AF241:AJ256)","v":0},null,null,null,null,null,null,null,{"$f":"SUM(AN241:AR256)","v":0},null,null,null,null,null,null,null,{"$f":"SUM(AV241:AZ256)","v":0}]

{"sheet":"出来高内訳書 (第3回請求)","index":10,"n_rows":257,"n_cols":53,"rows_kept":257,"cut":false,"hidden":false,"merged":[[240,0,241,0],[240,1,240,13],[240,14,241,15],[240,16,241,18],[240,19,241,22],[240,23,241,27],[240,28,241,30],[240,31,241,35],[240,36,241,38],[240,39,241,43],[240,44,241,46],[240,47,241,51],[240,52,241,54],[200,44,201,46],[200,47,201,51],[200,52,201,54],[202,44,203,46],[202,47,203,51],[202,52,203,54],[204,44,205,46],[204,47,205,51],[204,52,205,54],[206,44,207,46],[206,47,207,51],[206,52,207,54],[208,44,209,46],[208,47,209,51],[208,52,209,54],[210,44,211,46],[210,47,211,51],[210,52,211,54],[208,0,209,0],[188,44,189,46],[188,47,189,51],[188,52,189,54],[190,44,191,46],[190,47,191,51],[190,52,191,54],[192,44,193,46],[192,47,193,51],[192,52,193,54],[194,44,195,46],[194,47,195,51],[194,52,195,54],[196,44,197,46],[196,47,197,51],[196,52,197,54],[198,44,199,46],[198,47,199,51],[198,52,199,54],[204,31,205,35],[206,28,207,30],[206,31,207,35],[208,28,209,30],[208,31,209,35],[210,28,211,30],[210,31,211,35],[188,36,189,38],[188,39,189,43],[190,36,191,38],[190,39,191,43],[192,36,193,38],[192,39,193,43],[194,36,195,38],[194,39,195,43],[196,36,197,38],[196,39,197,43],[198,36,199,38],[198,39,199,43],[200,36,201,38],[200,39,201,43],[202,36,203,38],[202,39,203,43],[204,36,205,38],[204,39,205,43],[210,36,211,38],[210,39,211,43],[210,0,211,0],[210,14,211,15],[210,16,211,18],[210,19,211,22],[210,23,211,27],[212,0,213,0],[212,14,213,15],[212,16,213,18],[212,19,213,22],[212,23,213,27],[214,0,215,0],[214,14,215,15],[214,16,215,18],[214,19,215,22],[214,23,215,27],[211,1,211,13],[194,28,195,30],[196,28,197,30],[198,28,199,30],[200,28,201,30],[202,28,203,30],[200,0,201,0],[200,1,200,13],[200,14,201,15],[200,16,201,18],[200,19,201,22],[200,23,201,27],[202,0,203,0],[202,14,203,15],[202,16,203,18],[202,19,203,22],[202,23,203,27],[204,0,205,0],[204,14,205,15],[204,16,205,18],[204,19,205,22],[204,23,205,27],[206,0,207,0],[206,14,207,15],[206,16,207,18],[206,19,207,22],[206,23,207,27],[194,0,195,0],[194,1,194,13],[194,14,195,15],[194,16,195,18],[194,19,195,22],[194,23,195,27],[195,1,195,13],[196,0,197,0],[196,1,196,13],[196,14,197,15],[196,16,197,18],[196,19,197,22],[196,23,197,27],[197,1,197,13],[198,0,199,0],[198,1,198,13],[198,14,199,15],[198,16,199,18],[198,19,199,22],[198,23,199,27],[199,1,199,13],[188,0,189,0],[188,1,188,13],[188,14,189,15],[188,16,189,18],[188,19,189,22],[188,23,189,27],[189,1,189,13],[190,0,191,0],[190,1,190,13],[190,14,191,15],[190,16,191,18],[190,19,191,22],[190,23,191,27],[191,1,191,13],[192,0,193,0],[192,1,192,13],[192,14,193,15],[192,16,193,18],[192,19,193,22],[192,23,193,27],[193,1,193,13],[134,52,135,54],[136,52,137,54],[138,52,139,54],[140,52,141,54],[142,52,143,54],[144,52,145,54],[146,52,147,54],[148,52,149,54],[150,52,151,54],[152,52,153,54],[154,52,155,54],[156,52,157,54],[158,52,159,54],[160,52,161,54],[186,0,187,0],[186,1,186,13],[186,14,187,15],[186,16,187,18],[186,19,187,22],[186,23,187,27],[187,1,187,13],[186,28,187,30],[186,31,187,35],[186,36,187,38],[186,39,187,43],[186,44,187,46],[186,47,187,51],[186,52,187,54],[134,44,135,46],[134,47,135,51],[136,44,137,46],[136,47,137,51],[138,44,139,46],[138,47,139,51],[140,44,141,46],[140,47,141,51],[142,44,143,46],[142,47,143,51],[144,44,145,46],[144,47,145,51],[146,44,147,46],[146,47,147,51],[148,44,149,46],[148,47,149,51],[150,44,151,46],[150,47,151,51],[134,36,135,38],[134,39,135,43],[136,36,137,38],[136,39,137,43],[138,36,139,38],[138,39,139,43],[140,36,141,38],[140,39,141,43],[142,36,143,38],[142,39,143,43],[144,36,145,38],[144,39,145,43],[146,36,147,38],[146,39,147,43],[148,36,149,38],[148,39,149,43],[150,36,151,38],[150,39,151,43],[154,0,155,0],[154,14,155,15],[154,16,155,18],[154,19,155,22],[154,23,155,27],[156,0,157,0],[156,14,157,15],[156,16,157,18],[156,19,157,22],[156,23,157,27],[158,0,159,0],[158,14,159,15],[158,16,159,18],[158,19,159,22],[158,23,159,27],[160,0,161,0],[160,14,161,15],[160,16,161,18],[160,19,161,22],[160,23,161,27],[159,1,159,13],[146,0,147,0],[146,1,146,13],[146,14,147,15],[146,16,147,18],[146,19,147,22],[146,23,147,27],[148,0,149,0],[148,14,149,15],[148,16,149,18],[148,19,149,22],[148,23,149,27],[150,0,151,0],[150,14,151,15],[150,16,151,18],[150,19,151,22],[150,23,151,27],[152,0,153,0],[152,14,153,15],[152,16,153,18],[152,19,153,22],[152,23,153,27],[153,1,153,13],[140,0,141,0],[140,1,140,13],[140,14,141,15],[140,16,141,18],[140,19,141,22],[140,23,141,27],[141,1,141,13],[142,0,143,0],[142,1,142,13],[142,14,143,15],[142,16,143,18],[142,19,143,22],[142,23,143,27],[143,1,143,13],[144,0,145,0],[144,1,144,13],[144,14,145,15],[144,16,145,18],[144,19,145,22],[144,23,145,27],[145,1,145,13],[134,0,135,0],[134,1,134,13],[134,14,135,15],[134,16,135,18],[134,19,135,22],[134,23,135,27],[135,1,135,13],[136,0,137,0],[136,1,136,13],[136,14,137,15],[136,16,137,18],[136,19,137,22],[136,23,137,27],[137,1,137,13],[138,0,139,0],[138,1,138,13],[138,14,139,15],[138,16,139,18],[138,19,139,22],[138,23,139,27],[139,1,139,13],[80,52,81,54],[82,52,83,54],[84,52,85,54],[86,52,87,54],[88,52,89,54],[90,52,91,54],[92,52,93,54],[94,52,95,54],[96,52,97,54],[98,52,99,54],[100,52,101,54],[102,52,103,54],[104,52,105,54],[106,52,107,54],[132,0,133,0],[132,1,132,13],[132,14,133,15],[132,16,133,18],[132,19,133,22],[132,23,133,27],[133,1,133,13],[132,28,133,30],[132,31,133,35],[132,36,133,38],[132,39,133,43],[132,44,133,46],[132,47,133,51],[132,52,133,54],[80,44,81,46],[80,47,81,51],[82,44,83,46],[82,47,83,51],[84,44,85,46],[84,47,85,51],[86,44,87,46],[86,47,87,51],[88,44,89,46],[88,47,89,51],[90,44,91,46],[90,47,91,51],[92,44,93,46],[92,47,93,51],[94,44,95,46],[94,47,95,51],[96,44,97,46],[96,47,97,51],[80,36,81,38],[80,39,81,43],[82,36,83,38],[82,39,83,43],[84,36,85,38],[84,39,85,43],[86,36,87,38],[86,39,87,43],[88,36,89,38],[88,39,89,43],[90,36,91,38],[90,39,91,43],[92,36,93,38],[92,39,93,43],[94,36,95,38],[94,39,95,43],[96,36,97,38],[96,39,97,43],[100,0,101,0],[100,14,101,15],[100,16,101,18],[100,19,101,22],[100,23,101,27],[102,0,103,0],[102,14,103,15],[102,16,103,18],[102,19,103,22],[102,23,103,27],[104,0,105,0],[104,14,105,15],[104,16,105,18],[104,19,105,22],[104,23,105,27],[106,0,107,0],[106,14,107,15],[106,16,107,18],[106,19,107,22],[106,23,107,27],[105,1,105,13],[92,0,93,0],[92,1,92,13],[92,14,93,15],[92,16,93,18],[92,19,93,22],[92,23,93,27],[94,0,95,0],[94,14,95,15],[94,16,95,18],[94,19,95,22],[94,23,95,27],[96,0,97,0],[96,14,97,15],[96,16,97,18],[96,19,97,22],[96,23,97,27],[98,0,99,0],[98,14,99,15],[98,16,99,18],[98,19,99,22],[98,23,99,27],[99,1,99,13],[86,0,87,0],[86,1,86,13],[86,14,87,15],[86,16,87,18],[86,19,87,22],[86,23,87,27],[87,1,87,13],[88,0,89,0],[88,1,88,13],[88,14,89,15],[88,16,89,18],[88,19,89,22],[88,23,89,27],[89,1,89,13],[90,0,91,0],[90,1,90,13],[90,14,91,15],[90,16,91,18],[90,19,91,22],[90,23,91,27],[91,1,91,13],[80,0,81,0],[80,1,80,13],[80,14,81,15],[80,16,81,18],[80,19,81,22],[80,23,81,27],[81,1,81,13],[82,0,83,0],[82,1,82,13],[82,14,83,15],[82,16,83,18],[82,19,83,22],[82,23,83,27],[83,1,83,13],[84,0,85,0],[84,1,84,13],[84,14,85,15],[84,16,85,18],[84,19,85,22],[84,23,85,27],[85,1,85,13],[35,52,36,54],[37,52,38,54],[39,52,40,54],[41,52,42,54],[43,52,44,54],[45,52,46,54],[47,52,48,54],[49,52,50,54],[51,52,52,54],[53,52,54,54],[55,52,56,54],[78,0,79,0],[78,1,78,13],[78,14,79,15],[78,16,79,18],[78,19,79,22],[78,23,79,27],[79,1,79,13],[78,28,79,30],[78,31,79,35],[78,36,79,38],[78,39,79,43],[78,44,79,46],[78,47,79,51],[78,52,79,54],[35,44,36,46],[35,47,36,51],[37,44,38,46],[37,47,38,51],[39,44,40,46],[39,47,40,51],[41,44,42,46],[45,44,46,46],[45,47,46,51],[47,44,48,46],[47,47,48,51],[49,44,50,46],[49,47,50,51],[35,36,36,38],[35,39,36,43],[37,36,38,38],[37,39,38,43],[39,36,40,38],[39,39,40,43],[41,36,42,38],[41,39,42,43],[43,36,44,38],[43,39,44,43],[45,36,46,38],[45,39,46,43],[47,36,48,38],[47,39,48,43],[49,36,50,38],[49,39,50,43],[55,0,56,0],[55,14,56,15],[55,16,56,18],[55,19,56,22],[55,23,56,27],[35,28,36,30],[35,31,36,35],[37,28,38,30],[37,31,38,35],[39,28,40,30],[39,31,40,35],[41,28,42,30],[41,31,42,35],[43,28,44,30],[43,31,44,35],[45,28,46,30],[45,31,46,35],[47,28,48,30],[47,31,48,35],[49,28,50,30],[49,31,50,35],[51,28,52,30],[51,31,52,35],[53,28,54,30],[53,31,54,35],[55,28,56,30],[55,31,56,35],[47,0,48,0],[47,14,48,15],[47,16,48,18],[49,0,50,0],[49,14,50,15],[49,16,50,18],[49,19,50,22],[49,23,50,27],[51,0,52,0],[51,14,52,15],[51,16,52,18],[51,19,52,22],[51,23,52,27],[53,0,54,0],[53,14,54,15],[53,16,54,18],[53,19,54,22],[53,23,54,27],[54,1,54,13],[51,36,52,38],[41,0,42,0],[41,1,41,13],[41,14,42,15],[41,16,42,18],[41,19,42,22],[41,23,42,27],[42,1,42,13],[43,0,44,0],[43,1,43,13],[43,14,44,15],[43,16,44,18],[43,19,44,22],[43,23,44,27],[44,1,44,13],[45,0,46,0],[45,1,45,13],[45,14,46,15],[45,16,46,18],[45,19,46,22],[45,23,46,27],[35,0,36,0],[35,1,35,13],[35,14,36,15],[35,16,36,18],[35,19,36,22],[35,23,36,27],[36,1,36,13],[37,0,38,0],[37,1,37,13],[37,14,38,15],[37,16,38,18],[37,19,38,22],[37,23,38,27],[38,1,38,13],[39,0,40,0],[39,1,39,13],[39,14,40,15],[39,16,40,18],[39,19,40,22],[39,23,40,27],[40,1,40,13],[256,31,256,35],[256,36,256,38],[256,39,256,43],[256,44,256,46],[256,47,256,51],[256,52,256,54],[256,1,256,13],[256,14,256,15],[256,16,256,18],[256,19,256,22],[256,23,256,27],[256,28,256,30],[255,31,255,35],[255,36,255,38],[255,39,255,43],[255,44,255,46],[255,47,255,51],[255,52,255,54],[255,1,255,13],[255,14,255,15],[255,16,255,18],[255,19,255,22],[255,23,255,27],[255,28,255,30],[254,31,254,35],[254,36,254,38],[254,39,254,43],[254,44,254,46],[254,47,254,51],[254,52,254,54],[254,1,254,13],[254,14,254,15],[254,16,254,18],[254,19,254,22],[254,23,254,27],[254,28,254,30],[253,31,253,35],[253,36,253,38],[253,39,253,43],[253,44,253,46],[253,47,253,51],[253,52,253,54],[253,1,253,13],[253,14,253,15],[253,16,253,18],[253,19,253,22],[253,23,253,27],[253,28,253,30],[252,31,252,35],[252,36,252,38],[252,39,252,43],[252,44,252,46],[252,47,252,51],[252,52,252,54],[252,1,252,13],[252,14,252,15],[252,16,252,18],[252,19,252,22],[252,23,252,27],[252,28,252,30],[251,31,251,35],[251,36,251,38],[251,39,251,43],[251,44,251,46],[251,47,251,51],[251,52,251,54],[251,1,251,13],[251,14,251,15],[251,16,251,18],[251,19,251,22],[251,23,251,27],[251,28,251,30],[250,31,250,35],[250,36,250,38],[250,39,250,43],[250,44,250,46],[250,47,250,51],[250,52,250,54],[250,1,250,13],[250,14,250,15],[250,16,250,18],[250,19,250,22],[250,23,250,27],[250,28,250,30],[249,31,249,35],[249,36,249,38],[249,39,249,43],[249,44,249,46],[249,47,249,51],[249,52,249,54],[249,1,249,13],[249,14,249,15],[249,16,249,18],[249,19,249,22],[249,23,249,27],[249,28,249,30],[248,31,248,35],[248,36,248,38],[248,39,248,43],[248,44,248,46],[248,47,248,51],[248,52,248,54],[248,1,248,13],[248,14,248,15],[248,16,248,18],[248,19,248,22],[248,23,248,27],[248,28,248,30],[247,31,247,35],[247,36,247,38],[247,39,247,43],[247,44,247,46],[247,47,247,51],[247,52,247,54],[247,1,247,13],[247,14,247,15],[247,16,247,18],[247,19,247,22],[247,23,247,27],[247,28,247,30],[246,31,246,35],[246,36,246,38],[246,39,246,43],[246,44,246,46],[246,47,246,51],[246,52,246,54],[246,1,246,13],[246,14,246,15],[246,16,246,18],[246,19,246,22],[246,23,246,27],[246,28,246,30],[245,31,245,35],[245,36,245,38],[245,39,245,43],[245,44,245,46],[245,47,245,51],[245,52,245,54],[245,1,245,13],[245,14,245,15],[245,16,245,18],[245,19,245,22],[245,23,245,27],[245,28,245,30],[244,31,244,35],[244,36,244,38],[244,39,244,43],[244,44,244,46],[244,47,244,51],[244,52,244,54],[244,1,244,13],[244,14,244,15],[244,16,244,18],[244,19,244,22],[244,23,244,27],[244,28,244,30],[243,31,243,35],[243,36,243,38],[243,39,243,43],[243,44,243,46],[243,47,243,51],[243,52,243,54],[243,1,243,13],[243,14,243,15],[243,16,243,18],[243,19,243,22],[243,23,243,27],[243,28,243,30],[242,31,242,35],[242,36,242,38],[242,39,242,43],[242,44,242,46],[242,47,242,51],[242,52,242,54],[242,1,242,13],[242,14,242,15],[242,16,242,18],[242,19,242,22],[242,23,242,27],[242,28,242,30],[239,44,239,46],[239,47,239,51],[241,1,241,13],[238,44,238,51],[238,52,239,54],[239,14,239,15],[239,16,239,18],[239,19,239,22],[239,23,239,27],[239,28,239,30],[239,31,239,35],[239,36,239,38],[239,39,239,43],[234,19,236,22],[234,24,236,29],[238,1,239,13],[238,14,238,27],[238,28,238,35],[238,36,238,43],[221,1,227,17],[221,50,223,50],[231,1,233,5],[231,6,233,13],[231,23,236,23],[231,24,233,29],[234,1,236,5],[234,6,236,13],[234,15,236,16],[234,17,236,18],[216,31,216,35],[216,36,216,38],[216,39,216,43],[216,44,216,46],[216,47,216,51],[221,51,223,55],[216,52,216,54],[216,1,216,13],[216,14,216,15],[216,16,216,18],[216,19,216,22],[216,23,216,27],[216,28,216,30],[215,1,215,13],[214,28,215,30],[214,31,215,35],[214,36,215,38],[214,39,215,43],[214,44,215,46],[214,47,215,51],[214,52,215,54],[214,1,214,13],[213,1,213,13],[212,28,213,30],[212,31,213,35],[212,36,213,38],[212,39,213,43],[212,44,213,46],[212,47,213,51],[212,52,213,54],[212,1,212,13],[210,1,210,13],[209,1,209,13],[208,36,209,38],[208,39,209,43],[208,1,208,13],[207,1,207,13],[206,36,207,38],[206,39,207,43],[206,1,206,13],[205,1,205,13],[204,1,204,13],[203,1,203,13],[202,1,202,13],[185,44,185,46],[185,47,185,51],[201,1,201,13],[188,28,189,30],[188,31,189,35],[190,28,191,30],[190,31,191,35],[192,28,193,30],[192,31,193,35],[208,14,209,15],[208,16,209,18],[208,19,209,22],[208,23,209,27],[194,31,195,35],[196,31,197,35],[198,31,199,35],[200,31,201,35],[202,31,203,35],[204,28,205,30],[184,44,184,51],[184,52,185,54],[185,14,185,15],[185,16,185,18],[185,19,185,22],[185,23,185,27],[185,28,185,30],[185,31,185,35],[185,36,185,38],[185,39,185,43],[180,19,182,22],[180,24,182,29],[184,1,185,13],[184,14,184,27],[184,28,184,35],[184,36,184,43],[167,1,173,17],[167,50,169,50],[177,1,179,5],[177,6,179,13],[177,23,182,23],[177,24,179,29],[180,1,182,5],[180,6,182,13],[180,15,182,16],[180,17,182,18],[167,51,169,55],[162,31,162,35],[162,36,162,38],[162,39,162,43],[162,44,162,46],[162,47,162,51],[162,52,162,54],[162,1,162,13],[162,14,162,15],[162,16,162,18],[162,19,162,22],[162,23,162,27],[162,28,162,30],[161,1,161,13],[160,28,161,30],[160,31,161,35],[160,36,161,38],[160,39,161,43],[160,44,161,46],[160,47,161,51],[160,1,160,13],[158,28,159,30],[158,31,159,35],[158,36,159,38],[158,39,159,43],[158,44,159,46],[158,47,159,51],[158,1,158,13],[157,1,157,13],[156,36,157,38],[156,39,157,43],[156,44,157,46],[156,47,157,51],[156,1,156,13],[155,1,155,13],[154,36,155,38],[154,39,155,43],[154,44,155,46],[154,47,155,51],[154,1,154,13],[154,28,155,30],[154,31,155,35],[156,28,157,30],[156,31,157,35],[152,36,153,38],[152,39,153,43],[152,44,153,46],[152,47,153,51],[152,1,152,13],[151,1,151,13],[150,1,150,13],[149,1,149,13],[148,1,148,13],[131,44,131,46],[131,47,131,51],[147,1,147,13],[134,28,135,30],[134,31,135,35],[136,28,137,30],[136,31,137,35],[138,28,139,30],[138,31,139,35],[140,28,141,30],[140,31,141,35],[142,28,143,30],[142,31,143,35],[144,28,145,30],[144,31,145,35],[146,28,147,30],[146,31,147,35],[148,28,149,30],[148,31,149,35],[150,28,151,30],[150,31,151,35],[152,28,153,30],[152,31,153,35],[130,44,130,51],[130,52,131,54],[131,14,131,15],[131,16,131,18],[131,19,131,22],[131,23,131,27],[131,28,131,30],[131,31,131,35],[131,36,131,38],[131,39,131,43],[126,19,128,22],[126,24,128,29],[130,1,131,13],[130,14,130,27],[130,28,130,35],[130,36,130,43],[113,1,119,17],[113,50,115,50],[123,1,125,5],[123,6,125,13],[123,23,128,23],[123,24,125,29],[126,1,128,5],[126,6,128,13],[126,15,128,16]],"merged_total":1198,"flags":["merged_cut"]}
[null,null,null,null,null,null,null,null,"請 求 書（出来高・分割納入用）",null,null,null,null,null,null,null,null,null,null,null,null,null,null,null,null,null,null,null,null,null,null,null,null,null,null,null,null,null,null,null,null,null,null,null,null,null,null,null,null,null,"No."]
[null,null,null,null,null,null,null,null,null,null,null,null,null,null,null,null,null,null,null,null,null,null,null,null,null,null,null,null,null,null,null,null,null,null,null,null,null,null,null,"日付",null,null,null,null,"年",null,"月",null,"日"]
[]
[]
[null,null,null,null,null,null,null,null,null,null,null,null,null,null,null,null,null,null,null,null,null,null,null,null,null,null,null,null,null,null,null,null,null,null,null,null,null,"請求者住所･氏名･印･電話",null,null,null,null,null,"取引先コード",null,null,null,null,{"$f":"入力フォーム!B3","v":0}]
[]
[null,null,null,null,null,null,null,null,null,null,null,null,null,null,null,null,null,"御中"]
[null,null,null,null,null,null,null,null,null,null,null,null,null,null,null,null,null,null,null,null,null,null,null,null,null,null,null,null,null,null,null,null,null,null,null,null,null,{"$f":"\"登録番号\"&\" \"&入力フォーム!B4","v":"登録番号 "}]
[]
[]
[]
[null,"下記の通り請求いたします。"]
[]
[]
[null,null,null,"月分請求内訳書",null,null,null,null,null,null,null,"枚 (本用紙を含む)"]
[]
[]
[null,"請 求 金 額",null,null,null,null,{"$f":"SUM(G23:P32)","v":0}]
[]
[]
[]
[null,null,null,null,null,null,null,null,null,null,null,null,null,null,null,null,null,null,null,"製造番号",null,null,null,null,{"$f":"見積書!$B$47","v":""}]
[null,"内　訳","税抜金額",null,null,null,{"$f":"AN58+AN109+AN163+AN217+AN257","v":0},null,null,null,null,null,null,null,null,null,null,null,null,null,null,null,null,null,null,null,null,null,null,null,null,null,null,"第",null,3,null,"回請求"]
[]
[null,null,null,null,null,null,null,null,null,null,null,null,null,null,null,null,null,null,null,"注文番号",null,null,null,null,{"$f":"IF('出来高内訳書 (第1回請求)'!Y25=\"\",\"\",'出来高内訳書 (第1回請求)'!Y25)","v":""}]
[]
[null,null,null,null,null,null,null,null,null,null,null,null,null,null,null,null,null,null,null,null,null,null,null,null,null,null,null,null,null,null,null,null,null,null,"※科目"]
[null,null,"消費税額等",null,null,null,{"$f":"IF(AC28=\"10％\",ROUNDDOWN(G23*10%,0),IF(AC28=\"(軽)8%\",ROUNDDOWN(G23*8%,0),0))","v":0},null,null,null,null,null,null,null,null,null,null,null,null,"消費税率",null,null,null,null,null,null,null,null,{"$f":"入力フォーム!B10","v":"10％"}]
[]
[]
[]
[]
[]
[null,"工　種・品　名",null,null,null,null,null,null,null,null,null,null,null,null,"契　約　金　額",null,null,null,null,null,null,null,null,null,null,null,null,null,"前回までの出来高",null,null,null,null,null,null,null,"今回出来高",null,null,null,null,null,null,null,"残高",null,null,null,null,null,null,null,"備　考"]
[null,null,null,null,null,null,null,null,null,null,null,null,null,null,"単位",null,"数量",null,null,"単価",null,null,null,"金額",null,null,null,null,"数量",null,null,"金額",null,null,null,null,"数量",null,null,"金額",null,null,null,null,"数量",null,null,"金額"]
[1,{"$f":"見積書!F61","v":""},null,null,null,null,null,null,null,null,null,null,null,null,{"$f":"見積書!Q61","v":""},null,{"$f":"見積書!R61","v":""},null,null,{"$f":"見積書!S61","v":""},null,null,null,{"$f":"見積書!T61","v":""},null,null,null,null,{"$f":"IF(Q36=\"\",\"\",'出来高内訳書 (第2回請求)'!AC36+'出来高内訳書 (第2回請求)'!AK36)","v":""},null,null,{"$f":"IF(T36=\"\",\"\",ROUND(T36*AC36,0))","v":""},null,null,null,null,null,null,null,{"$f":"IF(T36=\"\",\"\",ROUND(T36*AK36,0))","v":""},null,null,null,null,{"$f":"IF(Q36=\"\",\"\",ROUND(Q36-AC36-AK36,2))","v":""},null,null,{"$f":"IF(T36=\"\",\"\",(IF(AS36<0,\"出来高が契約を超過\",X36-AN36-AF36)))","v":""}]
[null,{"$f":"見積書!F62","v":""}]
[2,{"$f":"見積書!F63","v":""},null,null,null,null,null,null,null,null,null,null,null,null,{"$f":"見積書!Q63","v":""},null,{"$f":"見積書!R63","v":""},null,null,{"$f":"見積書!S63","v":""},null,null,null,{"$f":"見積書!T63","v":""},null,null,null,null,{"$f":"IF(Q38=\"\",\"\",'出来高内訳書 (第2回請求)'!AC38+'出来高内訳書 (第2回請求)'!AK38)","v":""},null,null,{"$f":"IF(T38=\"\",\"\",ROUND(T38*AC38,0))","v":""},null,null,null,null,null,null,null,{"$f":"IF(T38=\"\",\"\",ROUND(T38*AK38,0))","v":""},null,null,null,null,{"$f":"IF(Q38=\"\",\"\",ROUND(Q38-AC38-AK38,2))","v":""},null,null,{"$f":"IF(T38=\"\",\"\",(IF(AS38<0,\"出来高が契約を超過\",X38-AN38-AF38)))","v":""}]
[null,{"$f":"見積書!F64","v":""}]
[3,{"$f":"見積書!F65","v":""},null,null,null,null,null,null,null,null,null,null,null,null,{"$f":"見積書!Q65","v":""},null,{"$f":"見積書!R65","v":""},null,null,{"$f":"見積書!S65","v":""},null,null,null,{"$f":"見積書!T65","v":""},null,null,null,null,{"$f":"IF(Q40=\"\",\"\",'出来高内訳書 (第2回請求)'!AC40+'出来高内訳書 (第2回請求)'!AK40)","v":""},null,null,{"$f":"IF(T40=\"\",\"\",ROUND(T40*AC40,0))","v":""},null,null,null,null,null,null,null,{"$f":"IF(T40=\"\",\"\",ROUND(T40*AK40,0))","v":""},null,null,null,null,{"$f":"IF(Q40=\"\",\"\",ROUND(Q40-AC40-AK40,2))","v":""},null,null,{"$f":"IF(T40=\"\",\"\",(IF(AS40<0,\"出来高が契約を超過\",X40-AN40-AF40)))","v":""}]
[null,{"$f":"見積書!F66","v":""}]
[4,{"$f":"見積書!F67","v":""},null,null,null,null,null,null,null,null,null,null,null,null,{"$f":"見積書!Q67","v":""},null,{"$f":"見積書!R67","v":""},null,null,{"$f":"見積書!S67","v":""},null,null,null,{"$f":"見積書!T67","v":""},null,null,null,null,{"$f":"IF(Q42=\"\",\"\",'出来高内訳書 (第2回請求)'!AC42+'出来高内訳書 (第2回請求)'!AK42)","v":""},null,null,{"$f":"IF(T42=\"\",\"\",ROUND(T42*AC42,0))","v":""},null,null,null,null,null,null,null,{"$f":"IF(T42=\"\",\"\",ROUND(T42*AK42,0))","v":""},null,null,null,null,{"$f":"IF(Q42=\"\",\"\",ROUND(Q42-AC42-AK42,2))","v":""},null,null,{"$f":"IF(T42=\"\",\"\",(IF(AS42<0,\"出来高が契約を超過\",X42-AN42-AF42)))","v":""}]
[null,{"$f":"見積書!F68","v":""}]
[5,{"$f":"見積書!F69","v":""},null,null,null,null,null,null,null,null,null,null,null,null,{"$f":"見積書!Q69","v":""},null,{"$f":"見積書!R69","v":""},null,null,{"$f":"見積書!S69","v":""},null,null,null,{"$f":"見積書!T69","v":""},null,null,null,null,{"$f":"IF(Q44=\"\",\"\",'出来高内訳書 (第2回請求)'!AC44+'出来高内訳書 (第2回請求)'!AK44)","v":""},null,null,{"$f":"IF(T44=\"\",\"\",ROUND(T44*AC44,0))","v":""},null,null,null,null,null,null,null,{"$f":"IF(T44=\"\",\"\",ROUND(T44*AK44,0))","v":""},null,null,null,null,{"$f":"IF(Q44=\"\",\"\",ROUND(Q44-AC44-AK44,2))","v":""},null,null,{"$f":"IF(T44=\"\",\"\",(IF(AS44<0,\"出来高が契約を超過\",X44-AN44-AF44)))","v":""}]
[null,{"$f":"見積書!F70","v":""}]
[6,{"$f":"見積書!F71","v":""},null,null,null,null,null,null,null,null,null,null,null,null,{"$f":"見積書!Q71","v":""},null,{"$f":"見積書!R71","v":""},null,null,{"$f":"見積書!S71","v":""},null,null,null,{"$f":"見積書!T71","v":""},null,null,null,null,{"$f":"IF(Q46=\"\",\"\",'出来高内訳書 (第2回請求)'!AC46+'出来高内訳書 (第2回請求)'!AK46)","v":""},null,null,{"$f":"IF(T46=\"\",\"\",ROUND(T46*AC46,0))","v":""},null,null,null,null,null,null,null,{"$f":"IF(T46=\"\",\"\",ROUND(T46*AK46,0))","v":""},null,null,null,null,{"$f":"IF(Q46=\"\",\"\",ROUND(Q46-AC46-AK46,2))","v":""},null,null,{"$f":"IF(T46=\"\",\"\",(IF(AS46<0,\"出来高が契約を超過\",X46-AN46-AF46)))","v":""}]
[null,{"$f":"見積書!F72","v":""}]
[7,{"$f":"見積書!F73","v":""},null,null,null,null,null,null,null,null,null,null,null,null,{"$f":"見積書!Q73","v":""},null,{"$f":"見積書!R73","v":""},null,null,{"$f":"見積書!S73","v":""},null,null,null,{"$f":"見積書!T73","v":""},null,null,null,null,{"$f":"IF(Q48=\"\",\"\",'出来高内訳書 (第2回請求)'!AC48+'出来高内訳書 (第2回請求)'!AK48)","v":""},null,null,{"$f":"IF(T48=\"\",\"\",ROUND(T48*AC48,0))","v":""},null,null,null,null,null,null,null,{"$f":"IF(T48=\"\",\"\",ROUND(T48*AK48,0))","v":""},null,null,null,null,{"$f":"IF(Q48=\"\",\"\",ROUND(Q48-AC48-AK48,2))","v":""},null,null,{"$f":"IF(T48=\"\",\"\",(IF(AS48<0,\"出来高が契約を超過\",X48-AN48-AF48)))","v":""}]
[null,{"$f":"見積書!F74","v":""}]
[8,{"$f":"見積書!F75","v":""},null,null,null,null,null,null,null,null,null,null,null,null,{"$f":"見積書!Q75","v":""},null,{"$f":"見積書!R75","v":""},null,null,{"$f":"見積書!S75","v":""},null,null,null,{"$f":"見積書!T75","v":""},null,null,null,null,{"$f":"IF(Q50=\"\",\"\",'出来高内訳書 (第2回請求)'!AC50+'出来高内訳書 (第2回請求)'!AK50)","v":""},null,null,{"$f":"IF(T50=\"\",\"\",ROUND(T50*AC50,0))","v":""},null,null,null,null,null,null,null,{"$f":"IF(T50=\"\",\"\",ROUND(T50*AK50,0))","v":""},null,null,null,null,{"$f":"IF(Q50=\"\",\"\",ROUND(Q50-AC50-AK50,2))","v":""},null,null,{"$f":"IF(T50=\"\",\"\",(IF(AS50<0,\"出来高が契約を超過\",X50-AN50-AF50)))","v":""}]
[null,{"$f":"見積書!F76","v":""}]
[9,{"$f":"見積書!F77","v":""},null,null,null,null,null,null,null,null,null,null,null,null,{"$f":"見積書!Q77","v":""},null,{"$f":"見積書!R77","v":""},null,null,{"$f":"見積書!S77","v":""},null,null,null,{"$f":"見積書!T77","v":""},null,null,null,null,{"$f":"IF(Q52=\"\",\"\",'出来高内訳書 (第2回請求)'!AC52+'出来高内訳書 (第2回請求)'!AK52)","v":""},null,null,{"$f":"IF(T52=\"\",\"\",ROUND(T52*AC52,0))","v":""},null,null,null,null,null,null,null,{"$f":"IF(T52=\"\",\"\",ROUND(T52*AK52,0))","v":""},null,null,null,null,{"$f":"IF(Q52=\"\",\"\",ROUND(Q52-AC52-AK52,2))","v":""},null,null,{"$f":"IF(T52=\"\",\"\",(IF(AS52<0,\"出来高が契約を超過\",X52-AN52-AF52)))","v":""}]
[null,{"$f":"見積書!F78","v":""}]
[10,{"$f":"見積書!F79","v":""},null,null,null,null,null,null,null,null,null,null,null,null,{"$f":"見積書!Q79","v":""},null,{"$f":"見積書!R79","v":""},null,null,{"$f":"見積書!S79","v":""},null,null,null,{"$f":"見積書!T79","v":""},null,null,null,null,{"$f":"IF(Q54=\"\",\"\",'出来高内訳書 (第2回請求)'!AC54+'出来高内訳書 (第2回請求)'!AK54)","v":""},null,null,{"$f":"IF(T54=\"\",\"\",ROUND(T54*AC54,0))","v":""},null,null,null,null,null,null,null,{"$f":"IF(T54=\"\",\"\",ROUND(T54*AK54,0))","v":""},null,null,null,null,{"$f":"IF(Q54=\"\",\"\",ROUND(Q54-AC54-AK54,2))","v":""},null,null,{"$f":"IF(T54=\"\",\"\",(IF(AS54<0,\"出来高が契約を超過\",X54-AN54-AF54)))","v":""}]
[null,{"$f":"見積書!F80","v":""}]
[11,{"$f":"見積書!F81","v":""},null,null,null,null,null,null,null,null,null,null,null,null,{"$f":"見積書!Q81","v":""},null,{"$f":"見積書!R81","v":""},null,null,{"$f":"見積書!S81","v":""},null,null,null,{"$f":"見積書!T81","v":""},null,null,null,null,{"$f":"IF(Q56=\"\",\"\",'出来高内訳書 (第2回請求)'!AC56+'出来高内訳書 (第2回請求)'!AK56)","v":""},null,null,{"$f":"IF(T56=\"\",\"\",ROUND(T56*AC56,0))","v":""},null,null,null,null,null,null,null,{"$f":"IF(T56=\"\",\"\",ROUND(T56*AK56,0))","v":""},null,null,null,null,{"$f":"IF(Q56=\"\",\"\",ROUND(Q56-AC56-AK56,2))","v":""},null,null,{"$f":"IF(T56=\"\",\"\",(IF(AS56<0,\"出来高が契約を超過\",X56-AN56-AF56)))","v":""}]
[null,{"$f":"見積書!F82","v":""}]
[null,"小計",null,null,null,null,null,null,null,null,null,null,null,null,null,null,null,null,null,null,null,null,null,{"$f":"SUM(X36:AB57)","v":0},null,null,null,null,null,null,null,{"$f":"SUM(AF36:AJ57)","v":0},null,null,null,null,null,null,null,{"$f":"SUM(AN36:AR57)","v":0},null,null,null,null,null,null,null,{"$f":"X58-AF58-AN58","v":0}]
[]
[null,"請求内訳書（出来高・分割納入用）",null,null,null,null,null,null,null,null,null,null,null,null,null,null,null,null,null,null,null,null,null,null,null,null,null,null,null,null,null,null,null,null,null,null,null,null,null,null,null,null,null,null,null,null,null,null,null,null,"No."]
[]
[]
[]
[]
[]
[]
[]
[]
[]
[null,"製造番号",null,null,null,null,{"$f":"Y22","v":""},null,null,null,null,null,null,null,null,null,null,null,null,null,null,null,null,"※科目"]
[]
[]
[null,"注文番号",null,null,null,null,{"$f":"Y25","v":""},null,null,null,null,null,null,null,null,"第",null,{"$f":"AJ23","v":3},null,"回請求"]
[]
[]
[]
[null,"工　種・品　名",null,null,null,null,null,null,null,null,null,null,null,null,"契　約　金　額",null,null,null,null,null,null,null,null,null,null,null,null,null,"前回までの出来高",null,null,null,null,null,null,null,"今回出来高",null,null,null,null,null,null,null,"残高",null,null,null,null,null,null,null,"備　考"]
[null,null,null,null,null,null,null,null,null,null,null,null,null,null,"単位",null,"数量",null,null,"単価",null,null,null,"金額",null,null,null,null,"数量",null,null,"金額",null,null,null,null,"数量",null,null,"金額",null,null,null,null,"数量",null,null,"金額"]
[12,{"$f":"見積書!F83","v":""},null,null,null,null,null,null,null,null,null,null,null,null,{"$f":"見積書!Q83","v":""},null,{"$f":"見積書!R83","v":""},null,null,{"$f":"見積書!S83","v":""},null,null,null,{"$f":"見積書!T83","v":""},null,null,null,null,{"$f":"IF(Q79=\"\",\"\",'出来高内訳書 (第2回請求)'!AC79+'出来高内訳書 (第2回請求)'!AK79)","v":""},null,null,{"$f":"IF(T79=\"\",\"\",ROUND(T79*AC79,0))","v":""},null,null,null,null,null,null,null,{"$f":"IF(T79=\"\",\"\",ROUND(T79*AK79,0))","v":""},null,null,null,null,{"$f":"IF(Q79=\"\",\"\",ROUND(Q79-AC79-AK79,2))","v":""},null,null,{"$f":"IF(T79=\"\",\"\",(IF(AS79<0,\"出来高が契約を超過\",X79-AN79-AF79)))","v":""}]
[null,{"$f":"見積書!F84","v":""}]
[13,{"$f":"見積書!F85","v":""},null,null,null,null,null,null,null,null,null,null,null,null,{"$f":"見積書!Q85","v":""},null,{"$f":"見積書!R85","v":""},null,null,{"$f":"見積書!S85","v":""},null,null,null,{"$f":"見積書!T85","v":""},null,null,null,null,{"$f":"IF(Q81=\"\",\"\",'出来高内訳書 (第2回請求)'!AC81+'出来高内訳書 (第2回請求)'!AK81)","v":""},null,null,{"$f":"IF(T81=\"\",\"\",ROUND(T81*AC81,0))","v":""},null,null,null,null,null,null,null,{"$f":"IF(T81=\"\",\"\",ROUND(T81*AK81,0))","v":""},null,null,null,null,{"$f":"IF(Q81=\"\",\"\",ROUND(Q81-AC81-AK81,2))","v":""},null,null,{"$f":"IF(T81=\"\",\"\",(IF(AS81<0,\"出来高が契約を超過\",X81-AN81-AF81)))","v":""}]
[null,{"$f":"見積書!F86","v":""}]
[14,{"$f":"'見積書 (2)'!F26","v":""},null,null,null,null,null,null,null,null,null,null,null,null,{"$f":"'見積書 (2)'!Q26","v":""},null,{"$f":"'見積書 (2)'!R26","v":""},null,null,{"$f":"'見積書 (2)'!S26","v":""},null,null,null,{"$f":"'見積書 (2)'!T26","v":""},null,null,null,null,{"$f":"IF(Q83=\"\",\"\",'出来高内訳書 (第2回請求)'!AC83+'出来高内訳書 (第2回請求)'!AK83)","v":""},null,null,{"$f":"IF(T83=\"\",\"\",ROUND(T83*AC83,0))","v":""},null,null,null,null,null,null,null,{"$f":"IF(T83=\"\",\"\",ROUND(T83*AK83,0))","v":""},null,null,null,null,{"$f":"IF(Q83=\"\",\"\",ROUND(Q83-AC83-AK83,2))","v":""},null,null,{"$f":"IF(T83=\"\",\"\",(IF(AS83<0,\"出来高が契約を超過\",X83-AN83-AF83)))","v":""}]
[null,{"$f":"'見積書 (2)'!F27","v":""}]
[15,{"$f":"'見積書 (2)'!F28","v":""},null,null,null,null,null,null,null,null,null,null,null,null,{"$f":"'見積書 (2)'!Q28","v":""},null,{"$f":"'見積書 (2)'!R28","v":""},null,null,{"$f":"'見積書 (2)'!S28","v":""},null,null,null,{"$f":"'見積書 (2)'!T28","v":""},null,null,null,null,{"$f":"IF(Q85=\"\",\"\",'出来高内訳書 (第2回請求)'!AC85+'出来高内訳書 (第2回請求)'!AK85)","v":""},null,null,{"$f":"IF(T85=\"\",\"\",ROUND(T85*AC85,0))","v":""},null,null,null,null,null,null,null,{"$f":"IF(T85=\"\",\"\",ROUND(T85*AK85,0))","v":""},null,null,null,null,{"$f":"IF(Q85=\"\",\"\",ROUND(Q85-AC85-AK85,2))","v":""},null,null,{"$f":"IF(T85=\"\",\"\",(IF(AS85<0,\"出来高が契約を超過\",X85-AN85-AF85)))","v":""}]
[null,{"$f":"'見積書 (2)'!F29","v":""}]
[16,{"$f":"'見積書 (2)'!F30","v":""},null,null,null,null,null,null,null,null,null,null,null,null,{"$f":"'見積書 (2)'!Q30","v":""},null,{"$f":"'見積書 (2)'!R30","v":""},null,null,{"$f":"'見積書 (2)'!S30","v":""},null,null,null,{"$f":"'見積書 (2)'!T30","v":""},null,null,null,null,{"$f":"IF(Q87=\"\",\"\",'出来高内訳書 (第2回請求)'!AC87+'出来高内訳書 (第2回請求)'!AK87)","v":""},null,null,{"$f":"IF(T87=\"\",\"\",ROUND(T87*AC87,0))","v":""},null,null,null,null,null,null,null,{"$f":"IF(T87=\"\",\"\",ROUND(T87*AK87,0))","v":""},null,null,null,null,{"$f":"IF(Q87=\"\",\"\",ROUND(Q87-AC87-AK87,2))","v":""},null,null,{"$f":"IF(T87=\"\",\"\",(IF(AS87<0,\"出来高が契約を超過\",X87-AN87-AF87)))","v":""}]
[null,{"$f":"'見積書 (2)'!F31","v":""}]
[17,{"$f":"'見積書 (2)'!F32","v":""},null,null,null,null,null,null,null,null,null,null,null,null,{"$f":"'見積書 (2)'!Q32","v":""},null,{"$f":"'見積書 (2)'!R32","v":""},null,null,{"$f":"'見積書 (2)'!S32","v":""},null,null,null,{"$f":"'見積書 (2)'!T32","v":""},null,null,null,null,{"$f":"IF(Q89=\"\",\"\",'出来高内訳書 (第2回請求)'!AC89+'出来高内訳書 (第2回請求)'!AK89)","v":""},null,null,{"$f":"IF(T89=\"\",\"\",ROUND(T89*AC89,0))","v":""},null,null,null,null,null,null,null,{"$f":"IF(T89=\"\",\"\",ROUND(T89*AK89,0))","v":""},null,null,null,null,{"$f":"IF(Q89=\"\",\"\",ROUND(Q89-AC89-AK89,2))","v":""},null,null,{"$f":"IF(T89=\"\",\"\",(IF(AS89<0,\"出来高が契約を超過\",X89-AN89-AF89)))","v":""}]
[null,{"$f":"'見積書 (2)'!F33","v":""}]
[18,{"$f":"'見積書 (2)'!F34","v":""},null,null,null,null,null,null,null,null,null,null,null,null,{"$f":"'見積書 (2)'!Q34","v":""},null,{"$f":"'見積書 (2)'!R34","v":""},null,null,{"$f":"'見積書 (2)'!S34","v":""},null,null,null,{"$f":"'見積書 (2)'!T34","v":""},null,null,null,null,{"$f":"IF(Q91=\"\",\"\",'出来高内訳書 (第2回請求)'!AC91+'出来高内訳書 (第2回請求)'!AK91)","v":""},null,null,{"$f":"IF(T91=\"\",\"\",ROUND(T91*AC91,0))","v":""},null,null,null,null,null,null,null,{"$f":"IF(T91=\"\",\"\",ROUND(T91*AK91,0))","v":""},null,null,null,null,{"$f":"IF(Q91=\"\",\"\",ROUND(Q91-AC91-AK91,2))","v":""},null,null,{"$f":"IF(T91=\"\",\"\",(IF(AS91<0,\"出来高が契約を超過\",X91-AN91-AF91)))","v":""}]
[null,{"$f":"'見積書 (2)'!F35","v":""}]
[19,{"$f":"'見積書 (2)'!F36","v":""},null,null,null,null,null,null,null,null,null,null,null,null,{"$f":"'見積書 (2)'!Q36","v":""},null,{"$f":"'見積書 (2)'!R36","v":""},null,null,{"$f":"'見積書 (2)'!S36","v":""},null,null,null,{"$f":"'見積書 (2)'!T36","v":""},null,null,null,null,{"$f":"IF(Q93=\"\",\"\",'出来高内訳書 (第2回請求)'!AC93+'出来高内訳書 (第2回請求)'!AK93)","v":""},null,null,{"$f":"IF(T93=\"\",\"\",ROUND(T93*AC93,0))","v":""},null,null,null,null,null,null,null,{"$f":"IF(T93=\"\",\"\",ROUND(T93*AK93,0))","v":""},null,null,null,null,{"$f":"IF(Q93=\"\",\"\",ROUND(Q93-AC93-AK93,2))","v":""},null,null,{"$f":"IF(T93=\"\",\"\",(IF(AS93<0,\"出来高が契約を超過\",X93-AN93-AF93)))","v":""}]
[null,{"$f":"'見積書 (2)'!F37","v":""}]
[20,{"$f":"'見積書 (2)'!F38","v":""},null,null,null,null,null,null,null,null,null,null,null,null,{"$f":"'見積書 (2)'!Q38","v":""},null,{"$f":"'見積書 (2)'!R38","v":""},null,null,{"$f":"'見積書 (2)'!S38","v":""},null,null,null,{"$f":"'見積書 (2)'!T38","v":""},null,null,null,null,{"$f":"IF(Q95=\"\",\"\",'出来高内訳書 (第2回請求)'!AC95+'出来高内訳書 (第2回請求)'!AK95)","v":""},null,null,{"$f":"IF(T95=\"\",\"\",ROUND(T95*AC95,0))","v":""},null,null,null,null,null,null,null,{"$f":"IF(T95=\"\",\"\",ROUND(T95*AK95,0))","v":""},null,null,null,null,{"$f":"IF(Q95=\"\",\"\",ROUND(Q95-AC95-AK95,2))","v":""},null,null,{"$f":"IF(T95=\"\",\"\",(IF(AS95<0,\"出来高が契約を超過\",X95-AN95-AF95)))","v":""}]
[null,{"$f":"'見積書 (2)'!F39","v":""}]
[21,{"$f":"'見積書 (2)'!F40","v":""},null,null,null,null,null,null,null,null,null,null,null,null,{"$f":"'見積書 (2)'!Q40","v":""},null,{"$f":"'見積書 (2)'!R40","v":""},null,null,{"$f":"'見積書 (2)'!S40","v":""},null,null,null,{"$f":"'見積書 (2)'!T40","v":""},null,null,null,null,{"$f":"IF(Q97=\"\",\"\",'出来高内訳書 (第2回請求)'!AC97+'出来高内訳書 (第2回請求)'!AK97)","v":""},null,null,{"$f":"IF(T97=\"\",\"\",ROUND(T97*AC97,0))","v":""},null,null,null,null,null,null,null,{"$f":"IF(T97=\"\",\"\",ROUND(T97*AK97,0))","v":""},null,null,null,null,{"$f":"IF(Q97=\"\",\"\",ROUND(Q97-AC97-AK97,2))","v":""},null,null,{"$f":"IF(T97=\"\",\"\",(IF(AS97<0,\"出来高が契約を超過\",X97-AN97-AF97)))","v":""}]
[null,{"$f":"'見積書 (2)'!F41","v":""}]
[22,{"$f":"'見積書 (2)'!F42","v":""},null,null,null,null,null,null,null,null,null,null,null,null,{"$f":"'見積書 (2)'!Q42","v":""},null,{"$f":"'見積書 (2)'!R42","v":""},null,null,{"$f":"'見積書 (2)'!S42","v":""},null,null,null,{"$f":"'見積書 (2)'!T42","v":""},null,null,null,null,{"$f":"IF(Q99=\"\",\"\",'出来高内訳書 (第2回請求)'!AC99+'出来高内訳書 (第2回請求)'!AK99)","v":""},null,null,{"$f":"IF(T99=\"\",\"\",ROUND(T99*AC99,0))","v":""},null,null,null,null,null,null,null,{"$f":"IF(T99=\"\",\"\",ROUND(T99*AK99,0))","v":""},null,null,null,null,{"$f":"IF(Q99=\"\",\"\",ROUND(Q99-AC99-AK99,2))","v":""},null,null,{"$f":"IF(T99=\"\",\"\",(IF(AS99<0,\"出来高が契約を超過\",X99-AN99-AF99)))","v":""}]
[null,{"$f":"'見積書 (2)'!F43","v":""}]
[23,{"$f":"'見積書 (2)'!F44","v":""},null,null,null,null,null,null,null,null,null,null,null,null,{"$f":"'見積書 (2)'!Q44","v":""},null,{"$f":"'見積書 (2)'!R44","v":""},null,null,{"$f":"'見積書 (2)'!S44","v":""},null,null,null,{"$f":"'見積書 (2)'!T44","v":""},null,null,null,null,{"$f":"IF(Q101=\"\",\"\",'出来高内訳書 (第2回請求)'!AC101+'出来高内訳書 (第2回請求)'!AK101)","v":""},null,null,{"$f":"IF(T101=\"\",\"\",ROUND(T101*AC101,0))","v":""},null,null,null,null,null,null,null,{"$f":"IF(T101=\"\",\"\",ROUND(T101*AK101,0))","v":""},null,null,null,null,{"$f":"IF(Q101=\"\",\"\",ROUND(Q101-AC101-AK101,2))","v":""},null,null,{"$f":"IF(T101=\"\",\"\",(IF(AS101<0,\"出来高が契約を超過\",X101-AN101-AF101)))","v":""}]
[null,{"$f":"'見積書 (2)'!F45","v":""}]
[24,{"$f":"'見積書 (2)'!F46","v":""},null,null,null,null,null,null,null,null,null,null,null,null,{"$f":"'見積書 (2)'!Q46","v":""},null,{"$f":"'見積書 (2)'!R46","v":""},null,null,{"$f":"'見積書 (2)'!S46","v":""},null,null,null,{"$f":"'見積書 (2)'!T46","v":""},null,null,null,null,{"$f":"IF(Q103=\"\",\"\",'出来高内訳書 (第2回請求)'!AC103+'出来高内訳書 (第2回請求)'!AK103)","v":""},null,null,{"$f":"IF(T103=\"\",\"\",ROUND(T103*AC103,0))","v":""},null,null,null,null,null,null,null,{"$f":"IF(T103=\"\",\"\",ROUND(T103*AK103,0))","v":""},null,null,null,null,{"$f":"IF(Q103=\"\",\"\",ROUND(Q103-AC103-AK103,2))","v":""},null,null,{"$f":"IF(T103=\"\",\"\",(IF(AS103<0,\"出来高が契約を超過\",X103-AN103-AF103)))","v":""}]
[null,{"$f":"'見積書 (2)'!F47","v":""}]
[25,{"$f":"'見積書 (2)'!F48","v":""},null,null,null,null,null,null,null,null,null,null,null,null,{"$f":"'見積書 (2)'!Q48","v":""},null,{"$f":"'見積書 (2)'!R48","v":""},null,null,{"$f":"'見積書 (2)'!S48","v":""},null,null,null,{"$f":"'見積書 (2)'!T48","v":""},null,null,null,null,{"$f":"IF(Q105=\"\",\"\",'出来高内訳書 (第2回請求)'!AC105+'出来高内訳書 (第2回請求)'!AK105)","v":""},null,null,{"$f":"IF(T105=\"\",\"\",ROUND(T105*AC105,0))","v":""},null,null,null,null,null,null,null,{"$f":"IF(T105=\"\",\"\",ROUND(T105*AK105,0))","v":""},null,null,null,null,{"$f":"IF(Q105=\"\",\"\",ROUND(Q105-AC105-AK105,2))","v":""},null,null,{"$f":"IF(T105=\"\",\"\",(IF(AS105<0,\"出来高が契約を超過\",X105-AN105-AF105)))","v":""}]
[null,{"$f":"'見積書 (2)'!F49","v":""}]
[26,{"$f":"'見積書 (2)'!F50","v":""},null,null,null,null,null,null,null,null,null,null,null,null,{"$f":"'見積書 (2)'!Q50","v":""},null,{"$f":"'見積書 (2)'!R50","v":""},null,null,{"$f":"'見積書 (2)'!S50","v":""},null,null,null,{"$f":"'見積書 (2)'!T50","v":""},null,null,null,null,{"$f":"IF(Q107=\"\",\"\",'出来高内訳書 (第2回請求)'!AC107+'出来高内訳書 (第2回請求)'!AK107)","v":""},null,null,{"$f":"IF(T107=\"\",\"\",ROUND(T107*AC107,0))","v":""},null,null,null,null,null,null,null,{"$f":"IF(T107=\"\",\"\",ROUND(T107*AK107,0))","v":""},null,null,null,null,{"$f":"IF(Q107=\"\",\"\",ROUND(Q107-AC107-AK107,2))","v":""},null,null,{"$f":"IF(T107=\"\",\"\",(IF(AS107<0,\"出来高が契約を超過\",X107-AN107-AF107)))","v":""}]
[null,{"$f":"'見積書 (2)'!F51","v":""}]
[null,"小計",null,null,null,null,null,null,null,null,null,null,null,null,null,null,null,null,null,null,null,null,null,{"$f":"SUM(X79:AB108)","v":0},null,null,null,null,null,null,null,{"$f":"SUM(AF79:AJ108)","v":0},null,null,null,null,null,null,null,{"$f":"SUM(AN79:AR108)","v":0},null,null,null,null,null,null,null,{"$f":"X109-AF109-AN109","v":0}]
[]
[]
[]
[]
[null,"請求内訳書（出来高・分割納入用）",null,null,null,null,null,null,null,null,null,null,null,null,null,null,null,null,null,null,null,null,null,null,null,null,null,null,null,null,null,null,null,null,null,null,null,null,null,null,null,null,null,null,null,null,null,null,null,null,"No."]
[]
[]
[]
[]
[]
[]
[]
[]
[]
[null,"製造番号",null,null,null,null,{"$f":"Y22","v":""},null,null,null,null,null,null,null,null,null,null,null,null,null,null,null,null,"※科目"]
[]
[]
[null,"注文番号",null,null,null,null,{"$f":"Y25","v":""},null,null,null,null,null,null,null,null,"第",null,{"$f":"AJ23","v":3},null,"回請求"]
[]
[]
[]
[null,"工　種・品　名",null,null,null,null,null,null,null,null,null,null,null,null,"契　約　金　額",null,null,null,null,null,null,null,null,null,null,null,null,null,"前回までの出来高",null,null,null,null,null,null,null,"今回出来高",null,null,null,null,null,null,null,"残高",null,null,null,null,null,null,null,"備　考"]
[null,null,null,null,null,null,null,null,null,null,null,null,null,null,"単位",null,"数量",null,null,"単価",null,null,null,"金額",null,null,null,null,"数量",null,null,"金額",null,null,null,null,"数量",null,null,"金額",null,null,null,null,"数量",null,null,"金額"]
[27,{"$f":"'見積書 (2)'!F52","v":""},null,null,null,null,null,null,null,null,null,null,null,null,{"$f":"'見積書 (2)'!Q52","v":""},null,{"$f":"'見積書 (2)'!R52","v":""},null,null,{"$f":"'見積書 (2)'!S52","v":""},null,null,null,{"$f":"'見積書 (2)'!T52","v":""},null,null,null,null,{"$f":"IF(Q133=\"\",\"\",'出来高内訳書 (第2回請求)'!AC133+'出来高内訳書 (第2回請求)'!AK133)","v":""},null,null,{"$f":"IF(T133=\"\",\"\",ROUND(T133*AC133,0))","v":""},null,null,null,null,null,null,null,{"$f":"IF(T133=\"\",\"\",ROUND(T133*AK133,0))","v":""},null,null,null,null,{"$f":"IF(Q133=\"\",\"\",ROUND(Q133-AC133-AK133,2))","v":""},null,null,{"$f":"IF(T133=\"\",\"\",(IF(AS133<0,\"出来高が契約を超過\",X133-AN133-AF133)))","v":""}]
[null,{"$f":"'見積書 (2)'!F53","v":""}]
[28,{"$f":"'見積書 (2)'!F54","v":""},null,null,null,null,null,null,null,null,null,null,null,null,{"$f":"'見積書 (2)'!Q54","v":""},null,{"$f":"'見積書 (2)'!R54","v":""},null,null,{"$f":"'見積書 (2)'!S54","v":""},null,null,null,{"$f":"'見積書 (2)'!T54","v":""},null,null,null,null,{"$f":"IF(Q135=\"\",\"\",'出来高内訳書 (第2回請求)'!AC135+'出来高内訳書 (第2回請求)'!AK135)","v":""},null,null,{"$f":"IF(T135=\"\",\"\",ROUND(T135*AC135,0))","v":""},null,null,null,null,null,null,null,{"$f":"IF(T135=\"\",\"\",ROUND(T135*AK135,0))","v":""},null,null,null,null,{"$f":"IF(Q135=\"\",\"\",ROUND(Q135-AC135-AK135,2))","v":""},null,null,{"$f":"IF(T135=\"\",\"\",(IF(AS135<0,\"出来高が契約を超過\",X135-AN135-AF135)))","v":""}]
[null,{"$f":"'見積書 (2)'!F55","v":""}]
[29,{"$f":"'見積書 (2)'!F56","v":""},null,null,null,null,null,null,null,null,null,null,null,null,{"$f":"'見積書 (2)'!Q56","v":""},null,{"$f":"'見積書 (2)'!R56","v":""},null,null,{"$f":"'見積書 (2)'!S56","v":""},null,null,null,{"$f":"'見積書 (2)'!T56","v":""},null,null,null,null,{"$f":"IF(Q137=\"\",\"\",'出来高内訳書 (第2回請求)'!AC137+'出来高内訳書 (第2回請求)'!AK137)","v":""},null,null,{"$f":"IF(T137=\"\",\"\",ROUND(T137*AC137,0))","v":""},null,null,null,null,null,null,null,{"$f":"IF(T137=\"\",\"\",ROUND(T137*AK137,0))","v":""},null,null,null,null,{"$f":"IF(Q137=\"\",\"\",ROUND(Q137-AC137-AK137,2))","v":""},null,null,{"$f":"IF(T137=\"\",\"\",(IF(AS137<0,\"出来高が契約を超過\",X137-AN137-AF137)))","v":""}]
[null,{"$f":"'見積書 (2)'!F57","v":""}]
[30,{"$f":"'見積書 (2)'!F58","v":""},null,null,null,null,null,null,null,null,null,null,null,null,{"$f":"'見積書 (2)'!Q58","v":""},null,{"$f":"'見積書 (2)'!R58","v":""},null,null,{"$f":"'見積書 (2)'!S58","v":""},null,null,null,{"$f":"'見積書 (2)'!T58","v":""},null,null,null,null,{"$f":"IF(Q139=\"\",\"\",'出来高内訳書 (第2回請求)'!AC139+'出来高内訳書 (第2回請求)'!AK139)","v":""},null,null,{"$f":"IF(T139=\"\",\"\",ROUND(T139*AC139,0))","v":""},null,null,null,null,null,null,null,{"$f":"IF(T139=\"\",\"\",ROUND(T139*AK139,0))","v":""},null,null,null,null,{"$f":"IF(Q139=\"\",\"\",ROUND(Q139-AC139-AK139,2))","v":""},null,null,{"$f":"IF(T139=\"\",\"\",(IF(AS139<0,\"出来高が契約を超過\",X139-AN139-AF139)))","v":""}]
[null,{"$f":"'見積書 (2)'!F59","v":""}]
[31,{"$f":"'見積書 (2)'!F60","v":""},null,null,null,null,null,null,null,null,null,null,null,null,{"$f":"'見積書 (2)'!Q60","v":""},null,{"$f":"'見積書 (2)'!R60","v":""},null,null,{"$f":"'見積書 (2)'!S60","v":""},null,null,null,{"$f":"'見積書 (2)'!T60","v":""},null,null,null,null,{"$f":"IF(Q141=\"\",\"\",'出来高内訳書 (第2回請求)'!AC141+'出来高内訳書 (第2回請求)'!AK141)","v":""},null,null,{"$f":"IF(T141=\"\",\"\",ROUND(T141*AC141,0))","v":""},null,null,null,null,null,null,null,{"$f":"IF(T141=\"\",\"\",ROUND(T141*AK141,0))","v":""},null,null,null,null,{"$f":"IF(Q141=\"\",\"\",ROUND(Q141-AC141-AK141,2))","v":""},null,null,{"$f":"IF(T141=\"\",\"\",(IF(AS141<0,\"出来高が契約を超過\",X141-AN141-AF141)))","v":""}]
[null,{"$f":"'見積書 (2)'!F61","v":""}]
[32,{"$f":"'見積書 (2)'!F62","v":""},null,null,null,null,null,null,null,null,null,null,null,null,{"$f":"'見積書 (2)'!Q62","v":""},null,{"$f":"'見積書 (2)'!R62","v":""},null,null,{"$f":"'見積書 (2)'!S62","v":""},null,null,null,{"$f":"'見積書 (2)'!T62","v":""},null,null,null,null,{"$f":"IF(Q143=\"\",\"\",'出来高内訳書 (第2回請求)'!AC143+'出来高内訳書 (第2回請求)'!AK143)","v":""},null,null,{"$f":"IF(T143=\"\",\"\",ROUND(T143*AC143,0))","v":""},null,null,null,null,null,null,null,{"$f":"IF(T143=\"\",\"\",ROUND(T143*AK143,0))","v":""},null,null,null,null,{"$f":"IF(Q143=\"\",\"\",ROUND(Q143-AC143-AK143,2))","v":""},null,null,{"$f":"IF(T143=\"\",\"\",(IF(AS143<0,\"出来高が契約を超過\",X143-AN143-AF143)))","v":""}]
[null,{"$f":"'見積書 (2)'!F63","v":""}]
[33,{"$f":"'見積書 (2)'!F64","v":""},null,null,null,null,null,null,null,null,null,null,null,null,{"$f":"'見積書 (2)'!Q64","v":""},null,{"$f":"'見積書 (2)'!R64","v":""},null,null,{"$f":"'見積書 (2)'!S64","v":""},null,null,null,{"$f":"'見積書 (2)'!T64","v":""},null,null,null,null,{"$f":"IF(Q145=\"\",\"\",'出来高内訳書 (第2回請求)'!AC145+'出来高内訳書 (第2回請求)'!AK145)","v":""},null,null,{"$f":"IF(T145=\"\",\"\",ROUND(T145*AC145,0))","v":""},null,null,null,null,null,null,null,{"$f":"IF(T145=\"\",\"\",ROUND(T145*AK145,0))","v":""},null,null,null,null,{"$f":"IF(Q145=\"\",\"\",ROUND(Q145-AC145-AK145,2))","v":""},null,null,{"$f":"IF(T145=\"\",\"\",(IF(AS145<0,\"出来高が契約を超過\",X145-AN145-AF145)))","v":""}]
[null,{"$f":"'見積書 (2)'!F65","v":""}]
[34,{"$f":"'見積書 (2)'!F66","v":""},null,null,null,null,null,null,null,null,null,null,null,null,{"$f":"'見積書 (2)'!Q66","v":""},null,{"$f":"'見積書 (2)'!R66","v":""},null,null,{"$f":"'見積書 (2)'!S66","v":""},null,null,null,{"$f":"'見積書 (2)'!T66","v":""},null,null,null,null,{"$f":"IF(Q147=\"\",\"\",'出来高内訳書 (第2回請求)'!AC147+'出来高内訳書 (第2回請求)'!AK147)","v":""},null,null,{"$f":"IF(T147=\"\",\"\",ROUND(T147*AC147,0))","v":""},null,null,null,null,null,null,null,{"$f":"IF(T147=\"\",\"\",ROUND(T147*AK147,0))","v":""},null,null,null,null,{"$f":"IF(Q147=\"\",\"\",ROUND(Q147-AC147-AK147,2))","v":""},null,null,{"$f":"IF(T147=\"\",\"\",(IF(AS147<0,\"出来高が契約を超過\",X147-AN147-AF147)))","v":""}]
[null,{"$f":"'見積書 (2)'!F67","v":""}]
[35,{"$f":"'見積書 (2)'!F68","v":""},null,null,null,null,null,null,null,null,null,null,null,null,{"$f":"'見積書 (2)'!Q68","v":""},null,{"$f":"'見積書 (2)'!R68","v":""},null,null,{"$f":"'見積書 (2)'!S68","v":""},null,null,null,{"$f":"'見積書 (2)'!T68","v":""},null,null,null,null,{"$f":"IF(Q149=\"\",\"\",'出来高内訳書 (第2回請求)'!AC149+'出来高内訳書 (第2回請求)'!AK149)","v":""},null,null,{"$f":"IF(T149=\"\",\"\",ROUND(T149*AC149,0))","v":""},null,null,null,null,null,null,null,{"$f":"IF(T149=\"\",\"\",ROUND(T149*AK149,0))","v":""},null,null,null,null,{"$f":"IF(Q149=\"\",\"\",ROUND(Q149-AC149-AK149,2))","v":""},null,null,{"$f":"IF(T149=\"\",\"\",(IF(AS149<0,\"出来高が契約を超過\",X149-AN149-AF149)))","v":""}]
[null,{"$f":"'見積書 (2)'!F69","v":""}]
[36,{"$f":"'見積書 (3)'!F26","v":""},null,null,null,null,null,null,null,null,null,null,null,null,{"$f":"'見積書 (3)'!Q26","v":""},null,{"$f":"'見積書 (3)'!R26","v":""},null,null,{"$f":"'見積書 (3)'!S26","v":""},null,null,null,{"$f":"'見積書 (3)'!T26","v":""},null,null,null,null,{"$f":"IF(Q151=\"\",\"\",'出来高内訳書 (第2回請求)'!AC151+'出来高内訳書 (第2回請求)'!AK151)","v":""},null,null,{"$f":"IF(T151=\"\",\"\",ROUND(T151*AC151,0))","v":""},null,null,null,null,null,null,null,{"$f":"IF(T151=\"\",\"\",ROUND(T151*AK151,0))","v":""},null,null,null,null,{"$f":"IF(Q151=\"\",\"\",ROUND(Q151-AC151-AK151,2))","v":""},null,null,{"$f":"IF(T151=\"\",\"\",(IF(AS151<0,\"出来高が契約を超過\",X151-AN151-AF151)))","v":""}]
[null,{"$f":"'見積書 (3)'!F27","v":""}]
[37,{"$f":"'見積書 (3)'!F28","v":""},null,null,null,null,null,null,null,null,null,null,null,null,{"$f":"'見積書 (3)'!Q28","v":""},null,{"$f":"'見積書 (3)'!R28","v":""},null,null,{"$f":"'見積書 (3)'!S28","v":""},null,null,null,{"$f":"'見積書 (3)'!T28","v":""},null,null,null,null,{"$f":"IF(Q153=\"\",\"\",'出来高内訳書 (第2回請求)'!AC153+'出来高内訳書 (第2回請求)'!AK153)","v":""},null,null,{"$f":"IF(T153=\"\",\"\",ROUND(T153*AC153,0))","v":""},null,null,null,null,null,null,null,{"$f":"IF(T153=\"\",\"\",ROUND(T153*AK153,0))","v":""},null,null,null,null,{"$f":"IF(Q153=\"\",\"\",ROUND(Q153-AC153-AK153,2))","v":""},null,null,{"$f":"IF(T153=\"\",\"\",(IF(AS153<0,\"出来高が契約を超過\",X153-AN153-AF153)))","v":""}]
[null,{"$f":"'見積書 (3)'!F29","v":""}]
[38,{"$f":"'見積書 (3)'!F30","v":""},null,null,null,null,null,null,null,null,null,null,null,null,{"$f":"'見積書 (3)'!Q30","v":""},null,{"$f":"'見積書 (3)'!R30","v":""},null,null,{"$f":"'見積書 (3)'!S30","v":""},null,null,null,{"$f":"'見積書 (3)'!T30","v":""},null,null,null,null,{"$f":"IF(Q155=\"\",\"\",'出来高内訳書 (第2回請求)'!AC155+'出来高内訳書 (第2回請求)'!AK155)","v":""},null,null,{"$f":"IF(T155=\"\",\"\",ROUND(T155*AC155,0))","v":""},null,null,null,null,null,null,null,{"$f":"IF(T155=\"\",\"\",ROUND(T155*AK155,0))","v":""},null,null,null,null,{"$f":"IF(Q155=\"\",\"\",ROUND(Q155-AC155-AK155,2))","v":""},null,null,{"$f":"IF(T155=\"\",\"\",(IF(AS155<0,\"出来高が契約を超過\",X155-AN155-AF155)))","v":""}]
[null,{"$f":"'見積書 (3)'!F31","v":""}]
[39,{"$f":"'見積書 (3)'!F32","v":""},null,null,null,null,null,null,null,null,null,null,null,null,{"$f":"'見積書 (3)'!Q32","v":""},null,{"$f":"'見積書 (3)'!R32","v":""},null,null,{"$f":"'見積書 (3)'!S32","v":""},null,null,null,{"$f":"'見積書 (3)'!T32","v":""},null,null,null,null,{"$f":"IF(Q157=\"\",\"\",'出来高内訳書 (第2回請求)'!AC157+'出来高内訳書 (第2回請求)'!AK157)","v":""},null,null,{"$f":"IF(T157=\"\",\"\",ROUND(T157*AC157,0))","v":""},null,null,null,null,null,null,null,{"$f":"IF(T157=\"\",\"\",ROUND(T157*AK157,0))","v":""},null,null,null,null,{"$f":"IF(Q157=\"\",\"\",ROUND(Q157-AC157-AK157,2))","v":""},null,null,{"$f":"IF(T157=\"\",\"\",(IF(AS157<0,\"出来高が契約を超過\",X157-AN157-AF157)))","v":""}]
[null,{"$f":"'見積書 (3)'!F33","v":""}]
[40,{"$f":"'見積書 (3)'!F34","v":""},null,null,null,null,null,null,null,null,null,null,null,null,{"$f":"'見積書 (3)'!Q34","v":""},null,{"$f":"'見積書 (3)'!R34","v":""},null,null,{"$f":"'見積書 (3)'!S34","v":""},null,null,null,{"$f":"'見積書 (3)'!T34","v":""},null,null,null,null,{"$f":"IF(Q159=\"\",\"\",'出来高内訳書 (第2回請求)'!AC159+'出来高内訳書 (第2回請求)'!AK159)","v":""},null,null,{"$f":"IF(T159=\"\",\"\",ROUND(T159*AC159,0))","v":""},null,null,null,null,null,null,null,{"$f":"IF(T159=\"\",\"\",ROUND(T159*AK159,0))","v":""},null,null,null,null,{"$f":"IF(Q159=\"\",\"\",ROUND(Q159-AC159-AK159,2))","v":""},null,null,{"$f":"IF(T159=\"\",\"\",(IF(AS159<0,\"出来高が契約を超過\",X159-AN159-AF159)))","v":""}]
[null,{"$f":"'見積書 (3)'!F35","v":""}]
[41,{"$f":"'見積書 (3)'!F36","v":""},null,null,null,null,null,null,null,null,null,null,null,null,{"$f":"'見積書 (3)'!Q36","v":""},null,{"$f":"'見積書 (3)'!R36","v":""},null,null,{"$f":"'見積書 (3)'!S36","v":""},null,null,null,{"$f":"'見積書 (3)'!T36","v":""},null,null,null,null,{"$f":"IF(Q161=\"\",\"\",'出来高内訳書 (第2回請求)'!AC161+'出来高内訳書 (第2回請求)'!AK161)","v":""},null,null,{"$f":"IF(T161=\"\",\"\",ROUND(T161*AC161,0))","v":""},null,null,null,null,null,null,null,{"$f":"IF(T161=\"\",\"\",ROUND(T161*AK161,0))","v":""},null,null,null,null,{"$f":"IF(Q161=\"\",\"\",ROUND(Q161-AC161-AK161,2))","v":""},null,null,{"$f":"IF(T161=\"\",\"\",(IF(AS161<0,\"出来高が契約を超過\",X161-AN161-AF161)))","v":""}]
[null,{"$f":"'見積書 (3)'!F37","v":""}]
[null,"小計",null,null,null,null,null,null,null,null,null,null,null,null,null,null,null,null,null,null,null,null,null,{"$f":"SUM(X133:AB162)","v":0},null,null,null,null,null,null,null,{"$f":"SUM(AF133:AJ162)","v":0},null,null,null,null,null,null,null,{"$f":"SUM(AN133:AR162)","v":0},null,null,null,null,null,null,null,{"$f":"X163-AF163-AN163","v":0}]
[]
[]
[]
[]
[null,"請求内訳書（出来高・分割納入用）",null,null,null,null,null,null,null,null,null,null,null,null,null,null,null,null,null,null,null,null,null,null,null,null,null,null,null,null,null,null,null,null,null,null,null,null,null,null,null,null,null,null,null,null,null,null,null,null,"No."]
[]
[]
[]
[]
[]
[]
[]
[]
[]
[null,"製造番号",null,null,null,null,{"$f":"Y22","v":""},null,null,null,null,null,null,null,null,null,null,null,null,null,null,null,null,"※科目"]
[]
[]
[null,"注文番号",null,null,null,null,{"$f":"Y25","v":""},null,null,null,null,null,null,null,null,"第",null,{"$f":"AJ23","v":3},null,"回請求"]
[]
[]
[]
[null,"工　種・品　名",null,null,null,null,null,null,null,null,null,null,null,null,"契　約　金　額",null,null,null,null,null,null,null,null,null,null,null,null,null,"前回までの出来高",null,null,null,null,null,null,null,"今回出来高",null,null,null,null,null,null,null,"残高",null,null,null,null,null,null,null,"備　考"]
[null,null,null,null,null,null,null,null,null,null,null,null,null,null,"単位",null,"数量",null,null,"単価",null,null,null,"金額",null,null,null,null,"数量",null,null,"金額",null,null,null,null,"数量",null,null,"金額",null,null,null,null,"数量",null,null,"金額"]
[42,{"$f":"'見積書 (3)'!F38","v":""},null,null,null,null,null,null,null,null,null,null,null,null,{"$f":"'見積書 (3)'!Q38","v":""},null,{"$f":"'見積書 (3)'!R38","v":""},null,null,{"$f":"'見積書 (3)'!S38","v":""},null,null,null,{"$f":"'見積書 (3)'!T38","v":""},null,null,null,null,{"$f":"IF(Q187=\"\",\"\",'出来高内訳書 (第2回請求)'!AC187+'出来高内訳書 (第2回請求)'!AK187)","v":""},null,null,{"$f":"IF(T187=\"\",\"\",ROUND(T187*AC187,0))","v":""},null,null,null,null,null,null,null,{"$f":"IF(T187=\"\",\"\",ROUND(T187*AK187,0))","v":""},null,null,null,null,{"$f":"IF(Q187=\"\",\"\",ROUND(Q187-AC187-AK187,2))","v":""},null,null,{"$f":"IF(T187=\"\",\"\",(IF(AS187<0,\"出来高が契約を超過\",X187-AN187-AF187)))","v":""}]
[null,{"$f":"'見積書 (3)'!F39","v":""}]
[43,{"$f":"'見積書 (3)'!F40","v":""},null,null,null,null,null,null,null,null,null,null,null,null,{"$f":"'見積書 (3)'!Q40","v":""},null,{"$f":"'見積書 (3)'!R40","v":""},null,null,{"$f":"'見積書 (3)'!S40","v":""},null,null,null,{"$f":"'見積書 (3)'!T40","v":""},null,null,null,null,{"$f":"IF(Q189=\"\",\"\",'出来高内訳書 (第2回請求)'!AC189+'出来高内訳書 (第2回請求)'!AK189)","v":""},null,null,{"$f":"IF(T189=\"\",\"\",ROUND(T189*AC189,0))","v":""},null,null,null,null,null,null,null,{"$f":"IF(T189=\"\",\"\",ROUND(T189*AK189,0))","v":""},null,null,null,null,{"$f":"IF(Q189=\"\",\"\",ROUND(Q189-AC189-AK189,2))","v":""},null,null,{"$f":"IF(T189=\"\",\"\",(IF(AS189<0,\"出来高が契約を超過\",X189-AN189-AF189)))","v":""}]
[null,{"$f":"'見積書 (3)'!F41","v":""}]
[44,{"$f":"'見積書 (3)'!F42","v":""},null,null,null,null,null,null,null,null,null,null,null,null,{"$f":"'見積書 (3)'!Q42","v":""},null,{"$f":"'見積書 (3)'!R42","v":""},null,null,{"$f":"'見積書 (3)'!S42","v":""},null,null,null,{"$f":"'見積書 (3)'!T42","v":""},null,null,null,null,{"$f":"IF(Q191=\"\",\"\",'出来高内訳書 (第2回請求)'!AC191+'出来高内訳書 (第2回請求)'!AK191)","v":""},null,null,{"$f":"IF(T191=\"\",\"\",ROUND(T191*AC191,0))","v":""},null,null,null,null,null,null,null,{"$f":"IF(T191=\"\",\"\",ROUND(T191*AK191,0))","v":""},null,null,null,null,{"$f":"IF(Q191=\"\",\"\",ROUND(Q191-AC191-AK191,2))","v":""},null,null,{"$f":"IF(T191=\"\",\"\",(IF(AS191<0,\"出来高が契約を超過\",X191-AN191-AF191)))","v":""}]
[null,{"$f":"'見積書 (3)'!F43","v":""}]
[45,{"$f":"'見積書 (3)'!F44","v":""},null,null,null,null,null,null,null,null,null,null,null,null,{"$f":"'見積書 (3)'!Q44","v":""},null,{"$f":"'見積書 (3)'!R44","v":""},null,null,{"$f":"'見積書 (3)'!S44","v":""},null,null,null,{"$f":"'見積書 (3)'!T44","v":""},null,null,null,null,{"$f":"IF(Q193=\"\",\"\",'出来高内訳書 (第2回請求)'!AC193+'出来高内訳書 (第2回請求)'!AK193)","v":""},null,null,{"$f":"IF(T193=\"\",\"\",ROUND(T193*AC193,0))","v":""},null,null,null,null,null,null,null,{"$f":"IF(T193=\"\",\"\",ROUND(T193*AK193,0))","v":""},null,null,null,null,{"$f":"IF(Q193=\"\",\"\",ROUND(Q193-AC193-AK193,2))","v":""},null,null,{"$f":"IF(T193=\"\",\"\",(IF(AS193<0,\"出来高が契約を超過\",X193-AN193-AF193)))","v":""}]
[null,{"$f":"'見積書 (3)'!F45","v":""}]
[46,{"$f":"'見積書 (3)'!F46","v":""},null,null,null,null,null,null,null,null,null,null,null,null,{"$f":"'見積書 (3)'!Q46","v":""},null,{"$f":"'見積書 (3)'!R46","v":""},null,null,{"$f":"'見積書 (3)'!S46","v":""},null,null,null,{"$f":"'見積書 (3)'!T46","v":""},null,null,null,null,{"$f":"IF(Q195=\"\",\"\",'出来高内訳書 (第2回請求)'!AC195+'出来高内訳書 (第2回請求)'!AK195)","v":""},null,null,{"$f":"IF(T195=\"\",\"\",ROUND(T195*AC195,0))","v":""},null,null,null,null,null,null,null,{"$f":"IF(T195=\"\",\"\",ROUND(T195*AK195,0))","v":""},null,null,null,null,{"$f":"IF(Q195=\"\",\"\",ROUND(Q195-AC195-AK195,2))","v":""},null,null,{"$f":"IF(T195=\"\",\"\",(IF(AS195<0,\"出来高が契約を超過\",X195-AN195-AF195)))","v":""}]
[null,{"$f":"'見積書 (3)'!F47","v":""}]
[47,{"$f":"'見積書 (3)'!F48","v":""},null,null,null,null,null,null,null,null,null,null,null,null,{"$f":"'見積書 (3)'!Q48","v":""},null,{"$f":"'見積書 (3)'!R48","v":""},null,null,{"$f":"'見積書 (3)'!S48","v":""},null,null,null,{"$f":"'見積書 (3)'!T48","v":""},null,null,null,null,{"$f":"IF(Q197=\"\",\"\",'出来高内訳書 (第2回請求)'!AC197+'出来高内訳書 (第2回請求)'!AK197)","v":""},null,null,{"$f":"IF(T197=\"\",\"\",ROUND(T197*AC197,0))","v":""},null,null,null,null,null,null,null,{"$f":"IF(T197=\"\",\"\",ROUND(T197*AK197,0))","v":""},null,null,null,null,{"$f":"IF(Q197=\"\",\"\",ROUND(Q197-AC197-AK197,2))","v":""},null,null,{"$f":"IF(T197=\"\",\"\",(IF(AS197<0,\"出来高が契約を超過\",X197-AN197-AF197)))","v":""}]
[null,{"$f":"'見積書 (3)'!F49","v":""}]
[48,{"$f":"'見積書 (3)'!F50","v":""},null,null,null,null,null,null,null,null,null,null,null,null,{"$f":"'見積書 (3)'!Q50","v":""},null,{"$f":"'見積書 (3)'!R50","v":""},null,null,{"$f":"'見積書 (3)'!S50","v":""},null,null,null,{"$f":"'見積書 (3)'!T50","v":""},null,null,null,null,{"$f":"IF(Q199=\"\",\"\",'出来高内訳書 (第2回請求)'!AC199+'出来高内訳書 (第2回請求)'!AK199)","v":""},null,null,{"$f":"IF(T199=\"\",\"\",ROUND(T199*AC199,0))","v":""},null,null,null,null,null,null,null,{"$f":"IF(T199=\"\",\"\",ROUND(T199*AK199,0))","v":""},null,null,null,null,{"$f":"IF(Q199=\"\",\"\",ROUND(Q199-AC199-AK199,2))","v":""},null,null,{"$f":"IF(T199=\"\",\"\",(IF(AS199<0,\"出来高が契約を超過\",X199-AN199-AF199)))","v":""}]
[null,{"$f":"'見積書 (3)'!F51","v":""}]
[49,{"$f":"'見積書 (3)'!F52","v":""},null,null,null,null,null,null,null,null,null,null,null,null,{"$f":"'見積書 (3)'!Q52","v":""},null,{"$f":"'見積書 (3)'!R52","v":""},null,null,{"$f":"'見積書 (3)'!S52","v":""},null,null,null,{"$f":"'見積書 (3)'!T52","v":""},null,null,null,null,{"$f":"IF(Q201=\"\",\"\",'出来高内訳書 (第2回請求)'!AC201+'出来高内訳書 (第2回請求)'!AK201)","v":""},null,null,{"$f":"IF(T201=\"\",\"\",ROUND(T201*AC201,0))","v":""},null,null,null,null,null,null,null,{"$f":"IF(T201=\"\",\"\",ROUND(T201*AK201,0))","v":""},null,null,null,null,{"$f":"IF(Q201=\"\",\"\",ROUND(Q201-AC201-AK201,2))","v":""},null,null,{"$f":"IF(T201=\"\",\"\",(IF(AS201<0,\"出来高が契約を超過\",X201-AN201-AF201)))","v":""}]
[null,{"$f":"'見積書 (3)'!F53","v":""}]
[50,{"$f":"'見積書 (3)'!F54","v":""},null,null,null,null,null,null,null,null,null,null,null,null,{"$f":"'見積書 (3)'!Q54","v":""},null,{"$f":"'見積書 (3)'!R54","v":""},null,null,{"$f":"'見積書 (3)'!S54","v":""},null,null,null,{"$f":"'見積書 (3)'!T54","v":""},null,null,null,null,{"$f":"IF(Q203=\"\",\"\",'出来高内訳書 (第2回請求)'!AC203+'出来高内訳書 (第2回請求)'!AK203)","v":""},null,null,{"$f":"IF(T203=\"\",\"\",ROUND(T203*AC203,0))","v":""},null,null,null,null,null,null,null,{"$f":"IF(T203=\"\",\"\",ROUND(T203*AK203,0))","v":""},null,null,null,null,{"$f":"IF(Q203=\"\",\"\",ROUND(Q203-AC203-AK203,2))","v":""},null,null,{"$f":"IF(T203=\"\",\"\",(IF(AS203<0,\"出来高が契約を超過\",X203-AN203-AF203)))","v":""}]
[null,{"$f":"'見積書 (3)'!F55","v":""}]
[51,{"$f":"'見積書 (3)'!F56","v":""},null,null,null,null,null,null,null,null,null,null,null,null,{"$f":"'見積書 (3)'!Q56","v":""},null,{"$f":"'見積書 (3)'!R56","v":""},null,null,{"$f":"'見積書 (3)'!S56","v":""},null,null,null,{"$f":"'見積書 (3)'!T56","v":""},null,null,null,null,{"$f":"IF(Q205=\"\",\"\",'出来高内訳書 (第2回請求)'!AC205+'出来高内訳書 (第2回請求)'!AK205)","v":""},null,null,{"$f":"IF(T205=\"\",\"\",ROUND(T205*AC205,0))","v":""},null,null,null,null,null,null,null,{"$f":"IF(T205=\"\",\"\",ROUND(T205*AK205,0))","v":""},null,null,null,null,{"$f":"IF(Q205=\"\",\"\",ROUND(Q205-AC205-AK205,2))","v":""},null,null,{"$f":"IF(T205=\"\",\"\",(IF(AS205<0,\"出来高が契約を超過\",X205-AN205-AF205)))","v":""}]
[null,{"$f":"'見積書 (3)'!F57","v":""}]
[52,{"$f":"'見積書 (3)'!F58","v":""},null,null,null,null,null,null,null,null,null,null,null,null,{"$f":"'見積書 (3)'!Q58","v":""},null,{"$f":"'見積書 (3)'!R58","v":""},null,null,{"$f":"'見積書 (3)'!S58","v":""},null,null,null,{"$f":"'見積書 (3)'!T58","v":""},null,null,null,null,{"$f":"IF(Q207=\"\",\"\",'出来高内訳書 (第2回請求)'!AC207+'出来高内訳書 (第2回請求)'!AK207)","v":""},null,null,{"$f":"IF(T207=\"\",\"\",ROUND(T207*AC207,0))","v":""},null,null,null,null,null,null,null,{"$f":"IF(T207=\"\",\"\",ROUND(T207*AK207,0))","v":""},null,null,null,null,{"$f":"IF(Q207=\"\",\"\",ROUND(Q207-AC207-AK207,2))","v":""},null,null,{"$f":"IF(T207=\"\",\"\",(IF(AS207<0,\"出来高が契約を超過\",X207-AN207-AF207)))","v":""}]
[null,{"$f":"'見積書 (3)'!F59","v":""}]
[53,{"$f":"'見積書 (3)'!F60","v":""},null,null,null,null,null,null,null,null,null,null,null,null,{"$f":"'見積書 (3)'!Q60","v":""},null,{"$f":"'見積書 (3)'!R60","v":""},null,null,{"$f":"'見積書 (3)'!S60","v":""},null,null,null,{"$f":"'見積書 (3)'!T60","v":""},null,null,null,null,{"$f":"IF(Q209=\"\",\"\",'出来高内訳書 (第2回請求)'!AC209+'出来高内訳書 (第2回請求)'!AK209)","v":""},null,null,{"$f":"IF(T209=\"\",\"\",ROUND(T209*AC209,0))","v":""},null,null,null,null,null,null,null,{"$f":"IF(T209=\"\",\"\",ROUND(T209*AK209,0))","v":""},null,null,null,null,{"$f":"IF(Q209=\"\",\"\",ROUND(Q209-AC209-AK209,2))","v":""},null,null,{"$f":"IF(T209=\"\",\"\",(IF(AS209<0,\"出来高が契約を超過\",X209-AN209-AF209)))","v":""}]
[null,{"$f":"'見積書 (3)'!F61","v":""}]
[54,{"$f":"'見積書 (3)'!F62","v":""},null,null,null,null,null,null,null,null,null,null,null,null,{"$f":"'見積書 (3)'!Q62","v":""},null,{"$f":"'見積書 (3)'!R62","v":""},null,null,{"$f":"'見積書 (3)'!S62","v":""},null,null,null,{"$f":"'見積書 (3)'!T62","v":""},null,null,null,null,{"$f":"IF(Q211=\"\",\"\",'出来高内訳書 (第2回請求)'!AC211+'出来高内訳書 (第2回請求)'!AK211)","v":""},null,null,{"$f":"IF(T211=\"\",\"\",ROUND(T211*AC211,0))","v":""},null,null,null,null,null,null,null,{"$f":"IF(T211=\"\",\"\",ROUND(T211*AK211,0))","v":""},null,null,null,null,{"$f":"IF(Q211=\"\",\"\",ROUND(Q211-AC211-AK211,2))","v":""},null,null,{"$f":"IF(T211=\"\",\"\",(IF(AS211<0,\"出来高が契約を超過\",X211-AN211-AF211)))","v":""}]
[null,{"$f":"'見積書 (3)'!F63","v":""}]
[55,{"$f":"'見積書 (3)'!F64","v":""},null,null,null,null,null,null,null,null,null,null,null,null,{"$f":"'見積書 (3)'!Q64","v":""},null,{"$f":"'見積書 (3)'!R64","v":""},null,null,{"$f":"'見積書 (3)'!S64","v":""},null,null,null,{"$f":"'見積書 (3)'!T64","v":""},null,null,null,null,{"$f":"IF(Q213=\"\",\"\",'出来高内訳書 (第2回請求)'!AC213+'出来高内訳書 (第2回請求)'!AK213)","v":""},null,null,{"$f":"IF(T213=\"\",\"\",ROUND(T213*AC213,0))","v":""},null,null,null,null,null,null,null,{"$f":"IF(T213=\"\",\"\",ROUND(T213*AK213,0))","v":""},null,null,null,null,{"$f":"IF(Q213=\"\",\"\",ROUND(Q213-AC213-AK213,2))","v":""},null,null,{"$f":"IF(T213=\"\",\"\",(IF(AS213<0,\"出来高が契約を超過\",X213-AN213-AF213)))","v":""}]
[null,{"$f":"'見積書 (3)'!F65","v":""}]
[56,{"$f":"'見積書 (3)'!F66","v":""},null,null,null,null,null,null,null,null,null,null,null,null,{"$f":"'見積書 (3)'!Q66","v":""},null,{"$f":"'見積書 (3)'!R66","v":""},null,null,{"$f":"'見積書 (3)'!S66","v":""},null,null,null,{"$f":"'見積書 (3)'!T66","v":""},null,null,null,null,{"$f":"IF(Q215=\"\",\"\",'出来高内訳書 (第2回請求)'!AC215+'出来高内訳書 (第2回請求)'!AK215)","v":""},null,null,{"$f":"IF(T215=\"\",\"\",ROUND(T215*AC215,0))","v":""},null,null,null,null,null,null,null,{"$f":"IF(T215=\"\",\"\",ROUND(T215*AK215,0))","v":""},null,null,null,null,{"$f":"IF(Q215=\"\",\"\",ROUND(Q215-AC215-AK215,2))","v":""},null,null,{"$f":"IF(T215=\"\",\"\",(IF(AS215<0,\"出来高が契約を超過\",X215-AN215-AF215)))","v":""}]
[null,{"$f":"'見積書 (3)'!F67","v":""}]
[null,"小計",null,null,null,null,null,null,null,null,null,null,null,null,null,null,null,null,null,null,null,null,null,{"$f":"SUM(X187:AB216)","v":0},null,null,null,null,null,null,null,{"$f":"SUM(AF187:AJ216)","v":0},null,null,null,null,null,null,null,{"$f":"SUM(AN187:AR216)","v":0},null,null,null,null,null,null,null,{"$f":"X217-AF217-AN217","v":0}]
[]
[]
[]
[]
[null,"請求内訳書（出来高・分割納入用）",null,null,null,null,null,null,null,null,null,null,null,null,null,null,null,null,null,null,null,null,null,null,null,null,null,null,null,null,null,null,null,null,null,null,null,null,null,null,null,null,null,null,null,null,null,null,null,null,"No."]
[]
[]
[]
[]
[]
[]
[]
[]
[]
[null,"製造番号",null,null,null,null,{"$f":"Y22","v":""},null,null,null,null,null,null,null,null,null,null,null,null,null,null,null,null,"※科目"]
[]
[]
[null,"注文番号",null,null,null,null,{"$f":"Y25","v":""},null,null,null,null,null,null,null,null,"第",null,{"$f":"AJ23","v":3},null,"回請求"]
[]
[]
[]
[null,"工　種・品　名",null,null,null,null,null,null,null,null,null,null,null,null,"契　約　金　額",null,null,null,null,null,null,null,null,null,null,null,null,null,"前回までの出来高",null,null,null,null,null,null,null,"今回出来高",null,null,null,null,null,null,null,"残高",null,null,null,null,null,null,null,"備　考"]
[null,null,null,null,null,null,null,null,null,null,null,null,null,null,"単位",null,"数量",null,null,"単価",null,null,null,"金額",null,null,null,null,"数量",null,null,"金額",null,null,null,null,"数量",null,null,"金額",null,null,null,null,"数量",null,null,"金額"]
[57,{"$f":"'見積書 (3)'!F68","v":""},null,null,null,null,null,null,null,null,null,null,null,null,{"$f":"'見積書 (3)'!Q68","v":""},null,{"$f":"'見積書 (3)'!R68","v":""},null,null,{"$f":"'見積書 (3)'!S68","v":""},null,null,null,{"$f":"'見積書 (3)'!T68","v":""},null,null,null,null,{"$f":"IF(Q241=\"\",\"\",'出来高内訳書 (第2回請求)'!AC241+'出来高内訳書 (第2回請求)'!AK241)","v":""},null,null,{"$f":"IF(T241=\"\",\"\",ROUND(T241*AC241,0))","v":""},null,null,null,null,null,null,null,{"$f":"IF(T241=\"\",\"\",ROUND(T241*AK241,0))","v":""},null,null,null,null,{"$f":"IF(Q241=\"\",\"\",ROUND(Q241-AC241-AK241,2))","v":""},null,null,{"$f":"IF(T241=\"\",\"\",(IF(AS241<0,\"出来高が契約を超過\",X241-AN241-AF241)))","v":""}]
[null,{"$f":"'見積書 (3)'!F68","v":""}]
[]
[]
[]
[]
[]
[]
[]
[]
[]
[]
[]
[]
[]
[]
[null,"小計",null,null,null,null,null,null,null,null,null,null,null,null,null,null,null,null,null,null,null,null,null,{"$f":"SUM(X241:AB256)","v":0},null,null,null,null,null,null,null,{"$f":"SUM(AF241:AJ256)","v":0},null,null,null,null,null,null,null,{"$f":"SUM(AN241:AR256)","v":0},null,null,null,null,null,null,null,{"$f":"SUM(AV241:AZ256)","v":0}]

{"sheet":"出来高内訳書 (第4回請求)","index":11,"n_rows":257,"n_cols":53,"rows_kept":257,"cut":false,"hidden":false,"merged":[[198,39,199,43],[198,44,199,46],[198,47,199,51],[198,52,199,54],[200,28,201,30],[200,31,201,35],[200,36,201,38],[200,39,201,43],[200,44,201,46],[192,47,193,51],[192,52,193,54],[194,28,195,30],[194,31,195,35],[194,36,195,38],[194,39,195,43],[194,44,195,46],[194,47,195,51],[194,52,195,54],[240,0,241,0],[240,1,240,13],[240,14,241,15],[240,16,241,18],[240,19,241,22],[240,23,241,27],[240,28,241,30],[240,31,241,35],[240,36,241,38],[240,39,241,43],[240,44,241,46],[240,47,241,51],[240,52,241,54],[196,28,197,30],[196,31,197,35],[196,36,197,38],[196,39,197,43],[196,44,197,46],[196,47,197,51],[196,52,197,54],[198,28,199,30],[198,31,199,35],[198,36,199,38],[208,0,209,0],[208,14,209,15],[208,16,209,18],[208,19,209,22],[208,23,209,27],[210,0,211,0],[210,14,211,15],[210,16,211,18],[210,19,211,22],[212,0,213,0],[212,14,213,15],[212,16,213,18],[212,19,213,22],[212,23,213,27],[214,0,215,0],[214,14,215,15],[214,16,215,18],[214,19,215,22],[214,23,215,27],[211,1,211,13],[200,0,201,0],[200,1,200,13],[200,14,201,15],[200,16,201,18],[200,19,201,22],[200,23,201,27],[202,0,203,0],[202,14,203,15],[202,16,203,18],[202,19,203,22],[202,23,203,27],[204,0,205,0],[204,14,205,15],[204,16,205,18],[204,19,205,22],[204,23,205,27],[206,0,207,0],[206,14,207,15],[206,16,207,18],[206,19,207,22],[203,1,203,13],[194,0,195,0],[194,1,194,13],[194,14,195,15],[194,16,195,18],[194,19,195,22],[194,23,195,27],[195,1,195,13],[196,0,197,0],[196,1,196,13],[196,14,197,15],[196,16,197,18],[196,19,197,22],[196,23,197,27],[197,1,197,13],[198,0,199,0],[198,1,198,13],[198,14,199,15],[198,16,199,18],[198,19,199,22],[198,23,199,27],[199,1,199,13],[188,0,189,0],[188,1,188,13],[188,14,189,15],[188,16,189,18],[188,19,189,22],[188,23,189,27],[189,1,189,13],[190,0,191,0],[190,1,190,13],[190,14,191,15],[190,16,191,18],[190,19,191,22],[190,23,191,27],[191,1,191,13],[192,0,193,0],[192,1,192,13],[192,14,193,15],[192,16,193,18],[192,19,193,22],[192,23,193,27],[193,1,193,13],[186,0,187,0],[186,1,186,13],[186,14,187,15],[186,16,187,18],[186,19,187,22],[186,23,187,27],[187,1,187,13],[186,28,187,30],[186,31,187,35],[186,36,187,38],[186,39,187,43],[186,44,187,46],[186,47,187,51],[186,52,187,54],[140,44,141,46],[140,47,141,51],[142,28,143,30],[146,44,147,46],[146,47,147,51],[152,0,153,0],[152,14,153,15],[152,16,153,18],[152,19,153,22],[152,23,153,27],[154,0,155,0],[154,14,155,15],[154,16,155,18],[154,19,155,22],[154,23,155,27],[156,0,157,0],[156,14,157,15],[156,16,157,18],[132,52,133,54],[134,52,135,54],[136,52,137,54],[138,52,139,54],[140,52,141,54],[142,52,143,54],[144,52,145,54],[146,52,147,54],[148,52,149,54],[150,52,151,54],[152,52,153,54],[154,52,155,54],[156,52,157,54],[158,52,159,54],[160,52,161,54],[158,0,159,0],[158,14,159,15],[158,16,159,18],[158,19,159,22],[158,23,159,27],[160,0,161,0],[160,14,161,15],[160,16,161,18],[160,19,161,22],[160,23,161,27],[132,28,133,30],[132,31,133,35],[132,36,133,38],[132,39,133,43],[132,44,133,46],[132,47,133,51],[134,28,135,30],[134,31,135,35],[134,36,135,38],[134,39,135,43],[134,44,135,46],[134,47,135,51],[136,28,137,30],[136,31,137,35],[136,36,137,38],[136,39,137,43],[136,44,137,46],[136,47,137,51],[138,28,139,30],[138,31,139,35],[138,36,139,38],[138,39,139,43],[150,0,151,0],[150,14,151,15],[150,16,151,18],[150,19,151,22],[150,23,151,27],[138,0,139,0],[138,1,138,13],[138,14,139,15],[138,16,139,18],[138,19,139,22],[138,23,139,27],[139,1,139,13],[140,0,141,0],[140,1,140,13],[140,14,141,15],[140,16,141,18],[140,19,141,22],[136,19,137,22],[136,23,137,27],[137,1,137,13],[156,19,157,22],[156,23,157,27],[153,1,153,13],[144,0,145,0],[144,1,144,13],[144,14,145,15],[144,16,145,18],[144,19,145,22],[144,23,145,27],[145,1,145,13],[146,0,147,0],[146,1,146,13],[146,14,147,15],[146,16,147,18],[146,19,147,22],[146,23,147,27],[148,0,149,0],[148,14,149,15],[148,16,149,18],[148,19,149,22],[148,23,149,27],[147,1,147,13],[92,52,93,54],[94,28,95,30],[94,31,95,35],[94,36,95,38],[94,39,95,43],[94,44,95,46],[94,47,95,51],[94,52,95,54],[140,23,141,27],[141,1,141,13],[142,0,143,0],[142,1,142,13],[142,14,143,15],[142,16,143,18],[142,19,143,22],[142,23,143,27],[143,1,143,13],[132,0,133,0],[132,1,132,13],[132,14,133,15],[132,16,133,18],[132,19,133,22],[132,23,133,27],[133,1,133,13],[134,0,135,0],[134,1,134,13],[134,14,135,15],[134,16,135,18],[136,0,137,0],[136,1,136,13],[136,14,137,15],[136,16,137,18],[102,0,103,0],[102,14,103,15],[102,16,103,18],[102,19,103,22],[102,23,103,27],[104,0,105,0],[104,14,105,15],[104,16,105,18],[104,19,105,22],[104,23,105,27],[106,0,107,0],[106,14,107,15],[106,16,107,18],[106,19,107,22],[106,23,107,27],[78,28,79,30],[78,31,79,35],[80,28,81,30],[80,31,81,35],[82,28,83,30],[82,31,83,35],[84,28,85,30],[84,31,85,35],[90,28,91,30],[90,31,91,35],[96,28,97,30],[96,31,97,35],[98,28,99,30],[98,31,99,35],[100,28,101,30],[100,31,101,35],[102,28,103,30],[94,0,95,0],[94,14,95,15],[94,16,95,18],[94,19,95,22],[94,23,95,27],[96,0,97,0],[96,14,97,15],[96,16,97,18],[96,19,97,22],[96,23,97,27],[98,0,99,0],[98,14,99,15],[98,16,99,18],[98,19,99,22],[98,23,99,27],[100,0,101,0],[100,14,101,15],[100,16,101,18],[100,19,101,22],[100,23,101,27],[97,1,97,13],[101,1,101,13],[95,1,95,13],[94,1,94,13],[88,0,89,0],[88,1,88,13],[88,14,89,15],[88,16,89,18],[88,19,89,22],[88,23,89,27],[89,1,89,13],[90,0,91,0],[90,1,90,13],[90,14,91,15],[90,16,91,18],[90,19,91,22],[90,23,91,27],[91,1,91,13],[92,0,93,0],[92,1,92,13],[92,14,93,15],[92,16,93,18],[92,19,93,22],[92,23,93,27],[93,1,93,13],[82,0,83,0],[82,1,82,13],[82,14,83,15],[82,16,83,18],[82,19,83,22],[82,23,83,27],[83,1,83,13],[84,0,85,0],[84,1,84,13],[84,14,85,15],[84,16,85,18],[84,19,85,22],[84,23,85,27],[85,1,85,13],[86,0,87,0],[86,1,86,13],[86,14,87,15],[86,16,87,18],[86,19,87,22],[86,23,87,27],[87,1,87,13],[80,0,81,0],[80,1,80,13],[80,14,81,15],[80,16,81,18],[80,19,81,22],[80,23,81,27],[81,1,81,13],[78,36,79,38],[78,39,79,43],[78,44,79,46],[78,47,79,51],[78,52,79,54],[80,36,81,38],[80,39,81,43],[80,44,81,46],[80,47,81,51],[80,52,81,54],[78,0,79,0],[78,1,78,13],[78,14,79,15],[78,16,79,18],[78,19,79,22],[78,23,79,27],[79,1,79,13],[49,36,50,38],[49,39,50,43],[51,36,52,38],[51,39,52,43],[55,0,56,0],[55,14,56,15],[55,16,56,18],[55,19,56,22],[55,23,56,27],[53,28,54,30],[53,31,54,35],[55,28,56,30],[41,47,42,51],[43,44,44,46],[43,47,44,51],[45,44,46,46],[45,47,46,51],[47,44,48,46],[47,47,48,51],[49,44,50,46],[49,47,50,51],[51,44,52,46],[51,47,52,51],[53,44,54,46],[53,47,54,51],[55,44,56,46],[55,47,56,51],[43,36,44,38],[49,52,50,54],[51,52,52,54],[53,52,54,54],[55,52,56,54],[41,31,42,35],[43,28,44,30],[43,31,44,35],[45,28,46,30],[45,31,46,35],[47,28,48,30],[47,31,48,35],[49,28,50,30],[49,31,50,35],[51,28,52,30],[51,31,52,35],[37,39,38,43],[37,44,38,46],[37,47,38,51],[37,52,38,54],[39,36,40,38],[39,39,40,43],[39,44,40,46],[39,47,40,51],[39,52,40,54],[41,36,42,38],[41,39,42,43],[41,52,42,54],[43,39,44,43],[45,36,46,38],[45,39,46,43],[47,36,48,38],[47,39,48,43],[43,52,44,54],[45,52,46,54],[47,52,48,54],[41,44,42,46],[47,0,48,0],[47,14,48,15],[47,16,48,18],[47,19,48,22],[47,23,48,27],[49,0,50,0],[49,14,50,15],[49,16,50,18],[49,19,50,22],[49,23,50,27],[51,0,52,0],[51,14,52,15],[51,16,52,18],[51,19,52,22],[51,23,52,27],[53,0,54,0],[53,14,54,15],[53,16,54,18],[53,19,54,22],[53,23,54,27],[51,1,51,13],[50,1,50,13],[49,1,49,13],[48,1,48,13],[47,1,47,13],[41,0,42,0],[41,1,41,13],[41,14,42,15],[41,16,42,18],[41,19,42,22],[41,23,42,27],[42,1,42,13],[43,0,44,0],[43,1,43,13],[43,14,44,15],[43,16,44,18],[43,19,44,22],[43,23,44,27],[44,1,44,13],[45,0,46,0],[45,1,45,13],[45,14,46,15],[46,1,46,13],[45,16,46,18],[45,19,46,22],[45,23,46,27],[35,0,36,0],[35,1,35,13],[35,14,36,15],[35,16,36,18],[35,19,36,22],[35,23,36,27],[36,1,36,13],[37,0,38,0],[37,1,37,13],[37,14,38,15],[37,16,38,18],[37,19,38,22],[37,23,38,27],[38,1,38,13],[39,0,40,0],[39,1,39,13],[39,14,40,15],[39,16,40,18],[39,19,40,22],[39,23,40,27],[40,1,40,13],[256,31,256,35],[256,36,256,38],[256,39,256,43],[256,44,256,46],[256,47,256,51],[256,52,256,54],[256,1,256,13],[256,14,256,15],[256,16,256,18],[256,19,256,22],[256,23,256,27],[256,28,256,30],[255,31,255,35],[255,36,255,38],[255,39,255,43],[255,44,255,46],[255,47,255,51],[255,52,255,54],[255,1,255,13],[255,14,255,15],[255,16,255,18],[255,19,255,22],[255,23,255,27],[255,28,255,30],[254,31,254,35],[254,36,254,38],[254,39,254,43],[254,44,254,46],[254,47,254,51],[254,52,254,54],[254,1,254,13],[254,14,254,15],[254,16,254,18],[254,19,254,22],[254,23,254,27],[254,28,254,30],[253,31,253,35],[253,36,253,38],[253,39,253,43],[253,44,253,46],[253,47,253,51],[253,52,253,54],[253,1,253,13],[253,14,253,15],[253,16,253,18],[253,19,253,22],[253,23,253,27],[253,28,253,30],[252,31,252,35],[252,36,252,38],[252,39,252,43],[252,44,252,46],[252,47,252,51],[252,52,252,54],[252,1,252,13],[252,14,252,15],[252,16,252,18],[252,19,252,22],[252,23,252,27],[252,28,252,30],[251,31,251,35],[251,36,251,38],[251,39,251,43],[251,44,251,46],[251,47,251,51],[251,52,251,54],[251,1,251,13],[251,14,251,15],[251,16,251,18],[251,19,251,22],[251,23,251,27],[251,28,251,30],[250,31,250,35],[250,36,250,38],[250,39,250,43],[250,44,250,46],[250,47,250,51],[250,52,250,54],[250,1,250,13],[250,14,250,15],[250,16,250,18],[250,19,250,22],[250,23,250,27],[250,28,250,30],[249,31,249,35],[249,36,249,38],[249,39,249,43],[249,44,249,46],[249,47,249,51],[249,52,249,54],[249,1,249,13],[249,14,249,15],[249,16,249,18],[249,19,249,22],[249,23,249,27],[249,28,249,30],[248,31,248,35],[248,36,248,38],[248,39,248,43],[248,44,248,46],[248,47,248,51],[248,52,248,54],[248,1,248,13],[248,14,248,15],[248,16,248,18],[248,19,248,22],[248,23,248,27],[248,28,248,30],[247,31,247,35],[247,36,247,38],[247,39,247,43],[247,44,247,46],[247,47,247,51],[247,52,247,54],[247,1,247,13],[247,14,247,15],[247,16,247,18],[247,19,247,22],[247,23,247,27],[247,28,247,30],[246,31,246,35],[246,36,246,38],[246,39,246,43],[246,44,246,46],[246,47,246,51],[246,52,246,54],[246,1,246,13],[246,14,246,15],[246,16,246,18],[246,19,246,22],[246,23,246,27],[246,28,246,30],[245,31,245,35],[245,36,245,38],[245,39,245,43],[245,44,245,46],[245,47,245,51],[245,52,245,54],[245,1,245,13],[245,14,245,15],[245,16,245,18],[245,19,245,22],[245,23,245,27],[245,28,245,30],[244,31,244,35],[244,36,244,38],[244,39,244,43],[244,44,244,46],[244,47,244,51],[244,52,244,54],[244,1,244,13],[244,14,244,15],[244,16,244,18],[244,19,244,22],[244,23,244,27],[244,28,244,30],[243,31,243,35],[243,36,243,38],[243,39,243,43],[243,44,243,46],[243,47,243,51],[243,52,243,54],[243,1,243,13],[243,14,243,15],[243,16,243,18],[243,19,243,22],[243,23,243,27],[243,28,243,30],[242,31,242,35],[242,36,242,38],[242,39,242,43],[242,44,242,46],[242,47,242,51],[242,52,242,54],[242,1,242,13],[242,14,242,15],[242,16,242,18],[242,19,242,22],[242,23,242,27],[242,28,242,30],[239,44,239,46],[239,47,239,51],[241,1,241,13],[238,44,238,51],[238,52,239,54],[239,14,239,15],[239,16,239,18],[239,19,239,22],[239,23,239,27],[239,28,239,30],[239,31,239,35],[239,36,239,38],[239,39,239,43],[234,19,236,22],[234,24,236,29],[238,1,239,13],[238,14,238,27],[238,28,238,35],[238,36,238,43],[221,1,227,17],[221,50,223,50],[231,1,233,5],[231,6,233,13],[231,23,236,23],[231,24,233,29],[234,1,236,5],[234,6,236,13],[234,15,236,16],[234,17,236,18],[216,31,216,35],[216,36,216,38],[216,39,216,43],[216,44,216,46],[216,47,216,51],[216,52,216,54],[216,1,216,13],[216,14,216,15],[216,16,216,18],[216,19,216,22],[216,23,216,27],[216,28,216,30],[215,1,215,13],[214,28,215,30],[214,31,215,35],[214,36,215,38],[214,39,215,43],[214,44,215,46],[214,47,215,51],[214,52,215,54],[214,1,214,13],[213,1,213,13],[212,28,213,30],[212,31,213,35],[212,36,213,38],[212,39,213,43],[212,44,213,46],[212,47,213,51],[212,52,213,54],[212,1,212,13],[210,28,211,30],[210,31,211,35],[210,36,211,38],[210,39,211,43],[210,44,211,46],[210,47,211,51],[210,52,211,54],[210,1,210,13],[209,1,209,13],[208,28,209,30],[208,31,209,35],[208,36,209,38],[208,39,209,43],[208,44,209,46],[208,47,209,51],[208,52,209,54],[208,1,208,13],[210,23,211,27],[206,28,207,30],[206,31,207,35],[206,36,207,38],[206,39,207,43],[206,44,207,46],[206,47,207,51],[206,52,207,54],[206,1,206,13],[205,1,205,13],[204,28,205,30],[204,31,205,35],[204,36,205,38],[204,39,205,43],[204,44,205,46],[204,47,205,51],[204,52,205,54],[204,1,204,13],[206,23,207,27],[207,1,207,13],[202,28,203,30],[202,31,203,35],[202,36,203,38],[202,39,203,43],[202,44,203,46],[202,47,203,51],[202,52,203,54],[202,1,202,13],[185,44,185,46],[185,47,185,51],[201,1,201,13],[188,28,189,30],[188,31,189,35],[188,36,189,38],[188,39,189,43],[188,44,189,46],[188,47,189,51],[200,47,201,51],[200,52,201,54],[188,52,189,54],[190,28,191,30],[190,31,191,35],[190,36,191,38],[190,39,191,43],[190,44,191,46],[190,47,191,51],[190,52,191,54],[192,28,193,30],[192,31,193,35],[192,36,193,38],[192,39,193,43],[192,44,193,46],[184,44,184,51],[184,52,185,54],[185,14,185,15],[185,16,185,18],[185,19,185,22],[185,23,185,27],[185,28,185,30],[185,31,185,35],[185,36,185,38],[185,39,185,43],[180,19,182,22],[180,24,182,29],[184,1,185,13],[184,14,184,27],[184,28,184,35],[184,36,184,43],[167,1,173,17],[167,50,169,50],[177,1,179,5],[177,6,179,13],[177,23,182,23],[177,24,179,29],[180,1,182,5],[180,6,182,13],[180,15,182,16],[180,17,182,18],[162,31,162,35],[162,36,162,38],[162,39,162,43],[162,44,162,46],[162,47,162,51],[162,52,162,54],[162,1,162,13],[162,14,162,15],[162,16,162,18],[162,19,162,22],[162,23,162,27],[162,28,162,30],[161,1,161,13],[160,28,161,30],[160,31,161,35],[160,36,161,38],[160,39,161,43],[160,44,161,46],[160,47,161,51],[160,1,160,13],[159,1,159,13],[158,28,159,30],[158,31,159,35],[158,36,159,38],[158,39,159,43],[158,44,159,46],[158,47,159,51],[158,1,158,13],[157,1,157,13],[156,28,157,30],[156,31,157,35],[156,36,157,38],[156,39,157,43],[156,44,157,46],[156,47,157,51],[156,1,156,13],[155,1,155,13],[154,28,155,30],[154,31,155,35],[154,36,155,38],[154,39,155,43],[154,44,155,46],[154,47,155,51],[154,1,154,13],[131,39,131,43],[142,31,143,35],[142,36,143,38],[142,39,143,43],[142,44,143,46],[142,47,143,51],[152,28,153,30],[152,31,153,35],[152,36,153,38],[152,39,153,43],[152,44,153,46],[152,47,153,51],[152,1,152,13],[151,1,151,13],[150,28,151,30],[150,31,151,35],[150,36,151,38],[150,39,151,43],[150,44,151,46],[150,47,151,51],[150,1,150,13],[149,1,149,13],[148,28,149,30],[148,31,149,35],[148,36,149,38],[148,39,149,43],[148,44,149,46],[148,47,149,51],[148,1,148,13],[134,19,135,22],[134,23,135,27],[135,1,135,13],[144,28,145,30],[144,31,145,35],[144,36,145,38],[144,39,145,43],[144,44,145,46],[144,47,145,51],[146,28,147,30],[146,31,147,35],[146,36,147,38],[146,39,147,43],[126,19,128,22],[126,24,128,29],[130,1,131,13],[130,14,130,27],[130,28,130,35],[130,36,130,43],[113,1,119,17],[113,50,115,50],[123,1,125,5],[123,6,125,13],[123,23,128,23],[123,24,125,29],[126,1,128,5],[126,6,128,13],[126,15,128,16],[126,17,128,18],[138,44,139,46],[138,47,139,51],[140,28,141,30],[140,31,141,35],[140,36,141,38],[140,39,141,43],[108,31,108,35],[108,36,108,38],[108,39,108,43],[108,44,108,46],[108,47,108,51],[131,44,131,46],[131,47,131,51],[108,52,108,54],[108,1,108,13],[108,14,108,15],[108,16,108,18],[108,19,108,22],[108,23,108,27],[108,28,108,30],[107,1,107,13],[106,28,107,30],[106,31,107,35],[106,36,107,38],[106,39,107,43],[106,44,107,46],[106,47,107,51],[106,52,107,54],[106,1,106,13],[130,44,130,51],[130,52,131,54],[131,14,131,15],[131,16,131,18],[131,19,131,22]],"merged_total":1198,"flags":["merged_cut"]}
[null,null,null,null,null,null,null,null,"請 求 書（出来高・分割納入用）",null,null,null,null,null,null,null,null,null,null,null,null,null,null,null,null,null,null,null,null,null,null,null,null,null,null,null,null,null,null,null,null,null,null,null,null,null,null,null,null,null,"No."]
[null,null,null,null,null,null,null,null,null,null,null,null,null,null,null,null,null,null,null,null,null,null,null,null,null,null,null,null,null,null,null,null,null,null,null,null,null,null,null,"日付",null,null,null,null,"年",null,"月",null,"日"]
[]
[]
[null,null,null,null,null,null,null,null,null,null,null,null,null,null,null,null,null,null,null,null,null,null,null,null,null,null,null,null,null,null,null,null,null,null,null,null,null,"請求者住所･氏名･印･電話",null,null,null,null,null,"取引先コード",null,null,null,null,{"$f":"入力フォーム!B3","v":0}]
[]
[null,null,null,null,null,null,null,null,null,null,null,null,null,null,null,null,null,"御中"]
[null,null,null,null,null,null,null,null,null,null,null,null,null,null,null,null,null,null,null,null,null,null,null,null,null,null,null,null,null,null,null,null,null,null,null,null,null,{"$f":"\"登録番号\"&\" \"&入力フォーム!B4","v":"登録番号 "}]
[]
[]
[]
[null,"下記の通り請求いたします。"]
[]
[]
[null,null,null,"月分請求内訳書",null,null,null,null,null,null,null,"枚 (本用紙を含む)"]
[]
[]
[null,"請 求 金 額",null,null,null,null,{"$f":"SUM(G23:P32)","v":0}]
[]
[]
[]
[null,null,null,null,null,null,null,null,null,null,null,null,null,null,null,null,null,null,null,"製造番号",null,null,null,null,{"$f":"見積書!$B$47","v":""}]
[null,"内　訳","税抜金額",null,null,null,{"$f":"AN58+AN109+AN163+AN217+AN257","v":0},null,null,null,null,null,null,null,null,null,null,null,null,null,null,null,null,null,null,null,null,null,null,null,null,null,null,"第",null,4,null,"回請求"]
[]
[null,null,null,null,null,null,null,null,null,null,null,null,null,null,null,null,null,null,null,"注文番号",null,null,null,null,{"$f":"IF('出来高内訳書 (第1回請求)'!Y25=\"\",\"\",'出来高内訳書 (第1回請求)'!Y25)","v":""}]
[]
[null,null,null,null,null,null,null,null,null,null,null,null,null,null,null,null,null,null,null,null,null,null,null,null,null,null,null,null,null,null,null,null,null,null,"※科目"]
[null,null,"消費税額等",null,null,null,{"$f":"IF(AC28=\"10％\",ROUNDDOWN(G23*10%,0),IF(AC28=\"(軽)8%\",ROUNDDOWN(G23*8%,0),0))","v":0},null,null,null,null,null,null,null,null,null,null,null,null,"消費税率",null,null,null,null,null,null,null,null,{"$f":"入力フォーム!B10","v":"10％"}]
[]
[]
[]
[]
[]
[null,"工　種・品　名",null,null,null,null,null,null,null,null,null,null,null,null,"契　約　金　額",null,null,null,null,null,null,null,null,null,null,null,null,null,"前回までの出来高",null,null,null,null,null,null,null,"今回出来高",null,null,null,null,null,null,null,"残高",null,null,null,null,null,null,null,"備　考"]
[null,null,null,null,null,null,null,null,null,null,null,null,null,null,"単位",null,"数量",null,null,"単価",null,null,null,"金額",null,null,null,null,"数量",null,null,"金額",null,null,null,null,"数量",null,null,"金額",null,null,null,null,"数量",null,null,"金額"]
[1,{"$f":"見積書!F61","v":""},null,null,null,null,null,null,null,null,null,null,null,null,{"$f":"見積書!Q61","v":""},null,{"$f":"見積書!R61","v":""},null,null,{"$f":"見積書!S61","v":""},null,null,null,{"$f":"見積書!T61","v":""},null,null,null,null,{"$f":"IF(Q36=\"\",\"\",'出来高内訳書 (第3回請求)'!AC36+'出来高内訳書 (第3回請求)'!AK36)","v":""},null,null,{"$f":"IF(T36=\"\",\"\",ROUND(T36*AC36,0))","v":""},null,null,null,null,null,null,null,{"$f":"IF(T36=\"\",\"\",ROUND(T36*AK36,0))","v":""},null,null,null,null,{"$f":"IF(Q36=\"\",\"\",ROUND(Q36-AC36-AK36,2))","v":""},null,null,{"$f":"IF(T36=\"\",\"\",(IF(AS36<0,\"出来高が契約を超過\",X36-AN36-AF36)))","v":""}]
[null,{"$f":"見積書!F62","v":""}]
[2,{"$f":"見積書!F63","v":""},null,null,null,null,null,null,null,null,null,null,null,null,{"$f":"見積書!Q63","v":""},null,{"$f":"見積書!R63","v":""},null,null,{"$f":"見積書!S63","v":""},null,null,null,{"$f":"見積書!T63","v":""},null,null,null,null,{"$f":"IF(Q38=\"\",\"\",'出来高内訳書 (第3回請求)'!AC38+'出来高内訳書 (第3回請求)'!AK38)","v":""},null,null,{"$f":"IF(T38=\"\",\"\",ROUND(T38*AC38,0))","v":""},null,null,null,null,null,null,null,{"$f":"IF(T38=\"\",\"\",ROUND(T38*AK38,0))","v":""},null,null,null,null,{"$f":"IF(Q38=\"\",\"\",ROUND(Q38-AC38-AK38,2))","v":""},null,null,{"$f":"IF(T38=\"\",\"\",(IF(AS38<0,\"出来高が契約を超過\",X38-AN38-AF38)))","v":""}]
[null,{"$f":"見積書!F64","v":""}]
[3,{"$f":"見積書!F65","v":""},null,null,null,null,null,null,null,null,null,null,null,null,{"$f":"見積書!Q65","v":""},null,{"$f":"見積書!R65","v":""},null,null,{"$f":"見積書!S65","v":""},null,null,null,{"$f":"見積書!T65","v":""},null,null,null,null,{"$f":"IF(Q40=\"\",\"\",'出来高内訳書 (第3回請求)'!AC40+'出来高内訳書 (第3回請求)'!AK40)","v":""},null,null,{"$f":"IF(T40=\"\",\"\",ROUND(T40*AC40,0))","v":""},null,null,null,null,null,null,null,{"$f":"IF(T40=\"\",\"\",ROUND(T40*AK40,0))","v":""},null,null,null,null,{"$f":"IF(Q40=\"\",\"\",ROUND(Q40-AC40-AK40,2))","v":""},null,null,{"$f":"IF(T40=\"\",\"\",(IF(AS40<0,\"出来高が契約を超過\",X40-AN40-AF40)))","v":""}]
[null,{"$f":"見積書!F66","v":""}]
[4,{"$f":"見積書!F67","v":""},null,null,null,null,null,null,null,null,null,null,null,null,{"$f":"見積書!Q67","v":""},null,{"$f":"見積書!R67","v":""},null,null,{"$f":"見積書!S67","v":""},null,null,null,{"$f":"見積書!T67","v":""},null,null,null,null,{"$f":"IF(Q42=\"\",\"\",'出来高内訳書 (第3回請求)'!AC42+'出来高内訳書 (第3回請求)'!AK42)","v":""},null,null,{"$f":"IF(T42=\"\",\"\",ROUND(T42*AC42,0))","v":""},null,null,null,null,null,null,null,{"$f":"IF(T42=\"\",\"\",ROUND(T42*AK42,0))","v":""},null,null,null,null,{"$f":"IF(Q42=\"\",\"\",ROUND(Q42-AC42-AK42,2))","v":""},null,null,{"$f":"IF(T42=\"\",\"\",(IF(AS42<0,\"出来高が契約を超過\",X42-AN42-AF42)))","v":""}]
[null,{"$f":"見積書!F68","v":""}]
[5,{"$f":"見積書!F69","v":""},null,null,null,null,null,null,null,null,null,null,null,null,{"$f":"見積書!Q69","v":""},null,{"$f":"見積書!R69","v":""},null,null,{"$f":"見積書!S69","v":""},null,null,null,{"$f":"見積書!T69","v":""},null,null,null,null,{"$f":"IF(Q44=\"\",\"\",'出来高内訳書 (第3回請求)'!AC44+'出来高内訳書 (第3回請求)'!AK44)","v":""},null,null,{"$f":"IF(T44=\"\",\"\",ROUND(T44*AC44,0))","v":""},null,null,null,null,null,null,null,{"$f":"IF(T44=\"\",\"\",ROUND(T44*AK44,0))","v":""},null,null,null,null,{"$f":"IF(Q44=\"\",\"\",ROUND(Q44-AC44-AK44,2))","v":""},null,null,{"$f":"IF(T44=\"\",\"\",(IF(AS44<0,\"出来高が契約を超過\",X44-AN44-AF44)))","v":""}]
[null,{"$f":"見積書!F70","v":""}]
[6,{"$f":"見積書!F71","v":""},null,null,null,null,null,null,null,null,null,null,null,null,{"$f":"見積書!Q71","v":""},null,{"$f":"見積書!R71","v":""},null,null,{"$f":"見積書!S71","v":""},null,null,null,{"$f":"見積書!T71","v":""},null,null,null,null,{"$f":"IF(Q46=\"\",\"\",'出来高内訳書 (第3回請求)'!AC46+'出来高内訳書 (第3回請求)'!AK46)","v":""},null,null,{"$f":"IF(T46=\"\",\"\",ROUND(T46*AC46,0))","v":""},null,null,null,null,null,null,null,{"$f":"IF(T46=\"\",\"\",ROUND(T46*AK46,0))","v":""},null,null,null,null,{"$f":"IF(Q46=\"\",\"\",ROUND(Q46-AC46-AK46,2))","v":""},null,null,{"$f":"IF(T46=\"\",\"\",(IF(AS46<0,\"出来高が契約を超過\",X46-AN46-AF46)))","v":""}]
[null,{"$f":"見積書!F72","v":""}]
[7,{"$f":"見積書!F73","v":""},null,null,null,null,null,null,null,null,null,null,null,null,{"$f":"見積書!Q73","v":""},null,{"$f":"見積書!R73","v":""},null,null,{"$f":"見積書!S73","v":""},null,null,null,{"$f":"見積書!T73","v":""},null,null,null,null,{"$f":"IF(Q48=\"\",\"\",'出来高内訳書 (第3回請求)'!AC48+'出来高内訳書 (第3回請求)'!AK48)","v":""},null,null,{"$f":"IF(T48=\"\",\"\",ROUND(T48*AC48,0))","v":""},null,null,null,null,null,null,null,{"$f":"IF(T48=\"\",\"\",ROUND(T48*AK48,0))","v":""},null,null,null,null,{"$f":"IF(Q48=\"\",\"\",ROUND(Q48-AC48-AK48,2))","v":""},null,null,{"$f":"IF(T48=\"\",\"\",(IF(AS48<0,\"出来高が契約を超過\",X48-AN48-AF48)))","v":""}]
[null,{"$f":"見積書!F74","v":""}]
[8,{"$f":"見積書!F75","v":""},null,null,null,null,null,null,null,null,null,null,null,null,{"$f":"見積書!Q75","v":""},null,{"$f":"見積書!R75","v":""},null,null,{"$f":"見積書!S75","v":""},null,null,null,{"$f":"見積書!T75","v":""},null,null,null,null,{"$f":"IF(Q50=\"\",\"\",'出来高内訳書 (第3回請求)'!AC50+'出来高内訳書 (第3回請求)'!AK50)","v":""},null,null,{"$f":"IF(T50=\"\",\"\",ROUND(T50*AC50,0))","v":""},null,null,null,null,null,null,null,{"$f":"IF(T50=\"\",\"\",ROUND(T50*AK50,0))","v":""},null,null,null,null,{"$f":"IF(Q50=\"\",\"\",ROUND(Q50-AC50-AK50,2))","v":""},null,null,{"$f":"IF(T50=\"\",\"\",(IF(AS50<0,\"出来高が契約を超過\",X50-AN50-AF50)))","v":""}]
[null,{"$f":"見積書!F76","v":""}]
[9,{"$f":"見積書!F77","v":""},null,null,null,null,null,null,null,null,null,null,null,null,{"$f":"見積書!Q77","v":""},null,{"$f":"見積書!R77","v":""},null,null,{"$f":"見積書!S77","v":""},null,null,null,{"$f":"見積書!T77","v":""},null,null,null,null,{"$f":"IF(Q52=\"\",\"\",'出来高内訳書 (第3回請求)'!AC52+'出来高内訳書 (第3回請求)'!AK52)","v":""},null,null,{"$f":"IF(T52=\"\",\"\",ROUND(T52*AC52,0))","v":""},null,null,null,null,null,null,null,{"$f":"IF(T52=\"\",\"\",ROUND(T52*AK52,0))","v":""},null,null,null,null,{"$f":"IF(Q52=\"\",\"\",ROUND(Q52-AC52-AK52,2))","v":""},null,null,{"$f":"IF(T52=\"\",\"\",(IF(AS52<0,\"出来高が契約を超過\",X52-AN52-AF52)))","v":""}]
[null,{"$f":"見積書!F78","v":""}]
[10,{"$f":"見積書!F79","v":""},null,null,null,null,null,null,null,null,null,null,null,null,{"$f":"見積書!Q79","v":""},null,{"$f":"見積書!R79","v":""},null,null,{"$f":"見積書!S79","v":""},null,null,null,{"$f":"見積書!T79","v":""},null,null,null,null,{"$f":"IF(Q54=\"\",\"\",'出来高内訳書 (第3回請求)'!AC54+'出来高内訳書 (第3回請求)'!AK54)","v":""},null,null,{"$f":"IF(T54=\"\",\"\",ROUND(T54*AC54,0))","v":""},null,null,null,null,null,null,null,{"$f":"IF(T54=\"\",\"\",ROUND(T54*AK54,0))","v":""},null,null,null,null,{"$f":"IF(Q54=\"\",\"\",ROUND(Q54-AC54-AK54,2))","v":""},null,null,{"$f":"IF(T54=\"\",\"\",(IF(AS54<0,\"出来高が契約を超過\",X54-AN54-AF54)))","v":""}]
[null,{"$f":"見積書!F80","v":""}]
[11,{"$f":"見積書!F81","v":""},null,null,null,null,null,null,null,null,null,null,null,null,{"$f":"見積書!Q81","v":""},null,{"$f":"見積書!R81","v":""},null,null,{"$f":"見積書!S81","v":""},null,null,null,{"$f":"見積書!T81","v":""},null,null,null,null,{"$f":"IF(Q56=\"\",\"\",'出来高内訳書 (第3回請求)'!AC56+'出来高内訳書 (第3回請求)'!AK56)","v":""},null,null,{"$f":"IF(T56=\"\",\"\",ROUND(T56*AC56,0))","v":""},null,null,null,null,null,null,null,{"$f":"IF(T56=\"\",\"\",ROUND(T56*AK56,0))","v":""},null,null,null,null,{"$f":"IF(Q56=\"\",\"\",ROUND(Q56-AC56-AK56,2))","v":""},null,null,{"$f":"IF(T56=\"\",\"\",(IF(AS56<0,\"出来高が契約を超過\",X56-AN56-AF56)))","v":""}]
[null,{"$f":"見積書!F82","v":""}]
[null,"小計",null,null,null,null,null,null,null,null,null,null,null,null,null,null,null,null,null,null,null,null,null,{"$f":"SUM(X36:AB57)","v":0},null,null,null,null,null,null,null,{"$f":"SUM(AF36:AJ57)","v":0},null,null,null,null,null,null,null,{"$f":"SUM(AN36:AR57)","v":0},null,null,null,null,null,null,null,{"$f":"X58-AF58-AN58","v":0}]
[]
[null,"請求内訳書（出来高・分割納入用）",null,null,null,null,null,null,null,null,null,null,null,null,null,null,null,null,null,null,null,null,null,null,null,null,null,null,null,null,null,null,null,null,null,null,null,null,null,null,null,null,null,null,null,null,null,null,null,null,"No."]
[]
[]
[]
[]
[]
[]
[]
[]
[]
[null,"製造番号",null,null,null,null,{"$f":"Y22","v":""},null,null,null,null,null,null,null,null,null,null,null,null,null,null,null,null,"※科目"]
[]
[]
[null,"注文番号",null,null,null,null,{"$f":"Y25","v":""},null,null,null,null,null,null,null,null,"第",null,{"$f":"AJ23","v":4},null,"回請求"]
[]
[]
[]
[null,"工　種・品　名",null,null,null,null,null,null,null,null,null,null,null,null,"契　約　金　額",null,null,null,null,null,null,null,null,null,null,null,null,null,"前回までの出来高",null,null,null,null,null,null,null,"今回出来高",null,null,null,null,null,null,null,"残高",null,null,null,null,null,null,null,"備　考"]
[null,null,null,null,null,null,null,null,null,null,null,null,null,null,"単位",null,"数量",null,null,"単価",null,null,null,"金額",null,null,null,null,"数量",null,null,"金額",null,null,null,null,"数量",null,null,"金額",null,null,null,null,"数量",null,null,"金額"]
[12,{"$f":"見積書!F83","v":""},null,null,null,null,null,null,null,null,null,null,null,null,{"$f":"見積書!Q83","v":""},null,{"$f":"見積書!R83","v":""},null,null,{"$f":"見積書!S83","v":""},null,null,null,{"$f":"見積書!T83","v":""},null,null,null,null,{"$f":"IF(Q79=\"\",\"\",'出来高内訳書 (第3回請求)'!AC79+'出来高内訳書 (第3回請求)'!AK79)","v":""},null,null,{"$f":"IF(T79=\"\",\"\",ROUND(T79*AC79,0))","v":""},null,null,null,null,null,null,null,{"$f":"IF(T79=\"\",\"\",ROUND(T79*AK79,0))","v":""},null,null,null,null,{"$f":"IF(Q79=\"\",\"\",ROUND(Q79-AC79-AK79,2))","v":""},null,null,{"$f":"IF(T79=\"\",\"\",(IF(AS79<0,\"出来高が契約を超過\",X79-AN79-AF79)))","v":""}]
[null,{"$f":"見積書!F84","v":""}]
[13,{"$f":"見積書!F85","v":""},null,null,null,null,null,null,null,null,null,null,null,null,{"$f":"見積書!Q85","v":""},null,{"$f":"見積書!R85","v":""},null,null,{"$f":"見積書!S85","v":""},null,null,null,{"$f":"見積書!T85","v":""},null,null,null,null,{"$f":"IF(Q81=\"\",\"\",'出来高内訳書 (第3回請求)'!AC81+'出来高内訳書 (第3回請求)'!AK81)","v":""},null,null,{"$f":"IF(T81=\"\",\"\",ROUND(T81*AC81,0))","v":""},null,null,null,null,null,null,null,{"$f":"IF(T81=\"\",\"\",ROUND(T81*AK81,0))","v":""},null,null,null,null,{"$f":"IF(Q81=\"\",\"\",ROUND(Q81-AC81-AK81,2))","v":""},null,null,{"$f":"IF(T81=\"\",\"\",(IF(AS81<0,\"出来高が契約を超過\",X81-AN81-AF81)))","v":""}]
[null,{"$f":"見積書!F86","v":""}]
[14,{"$f":"'見積書 (2)'!F26","v":""},null,null,null,null,null,null,null,null,null,null,null,null,{"$f":"'見積書 (2)'!Q26","v":""},null,{"$f":"'見積書 (2)'!R26","v":""},null,null,{"$f":"'見積書 (2)'!S26","v":""},null,null,null,{"$f":"'見積書 (2)'!T26","v":""},null,null,null,null,{"$f":"IF(Q83=\"\",\"\",'出来高内訳書 (第3回請求)'!AC83+'出来高内訳書 (第3回請求)'!AK83)","v":""},null,null,{"$f":"IF(T83=\"\",\"\",ROUND(T83*AC83,0))","v":""},null,null,null,null,null,null,null,{"$f":"IF(T83=\"\",\"\",ROUND(T83*AK83,0))","v":""},null,null,null,null,{"$f":"IF(Q83=\"\",\"\",ROUND(Q83-AC83-AK83,2))","v":""},null,null,{"$f":"IF(T83=\"\",\"\",(IF(AS83<0,\"出来高が契約を超過\",X83-AN83-AF83)))","v":""}]
[null,{"$f":"'見積書 (2)'!F27","v":""}]
[15,{"$f":"'見積書 (2)'!F28","v":""},null,null,null,null,null,null,null,null,null,null,null,null,{"$f":"'見積書 (2)'!Q28","v":""},null,{"$f":"'見積書 (2)'!R28","v":""},null,null,{"$f":"'見積書 (2)'!S28","v":""},null,null,null,{"$f":"'見積書 (2)'!T28","v":""},null,null,null,null,{"$f":"IF(Q85=\"\",\"\",'出来高内訳書 (第3回請求)'!AC85+'出来高内訳書 (第3回請求)'!AK85)","v":""},null,null,{"$f":"IF(T85=\"\",\"\",ROUND(T85*AC85,0))","v":""},null,null,null,null,null,null,null,{"$f":"IF(T85=\"\",\"\",ROUND(T85*AK85,0))","v":""},null,null,null,null,{"$f":"IF(Q85=\"\",\"\",ROUND(Q85-AC85-AK85,2))","v":""},null,null,{"$f":"IF(T85=\"\",\"\",(IF(AS85<0,\"出来高が契約を超過\",X85-AN85-AF85)))","v":""}]
[null,{"$f":"'見積書 (2)'!F29","v":""}]
[16,{"$f":"'見積書 (2)'!F30","v":""},null,null,null,null,null,null,null,null,null,null,null,null,{"$f":"'見積書 (2)'!Q30","v":""},null,{"$f":"'見積書 (2)'!R30","v":""},null,null,{"$f":"'見積書 (2)'!S30","v":""},null,null,null,{"$f":"'見積書 (2)'!T30","v":""},null,null,null,null,{"$f":"IF(Q87=\"\",\"\",'出来高内訳書 (第3回請求)'!AC87+'出来高内訳書 (第3回請求)'!AK87)","v":""},null,null,{"$f":"IF(T87=\"\",\"\",ROUND(T87*AC87,0))","v":""},null,null,null,null,null,null,null,{"$f":"IF(T87=\"\",\"\",ROUND(T87*AK87,0))","v":""},null,null,null,null,{"$f":"IF(Q87=\"\",\"\",ROUND(Q87-AC87-AK87,2))","v":""},null,null,{"$f":"IF(T87=\"\",\"\",(IF(AS87<0,\"出来高が契約を超過\",X87-AN87-AF87)))","v":""}]
[null,{"$f":"'見積書 (2)'!F31","v":""}]
[17,{"$f":"'見積書 (2)'!F32","v":""},null,null,null,null,null,null,null,null,null,null,null,null,{"$f":"'見積書 (2)'!Q32","v":""},null,{"$f":"'見積書 (2)'!R32","v":""},null,null,{"$f":"'見積書 (2)'!S32","v":""},null,null,null,{"$f":"'見積書 (2)'!T32","v":""},null,null,null,null,{"$f":"IF(Q89=\"\",\"\",'出来高内訳書 (第3回請求)'!AC89+'出来高内訳書 (第3回請求)'!AK89)","v":""},null,null,{"$f":"IF(T89=\"\",\"\",ROUND(T89*AC89,0))","v":""},null,null,null,null,null,null,null,{"$f":"IF(T89=\"\",\"\",ROUND(T89*AK89,0))","v":""},null,null,null,null,{"$f":"IF(Q89=\"\",\"\",ROUND(Q89-AC89-AK89,2))","v":""},null,null,{"$f":"IF(T89=\"\",\"\",(IF(AS89<0,\"出来高が契約を超過\",X89-AN89-AF89)))","v":""}]
[null,{"$f":"'見積書 (2)'!F33","v":""}]
[18,{"$f":"'見積書 (2)'!F34","v":""},null,null,null,null,null,null,null,null,null,null,null,null,{"$f":"'見積書 (2)'!Q34","v":""},null,{"$f":"'見積書 (2)'!R34","v":""},null,null,{"$f":"'見積書 (2)'!S34","v":""},null,null,null,{"$f":"'見積書 (2)'!T34","v":""},null,null,null,null,{"$f":"IF(Q91=\"\",\"\",'出来高内訳書 (第3回請求)'!AC91+'出来高内訳書 (第3回請求)'!AK91)","v":""},null,null,{"$f":"IF(T91=\"\",\"\",ROUND(T91*AC91,0))","v":""},null,null,null,null,null,null,null,{"$f":"IF(T91=\"\",\"\",ROUND(T91*AK91,0))","v":""},null,null,null,null,{"$f":"IF(Q91=\"\",\"\",ROUND(Q91-AC91-AK91,2))","v":""},null,null,{"$f":"IF(T91=\"\",\"\",(IF(AS91<0,\"出来高が契約を超過\",X91-AN91-AF91)))","v":""}]
[null,{"$f":"'見積書 (2)'!F35","v":""}]
[19,{"$f":"'見積書 (2)'!F36","v":""},null,null,null,null,null,null,null,null,null,null,null,null,{"$f":"'見積書 (2)'!Q36","v":""},null,{"$f":"'見積書 (2)'!R36","v":""},null,null,{"$f":"'見積書 (2)'!S36","v":""},null,null,null,{"$f":"'見積書 (2)'!T36","v":""},null,null,null,null,{"$f":"IF(Q93=\"\",\"\",'出来高内訳書 (第3回請求)'!AC93+'出来高内訳書 (第3回請求)'!AK93)","v":""},null,null,{"$f":"IF(T93=\"\",\"\",ROUND(T93*AC93,0))","v":""},null,null,null,null,null,null,null,{"$f":"IF(T93=\"\",\"\",ROUND(T93*AK93,0))","v":""},null,null,null,null,{"$f":"IF(Q93=\"\",\"\",ROUND(Q93-AC93-AK93,2))","v":""},null,null,{"$f":"IF(T93=\"\",\"\",(IF(AS93<0,\"出来高が契約を超過\",X93-AN93-AF93)))","v":""}]
[null,{"$f":"'見積書 (2)'!F37","v":""}]
[20,{"$f":"'見積書 (2)'!F38","v":""},null,null,null,null,null,null,null,null,null,null,null,null,{"$f":"'見積書 (2)'!Q38","v":""},null,{"$f":"'見積書 (2)'!R38","v":""},null,null,{"$f":"'見積書 (2)'!S38","v":""},null,null,null,{"$f":"'見積書 (2)'!T38","v":""},null,null,null,null,{"$f":"IF(Q95=\"\",\"\",'出来高内訳書 (第3回請求)'!AC95+'出来高内訳書 (第3回請求)'!AK95)","v":""},null,null,{"$f":"IF(T95=\"\",\"\",ROUND(T95*AC95,0))","v":""},null,null,null,null,null,null,null,{"$f":"IF(T95=\"\",\"\",ROUND(T95*AK95,0))","v":""},null,null,null,null,{"$f":"IF(Q95=\"\",\"\",ROUND(Q95-AC95-AK95,2))","v":""},null,null,{"$f":"IF(T95=\"\",\"\",(IF(AS95<0,\"出来高が契約を超過\",X95-AN95-AF95)))","v":""}]
[null,{"$f":"'見積書 (2)'!F39","v":""}]
[21,{"$f":"'見積書 (2)'!F40","v":""},null,null,null,null,null,null,null,null,null,null,null,null,{"$f":"'見積書 (2)'!Q40","v":""},null,{"$f":"'見積書 (2)'!R40","v":""},null,null,{"$f":"'見積書 (2)'!S40","v":""},null,null,null,{"$f":"'見積書 (2)'!T40","v":""},null,null,null,null,{"$f":"IF(Q97=\"\",\"\",'出来高内訳書 (第3回請求)'!AC97+'出来高内訳書 (第3回請求)'!AK97)","v":""},null,null,{"$f":"IF(T97=\"\",\"\",ROUND(T97*AC97,0))","v":""},null,null,null,null,null,null,null,{"$f":"IF(T97=\"\",\"\",ROUND(T97*AK97,0))","v":""},null,null,null,null,{"$f":"IF(Q97=\"\",\"\",ROUND(Q97-AC97-AK97,2))","v":""},null,null,{"$f":"IF(T97=\"\",\"\",(IF(AS97<0,\"出来高が契約を超過\",X97-AN97-AF97)))","v":""}]
[null,{"$f":"'見積書 (2)'!F41","v":""}]
[22,{"$f":"'見積書 (2)'!F42","v":""},null,null,null,null,null,null,null,null,null,null,null,null,{"$f":"'見積書 (2)'!Q42","v":""},null,{"$f":"'見積書 (2)'!R42","v":""},null,null,{"$f":"'見積書 (2)'!S42","v":""},null,null,null,{"$f":"'見積書 (2)'!T42","v":""},null,null,null,null,{"$f":"IF(Q99=\"\",\"\",'出来高内訳書 (第3回請求)'!AC99+'出来高内訳書 (第3回請求)'!AK99)","v":""},null,null,{"$f":"IF(T99=\"\",\"\",ROUND(T99*AC99,0))","v":""},null,null,null,null,null,null,null,{"$f":"IF(T99=\"\",\"\",ROUND(T99*AK99,0))","v":""},null,null,null,null,{"$f":"IF(Q99=\"\",\"\",ROUND(Q99-AC99-AK99,2))","v":""},null,null,{"$f":"IF(T99=\"\",\"\",(IF(AS99<0,\"出来高が契約を超過\",X99-AN99-AF99)))","v":""}]
[null,{"$f":"'見積書 (2)'!F43","v":""}]
[23,{"$f":"'見積書 (2)'!F44","v":""},null,null,null,null,null,null,null,null,null,null,null,null,{"$f":"'見積書 (2)'!Q44","v":""},null,{"$f":"'見積書 (2)'!R44","v":""},null,null,{"$f":"'見積書 (2)'!S44","v":""},null,null,null,{"$f":"'見積書 (2)'!T44","v":""},null,null,null,null,{"$f":"IF(Q101=\"\",\"\",'出来高内訳書 (第3回請求)'!AC101+'出来高内訳書 (第3回請求)'!AK101)","v":""},null,null,{"$f":"IF(T101=\"\",\"\",ROUND(T101*AC101,0))","v":""},null,null,null,null,null,null,null,{"$f":"IF(T101=\"\",\"\",ROUND(T101*AK101,0))","v":""},null,null,null,null,{"$f":"IF(Q101=\"\",\"\",ROUND(Q101-AC101-AK101,2))","v":""},null,null,{"$f":"IF(T101=\"\",\"\",(IF(AS101<0,\"出来高が契約を超過\",X101-AN101-AF101)))","v":""}]
[null,{"$f":"'見積書 (2)'!F45","v":""}]
[24,{"$f":"'見積書 (2)'!F46","v":""},null,null,null,null,null,null,null,null,null,null,null,null,{"$f":"'見積書 (2)'!Q46","v":""},null,{"$f":"'見積書 (2)'!R46","v":""},null,null,{"$f":"'見積書 (2)'!S46","v":""},null,null,null,{"$f":"'見積書 (2)'!T46","v":""},null,null,null,null,{"$f":"IF(Q103=\"\",\"\",'出来高内訳書 (第3回請求)'!AC103+'出来高内訳書 (第3回請求)'!AK103)","v":""},null,null,{"$f":"IF(T103=\"\",\"\",ROUND(T103*AC103,0))","v":""},null,null,null,null,null,null,null,{"$f":"IF(T103=\"\",\"\",ROUND(T103*AK103,0))","v":""},null,null,null,null,{"$f":"IF(Q103=\"\",\"\",ROUND(Q103-AC103-AK103,2))","v":""},null,null,{"$f":"IF(T103=\"\",\"\",(IF(AS103<0,\"出来高が契約を超過\",X103-AN103-AF103)))","v":""}]
[null,{"$f":"'見積書 (2)'!F47","v":""}]
[25,{"$f":"'見積書 (2)'!F48","v":""},null,null,null,null,null,null,null,null,null,null,null,null,{"$f":"'見積書 (2)'!Q48","v":""},null,{"$f":"'見積書 (2)'!R48","v":""},null,null,{"$f":"'見積書 (2)'!S48","v":""},null,null,null,{"$f":"'見積書 (2)'!T48","v":""},null,null,null,null,{"$f":"IF(Q105=\"\",\"\",'出来高内訳書 (第3回請求)'!AC105+'出来高内訳書 (第3回請求)'!AK105)","v":""},null,null,{"$f":"IF(T105=\"\",\"\",ROUND(T105*AC105,0))","v":""},null,null,null,null,null,null,null,{"$f":"IF(T105=\"\",\"\",ROUND(T105*AK105,0))","v":""},null,null,null,null,{"$f":"IF(Q105=\"\",\"\",ROUND(Q105-AC105-AK105,2))","v":""},null,null,{"$f":"IF(T105=\"\",\"\",(IF(AS105<0,\"出来高が契約を超過\",X105-AN105-AF105)))","v":""}]
[null,{"$f":"'見積書 (2)'!F49","v":""}]
[26,{"$f":"'見積書 (2)'!F50","v":""},null,null,null,null,null,null,null,null,null,null,null,null,{"$f":"'見積書 (2)'!Q50","v":""},null,{"$f":"'見積書 (2)'!R50","v":""},null,null,{"$f":"'見積書 (2)'!S50","v":""},null,null,null,{"$f":"'見積書 (2)'!T50","v":""},null,null,null,null,{"$f":"IF(Q107=\"\",\"\",'出来高内訳書 (第3回請求)'!AC107+'出来高内訳書 (第3回請求)'!AK107)","v":""},null,null,{"$f":"IF(T107=\"\",\"\",ROUND(T107*AC107,0))","v":""},null,null,null,null,null,null,null,{"$f":"IF(T107=\"\",\"\",ROUND(T107*AK107,0))","v":""},null,null,null,null,{"$f":"IF(Q107=\"\",\"\",ROUND(Q107-AC107-AK107,2))","v":""},null,null,{"$f":"IF(T107=\"\",\"\",(IF(AS107<0,\"出来高が契約を超過\",X107-AN107-AF107)))","v":""}]
[null,{"$f":"'見積書 (2)'!F51","v":""}]
[null,"小計",null,null,null,null,null,null,null,null,null,null,null,null,null,null,null,null,null,null,null,null,null,{"$f":"SUM(X79:AB108)","v":0},null,null,null,null,null,null,null,{"$f":"SUM(AF79:AJ108)","v":0},null,null,null,null,null,null,null,{"$f":"SUM(AN79:AR108)","v":0},null,null,null,null,null,null,null,{"$f":"X109-AF109-AN109","v":0}]
[]
[]
[]
[]
[null,"請求内訳書（出来高・分割納入用）",null,null,null,null,null,null,null,null,null,null,null,null,null,null,null,null,null,null,null,null,null,null,null,null,null,null,null,null,null,null,null,null,null,null,null,null,null,null,null,null,null,null,null,null,null,null,null,null,"No."]
[]
[]
[]
[]
[]
[]
[]
[]
[]
[null,"製造番号",null,null,null,null,{"$f":"Y22","v":""},null,null,null,null,null,null,null,null,null,null,null,null,null,null,null,null,"※科目"]
[]
[]
[null,"注文番号",null,null,null,null,{"$f":"Y25","v":""},null,null,null,null,null,null,null,null,"第",null,{"$f":"AJ23","v":4},null,"回請求"]
[]
[]
[]
[null,"工　種・品　名",null,null,null,null,null,null,null,null,null,null,null,null,"契　約　金　額",null,null,null,null,null,null,null,null,null,null,null,null,null,"前回までの出来高",null,null,null,null,null,null,null,"今回出来高",null,null,null,null,null,null,null,"残高",null,null,null,null,null,null,null,"備　考"]
[null,null,null,null,null,null,null,null,null,null,null,null,null,null,"単位",null,"数量",null,null,"単価",null,null,null,"金額",null,null,null,null,"数量",null,null,"金額",null,null,null,null,"数量",null,null,"金額",null,null,null,null,"数量",null,null,"金額"]
[27,{"$f":"'見積書 (2)'!F52","v":""},null,null,null,null,null,null,null,null,null,null,null,null,{"$f":"'見積書 (2)'!Q52","v":""},null,{"$f":"'見積書 (2)'!R52","v":""},null,null,{"$f":"'見積書 (2)'!S52","v":""},null,null,null,{"$f":"'見積書 (2)'!T52","v":""},null,null,null,null,{"$f":"IF(Q133=\"\",\"\",'出来高内訳書 (第3回請求)'!AC133+'出来高内訳書 (第3回請求)'!AK133)","v":""},null,null,{"$f":"IF(T133=\"\",\"\",ROUND(T133*AC133,0))","v":""},null,null,null,null,null,null,null,{"$f":"IF(T133=\"\",\"\",ROUND(T133*AK133,0))","v":""},null,null,null,null,{"$f":"IF(Q133=\"\",\"\",ROUND(Q133-AC133-AK133,2))","v":""},null,null,{"$f":"IF(T133=\"\",\"\",(IF(AS133<0,\"出来高が契約を超過\",X133-AN133-AF133)))","v":""}]
[null,{"$f":"'見積書 (2)'!F53","v":""}]
[28,{"$f":"'見積書 (2)'!F54","v":""},null,null,null,null,null,null,null,null,null,null,null,null,{"$f":"'見積書 (2)'!Q54","v":""},null,{"$f":"'見積書 (2)'!R54","v":""},null,null,{"$f":"'見積書 (2)'!S54","v":""},null,null,null,{"$f":"'見積書 (2)'!T54","v":""},null,null,null,null,{"$f":"IF(Q135=\"\",\"\",'出来高内訳書 (第3回請求)'!AC135+'出来高内訳書 (第3回請求)'!AK135)","v":""},null,null,{"$f":"IF(T135=\"\",\"\",ROUND(T135*AC135,0))","v":""},null,null,null,null,null,null,null,{"$f":"IF(T135=\"\",\"\",ROUND(T135*AK135,0))","v":""},null,null,null,null,{"$f":"IF(Q135=\"\",\"\",ROUND(Q135-AC135-AK135,2))","v":""},null,null,{"$f":"IF(T135=\"\",\"\",(IF(AS135<0,\"出来高が契約を超過\",X135-AN135-AF135)))","v":""}]
[null,{"$f":"'見積書 (2)'!F55","v":""}]
[29,{"$f":"'見積書 (2)'!F56","v":""},null,null,null,null,null,null,null,null,null,null,null,null,{"$f":"'見積書 (2)'!Q56","v":""},null,{"$f":"'見積書 (2)'!R56","v":""},null,null,{"$f":"'見積書 (2)'!S56","v":""},null,null,null,{"$f":"'見積書 (2)'!T56","v":""},null,null,null,null,{"$f":"IF(Q137=\"\",\"\",'出来高内訳書 (第3回請求)'!AC137+'出来高内訳書 (第3回請求)'!AK137)","v":""},null,null,{"$f":"IF(T137=\"\",\"\",ROUND(T137*AC137,0))","v":""},null,null,null,null,null,null,null,{"$f":"IF(T137=\"\",\"\",ROUND(T137*AK137,0))","v":""},null,null,null,null,{"$f":"IF(Q137=\"\",\"\",ROUND(Q137-AC137-AK137,2))","v":""},null,null,{"$f":"IF(T137=\"\",\"\",(IF(AS137<0,\"出来高が契約を超過\",X137-AN137-AF137)))","v":""}]
[null,{"$f":"'見積書 (2)'!F57","v":""}]
[30,{"$f":"'見積書 (2)'!F58","v":""},null,null,null,null,null,null,null,null,null,null,null,null,{"$f":"'見積書 (2)'!Q58","v":""},null,{"$f":"'見積書 (2)'!R58","v":""},null,null,{"$f":"'見積書 (2)'!S58","v":""},null,null,null,{"$f":"'見積書 (2)'!T58","v":""},null,null,null,null,{"$f":"IF(Q139=\"\",\"\",'出来高内訳書 (第3回請求)'!AC139+'出来高内訳書 (第3回請求)'!AK139)","v":""},null,null,{"$f":"IF(T139=\"\",\"\",ROUND(T139*AC139,0))","v":""},null,null,null,null,null,null,null,{"$f":"IF(T139=\"\",\"\",ROUND(T139*AK139,0))","v":""},null,null,null,null,{"$f":"IF(Q139=\"\",\"\",ROUND(Q139-AC139-AK139,2))","v":""},null,null,{"$f":"IF(T139=\"\",\"\",(IF(AS139<0,\"出来高が契約を超過\",X139-AN139-AF139)))","v":""}]
[null,{"$f":"'見積書 (2)'!F59","v":""}]
[31,{"$f":"'見積書 (2)'!F60","v":""},null,null,null,null,null,null,null,null,null,null,null,null,{"$f":"'見積書 (2)'!Q60","v":""},null,{"$f":"'見積書 (2)'!R60","v":""},null,null,{"$f":"'見積書 (2)'!S60","v":""},null,null,null,{"$f":"'見積書 (2)'!T60","v":""},null,null,null,null,{"$f":"IF(Q141=\"\",\"\",'出来高内訳書 (第3回請求)'!AC141+'出来高内訳書 (第3回請求)'!AK141)","v":""},null,null,{"$f":"IF(T141=\"\",\"\",ROUND(T141*AC141,0))","v":""},null,null,null,null,null,null,null,{"$f":"IF(T141=\"\",\"\",ROUND(T141*AK141,0))","v":""},null,null,null,null,{"$f":"IF(Q141=\"\",\"\",ROUND(Q141-AC141-AK141,2))","v":""},null,null,{"$f":"IF(T141=\"\",\"\",(IF(AS141<0,\"出来高が契約を超過\",X141-AN141-AF141)))","v":""}]
[null,{"$f":"'見積書 (2)'!F61","v":""}]
[32,{"$f":"'見積書 (2)'!F62","v":""},null,null,null,null,null,null,null,null,null,null,null,null,{"$f":"'見積書 (2)'!Q62","v":""},null,{"$f":"'見積書 (2)'!R62","v":""},null,null,{"$f":"'見積書 (2)'!S62","v":""},null,null,null,{"$f":"'見積書 (2)'!T62","v":""},null,null,null,null,{"$f":"IF(Q143=\"\",\"\",'出来高内訳書 (第3回請求)'!AC143+'出来高内訳書 (第3回請求)'!AK143)","v":""},null,null,{"$f":"IF(T143=\"\",\"\",ROUND(T143*AC143,0))","v":""},null,null,null,null,null,null,null,{"$f":"IF(T143=\"\",\"\",ROUND(T143*AK143,0))","v":""},null,null,null,null,{"$f":"IF(Q143=\"\",\"\",ROUND(Q143-AC143-AK143,2))","v":""},null,null,{"$f":"IF(T143=\"\",\"\",(IF(AS143<0,\"出来高が契約を超過\",X143-AN143-AF143)))","v":""}]
[null,{"$f":"'見積書 (2)'!F63","v":""}]
[33,{"$f":"'見積書 (2)'!F64","v":""},null,null,null,null,null,null,null,null,null,null,null,null,{"$f":"'見積書 (2)'!Q64","v":""},null,{"$f":"'見積書 (2)'!R64","v":""},null,null,{"$f":"'見積書 (2)'!S64","v":""},null,null,null,{"$f":"'見積書 (2)'!T64","v":""},null,null,null,null,{"$f":"IF(Q145=\"\",\"\",'出来高内訳書 (第3回請求)'!AC145+'出来高内訳書 (第3回請求)'!AK145)","v":""},null,null,{"$f":"IF(T145=\"\",\"\",ROUND(T145*AC145,0))","v":""},null,null,null,null,null,null,null,{"$f":"IF(T145=\"\",\"\",ROUND(T145*AK145,0))","v":""},null,null,null,null,{"$f":"IF(Q145=\"\",\"\",ROUND(Q145-AC145-AK145,2))","v":""},null,null,{"$f":"IF(T145=\"\",\"\",(IF(AS145<0,\"出来高が契約を超過\",X145-AN145-AF145)))","v":""}]
[null,{"$f":"'見積書 (2)'!F65","v":""}]
[34,{"$f":"'見積書 (2)'!F66","v":""},null,null,null,null,null,null,null,null,null,null,null,null,{"$f":"'見積書 (2)'!Q66","v":""},null,{"$f":"'見積書 (2)'!R66","v":""},null,null,{"$f":"'見積書 (2)'!S66","v":""},null,null,null,{"$f":"'見積書 (2)'!T66","v":""},null,null,null,null,{"$f":"IF(Q147=\"\",\"\",'出来高内訳書 (第3回請求)'!AC147+'出来高内訳書 (第3回請求)'!AK147)","v":""},null,null,{"$f":"IF(T147=\"\",\"\",ROUND(T147*AC147,0))","v":""},null,null,null,null,null,null,null,{"$f":"IF(T147=\"\",\"\",ROUND(T147*AK147,0))","v":""},null,null,null,null,{"$f":"IF(Q147=\"\",\"\",ROUND(Q147-AC147-AK147,2))","v":""},null,null,{"$f":"IF(T147=\"\",\"\",(IF(AS147<0,\"出来高が契約を超過\",X147-AN147-AF147)))","v":""}]
[null,{"$f":"'見積書 (2)'!F67","v":""}]
[35,{"$f":"'見積書 (2)'!F68","v":""},null,null,null,null,null,null,null,null,null,null,null,null,{"$f":"'見積書 (2)'!Q68","v":""},null,{"$f":"'見積書 (2)'!R68","v":""},null,null,{"$f":"'見積書 (2)'!S68","v":""},null,null,null,{"$f":"'見積書 (2)'!T68","v":""},null,null,null,null,{"$f":"IF(Q149=\"\",\"\",'出来高内訳書 (第3回請求)'!AC149+'出来高内訳書 (第3回請求)'!AK149)","v":""},null,null,{"$f":"IF(T149=\"\",\"\",ROUND(T149*AC149,0))","v":""},null,null,null,null,null,null,null,{"$f":"IF(T149=\"\",\"\",ROUND(T149*AK149,0))","v":""},null,null,null,null,{"$f":"IF(Q149=\"\",\"\",ROUND(Q149-AC149-AK149,2))","v":""},null,null,{"$f":"IF(T149=\"\",\"\",(IF(AS149<0,\"出来高が契約を超過\",X149-AN149-AF149)))","v":""}]
[null,{"$f":"'見積書 (2)'!F69","v":""}]
[36,{"$f":"'見積書 (3)'!F26","v":""},null,null,null,null,null,null,null,null,null,null,null,null,{"$f":"'見積書 (3)'!Q26","v":""},null,{"$f":"'見積書 (3)'!R26","v":""},null,null,{"$f":"'見積書 (3)'!S26","v":""},null,null,null,{"$f":"'見積書 (3)'!T26","v":""},null,null,null,null,{"$f":"IF(Q151=\"\",\"\",'出来高内訳書 (第3回請求)'!AC151+'出来高内訳書 (第3回請求)'!AK151)","v":""},null,null,{"$f":"IF(T151=\"\",\"\",ROUND(T151*AC151,0))","v":""},null,null,null,null,null,null,null,{"$f":"IF(T151=\"\",\"\",ROUND(T151*AK151,0))","v":""},null,null,null,null,{"$f":"IF(Q151=\"\",\"\",ROUND(Q151-AC151-AK151,2))","v":""},null,null,{"$f":"IF(T151=\"\",\"\",(IF(AS151<0,\"出来高が契約を超過\",X151-AN151-AF151)))","v":""}]
[null,{"$f":"'見積書 (3)'!F27","v":""}]
[37,{"$f":"'見積書 (3)'!F28","v":""},null,null,null,null,null,null,null,null,null,null,null,null,{"$f":"'見積書 (3)'!Q28","v":""},null,{"$f":"'見積書 (3)'!R28","v":""},null,null,{"$f":"'見積書 (3)'!S28","v":""},null,null,null,{"$f":"'見積書 (3)'!T28","v":""},null,null,null,null,{"$f":"IF(Q153=\"\",\"\",'出来高内訳書 (第3回請求)'!AC153+'出来高内訳書 (第3回請求)'!AK153)","v":""},null,null,{"$f":"IF(T153=\"\",\"\",ROUND(T153*AC153,0))","v":""},null,null,null,null,null,null,null,{"$f":"IF(T153=\"\",\"\",ROUND(T153*AK153,0))","v":""},null,null,null,null,{"$f":"IF(Q153=\"\",\"\",ROUND(Q153-AC153-AK153,2))","v":""},null,null,{"$f":"IF(T153=\"\",\"\",(IF(AS153<0,\"出来高が契約を超過\",X153-AN153-AF153)))","v":""}]
[null,{"$f":"'見積書 (3)'!F29","v":""}]
[38,{"$f":"'見積書 (3)'!F30","v":""},null,null,null,null,null,null,null,null,null,null,null,null,{"$f":"'見積書 (3)'!Q30","v":""},null,{"$f":"'見積書 (3)'!R30","v":""},null,null,{"$f":"'見積書 (3)'!S30","v":""},null,null,null,{"$f":"'見積書 (3)'!T30","v":""},null,null,null,null,{"$f":"IF(Q155=\"\",\"\",'出来高内訳書 (第3回請求)'!AC155+'出来高内訳書 (第3回請求)'!AK155)","v":""},null,null,{"$f":"IF(T155=\"\",\"\",ROUND(T155*AC155,0))","v":""},null,null,null,null,null,null,null,{"$f":"IF(T155=\"\",\"\",ROUND(T155*AK155,0))","v":""},null,null,null,null,{"$f":"IF(Q155=\"\",\"\",ROUND(Q155-AC155-AK155,2))","v":""},null,null,{"$f":"IF(T155=\"\",\"\",(IF(AS155<0,\"出来高が契約を超過\",X155-AN155-AF155)))","v":""}]
[null,{"$f":"'見積書 (3)'!F31","v":""}]
[39,{"$f":"'見積書 (3)'!F32","v":""},null,null,null,null,null,null,null,null,null,null,null,null,{"$f":"'見積書 (3)'!Q32","v":""},null,{"$f":"'見積書 (3)'!R32","v":""},null,null,{"$f":"'見積書 (3)'!S32","v":""},null,null,null,{"$f":"'見積書 (3)'!T32","v":""},null,null,null,null,{"$f":"IF(Q157=\"\",\"\",'出来高内訳書 (第3回請求)'!AC157+'出来高内訳書 (第3回請求)'!AK157)","v":""},null,null,{"$f":"IF(T157=\"\",\"\",ROUND(T157*AC157,0))","v":""},null,null,null,null,null,null,null,{"$f":"IF(T157=\"\",\"\",ROUND(T157*AK157,0))","v":""},null,null,null,null,{"$f":"IF(Q157=\"\",\"\",ROUND(Q157-AC157-AK157,2))","v":""},null,null,{"$f":"IF(T157=\"\",\"\",(IF(AS157<0,\"出来高が契約を超過\",X157-AN157-AF157)))","v":""}]
[null,{"$f":"'見積書 (3)'!F33","v":""}]
[40,{"$f":"'見積書 (3)'!F34","v":""},null,null,null,null,null,null,null,null,null,null,null,null,{"$f":"'見積書 (3)'!Q34","v":""},null,{"$f":"'見積書 (3)'!R34","v":""},null,null,{"$f":"'見積書 (3)'!S34","v":""},null,null,null,{"$f":"'見積書 (3)'!T34","v":""},null,null,null,null,{"$f":"IF(Q159=\"\",\"\",'出来高内訳書 (第3回請求)'!AC159+'出来高内訳書 (第3回請求)'!AK159)","v":""},null,null,{"$f":"IF(T159=\"\",\"\",ROUND(T159*AC159,0))","v":""},null,null,null,null,null,null,null,{"$f":"IF(T159=\"\",\"\",ROUND(T159*AK159,0))","v":""},null,null,null,null,{"$f":"IF(Q159=\"\",\"\",ROUND(Q159-AC159-AK159,2))","v":""},null,null,{"$f":"IF(T159=\"\",\"\",(IF(AS159<0,\"出来高が契約を超過\",X159-AN159-AF159)))","v":""}]
[null,{"$f":"'見積書 (3)'!F35","v":""}]
[41,{"$f":"'見積書 (3)'!F36","v":""},null,null,null,null,null,null,null,null,null,null,null,null,{"$f":"'見積書 (3)'!Q36","v":""},null,{"$f":"'見積書 (3)'!R36","v":""},null,null,{"$f":"'見積書 (3)'!S36","v":""},null,null,null,{"$f":"'見積書 (3)'!T36","v":""},null,null,null,null,{"$f":"IF(Q161=\"\",\"\",'出来高内訳書 (第3回請求)'!AC161+'出来高内訳書 (第3回請求)'!AK161)","v":""},null,null,{"$f":"IF(T161=\"\",\"\",ROUND(T161*AC161,0))","v":""},null,null,null,null,null,null,null,{"$f":"IF(T161=\"\",\"\",ROUND(T161*AK161,0))","v":""},null,null,null,null,{"$f":"IF(Q161=\"\",\"\",ROUND(Q161-AC161-AK161,2))","v":""},null,null,{"$f":"IF(T161=\"\",\"\",(IF(AS161<0,\"出来高が契約を超過\",X161-AN161-AF161)))","v":""}]
[null,{"$f":"'見積書 (3)'!F37","v":""}]
[null,"小計",null,null,null,null,null,null,null,null,null,null,null,null,null,null,null,null,null,null,null,null,null,{"$f":"SUM(X133:AB162)","v":0},null,null,null,null,null,null,null,{"$f":"SUM(AF133:AJ162)","v":0},null,null,null,null,null,null,null,{"$f":"SUM(AN133:AR162)","v":0},null,null,null,null,null,null,null,{"$f":"X163-AF163-AN163","v":0}]
[]
[]
[]
[]
[null,"請求内訳書（出来高・分割納入用）",null,null,null,null,null,null,null,null,null,null,null,null,null,null,null,null,null,null,null,null,null,null,null,null,null,null,null,null,null,null,null,null,null,null,null,null,null,null,null,null,null,null,null,null,null,null,null,null,"No."]
[]
[]
[]
[]
[]
[]
[]
[]
[]
[null,"製造番号",null,null,null,null,{"$f":"Y22","v":""},null,null,null,null,null,null,null,null,null,null,null,null,null,null,null,null,"※科目"]
[]
[]
[null,"注文番号",null,null,null,null,{"$f":"Y25","v":""},null,null,null,null,null,null,null,null,"第",null,{"$f":"AJ23","v":4},null,"回請求"]
[]
[]
[]
[null,"工　種・品　名",null,null,null,null,null,null,null,null,null,null,null,null,"契　約　金　額",null,null,null,null,null,null,null,null,null,null,null,null,null,"前回までの出来高",null,null,null,null,null,null,null,"今回出来高",null,null,null,null,null,null,null,"残高",null,null,null,null,null,null,null,"備　考"]
[null,null,null,null,null,null,null,null,null,null,null,null,null,null,"単位",null,"数量",null,null,"単価",null,null,null,"金額",null,null,null,null,"数量",null,null,"金額",null,null,null,null,"数量",null,null,"金額",null,null,null,null,"数量",null,null,"金額"]
[42,{"$f":"'見積書 (3)'!F38","v":""},null,null,null,null,null,null,null,null,null,null,null,null,{"$f":"'見積書 (3)'!Q38","v":""},null,{"$f":"'見積書 (3)'!R38","v":""},null,null,{"$f":"'見積書 (3)'!S38","v":""},null,null,null,{"$f":"'見積書 (3)'!T38","v":""},null,null,null,null,{"$f":"IF(Q187=\"\",\"\",'出来高内訳書 (第3回請求)'!AC187+'出来高内訳書 (第3回請求)'!AK187)","v":""},null,null,{"$f":"IF(T187=\"\",\"\",ROUND(T187*AC187,0))","v":""},null,null,null,null,null,null,null,{"$f":"IF(T187=\"\",\"\",ROUND(T187*AK187,0))","v":""},null,null,null,null,{"$f":"IF(Q187=\"\",\"\",ROUND(Q187-AC187-AK187,2))","v":""},null,null,{"$f":"IF(T187=\"\",\"\",(IF(AS187<0,\"出来高が契約を超過\",X187-AN187-AF187)))","v":""}]
[null,{"$f":"'見積書 (3)'!F39","v":""}]
[43,{"$f":"'見積書 (3)'!F40","v":""},null,null,null,null,null,null,null,null,null,null,null,null,{"$f":"'見積書 (3)'!Q40","v":""},null,{"$f":"'見積書 (3)'!R40","v":""},null,null,{"$f":"'見積書 (3)'!S40","v":""},null,null,null,{"$f":"'見積書 (3)'!T40","v":""},null,null,null,null,{"$f":"IF(Q189=\"\",\"\",'出来高内訳書 (第3回請求)'!AC189+'出来高内訳書 (第3回請求)'!AK189)","v":""},null,null,{"$f":"IF(T189=\"\",\"\",ROUND(T189*AC189,0))","v":""},null,null,null,null,null,null,null,{"$f":"IF(T189=\"\",\"\",ROUND(T189*AK189,0))","v":""},null,null,null,null,{"$f":"IF(Q189=\"\",\"\",ROUND(Q189-AC189-AK189,2))","v":""},null,null,{"$f":"IF(T189=\"\",\"\",(IF(AS189<0,\"出来高が契約を超過\",X189-AN189-AF189)))","v":""}]
[null,{"$f":"'見積書 (3)'!F41","v":""}]
[44,{"$f":"'見積書 (3)'!F42","v":""},null,null,null,null,null,null,null,null,null,null,null,null,{"$f":"'見積書 (3)'!Q42","v":""},null,{"$f":"'見積書 (3)'!R42","v":""},null,null,{"$f":"'見積書 (3)'!S42","v":""},null,null,null,{"$f":"'見積書 (3)'!T42","v":""},null,null,null,null,{"$f":"IF(Q191=\"\",\"\",'出来高内訳書 (第3回請求)'!AC191+'出来高内訳書 (第3回請求)'!AK191)","v":""},null,null,{"$f":"IF(T191=\"\",\"\",ROUND(T191*AC191,0))","v":""},null,null,null,null,null,null,null,{"$f":"IF(T191=\"\",\"\",ROUND(T191*AK191,0))","v":""},null,null,null,null,{"$f":"IF(Q191=\"\",\"\",ROUND(Q191-AC191-AK191,2))","v":""},null,null,{"$f":"IF(T191=\"\",\"\",(IF(AS191<0,\"出来高が契約を超過\",X191-AN191-AF191)))","v":""}]
[null,{"$f":"'見積書 (3)'!F43","v":""}]
[45,{"$f":"'見積書 (3)'!F44","v":""},null,null,null,null,null,null,null,null,null,null,null,null,{"$f":"'見積書 (3)'!Q44","v":""},null,{"$f":"'見積書 (3)'!R44","v":""},null,null,{"$f":"'見積書 (3)'!S44","v":""},null,null,null,{"$f":"'見積書 (3)'!T44","v":""},null,null,null,null,{"$f":"IF(Q193=\"\",\"\",'出来高内訳書 (第3回請求)'!AC193+'出来高内訳書 (第3回請求)'!AK193)","v":""},null,null,{"$f":"IF(T193=\"\",\"\",ROUND(T193*AC193,0))","v":""},null,null,null,null,null,null,null,{"$f":"IF(T193=\"\",\"\",ROUND(T193*AK193,0))","v":""},null,null,null,null,{"$f":"IF(Q193=\"\",\"\",ROUND(Q193-AC193-AK193,2))","v":""},null,null,{"$f":"IF(T193=\"\",\"\",(IF(AS193<0,\"出来高が契約を超過\",X193-AN193-AF193)))","v":""}]
[null,{"$f":"'見積書 (3)'!F45","v":""}]
[46,{"$f":"'見積書 (3)'!F46","v":""},null,null,null,null,null,null,null,null,null,null,null,null,{"$f":"'見積書 (3)'!Q46","v":""},null,{"$f":"'見積書 (3)'!R46","v":""},null,null,{"$f":"'見積書 (3)'!S46","v":""},null,null,null,{"$f":"'見積書 (3)'!T46","v":""},null,null,null,null,{"$f":"IF(Q195=\"\",\"\",'出来高内訳書 (第3回請求)'!AC195+'出来高内訳書 (第3回請求)'!AK195)","v":""},null,null,{"$f":"IF(T195=\"\",\"\",ROUND(T195*AC195,0))","v":""},null,null,null,null,null,null,null,{"$f":"IF(T195=\"\",\"\",ROUND(T195*AK195,0))","v":""},null,null,null,null,{"$f":"IF(Q195=\"\",\"\",ROUND(Q195-AC195-AK195,2))","v":""},null,null,{"$f":"IF(T195=\"\",\"\",(IF(AS195<0,\"出来高が契約を超過\",X195-AN195-AF195)))","v":""}]
[null,{"$f":"'見積書 (3)'!F47","v":""}]
[47,{"$f":"'見積書 (3)'!F48","v":""},null,null,null,null,null,null,null,null,null,null,null,null,{"$f":"'見積書 (3)'!Q48","v":""},null,{"$f":"'見積書 (3)'!R48","v":""},null,null,{"$f":"'見積書 (3)'!S48","v":""},null,null,null,{"$f":"'見積書 (3)'!T48","v":""},null,null,null,null,{"$f":"IF(Q197=\"\",\"\",'出来高内訳書 (第3回請求)'!AC197+'出来高内訳書 (第3回請求)'!AK197)","v":""},null,null,{"$f":"IF(T197=\"\",\"\",ROUND(T197*AC197,0))","v":""},null,null,null,null,null,null,null,{"$f":"IF(T197=\"\",\"\",ROUND(T197*AK197,0))","v":""},null,null,null,null,{"$f":"IF(Q197=\"\",\"\",ROUND(Q197-AC197-AK197,2))","v":""},null,null,{"$f":"IF(T197=\"\",\"\",(IF(AS197<0,\"出来高が契約を超過\",X197-AN197-AF197)))","v":""}]
[null,{"$f":"'見積書 (3)'!F49","v":""}]
[48,{"$f":"'見積書 (3)'!F50","v":""},null,null,null,null,null,null,null,null,null,null,null,null,{"$f":"'見積書 (3)'!Q50","v":""},null,{"$f":"'見積書 (3)'!R50","v":""},null,null,{"$f":"'見積書 (3)'!S50","v":""},null,null,null,{"$f":"'見積書 (3)'!T50","v":""},null,null,null,null,{"$f":"IF(Q199=\"\",\"\",'出来高内訳書 (第3回請求)'!AC199+'出来高内訳書 (第3回請求)'!AK199)","v":""},null,null,{"$f":"IF(T199=\"\",\"\",ROUND(T199*AC199,0))","v":""},null,null,null,null,null,null,null,{"$f":"IF(T199=\"\",\"\",ROUND(T199*AK199,0))","v":""},null,null,null,null,{"$f":"IF(Q199=\"\",\"\",ROUND(Q199-AC199-AK199,2))","v":""},null,null,{"$f":"IF(T199=\"\",\"\",(IF(AS199<0,\"出来高が契約を超過\",X199-AN199-AF199)))","v":""}]
[null,{"$f":"'見積書 (3)'!F51","v":""}]
[49,{"$f":"'見積書 (3)'!F52","v":""},null,null,null,null,null,null,null,null,null,null,null,null,{"$f":"'見積書 (3)'!Q52","v":""},null,{"$f":"'見積書 (3)'!R52","v":""},null,null,{"$f":"'見積書 (3)'!S52","v":""},null,null,null,{"$f":"'見積書 (3)'!T52","v":""},null,null,null,null,{"$f":"IF(Q201=\"\",\"\",'出来高内訳書 (第3回請求)'!AC201+'出来高内訳書 (第3回請求)'!AK201)","v":""},null,null,{"$f":"IF(T201=\"\",\"\",ROUND(T201*AC201,0))","v":""},null,null,null,null,null,null,null,{"$f":"IF(T201=\"\",\"\",ROUND(T201*AK201,0))","v":""},null,null,null,null,{"$f":"IF(Q201=\"\",\"\",ROUND(Q201-AC201-AK201,2))","v":""},null,null,{"$f":"IF(T201=\"\",\"\",(IF(AS201<0,\"出来高が契約を超過\",X201-AN201-AF201)))","v":""}]
[null,{"$f":"'見積書 (3)'!F53","v":""}]
[50,{"$f":"'見積書 (3)'!F54","v":""},null,null,null,null,null,null,null,null,null,null,null,null,{"$f":"'見積書 (3)'!Q54","v":""},null,{"$f":"'見積書 (3)'!R54","v":""},null,null,{"$f":"'見積書 (3)'!S54","v":""},null,null,null,{"$f":"'見積書 (3)'!T54","v":""},null,null,null,null,{"$f":"IF(Q203=\"\",\"\",'出来高内訳書 (第3回請求)'!AC203+'出来高内訳書 (第3回請求)'!AK203)","v":""},null,null,{"$f":"IF(T203=\"\",\"\",ROUND(T203*AC203,0))","v":""},null,null,null,null,null,null,null,{"$f":"IF(T203=\"\",\"\",ROUND(T203*AK203,0))","v":""},null,null,null,null,{"$f":"IF(Q203=\"\",\"\",ROUND(Q203-AC203-AK203,2))","v":""},null,null,{"$f":"IF(T203=\"\",\"\",(IF(AS203<0,\"出来高が契約を超過\",X203-AN203-AF203)))","v":""}]
[null,{"$f":"'見積書 (3)'!F55","v":""}]
[51,{"$f":"'見積書 (3)'!F56","v":""},null,null,null,null,null,null,null,null,null,null,null,null,{"$f":"'見積書 (3)'!Q56","v":""},null,{"$f":"'見積書 (3)'!R56","v":""},null,null,{"$f":"'見積書 (3)'!S56","v":""},null,null,null,{"$f":"'見積書 (3)'!T56","v":""},null,null,null,null,{"$f":"IF(Q205=\"\",\"\",'出来高内訳書 (第3回請求)'!AC205+'出来高内訳書 (第3回請求)'!AK205)","v":""},null,null,{"$f":"IF(T205=\"\",\"\",ROUND(T205*AC205,0))","v":""},null,null,null,null,null,null,null,{"$f":"IF(T205=\"\",\"\",ROUND(T205*AK205,0))","v":""},null,null,null,null,{"$f":"IF(Q205=\"\",\"\",ROUND(Q205-AC205-AK205,2))","v":""},null,null,{"$f":"IF(T205=\"\",\"\",(IF(AS205<0,\"出来高が契約を超過\",X205-AN205-AF205)))","v":""}]
[null,{"$f":"'見積書 (3)'!F57","v":""}]
[52,{"$f":"'見積書 (3)'!F58","v":""},null,null,null,null,null,null,null,null,null,null,null,null,{"$f":"'見積書 (3)'!Q58","v":""},null,{"$f":"'見積書 (3)'!R58","v":""},null,null,{"$f":"'見積書 (3)'!S58","v":""},null,null,null,{"$f":"'見積書 (3)'!T58","v":""},null,null,null,null,{"$f":"IF(Q207=\"\",\"\",'出来高内訳書 (第3回請求)'!AC207+'出来高内訳書 (第3回請求)'!AK207)","v":""},null,null,{"$f":"IF(T207=\"\",\"\",ROUND(T207*AC207,0))","v":""},null,null,null,null,null,null,null,{"$f":"IF(T207=\"\",\"\",ROUND(T207*AK207,0))","v":""},null,null,null,null,{"$f":"IF(Q207=\"\",\"\",ROUND(Q207-AC207-AK207,2))","v":""},null,null,{"$f":"IF(T207=\"\",\"\",(IF(AS207<0,\"出来高が契約を超過\",X207-AN207-AF207)))","v":""}]
[null,{"$f":"'見積書 (3)'!F59","v":""}]
[53,{"$f":"'見積書 (3)'!F60","v":""},null,null,null,null,null,null,null,null,null,null,null,null,{"$f":"'見積書 (3)'!Q60","v":""},null,{"$f":"'見積書 (3)'!R60","v":""},null,null,{"$f":"'見積書 (3)'!S60","v":""},null,null,null,{"$f":"'見積書 (3)'!T60","v":""},null,null,null,null,{"$f":"IF(Q209=\"\",\"\",'出来高内訳書 (第3回請求)'!AC209+'出来高内訳書 (第3回請求)'!AK209)","v":""},null,null,{"$f":"IF(T209=\"\",\"\",ROUND(T209*AC209,0))","v":""},null,null,null,null,null,null,null,{"$f":"IF(T209=\"\",\"\",ROUND(T209*AK209,0))","v":""},null,null,null,null,{"$f":"IF(Q209=\"\",\"\",ROUND(Q209-AC209-AK209,2))","v":""},null,null,{"$f":"IF(T209=\"\",\"\",(IF(AS209<0,\"出来高が契約を超過\",X209-AN209-AF209)))","v":""}]
[null,{"$f":"'見積書 (3)'!F61","v":""}]
[54,{"$f":"'見積書 (3)'!F62","v":""},null,null,null,null,null,null,null,null,null,null,null,null,{"$f":"'見積書 (3)'!Q62","v":""},null,{"$f":"'見積書 (3)'!R62","v":""},null,null,{"$f":"'見積書 (3)'!S62","v":""},null,null,null,{"$f":"'見積書 (3)'!T62","v":""},null,null,null,null,{"$f":"IF(Q211=\"\",\"\",'出来高内訳書 (第3回請求)'!AC211+'出来高内訳書 (第3回請求)'!AK211)","v":""},null,null,{"$f":"IF(T211=\"\",\"\",ROUND(T211*AC211,0))","v":""},null,null,null,null,null,null,null,{"$f":"IF(T211=\"\",\"\",ROUND(T211*AK211,0))","v":""},null,null,null,null,{"$f":"IF(Q211=\"\",\"\",ROUND(Q211-AC211-AK211,2))","v":""},null,null,{"$f":"IF(T211=\"\",\"\",(IF(AS211<0,\"出来高が契約を超過\",X211-AN211-AF211)))","v":""}]
[null,{"$f":"'見積書 (3)'!F63","v":""}]
[55,{"$f":"'見積書 (3)'!F64","v":""},null,null,null,null,null,null,null,null,null,null,null,null,{"$f":"'見積書 (3)'!Q64","v":""},null,{"$f":"'見積書 (3)'!R64","v":""},null,null,{"$f":"'見積書 (3)'!S64","v":""},null,null,null,{"$f":"'見積書 (3)'!T64","v":""},null,null,null,null,{"$f":"IF(Q213=\"\",\"\",'出来高内訳書 (第3回請求)'!AC213+'出来高内訳書 (第3回請求)'!AK213)","v":""},null,null,{"$f":"IF(T213=\"\",\"\",ROUND(T213*AC213,0))","v":""},null,null,null,null,null,null,null,{"$f":"IF(T213=\"\",\"\",ROUND(T213*AK213,0))","v":""},null,null,null,null,{"$f":"IF(Q213=\"\",\"\",ROUND(Q213-AC213-AK213,2))","v":""},null,null,{"$f":"IF(T213=\"\",\"\",(IF(AS213<0,\"出来高が契約を超過\",X213-AN213-AF213)))","v":""}]
[null,{"$f":"'見積書 (3)'!F65","v":""}]
[56,{"$f":"'見積書 (3)'!F66","v":""},null,null,null,null,null,null,null,null,null,null,null,null,{"$f":"'見積書 (3)'!Q66","v":""},null,{"$f":"'見積書 (3)'!R66","v":""},null,null,{"$f":"'見積書 (3)'!S66","v":""},null,null,null,{"$f":"'見積書 (3)'!T66","v":""},null,null,null,null,{"$f":"IF(Q215=\"\",\"\",'出来高内訳書 (第3回請求)'!AC215+'出来高内訳書 (第3回請求)'!AK215)","v":""},null,null,{"$f":"IF(T215=\"\",\"\",ROUND(T215*AC215,0))","v":""},null,null,null,null,null,null,null,{"$f":"IF(T215=\"\",\"\",ROUND(T215*AK215,0))","v":""},null,null,null,null,{"$f":"IF(Q215=\"\",\"\",ROUND(Q215-AC215-AK215,2))","v":""},null,null,{"$f":"IF(T215=\"\",\"\",(IF(AS215<0,\"出来高が契約を超過\",X215-AN215-AF215)))","v":""}]
[null,{"$f":"'見積書 (3)'!F67","v":""}]
[null,"小計",null,null,null,null,null,null,null,null,null,null,null,null,null,null,null,null,null,null,null,null,null,{"$f":"SUM(X187:AB216)","v":0},null,null,null,null,null,null,null,{"$f":"SUM(AF187:AJ216)","v":0},null,null,null,null,null,null,null,{"$f":"SUM(AN187:AR216)","v":0},null,null,null,null,null,null,null,{"$f":"X217-AF217-AN217","v":0}]
[]
[]
[]
[]
[null,"請求内訳書（出来高・分割納入用）",null,null,null,null,null,null,null,null,null,null,null,null,null,null,null,null,null,null,null,null,null,null,null,null,null,null,null,null,null,null,null,null,null,null,null,null,null,null,null,null,null,null,null,null,null,null,null,null,"No."]
[]
[]
[]
[]
[]
[]
[]
[]
[]
[null,"製造番号",null,null,null,null,{"$f":"Y22","v":""},null,null,null,null,null,null,null,null,null,null,null,null,null,null,null,null,"※科目"]
[]
[]
[null,"注文番号",null,null,null,null,{"$f":"Y25","v":""},null,null,null,null,null,null,null,null,"第",null,{"$f":"AJ23","v":4},null,"回請求"]
[]
[]
[]
[null,"工　種・品　名",null,null,null,null,null,null,null,null,null,null,null,null,"契　約　金　額",null,null,null,null,null,null,null,null,null,null,null,null,null,"前回までの出来高",null,null,null,null,null,null,null,"今回出来高",null,null,null,null,null,null,null,"残高",null,null,null,null,null,null,null,"備　考"]
[null,null,null,null,null,null,null,null,null,null,null,null,null,null,"単位",null,"数量",null,null,"単価",null,null,null,"金額",null,null,null,null,"数量",null,null,"金額",null,null,null,null,"数量",null,null,"金額",null,null,null,null,"数量",null,null,"金額"]
[57,{"$f":"'見積書 (3)'!F68","v":""},null,null,null,null,null,null,null,null,null,null,null,null,{"$f":"'見積書 (3)'!Q68","v":""},null,{"$f":"'見積書 (3)'!R68","v":""},null,null,{"$f":"'見積書 (3)'!S68","v":""},null,null,null,{"$f":"'見積書 (3)'!T68","v":""},null,null,null,null,{"$f":"IF(Q241=\"\",\"\",'出来高内訳書 (第3回請求)'!AC241+'出来高内訳書 (第3回請求)'!AK241)","v":""},null,null,{"$f":"IF(T241=\"\",\"\",ROUND(T241*AC241,0))","v":""},null,null,null,null,null,null,null,{"$f":"IF(T241=\"\",\"\",ROUND(T241*AK241,0))","v":""},null,null,null,null,{"$f":"IF(Q241=\"\",\"\",ROUND(Q241-AC241-AK241,2))","v":""},null,null,{"$f":"IF(T241=\"\",\"\",(IF(AS241<0,\"出来高が契約を超過\",X241-AN241-AF241)))","v":""}]
[null,{"$f":"'見積書 (3)'!F68","v":""}]
[]
[]
[]
[]
[]
[]
[]
[]
[]
[]
[]
[]
[]
[]
[null,"小計",null,null,null,null,null,null,null,null,null,null,null,null,null,null,null,null,null,null,null,null,null,{"$f":"SUM(X241:AB256)","v":0},null,null,null,null,null,null,null,{"$f":"SUM(AF241:AJ256)","v":0},null,null,null,null,null,null,null,{"$f":"SUM(AN241:AR256)","v":0},null,null,null,null,null,null,null,{"$f":"SUM(AV241:AZ256)","v":0}]

{"sheet":"出来高内訳書 (第5回請求)","index":12,"n_rows":257,"n_cols":53,"rows_kept":257,"cut":false,"hidden":false,"merged":[[256,31,256,35],[256,36,256,38],[256,39,256,43],[256,44,256,46],[256,47,256,51],[256,52,256,54],[256,1,256,13],[256,14,256,15],[256,16,256,18],[256,19,256,22],[256,23,256,27],[256,28,256,30],[255,31,255,35],[255,36,255,38],[255,39,255,43],[255,44,255,46],[255,47,255,51],[255,52,255,54],[255,1,255,13],[255,14,255,15],[255,16,255,18],[255,19,255,22],[255,23,255,27],[255,28,255,30],[254,31,254,35],[254,36,254,38],[254,39,254,43],[254,44,254,46],[254,47,254,51],[254,52,254,54],[254,1,254,13],[254,14,254,15],[254,16,254,18],[254,19,254,22],[254,23,254,27],[254,28,254,30],[253,31,253,35],[253,36,253,38],[253,39,253,43],[253,44,253,46],[253,47,253,51],[253,52,253,54],[253,1,253,13],[253,14,253,15],[253,16,253,18],[253,19,253,22],[253,23,253,27],[253,28,253,30],[252,31,252,35],[252,36,252,38],[252,39,252,43],[252,44,252,46],[252,47,252,51],[252,52,252,54],[252,1,252,13],[252,14,252,15],[252,16,252,18],[252,19,252,22],[252,23,252,27],[252,28,252,30],[251,31,251,35],[251,36,251,38],[251,39,251,43],[251,44,251,46],[251,47,251,51],[251,52,251,54],[251,1,251,13],[251,14,251,15],[251,16,251,18],[251,19,251,22],[251,23,251,27],[251,28,251,30],[250,31,250,35],[250,36,250,38],[250,39,250,43],[250,44,250,46],[250,47,250,51],[250,52,250,54],[250,1,250,13],[250,14,250,15],[250,16,250,18],[250,19,250,22],[250,23,250,27],[250,28,250,30],[249,31,249,35],[249,36,249,38],[249,39,249,43],[249,44,249,46],[249,47,249,51],[249,52,249,54],[249,1,249,13],[249,14,249,15],[249,16,249,18],[249,19,249,22],[249,23,249,27],[249,28,249,30],[248,31,248,35],[248,36,248,38],[248,39,248,43],[248,44,248,46],[248,47,248,51],[248,52,248,54],[248,1,248,13],[248,14,248,15],[248,16,248,18],[248,19,248,22],[248,23,248,27],[248,28,248,30],[247,31,247,35],[247,36,247,38],[247,39,247,43],[247,44,247,46],[247,47,247,51],[247,52,247,54],[247,1,247,13],[247,14,247,15],[247,16,247,18],[247,19,247,22],[247,23,247,27],[247,28,247,30],[243,52,243,54],[243,1,243,13],[243,14,243,15],[243,16,243,18],[243,19,243,22],[243,23,243,27],[243,28,243,30],[246,31,246,35],[246,36,246,38],[246,39,246,43],[246,44,246,46],[246,47,246,51],[246,52,246,54],[246,1,246,13],[246,14,246,15],[246,16,246,18],[246,19,246,22],[246,23,246,27],[246,28,246,30],[245,31,245,35],[245,36,245,38],[245,39,245,43],[245,44,245,46],[245,47,245,51],[245,52,245,54],[245,1,245,13],[245,14,245,15],[245,16,245,18],[245,19,245,22],[245,23,245,27],[245,28,245,30],[242,31,242,35],[242,36,242,38],[242,39,242,43],[242,44,242,46],[242,47,242,51],[242,52,242,54],[242,1,242,13],[242,14,242,15],[242,16,242,18],[242,19,242,22],[242,23,242,27],[242,28,242,30],[239,44,239,46],[239,47,239,51],[241,1,241,13],[244,31,244,35],[244,36,244,38],[244,39,244,43],[244,44,244,46],[244,47,244,51],[244,52,244,54],[244,1,244,13],[244,14,244,15],[244,16,244,18],[244,19,244,22],[244,23,244,27],[244,28,244,30],[243,31,243,35],[243,36,243,38],[243,39,243,43],[243,44,243,46],[243,47,243,51],[238,44,238,51],[238,52,239,54],[239,14,239,15],[239,16,239,18],[239,19,239,22],[239,23,239,27],[239,28,239,30],[239,31,239,35],[239,36,239,38],[239,39,239,43],[234,19,236,22],[234,24,236,29],[238,1,239,13],[238,14,238,27],[238,28,238,35],[238,36,238,43],[221,1,227,17],[221,50,223,50],[231,1,233,5],[231,6,233,13],[231,23,236,23],[231,24,233,29],[234,1,236,5],[234,6,236,13],[234,15,236,16],[234,17,236,18],[214,1,214,13],[213,1,213,13],[214,28,215,30],[214,31,215,35],[214,36,215,38],[214,39,215,43],[214,44,215,46],[214,47,215,51],[214,52,215,54],[216,31,216,35],[216,36,216,38],[216,39,216,43],[216,44,216,46],[216,47,216,51],[216,52,216,54],[216,1,216,13],[216,14,216,15],[216,16,216,18],[216,19,216,22],[216,23,216,27],[216,28,216,30],[215,1,215,13],[208,28,209,30],[208,31,209,35],[210,1,210,13],[209,1,209,13],[210,28,211,30],[210,31,211,35],[210,36,211,38],[210,39,211,43],[210,44,211,46],[210,47,211,51],[210,52,211,54],[212,1,212,13],[211,1,211,13],[212,28,213,30],[212,31,213,35],[212,36,213,38],[212,39,213,43],[212,44,213,46],[212,47,213,51],[212,52,213,54],[208,23,209,27],[177,6,179,13],[177,23,182,23],[177,24,179,29],[180,1,182,5],[180,6,182,13],[180,15,182,16],[180,17,182,18],[202,1,202,13],[185,44,185,46],[185,47,185,51],[201,1,201,13],[186,36,187,38],[186,39,187,43],[188,36,189,38],[188,39,189,43],[190,36,191,38],[190,39,191,43],[192,36,193,38],[192,39,193,43],[194,36,195,38],[194,39,195,43],[196,36,197,38],[196,39,197,43],[198,36,199,38],[198,39,199,43],[200,36,201,38],[200,39,201,43],[202,36,203,38],[202,39,203,43],[162,31,162,35],[162,36,162,38],[162,39,162,43],[162,44,162,46],[162,47,162,51],[162,52,162,54],[162,1,162,13],[162,14,162,15],[162,16,162,18],[162,19,162,22],[162,23,162,27],[162,28,162,30],[161,1,161,13],[184,44,184,51],[184,52,185,54],[185,14,185,15],[185,16,185,18],[185,19,185,22],[185,23,185,27],[185,28,185,30],[185,31,185,35],[185,36,185,38],[185,39,185,43],[180,19,182,22],[180,24,182,29],[184,1,185,13],[184,14,184,27],[184,28,184,35],[184,36,184,43],[167,1,173,17],[167,50,169,50],[177,1,179,5],[156,44,157,46],[156,47,157,51],[156,52,157,54],[158,1,158,13],[157,1,157,13],[158,28,159,30],[158,31,159,35],[158,36,159,38],[158,39,159,43],[158,44,159,46],[158,47,159,51],[158,52,159,54],[160,1,160,13],[159,1,159,13],[160,28,161,30],[160,31,161,35],[160,36,161,38],[160,39,161,43],[160,44,161,46],[160,47,161,51],[160,52,161,54],[132,36,133,38],[132,39,133,43],[134,36,135,38],[134,39,135,43],[136,36,137,38],[136,39,137,43],[150,1,150,13],[149,1,149,13],[152,1,152,13],[151,1,151,13],[154,1,154,13],[153,1,153,13],[154,28,155,30],[154,31,155,35],[156,1,156,13],[155,1,155,13],[156,28,157,30],[156,31,157,35],[156,36,157,38],[156,39,157,43],[138,36,139,38],[138,39,139,43],[140,36,141,38],[140,39,141,43],[142,36,143,38],[142,39,143,43],[144,36,145,38],[144,39,145,43],[146,36,147,38],[146,39,147,43],[148,36,149,38],[148,39,149,43],[130,44,130,51],[130,52,131,54],[131,14,131,15],[131,16,131,18],[131,19,131,22],[131,23,131,27],[131,28,131,30],[131,31,131,35],[131,36,131,38],[131,39,131,43],[126,19,128,22],[126,24,128,29],[130,1,131,13],[130,14,130,27],[130,28,130,35],[130,36,130,43],[113,1,119,17],[113,50,115,50],[123,1,125,5],[123,6,125,13],[123,23,128,23],[123,24,125,29],[126,1,128,5],[126,6,128,13],[126,15,128,16],[126,17,128,18],[131,44,131,46],[131,47,131,51],[104,47,105,51],[104,52,105,54],[106,1,106,13],[105,1,105,13],[106,28,107,30],[106,31,107,35],[106,36,107,38],[106,39,107,43],[106,44,107,46],[106,47,107,51],[106,52,107,54],[108,31,108,35],[108,36,108,38],[108,39,108,43],[108,44,108,46],[108,47,108,51],[108,52,108,54],[108,1,108,13],[108,14,108,15],[108,16,108,18],[108,19,108,22],[108,23,108,27],[108,28,108,30],[107,1,107,13],[98,36,99,38],[98,39,99,43],[100,1,100,13],[99,1,99,13],[100,36,101,38],[100,39,101,43],[102,1,102,13],[101,1,101,13],[102,36,103,38],[102,39,103,43],[104,1,104,13],[103,1,103,13],[104,28,105,30],[104,31,105,35],[104,36,105,38],[104,39,105,43],[104,44,105,46],[100,23,101,27],[98,14,99,15],[98,16,99,18],[98,19,99,22],[98,23,99,27],[69,6,71,13],[69,23,74,23],[69,24,71,29],[72,1,74,5],[72,6,74,13],[72,15,74,16],[72,17,74,18],[94,1,94,13],[77,44,77,46],[77,47,77,51],[93,1,93,13],[80,28,81,30],[80,31,81,35],[82,28,83,30],[82,31,83,35],[84,28,85,30],[84,31,85,35],[86,28,87,30],[86,31,87,35],[88,28,89,30],[88,31,89,35],[90,28,91,30],[90,31,91,35],[92,28,93,30],[92,31,93,35],[94,28,95,30],[94,31,95,35],[80,44,81,46],[80,47,81,51],[94,44,95,46],[94,47,95,51],[80,36,81,38],[57,31,57,35],[57,36,57,38],[57,39,57,43],[57,44,57,46],[57,47,57,51],[57,52,57,54],[57,1,57,13],[57,14,57,15],[57,16,57,18],[57,19,57,22],[57,23,57,27],[57,28,57,30],[56,1,56,13],[76,44,76,51],[76,52,77,54],[77,14,77,15],[77,16,77,18],[77,19,77,22],[77,23,77,27],[77,28,77,30],[77,31,77,35],[77,36,77,38],[77,39,77,43],[72,19,74,22],[72,24,74,29],[76,1,77,13],[76,14,76,27],[76,28,76,35],[76,36,76,43],[59,1,65,17],[59,50,61,50],[69,1,71,5],[53,36,54,38],[53,39,54,43],[53,44,54,46],[53,47,54,51],[55,1,55,13],[54,1,54,13],[55,36,56,38],[55,39,56,43],[55,44,56,46],[55,47,56,51],[45,16,46,18],[45,19,46,22],[45,23,46,27],[49,44,50,46],[49,47,50,51],[51,44,52,46],[51,47,52,51],[51,28,52,30],[51,31,52,35],[53,28,54,30],[53,31,54,35],[55,28,56,30],[55,31,56,35],[51,36,52,38],[51,39,52,43],[47,16,48,18],[47,19,48,22],[47,23,48,27],[33,52,34,54],[34,14,34,15],[34,16,34,18],[34,19,34,22],[34,23,34,27],[34,28,34,30],[34,31,34,35],[34,36,34,38],[34,39,34,43],[34,44,34,46],[33,1,34,13],[33,14,33,27],[33,28,33,35],[33,36,33,43],[33,44,33,51],[34,47,34,51],[47,1,47,13],[46,1,46,13],[41,47,42,51],[43,44,44,46],[43,47,44,51],[45,44,46,46],[45,47,46,51],[47,44,48,46],[47,47,48,51],[35,36,36,38],[35,39,36,43],[37,36,38,38],[37,39,38,43],[39,36,40,38],[39,39,40,43],[41,36,42,38],[22,33,24,34],[22,35,24,36],[22,37,24,40],[24,19,26,23],[24,24,26,31],[26,34,31,34],[26,35,28,40],[27,19,29,27],[27,28,29,31],[29,35,31,40],[17,1,21,5],[17,6,21,15],[21,19,23,23],[21,24,23,31],[22,1,31,1],[22,2,26,5],[22,6,26,15],[27,2,31,5],[27,6,31,15],[9,37,18,54],[4,43,6,47],[4,48,6,54],[6,17,8,19],[11,1,12,14],[14,1,15,2],[14,3,15,8],[14,9,15,10],[14,11,15,17],[0,8,4,33],[0,50,2,50],[1,39,2,41],[1,42,2,43],[1,44,2,44],[1,45,2,45],[1,46,2,46],[1,47,2,47],[1,48,2,48],[4,37,6,42],[7,37,8,54],[0,51,2,55],[35,0,36,0],[35,1,35,13],[35,14,36,15],[35,16,36,18],[35,19,36,22],[35,23,36,27],[36,1,36,13],[37,0,38,0],[37,1,37,13],[37,14,38,15],[37,16,38,18],[37,19,38,22],[37,23,38,27],[38,1,38,13],[39,0,40,0],[39,1,39,13],[39,14,40,15],[39,16,40,18],[39,19,40,22],[39,23,40,27],[40,1,40,13],[41,0,42,0],[41,1,41,13],[41,14,42,15],[41,16,42,18],[41,19,42,22],[41,23,42,27],[42,1,42,13],[43,0,44,0],[43,1,43,13],[43,14,44,15],[43,16,44,18],[43,19,44,22],[43,23,44,27],[44,1,44,13],[45,0,46,0],[45,1,45,13],[45,14,46,15],[49,0,50,0],[49,14,50,15],[49,16,50,18],[49,19,50,22],[49,23,50,27],[51,0,52,0],[51,14,52,15],[51,16,52,18],[51,19,52,22],[51,23,52,27],[53,0,54,0],[53,14,54,15],[53,16,54,18],[53,19,54,22],[53,23,54,27],[49,1,49,13],[48,1,48,13],[51,1,51,13],[50,1,50,13],[53,1,53,13],[52,1,52,13],[39,52,40,54],[41,52,42,54],[43,52,44,54],[45,52,46,54],[47,52,48,54],[49,52,50,54],[51,52,52,54],[55,0,56,0],[55,14,56,15],[55,16,56,18],[55,19,56,22],[55,23,56,27],[35,28,36,30],[35,31,36,35],[37,28,38,30],[37,31,38,35],[39,28,40,30],[39,31,40,35],[41,28,42,30],[41,31,42,35],[43,28,44,30],[43,31,44,35],[45,28,46,30],[45,31,46,35],[47,28,48,30],[47,31,48,35],[49,28,50,30],[49,31,50,35],[53,52,54,54],[55,52,56,54],[47,0,48,0],[47,14,48,15],[78,0,79,0],[78,1,78,13],[78,14,79,15],[78,16,79,18],[78,19,79,22],[78,23,79,27],[79,1,79,13],[78,28,79,30],[78,31,79,35],[78,36,79,38],[78,39,79,43],[78,44,79,46],[78,47,79,51],[78,52,79,54],[35,44,36,46],[35,47,36,51],[37,44,38,46],[37,47,38,51],[39,44,40,46],[39,47,40,51],[41,44,42,46],[41,39,42,43],[43,36,44,38],[43,39,44,43],[45,36,46,38],[45,39,46,43],[47,36,48,38],[47,39,48,43],[49,36,50,38],[49,39,50,43],[35,52,36,54],[37,52,38,54],[80,0,81,0],[80,1,80,13],[80,14,81,15],[80,16,81,18],[80,19,81,22],[80,23,81,27],[81,1,81,13],[82,0,83,0],[82,1,82,13],[82,14,83,15],[82,16,83,18],[82,19,83,22],[82,23,83,27],[83,1,83,13],[84,0,85,0],[84,1,84,13],[84,14,85,15],[84,16,85,18],[84,19,85,22],[84,23,85,27],[85,1,85,13],[96,1,96,13],[95,1,95,13],[98,1,98,13],[97,1,97,13],[86,0,87,0],[86,1,86,13],[86,14,87,15],[86,16,87,18],[86,19,87,22],[86,23,87,27],[87,1,87,13],[88,0,89,0],[88,1,88,13],[88,14,89,15],[88,16,89,18],[88,19,89,22],[88,23,89,27],[89,1,89,13],[90,0,91,0],[90,1,90,13],[90,14,91,15],[90,16,91,18],[90,19,91,22],[90,23,91,27],[91,1,91,13],[102,0,103,0],[102,14,103,15],[102,16,103,18],[102,19,103,22],[102,23,103,27],[104,0,105,0],[104,14,105,15],[104,16,105,18],[104,19,105,22],[104,23,105,27],[106,0,107,0],[106,14,107,15],[106,16,107,18],[106,19,107,22],[106,23,107,27],[92,0,93,0],[92,1,92,13],[92,14,93,15],[92,16,93,18],[92,19,93,22],[92,23,93,27],[94,0,95,0],[94,14,95,15],[94,16,95,18],[94,19,95,22],[94,23,95,27],[96,0,97,0],[96,14,97,15],[96,16,97,18],[96,19,97,22],[96,23,97,27],[98,0,99,0],[80,39,81,43],[82,36,83,38],[82,39,83,43],[84,36,85,38],[84,39,85,43],[86,36,87,38],[86,39,87,43],[88,36,89,38],[88,39,89,43],[90,36,91,38],[90,39,91,43],[92,36,93,38],[92,39,93,43],[94,36,95,38],[94,39,95,43],[96,36,97,38],[96,39,97,43],[80,52,81,54],[82,44,83,46],[82,47,83,51],[82,52,83,54],[84,44,85,46],[84,47,85,51],[84,52,85,54],[86,44,87,46],[86,47,87,51],[86,52,87,54],[88,44,89,46],[88,47,89,51],[88,52,89,54],[90,44,91,46],[90,47,91,51],[90,52,91,54],[92,44,93,46],[92,47,93,51],[92,52,93,54],[94,52,95,54],[96,44,97,46],[96,47,97,51],[96,52,97,54],[98,44,99,46],[98,47,99,51],[98,52,99,54],[100,44,101,46],[100,47,101,51],[100,52,101,54],[102,44,103,46],[102,47,103,51],[102,52,103,54],[132,0,133,0],[132,1,132,13],[132,14,133,15],[132,16,133,18],[132,19,133,22],[132,23,133,27],[133,1,133,13],[96,28,97,30],[96,31,97,35],[98,28,99,30],[98,31,99,35],[100,28,101,30],[100,31,101,35],[102,28,103,30],[102,31,103,35],[100,0,101,0],[100,14,101,15],[100,16,101,18],[100,19,101,22],[134,0,135,0],[134,1,134,13],[134,14,135,15],[134,16,135,18],[134,19,135,22],[134,23,135,27],[135,1,135,13],[136,0,137,0],[136,1,136,13],[136,14,137,15],[136,16,137,18],[136,19,137,22],[136,23,137,27],[137,1,137,13],[138,0,139,0],[138,1,138,13],[138,14,139,15],[138,16,139,18],[138,19,139,22],[138,23,139,27],[139,1,139,13],[140,0,141,0],[140,1,140,13],[140,14,141,15],[140,16,141,18],[140,19,141,22],[140,23,141,27],[141,1,141,13],[142,0,143,0],[142,1,142,13],[142,14,143,15],[142,16,143,18],[142,19,143,22],[142,23,143,27],[143,1,143,13],[144,0,145,0],[144,1,144,13],[144,14,145,15],[144,16,145,18],[144,19,145,22],[144,23,145,27],[145,1,145,13],[154,14,155,15],[154,16,155,18],[154,19,155,22],[154,23,155,27],[156,0,157,0],[156,14,157,15],[156,16,157,18],[156,19,157,22],[156,23,157,27],[158,0,159,0],[158,14,159,15],[158,16,159,18],[158,19,159,22],[158,23,159,27],[146,0,147,0],[146,1,146,13],[146,14,147,15],[146,16,147,18],[146,19,147,22],[146,23,147,27],[148,0,149,0],[148,14,149,15],[148,16,149,18],[148,19,149,22],[148,23,149,27],[148,1,148,13],[147,1,147,13],[150,0,151,0],[150,14,151,15],[150,16,151,18],[150,19,151,22],[150,23,151,27],[144,44,145,46],[144,47,145,51],[144,52,145,54],[146,44,147,46],[146,47,147,51],[146,52,147,54],[148,44,149,46],[148,47,149,51],[160,0,161,0],[160,14,161,15],[160,16,161,18],[160,19,161,22],[160,23,161,27],[132,28,133,30],[132,31,133,35],[134,28,135,30],[134,31,135,35],[136,28,137,30],[136,31,137,35],[138,28,139,30],[138,31,139,35],[140,28,141,30],[140,31,141,35],[142,28,143,30],[142,31,143,35],[144,28,145,30],[144,31,145,35],[146,28,147,30],[146,31,147,35],[148,28,149,30],[148,31,149,35],[150,28,151,30],[132,44,133,46],[132,47,133,51],[132,52,133,54],[134,44,135,46],[134,47,135,51],[134,52,135,54],[136,44,137,46],[136,47,137,51],[136,52,137,54],[138,44,139,46],[138,47,139,51],[138,52,139,54],[140,44,141,46],[140,47,141,51],[140,52,141,54],[142,44,143,46],[142,47,143,51],[142,52,143,54],[148,52,149,54],[150,44,151,46],[150,47,151,51]],"merged_total":1198,"flags":["merged_cut"]}
[null,null,null,null,null,null,null,null,"請 求 書（出来高・分割納入用）",null,null,null,null,null,null,null,null,null,null,null,null,null,null,null,null,null,null,null,null,null,null,null,null,null,null,null,null,null,null,null,null,null,null,null,null,null,null,null,null,null,"No."]
[null,null,null,null,null,null,null,null,null,null,null,null,null,null,null,null,null,null,null,null,null,null,null,null,null,null,null,null,null,null,null,null,null,null,null,null,null,null,null,"日付",null,null,null,null,"年",null,"月",null,"日"]
[]
[]
[null,null,null,null,null,null,null,null,null,null,null,null,null,null,null,null,null,null,null,null,null,null,null,null,null,null,null,null,null,null,null,null,null,null,null,null,null,"請求者住所･氏名･印･電話",null,null,null,null,null,"取引先コード",null,null,null,null,{"$f":"入力フォーム!B3","v":0}]
[]
[null,null,null,null,null,null,null,null,null,null,null,null,null,null,null,null,null,"御中"]
[null,null,null,null,null,null,null,null,null,null,null,null,null,null,null,null,null,null,null,null,null,null,null,null,null,null,null,null,null,null,null,null,null,null,null,null,null,{"$f":"\"登録番号\"&\" \"&入力フォーム!B4","v":"登録番号 "}]
[]
[]
[]
[null,"下記の通り請求いたします。"]
[]
[]
[null,null,null,"月分請求内訳書",null,null,null,null,null,null,null,"枚 (本用紙を含む)"]
[]
[]
[null,"請 求 金 額",null,null,null,null,{"$f":"SUM(G23:P32)","v":0}]
[]
[]
[]
[null,null,null,null,null,null,null,null,null,null,null,null,null,null,null,null,null,null,null,"製造番号",null,null,null,null,{"$f":"見積書!$B$47","v":""}]
[null,"内　訳","税抜金額",null,null,null,{"$f":"AN58+AN109+AN163+AN217+AN257","v":0},null,null,null,null,null,null,null,null,null,null,null,null,null,null,null,null,null,null,null,null,null,null,null,null,null,null,"第",null,5,null,"回請求"]
[]
[null,null,null,null,null,null,null,null,null,null,null,null,null,null,null,null,null,null,null,"注文番号",null,null,null,null,{"$f":"IF('出来高内訳書 (第1回請求)'!Y25=\"\",\"\",'出来高内訳書 (第1回請求)'!Y25)","v":""}]
[]
[null,null,null,null,null,null,null,null,null,null,null,null,null,null,null,null,null,null,null,null,null,null,null,null,null,null,null,null,null,null,null,null,null,null,"※科目"]
[null,null,"消費税額等",null,null,null,{"$f":"IF(AC28=\"10％\",ROUNDDOWN(G23*10%,0),IF(AC28=\"(軽)8%\",ROUNDDOWN(G23*8%,0),0))","v":0},null,null,null,null,null,null,null,null,null,null,null,null,"消費税率",null,null,null,null,null,null,null,null,{"$f":"入力フォーム!B10","v":"10％"}]
[]
[]
[]
[]
[]
[null,"工　種・品　名",null,null,null,null,null,null,null,null,null,null,null,null,"契　約　金　額",null,null,null,null,null,null,null,null,null,null,null,null,null,"前回までの出来高",null,null,null,null,null,null,null,"今回出来高",null,null,null,null,null,null,null,"残高",null,null,null,null,null,null,null,"備　考"]
[null,null,null,null,null,null,null,null,null,null,null,null,null,null,"単位",null,"数量",null,null,"単価",null,null,null,"金額",null,null,null,null,"数量",null,null,"金額",null,null,null,null,"数量",null,null,"金額",null,null,null,null,"数量",null,null,"金額"]
[1,{"$f":"見積書!F61","v":""},null,null,null,null,null,null,null,null,null,null,null,null,{"$f":"見積書!Q61","v":""},null,{"$f":"見積書!R61","v":""},null,null,{"$f":"見積書!S61","v":""},null,null,null,{"$f":"見積書!T61","v":""},null,null,null,null,{"$f":"IF(Q36=\"\",\"\",'出来高内訳書 (第4回請求)'!AC36+'出来高内訳書 (第4回請求)'!AK36)","v":""},null,null,{"$f":"IF(T36=\"\",\"\",ROUND(T36*AC36,0))","v":""},null,null,null,null,null,null,null,{"$f":"IF(T36=\"\",\"\",ROUND(T36*AK36,0))","v":""},null,null,null,null,{"$f":"IF(Q36=\"\",\"\",ROUND(Q36-AC36-AK36,2))","v":""},null,null,{"$f":"IF(T36=\"\",\"\",(IF(AS36<0,\"出来高が契約を超過\",X36-AN36-AF36)))","v":""}]
[null,{"$f":"見積書!F62","v":""}]
[2,{"$f":"見積書!F63","v":""},null,null,null,null,null,null,null,null,null,null,null,null,{"$f":"見積書!Q63","v":""},null,{"$f":"見積書!R63","v":""},null,null,{"$f":"見積書!S63","v":""},null,null,null,{"$f":"見積書!T63","v":""},null,null,null,null,{"$f":"IF(Q38=\"\",\"\",'出来高内訳書 (第4回請求)'!AC38+'出来高内訳書 (第4回請求)'!AK38)","v":""},null,null,{"$f":"IF(T38=\"\",\"\",ROUND(T38*AC38,0))","v":""},null,null,null,null,null,null,null,{"$f":"IF(T38=\"\",\"\",ROUND(T38*AK38,0))","v":""},null,null,null,null,{"$f":"IF(Q38=\"\",\"\",ROUND(Q38-AC38-AK38,2))","v":""},null,null,{"$f":"IF(T38=\"\",\"\",(IF(AS38<0,\"出来高が契約を超過\",X38-AN38-AF38)))","v":""}]
[null,{"$f":"見積書!F64","v":""}]
[3,{"$f":"見積書!F65","v":""},null,null,null,null,null,null,null,null,null,null,null,null,{"$f":"見積書!Q65","v":""},null,{"$f":"見積書!R65","v":""},null,null,{"$f":"見積書!S65","v":""},null,null,null,{"$f":"見積書!T65","v":""},null,null,null,null,{"$f":"IF(Q40=\"\",\"\",'出来高内訳書 (第4回請求)'!AC40+'出来高内訳書 (第4回請求)'!AK40)","v":""},null,null,{"$f":"IF(T40=\"\",\"\",ROUND(T40*AC40,0))","v":""},null,null,null,null,null,null,null,{"$f":"IF(T40=\"\",\"\",ROUND(T40*AK40,0))","v":""},null,null,null,null,{"$f":"IF(Q40=\"\",\"\",ROUND(Q40-AC40-AK40,2))","v":""},null,null,{"$f":"IF(T40=\"\",\"\",(IF(AS40<0,\"出来高が契約を超過\",X40-AN40-AF40)))","v":""}]
[null,{"$f":"見積書!F66","v":""}]
[4,{"$f":"見積書!F67","v":""},null,null,null,null,null,null,null,null,null,null,null,null,{"$f":"見積書!Q67","v":""},null,{"$f":"見積書!R67","v":""},null,null,{"$f":"見積書!S67","v":""},null,null,null,{"$f":"見積書!T67","v":""},null,null,null,null,{"$f":"IF(Q42=\"\",\"\",'出来高内訳書 (第4回請求)'!AC42+'出来高内訳書 (第4回請求)'!AK42)","v":""},null,null,{"$f":"IF(T42=\"\",\"\",ROUND(T42*AC42,0))","v":""},null,null,null,null,null,null,null,{"$f":"IF(T42=\"\",\"\",ROUND(T42*AK42,0))","v":""},null,null,null,null,{"$f":"IF(Q42=\"\",\"\",ROUND(Q42-AC42-AK42,2))","v":""},null,null,{"$f":"IF(T42=\"\",\"\",(IF(AS42<0,\"出来高が契約を超過\",X42-AN42-AF42)))","v":""}]
[null,{"$f":"見積書!F68","v":""}]
[5,{"$f":"見積書!F69","v":""},null,null,null,null,null,null,null,null,null,null,null,null,{"$f":"見積書!Q69","v":""},null,{"$f":"見積書!R69","v":""},null,null,{"$f":"見積書!S69","v":""},null,null,null,{"$f":"見積書!T69","v":""},null,null,null,null,{"$f":"IF(Q44=\"\",\"\",'出来高内訳書 (第4回請求)'!AC44+'出来高内訳書 (第4回請求)'!AK44)","v":""},null,null,{"$f":"IF(T44=\"\",\"\",ROUND(T44*AC44,0))","v":""},null,null,null,null,null,null,null,{"$f":"IF(T44=\"\",\"\",ROUND(T44*AK44,0))","v":""},null,null,null,null,{"$f":"IF(Q44=\"\",\"\",ROUND(Q44-AC44-AK44,2))","v":""},null,null,{"$f":"IF(T44=\"\",\"\",(IF(AS44<0,\"出来高が契約を超過\",X44-AN44-AF44)))","v":""}]
[null,{"$f":"見積書!F70","v":""}]
[6,{"$f":"見積書!F71","v":""},null,null,null,null,null,null,null,null,null,null,null,null,{"$f":"見積書!Q71","v":""},null,{"$f":"見積書!R71","v":""},null,null,{"$f":"見積書!S71","v":""},null,null,null,{"$f":"見積書!T71","v":""},null,null,null,null,{"$f":"IF(Q46=\"\",\"\",'出来高内訳書 (第4回請求)'!AC46+'出来高内訳書 (第4回請求)'!AK46)","v":""},null,null,{"$f":"IF(T46=\"\",\"\",ROUND(T46*AC46,0))","v":""},null,null,null,null,null,null,null,{"$f":"IF(T46=\"\",\"\",ROUND(T46*AK46,0))","v":""},null,null,null,null,{"$f":"IF(Q46=\"\",\"\",ROUND(Q46-AC46-AK46,2))","v":""},null,null,{"$f":"IF(T46=\"\",\"\",(IF(AS46<0,\"出来高が契約を超過\",X46-AN46-AF46)))","v":""}]
[null,{"$f":"見積書!F72","v":""}]
[7,{"$f":"見積書!F73","v":""},null,null,null,null,null,null,null,null,null,null,null,null,{"$f":"見積書!Q73","v":""},null,{"$f":"見積書!R73","v":""},null,null,{"$f":"見積書!S73","v":""},null,null,null,{"$f":"見積書!T73","v":""},null,null,null,null,{"$f":"IF(Q48=\"\",\"\",'出来高内訳書 (第4回請求)'!AC48+'出来高内訳書 (第4回請求)'!AK48)","v":""},null,null,{"$f":"IF(T48=\"\",\"\",ROUND(T48*AC48,0))","v":""},null,null,null,null,null,null,null,{"$f":"IF(T48=\"\",\"\",ROUND(T48*AK48,0))","v":""},null,null,null,null,{"$f":"IF(Q48=\"\",\"\",ROUND(Q48-AC48-AK48,2))","v":""},null,null,{"$f":"IF(T48=\"\",\"\",(IF(AS48<0,\"出来高が契約を超過\",X48-AN48-AF48)))","v":""}]
[null,{"$f":"見積書!F74","v":""}]
[8,{"$f":"見積書!F75","v":""},null,null,null,null,null,null,null,null,null,null,null,null,{"$f":"見積書!Q75","v":""},null,{"$f":"見積書!R75","v":""},null,null,{"$f":"見積書!S75","v":""},null,null,null,{"$f":"見積書!T75","v":""},null,null,null,null,{"$f":"IF(Q50=\"\",\"\",'出来高内訳書 (第4回請求)'!AC50+'出来高内訳書 (第4回請求)'!AK50)","v":""},null,null,{"$f":"IF(T50=\"\",\"\",ROUND(T50*AC50,0))","v":""},null,null,null,null,null,null,null,{"$f":"IF(T50=\"\",\"\",ROUND(T50*AK50,0))","v":""},null,null,null,null,{"$f":"IF(Q50=\"\",\"\",ROUND(Q50-AC50-AK50,2))","v":""},null,null,{"$f":"IF(T50=\"\",\"\",(IF(AS50<0,\"出来高が契約を超過\",X50-AN50-AF50)))","v":""}]
[null,{"$f":"見積書!F76","v":""}]
[9,{"$f":"見積書!F77","v":""},null,null,null,null,null,null,null,null,null,null,null,null,{"$f":"見積書!Q77","v":""},null,{"$f":"見積書!R77","v":""},null,null,{"$f":"見積書!S77","v":""},null,null,null,{"$f":"見積書!T77","v":""},null,null,null,null,{"$f":"IF(Q52=\"\",\"\",'出来高内訳書 (第4回請求)'!AC52+'出来高内訳書 (第4回請求)'!AK52)","v":""},null,null,{"$f":"IF(T52=\"\",\"\",ROUND(T52*AC52,0))","v":""},null,null,null,null,null,null,null,{"$f":"IF(T52=\"\",\"\",ROUND(T52*AK52,0))","v":""},null,null,null,null,{"$f":"IF(Q52=\"\",\"\",ROUND(Q52-AC52-AK52,2))","v":""},null,null,{"$f":"IF(T52=\"\",\"\",(IF(AS52<0,\"出来高が契約を超過\",X52-AN52-AF52)))","v":""}]
[null,{"$f":"見積書!F78","v":""}]
[10,{"$f":"見積書!F79","v":""},null,null,null,null,null,null,null,null,null,null,null,null,{"$f":"見積書!Q79","v":""},null,{"$f":"見積書!R79","v":""},null,null,{"$f":"見積書!S79","v":""},null,null,null,{"$f":"見積書!T79","v":""},null,null,null,null,{"$f":"IF(Q54=\"\",\"\",'出来高内訳書 (第4回請求)'!AC54+'出来高内訳書 (第4回請求)'!AK54)","v":""},null,null,{"$f":"IF(T54=\"\",\"\",ROUND(T54*AC54,0))","v":""},null,null,null,null,null,null,null,{"$f":"IF(T54=\"\",\"\",ROUND(T54*AK54,0))","v":""},null,null,null,null,{"$f":"IF(Q54=\"\",\"\",ROUND(Q54-AC54-AK54,2))","v":""},null,null,{"$f":"IF(T54=\"\",\"\",(IF(AS54<0,\"出来高が契約を超過\",X54-AN54-AF54)))","v":""}]
[null,{"$f":"見積書!F80","v":""}]
[11,{"$f":"見積書!F81","v":""},null,null,null,null,null,null,null,null,null,null,null,null,{"$f":"見積書!Q81","v":""},null,{"$f":"見積書!R81","v":""},null,null,{"$f":"見積書!S81","v":""},null,null,null,{"$f":"見積書!T81","v":""},null,null,null,null,{"$f":"IF(Q56=\"\",\"\",'出来高内訳書 (第4回請求)'!AC56+'出来高内訳書 (第4回請求)'!AK56)","v":""},null,null,{"$f":"IF(T56=\"\",\"\",ROUND(T56*AC56,0))","v":""},null,null,null,null,null,null,null,{"$f":"IF(T56=\"\",\"\",ROUND(T56*AK56,0))","v":""},null,null,null,null,{"$f":"IF(Q56=\"\",\"\",ROUND(Q56-AC56-AK56,2))","v":""},null,null,{"$f":"IF(T56=\"\",\"\",(IF(AS56<0,\"出来高が契約を超過\",X56-AN56-AF56)))","v":""}]
[null,{"$f":"見積書!F82","v":""}]
[null,"小計",null,null,null,null,null,null,null,null,null,null,null,null,null,null,null,null,null,null,null,null,null,{"$f":"SUM(X36:AB57)","v":0},null,null,null,null,null,null,null,{"$f":"SUM(AF36:AJ57)","v":0},null,null,null,null,null,null,null,{"$f":"SUM(AN36:AR57)","v":0},null,null,null,null,null,null,null,{"$f":"X58-AF58-AN58","v":0}]
[]
[null,"請求内訳書（出来高・分割納入用）",null,null,null,null,null,null,null,null,null,null,null,null,null,null,null,null,null,null,null,null,null,null,null,null,null,null,null,null,null,null,null,null,null,null,null,null,null,null,null,null,null,null,null,null,null,null,null,null,"No."]
[]
[]
[]
[]
[]
[]
[]
[]
[]
[null,"製造番号",null,null,null,null,{"$f":"Y22","v":""},null,null,null,null,null,null,null,null,null,null,null,null,null,null,null,null,"※科目"]
[]
[]
[null,"注文番号",null,null,null,null,{"$f":"Y25","v":""},null,null,null,null,null,null,null,null,"第",null,{"$f":"AJ23","v":5},null,"回請求"]
[]
[]
[]
[null,"工　種・品　名",null,null,null,null,null,null,null,null,null,null,null,null,"契　約　金　額",null,null,null,null,null,null,null,null,null,null,null,null,null,"前回までの出来高",null,null,null,null,null,null,null,"今回出来高",null,null,null,null,null,null,null,"残高",null,null,null,null,null,null,null,"備　考"]
[null,null,null,null,null,null,null,null,null,null,null,null,null,null,"単位",null,"数量",null,null,"単価",null,null,null,"金額",null,null,null,null,"数量",null,null,"金額",null,null,null,null,"数量",null,null,"金額",null,null,null,null,"数量",null,null,"金額"]
[12,{"$f":"見積書!F83","v":""},null,null,null,null,null,null,null,null,null,null,null,null,{"$f":"見積書!Q83","v":""},null,{"$f":"見積書!R83","v":""},null,null,{"$f":"見積書!S83","v":""},null,null,null,{"$f":"見積書!T83","v":""},null,null,null,null,{"$f":"IF(Q79=\"\",\"\",'出来高内訳書 (第4回請求)'!AC79+'出来高内訳書 (第4回請求)'!AK79)","v":""},null,null,{"$f":"IF(T79=\"\",\"\",ROUND(T79*AC79,0))","v":""},null,null,null,null,null,null,null,{"$f":"IF(T79=\"\",\"\",ROUND(T79*AK79,0))","v":""},null,null,null,null,{"$f":"IF(Q79=\"\",\"\",ROUND(Q79-AC79-AK79,2))","v":""},null,null,{"$f":"IF(T79=\"\",\"\",(IF(AS79<0,\"出来高が契約を超過\",X79-AN79-AF79)))","v":""}]
[null,{"$f":"見積書!F84","v":""}]
[13,{"$f":"見積書!F85","v":""},null,null,null,null,null,null,null,null,null,null,null,null,{"$f":"見積書!Q85","v":""},null,{"$f":"見積書!R85","v":""},null,null,{"$f":"見積書!S85","v":""},null,null,null,{"$f":"見積書!T85","v":""},null,null,null,null,{"$f":"IF(Q81=\"\",\"\",'出来高内訳書 (第4回請求)'!AC81+'出来高内訳書 (第4回請求)'!AK81)","v":""},null,null,{"$f":"IF(T81=\"\",\"\",ROUND(T81*AC81,0))","v":""},null,null,null,null,null,null,null,{"$f":"IF(T81=\"\",\"\",ROUND(T81*AK81,0))","v":""},null,null,null,null,{"$f":"IF(Q81=\"\",\"\",ROUND(Q81-AC81-AK81,2))","v":""},null,null,{"$f":"IF(T81=\"\",\"\",(IF(AS81<0,\"出来高が契約を超過\",X81-AN81-AF81)))","v":""}]
[null,{"$f":"見積書!F86","v":""}]
[14,{"$f":"'見積書 (2)'!F26","v":""},null,null,null,null,null,null,null,null,null,null,null,null,{"$f":"'見積書 (2)'!Q26","v":""},null,{"$f":"'見積書 (2)'!R26","v":""},null,null,{"$f":"'見積書 (2)'!S26","v":""},null,null,null,{"$f":"'見積書 (2)'!T26","v":""},null,null,null,null,{"$f":"IF(Q83=\"\",\"\",'出来高内訳書 (第4回請求)'!AC83+'出来高内訳書 (第4回請求)'!AK83)","v":""},null,null,{"$f":"IF(T83=\"\",\"\",ROUND(T83*AC83,0))","v":""},null,null,null,null,null,null,null,{"$f":"IF(T83=\"\",\"\",ROUND(T83*AK83,0))","v":""},null,null,null,null,{"$f":"IF(Q83=\"\",\"\",ROUND(Q83-AC83-AK83,2))","v":""},null,null,{"$f":"IF(T83=\"\",\"\",(IF(AS83<0,\"出来高が契約を超過\",X83-AN83-AF83)))","v":""}]
[null,{"$f":"'見積書 (2)'!F27","v":""}]
[15,{"$f":"'見積書 (2)'!F28","v":""},null,null,null,null,null,null,null,null,null,null,null,null,{"$f":"'見積書 (2)'!Q28","v":""},null,{"$f":"'見積書 (2)'!R28","v":""},null,null,{"$f":"'見積書 (2)'!S28","v":""},null,null,null,{"$f":"'見積書 (2)'!T28","v":""},null,null,null,null,{"$f":"IF(Q85=\"\",\"\",'出来高内訳書 (第4回請求)'!AC85+'出来高内訳書 (第4回請求)'!AK85)","v":""},null,null,{"$f":"IF(T85=\"\",\"\",ROUND(T85*AC85,0))","v":""},null,null,null,null,null,null,null,{"$f":"IF(T85=\"\",\"\",ROUND(T85*AK85,0))","v":""},null,null,null,null,{"$f":"IF(Q85=\"\",\"\",ROUND(Q85-AC85-AK85,2))","v":""},null,null,{"$f":"IF(T85=\"\",\"\",(IF(AS85<0,\"出来高が契約を超過\",X85-AN85-AF85)))","v":""}]
[null,{"$f":"'見積書 (2)'!F29","v":""}]
[16,{"$f":"'見積書 (2)'!F30","v":""},null,null,null,null,null,null,null,null,null,null,null,null,{"$f":"'見積書 (2)'!Q30","v":""},null,{"$f":"'見積書 (2)'!R30","v":""},null,null,{"$f":"'見積書 (2)'!S30","v":""},null,null,null,{"$f":"'見積書 (2)'!T30","v":""},null,null,null,null,{"$f":"IF(Q87=\"\",\"\",'出来高内訳書 (第4回請求)'!AC87+'出来高内訳書 (第4回請求)'!AK87)","v":""},null,null,{"$f":"IF(T87=\"\",\"\",ROUND(T87*AC87,0))","v":""},null,null,null,null,null,null,null,{"$f":"IF(T87=\"\",\"\",ROUND(T87*AK87,0))","v":""},null,null,null,null,{"$f":"IF(Q87=\"\",\"\",ROUND(Q87-AC87-AK87,2))","v":""},null,null,{"$f":"IF(T87=\"\",\"\",(IF(AS87<0,\"出来高が契約を超過\",X87-AN87-AF87)))","v":""}]
[null,{"$f":"'見積書 (2)'!F31","v":""}]
[17,{"$f":"'見積書 (2)'!F32","v":""},null,null,null,null,null,null,null,null,null,null,null,null,{"$f":"'見積書 (2)'!Q32","v":""},null,{"$f":"'見積書 (2)'!R32","v":""},null,null,{"$f":"'見積書 (2)'!S32","v":""},null,null,null,{"$f":"'見積書 (2)'!T32","v":""},null,null,null,null,{"$f":"IF(Q89=\"\",\"\",'出来高内訳書 (第4回請求)'!AC89+'出来高内訳書 (第4回請求)'!AK89)","v":""},null,null,{"$f":"IF(T89=\"\",\"\",ROUND(T89*AC89,0))","v":""},null,null,null,null,null,null,null,{"$f":"IF(T89=\"\",\"\",ROUND(T89*AK89,0))","v":""},null,null,null,null,{"$f":"IF(Q89=\"\",\"\",ROUND(Q89-AC89-AK89,2))","v":""},null,null,{"$f":"IF(T89=\"\",\"\",(IF(AS89<0,\"出来高が契約を超過\",X89-AN89-AF89)))","v":""}]
[null,{"$f":"'見積書 (2)'!F33","v":""}]
[18,{"$f":"'見積書 (2)'!F34","v":""},null,null,null,null,null,null,null,null,null,null,null,null,{"$f":"'見積書 (2)'!Q34","v":""},null,{"$f":"'見積書 (2)'!R34","v":""},null,null,{"$f":"'見積書 (2)'!S34","v":""},null,null,null,{"$f":"'見積書 (2)'!T34","v":""},null,null,null,null,{"$f":"IF(Q91=\"\",\"\",'出来高内訳書 (第4回請求)'!AC91+'出来高内訳書 (第4回請求)'!AK91)","v":""},null,null,{"$f":"IF(T91=\"\",\"\",ROUND(T91*AC91,0))","v":""},null,null,null,null,null,null,null,{"$f":"IF(T91=\"\",\"\",ROUND(T91*AK91,0))","v":""},null,null,null,null,{"$f":"IF(Q91=\"\",\"\",ROUND(Q91-AC91-AK91,2))","v":""},null,null,{"$f":"IF(T91=\"\",\"\",(IF(AS91<0,\"出来高が契約を超過\",X91-AN91-AF91)))","v":""}]
[null,{"$f":"'見積書 (2)'!F35","v":""}]
[19,{"$f":"'見積書 (2)'!F36","v":""},null,null,null,null,null,null,null,null,null,null,null,null,{"$f":"'見積書 (2)'!Q36","v":""},null,{"$f":"'見積書 (2)'!R36","v":""},null,null,{"$f":"'見積書 (2)'!S36","v":""},null,null,null,{"$f":"'見積書 (2)'!T36","v":""},null,null,null,null,{"$f":"IF(Q93=\"\",\"\",'出来高内訳書 (第4回請求)'!AC93+'出来高内訳書 (第4回請求)'!AK93)","v":""},null,null,{"$f":"IF(T93=\"\",\"\",ROUND(T93*AC93,0))","v":""},null,null,null,null,null,null,null,{"$f":"IF(T93=\"\",\"\",ROUND(T93*AK93,0))","v":""},null,null,null,null,{"$f":"IF(Q93=\"\",\"\",ROUND(Q93-AC93-AK93,2))","v":""},null,null,{"$f":"IF(T93=\"\",\"\",(IF(AS93<0,\"出来高が契約を超過\",X93-AN93-AF93)))","v":""}]
[null,{"$f":"'見積書 (2)'!F37","v":""}]
[20,{"$f":"'見積書 (2)'!F38","v":""},null,null,null,null,null,null,null,null,null,null,null,null,{"$f":"'見積書 (2)'!Q38","v":""},null,{"$f":"'見積書 (2)'!R38","v":""},null,null,{"$f":"'見積書 (2)'!S38","v":""},null,null,null,{"$f":"'見積書 (2)'!T38","v":""},null,null,null,null,{"$f":"IF(Q95=\"\",\"\",'出来高内訳書 (第4回請求)'!AC95+'出来高内訳書 (第4回請求)'!AK95)","v":""},null,null,{"$f":"IF(T95=\"\",\"\",ROUND(T95*AC95,0))","v":""},null,null,null,null,null,null,null,{"$f":"IF(T95=\"\",\"\",ROUND(T95*AK95,0))","v":""},null,null,null,null,{"$f":"IF(Q95=\"\",\"\",ROUND(Q95-AC95-AK95,2))","v":""},null,null,{"$f":"IF(T95=\"\",\"\",(IF(AS95<0,\"出来高が契約を超過\",X95-AN95-AF95)))","v":""}]
[null,{"$f":"'見積書 (2)'!F39","v":""}]
[21,{"$f":"'見積書 (2)'!F40","v":""},null,null,null,null,null,null,null,null,null,null,null,null,{"$f":"'見積書 (2)'!Q40","v":""},null,{"$f":"'見積書 (2)'!R40","v":""},null,null,{"$f":"'見積書 (2)'!S40","v":""},null,null,null,{"$f":"'見積書 (2)'!T40","v":""},null,null,null,null,{"$f":"IF(Q97=\"\",\"\",'出来高内訳書 (第4回請求)'!AC97+'出来高内訳書 (第4回請求)'!AK97)","v":""},null,null,{"$f":"IF(T97=\"\",\"\",ROUND(T97*AC97,0))","v":""},null,null,null,null,null,null,null,{"$f":"IF(T97=\"\",\"\",ROUND(T97*AK97,0))","v":""},null,null,null,null,{"$f":"IF(Q97=\"\",\"\",ROUND(Q97-AC97-AK97,2))","v":""},null,null,{"$f":"IF(T97=\"\",\"\",(IF(AS97<0,\"出来高が契約を超過\",X97-AN97-AF97)))","v":""}]
[null,{"$f":"'見積書 (2)'!F41","v":""}]
[22,{"$f":"'見積書 (2)'!F42","v":""},null,null,null,null,null,null,null,null,null,null,null,null,{"$f":"'見積書 (2)'!Q42","v":""},null,{"$f":"'見積書 (2)'!R42","v":""},null,null,{"$f":"'見積書 (2)'!S42","v":""},null,null,null,{"$f":"'見積書 (2)'!T42","v":""},null,null,null,null,{"$f":"IF(Q99=\"\",\"\",'出来高内訳書 (第4回請求)'!AC99+'出来高内訳書 (第4回請求)'!AK99)","v":""},null,null,{"$f":"IF(T99=\"\",\"\",ROUND(T99*AC99,0))","v":""},null,null,null,null,null,null,null,{"$f":"IF(T99=\"\",\"\",ROUND(T99*AK99,0))","v":""},null,null,null,null,{"$f":"IF(Q99=\"\",\"\",ROUND(Q99-AC99-AK99,2))","v":""},null,null,{"$f":"IF(T99=\"\",\"\",(IF(AS99<0,\"出来高が契約を超過\",X99-AN99-AF99)))","v":""}]
[null,{"$f":"'見積書 (2)'!F43","v":""}]
[23,{"$f":"'見積書 (2)'!F44","v":""},null,null,null,null,null,null,null,null,null,null,null,null,{"$f":"'見積書 (2)'!Q44","v":""},null,{"$f":"'見積書 (2)'!R44","v":""},null,null,{"$f":"'見積書 (2)'!S44","v":""},null,null,null,{"$f":"'見積書 (2)'!T44","v":""},null,null,null,null,{"$f":"IF(Q101=\"\",\"\",'出来高内訳書 (第4回請求)'!AC101+'出来高内訳書 (第4回請求)'!AK101)","v":""},null,null,{"$f":"IF(T101=\"\",\"\",ROUND(T101*AC101,0))","v":""},null,null,null,null,null,null,null,{"$f":"IF(T101=\"\",\"\",ROUND(T101*AK101,0))","v":""},null,null,null,null,{"$f":"IF(Q101=\"\",\"\",ROUND(Q101-AC101-AK101,2))","v":""},null,null,{"$f":"IF(T101=\"\",\"\",(IF(AS101<0,\"出来高が契約を超過\",X101-AN101-AF101)))","v":""}]
[null,{"$f":"'見積書 (2)'!F45","v":""}]
[24,{"$f":"'見積書 (2)'!F46","v":""},null,null,null,null,null,null,null,null,null,null,null,null,{"$f":"'見積書 (2)'!Q46","v":""},null,{"$f":"'見積書 (2)'!R46","v":""},null,null,{"$f":"'見積書 (2)'!S46","v":""},null,null,null,{"$f":"'見積書 (2)'!T46","v":""},null,null,null,null,{"$f":"IF(Q103=\"\",\"\",'出来高内訳書 (第4回請求)'!AC103+'出来高内訳書 (第4回請求)'!AK103)","v":""},null,null,{"$f":"IF(T103=\"\",\"\",ROUND(T103*AC103,0))","v":""},null,null,null,null,null,null,null,{"$f":"IF(T103=\"\",\"\",ROUND(T103*AK103,0))","v":""},null,null,null,null,{"$f":"IF(Q103=\"\",\"\",ROUND(Q103-AC103-AK103,2))","v":""},null,null,{"$f":"IF(T103=\"\",\"\",(IF(AS103<0,\"出来高が契約を超過\",X103-AN103-AF103)))","v":""}]
[null,{"$f":"'見積書 (2)'!F47","v":""}]
[25,{"$f":"'見積書 (2)'!F48","v":""},null,null,null,null,null,null,null,null,null,null,null,null,{"$f":"'見積書 (2)'!Q48","v":""},null,{"$f":"'見積書 (2)'!R48","v":""},null,null,{"$f":"'見積書 (2)'!S48","v":""},null,null,null,{"$f":"'見積書 (2)'!T48","v":""},null,null,null,null,{"$f":"IF(Q105=\"\",\"\",'出来高内訳書 (第4回請求)'!AC105+'出来高内訳書 (第4回請求)'!AK105)","v":""},null,null,{"$f":"IF(T105=\"\",\"\",ROUND(T105*AC105,0))","v":""},null,null,null,null,null,null,null,{"$f":"IF(T105=\"\",\"\",ROUND(T105*AK105,0))","v":""},null,null,null,null,{"$f":"IF(Q105=\"\",\"\",ROUND(Q105-AC105-AK105,2))","v":""},null,null,{"$f":"IF(T105=\"\",\"\",(IF(AS105<0,\"出来高が契約を超過\",X105-AN105-AF105)))","v":""}]
[null,{"$f":"'見積書 (2)'!F49","v":""}]
[26,{"$f":"'見積書 (2)'!F50","v":""},null,null,null,null,null,null,null,null,null,null,null,null,{"$f":"'見積書 (2)'!Q50","v":""},null,{"$f":"'見積書 (2)'!R50","v":""},null,null,{"$f":"'見積書 (2)'!S50","v":""},null,null,null,{"$f":"'見積書 (2)'!T50","v":""},null,null,null,null,{"$f":"IF(Q107=\"\",\"\",'出来高内訳書 (第4回請求)'!AC107+'出来高内訳書 (第4回請求)'!AK107)","v":""},null,null,{"$f":"IF(T107=\"\",\"\",ROUND(T107*AC107,0))","v":""},null,null,null,null,null,null,null,{"$f":"IF(T107=\"\",\"\",ROUND(T107*AK107,0))","v":""},null,null,null,null,{"$f":"IF(Q107=\"\",\"\",ROUND(Q107-AC107-AK107,2))","v":""},null,null,{"$f":"IF(T107=\"\",\"\",(IF(AS107<0,\"出来高が契約を超過\",X107-AN107-AF107)))","v":""}]
[null,{"$f":"'見積書 (2)'!F51","v":""}]
[null,"小計",null,null,null,null,null,null,null,null,null,null,null,null,null,null,null,null,null,null,null,null,null,{"$f":"SUM(X79:AB108)","v":0},null,null,null,null,null,null,null,{"$f":"SUM(AF79:AJ108)","v":0},null,null,null,null,null,null,null,{"$f":"SUM(AN79:AR108)","v":0},null,null,null,null,null,null,null,{"$f":"X109-AF109-AN109","v":0}]
[]
[]
[]
[]
[null,"請求内訳書（出来高・分割納入用）",null,null,null,null,null,null,null,null,null,null,null,null,null,null,null,null,null,null,null,null,null,null,null,null,null,null,null,null,null,null,null,null,null,null,null,null,null,null,null,null,null,null,null,null,null,null,null,null,"No."]
[]
[]
[]
[]
[]
[]
[]
[]
[]
[null,"製造番号",null,null,null,null,{"$f":"Y22","v":""},null,null,null,null,null,null,null,null,null,null,null,null,null,null,null,null,"※科目"]
[]
[]
[null,"注文番号",null,null,null,null,{"$f":"Y25","v":""},null,null,null,null,null,null,null,null,"第",null,{"$f":"AJ23","v":5},null,"回請求"]
[]
[]
[]
[null,"工　種・品　名",null,null,null,null,null,null,null,null,null,null,null,null,"契　約　金　額",null,null,null,null,null,null,null,null,null,null,null,null,null,"前回までの出来高",null,null,null,null,null,null,null,"今回出来高",null,null,null,null,null,null,null,"残高",null,null,null,null,null,null,null,"備　考"]
[null,null,null,null,null,null,null,null,null,null,null,null,null,null,"単位",null,"数量",null,null,"単価",null,null,null,"金額",null,null,null,null,"数量",null,null,"金額",null,null,null,null,"数量",null,null,"金額",null,null,null,null,"数量",null,null,"金額"]
[27,{"$f":"'見積書 (2)'!F52","v":""},null,null,null,null,null,null,null,null,null,null,null,null,{"$f":"'見積書 (2)'!Q52","v":""},null,{"$f":"'見積書 (2)'!R52","v":""},null,null,{"$f":"'見積書 (2)'!S52","v":""},null,null,null,{"$f":"'見積書 (2)'!T52","v":""},null,null,null,null,{"$f":"IF(Q133=\"\",\"\",'出来高内訳書 (第4回請求)'!AC133+'出来高内訳書 (第4回請求)'!AK133)","v":""},null,null,{"$f":"IF(T133=\"\",\"\",ROUND(T133*AC133,0))","v":""},null,null,null,null,null,null,null,{"$f":"IF(T133=\"\",\"\",ROUND(T133*AK133,0))","v":""},null,null,null,null,{"$f":"IF(Q133=\"\",\"\",ROUND(Q133-AC133-AK133,2))","v":""},null,null,{"$f":"IF(T133=\"\",\"\",(IF(AS133<0,\"出来高が契約を超過\",X133-AN133-AF133)))","v":""}]
[null,{"$f":"'見積書 (2)'!F53","v":""}]
[28,{"$f":"'見積書 (2)'!F54","v":""},null,null,null,null,null,null,null,null,null,null,null,null,{"$f":"'見積書 (2)'!Q54","v":""},null,{"$f":"'見積書 (2)'!R54","v":""},null,null,{"$f":"'見積書 (2)'!S54","v":""},null,null,null,{"$f":"'見積書 (2)'!T54","v":""},null,null,null,null,{"$f":"IF(Q135=\"\",\"\",'出来高内訳書 (第4回請求)'!AC135+'出来高内訳書 (第4回請求)'!AK135)","v":""},null,null,{"$f":"IF(T135=\"\",\"\",ROUND(T135*AC135,0))","v":""},null,null,null,null,null,null,null,{"$f":"IF(T135=\"\",\"\",ROUND(T135*AK135,0))","v":""},null,null,null,null,{"$f":"IF(Q135=\"\",\"\",ROUND(Q135-AC135-AK135,2))","v":""},null,null,{"$f":"IF(T135=\"\",\"\",(IF(AS135<0,\"出来高が契約を超過\",X135-AN135-AF135)))","v":""}]
[null,{"$f":"'見積書 (2)'!F55","v":""}]
[29,{"$f":"'見積書 (2)'!F56","v":""},null,null,null,null,null,null,null,null,null,null,null,null,{"$f":"'見積書 (2)'!Q56","v":""},null,{"$f":"'見積書 (2)'!R56","v":""},null,null,{"$f":"'見積書 (2)'!S56","v":""},null,null,null,{"$f":"'見積書 (2)'!T56","v":""},null,null,null,null,{"$f":"IF(Q137=\"\",\"\",'出来高内訳書 (第4回請求)'!AC137+'出来高内訳書 (第4回請求)'!AK137)","v":""},null,null,{"$f":"IF(T137=\"\",\"\",ROUND(T137*AC137,0))","v":""},null,null,null,null,null,null,null,{"$f":"IF(T137=\"\",\"\",ROUND(T137*AK137,0))","v":""},null,null,null,null,{"$f":"IF(Q137=\"\",\"\",ROUND(Q137-AC137-AK137,2))","v":""},null,null,{"$f":"IF(T137=\"\",\"\",(IF(AS137<0,\"出来高が契約を超過\",X137-AN137-AF137)))","v":""}]
[null,{"$f":"'見積書 (2)'!F57","v":""}]
[30,{"$f":"'見積書 (2)'!F58","v":""},null,null,null,null,null,null,null,null,null,null,null,null,{"$f":"'見積書 (2)'!Q58","v":""},null,{"$f":"'見積書 (2)'!R58","v":""},null,null,{"$f":"'見積書 (2)'!S58","v":""},null,null,null,{"$f":"'見積書 (2)'!T58","v":""},null,null,null,null,{"$f":"IF(Q139=\"\",\"\",'出来高内訳書 (第4回請求)'!AC139+'出来高内訳書 (第4回請求)'!AK139)","v":""},null,null,{"$f":"IF(T139=\"\",\"\",ROUND(T139*AC139,0))","v":""},null,null,null,null,null,null,null,{"$f":"IF(T139=\"\",\"\",ROUND(T139*AK139,0))","v":""},null,null,null,null,{"$f":"IF(Q139=\"\",\"\",ROUND(Q139-AC139-AK139,2))","v":""},null,null,{"$f":"IF(T139=\"\",\"\",(IF(AS139<0,\"出来高が契約を超過\",X139-AN139-AF139)))","v":""}]
[null,{"$f":"'見積書 (2)'!F59","v":""}]
[31,{"$f":"'見積書 (2)'!F60","v":""},null,null,null,null,null,null,null,null,null,null,null,null,{"$f":"'見積書 (2)'!Q60","v":""},null,{"$f":"'見積書 (2)'!R60","v":""},null,null,{"$f":"'見積書 (2)'!S60","v":""},null,null,null,{"$f":"'見積書 (2)'!T60","v":""},null,null,null,null,{"$f":"IF(Q141=\"\",\"\",'出来高内訳書 (第4回請求)'!AC141+'出来高内訳書 (第4回請求)'!AK141)","v":""},null,null,{"$f":"IF(T141=\"\",\"\",ROUND(T141*AC141,0))","v":""},null,null,null,null,null,null,null,{"$f":"IF(T141=\"\",\"\",ROUND(T141*AK141,0))","v":""},null,null,null,null,{"$f":"IF(Q141=\"\",\"\",ROUND(Q141-AC141-AK141,2))","v":""},null,null,{"$f":"IF(T141=\"\",\"\",(IF(AS141<0,\"出来高が契約を超過\",X141-AN141-AF141)))","v":""}]
[null,{"$f":"'見積書 (2)'!F61","v":""}]
[32,{"$f":"'見積書 (2)'!F62","v":""},null,null,null,null,null,null,null,null,null,null,null,null,{"$f":"'見積書 (2)'!Q62","v":""},null,{"$f":"'見積書 (2)'!R62","v":""},null,null,{"$f":"'見積書 (2)'!S62","v":""},null,null,null,{"$f":"'見積書 (2)'!T62","v":""},null,null,null,null,{"$f":"IF(Q143=\"\",\"\",'出来高内訳書 (第4回請求)'!AC143+'出来高内訳書 (第4回請求)'!AK143)","v":""},null,null,{"$f":"IF(T143=\"\",\"\",ROUND(T143*AC143,0))","v":""},null,null,null,null,null,null,null,{"$f":"IF(T143=\"\",\"\",ROUND(T143*AK143,0))","v":""},null,null,null,null,{"$f":"IF(Q143=\"\",\"\",ROUND(Q143-AC143-AK143,2))","v":""},null,null,{"$f":"IF(T143=\"\",\"\",(IF(AS143<0,\"出来高が契約を超過\",X143-AN143-AF143)))","v":""}]
[null,{"$f":"'見積書 (2)'!F63","v":""}]
[33,{"$f":"'見積書 (2)'!F64","v":""},null,null,null,null,null,null,null,null,null,null,null,null,{"$f":"'見積書 (2)'!Q64","v":""},null,{"$f":"'見積書 (2)'!R64","v":""},null,null,{"$f":"'見積書 (2)'!S64","v":""},null,null,null,{"$f":"'見積書 (2)'!T64","v":""},null,null,null,null,{"$f":"IF(Q145=\"\",\"\",'出来高内訳書 (第4回請求)'!AC145+'出来高内訳書 (第4回請求)'!AK145)","v":""},null,null,{"$f":"IF(T145=\"\",\"\",ROUND(T145*AC145,0))","v":""},null,null,null,null,null,null,null,{"$f":"IF(T145=\"\",\"\",ROUND(T145*AK145,0))","v":""},null,null,null,null,{"$f":"IF(Q145=\"\",\"\",ROUND(Q145-AC145-AK145,2))","v":""},null,null,{"$f":"IF(T145=\"\",\"\",(IF(AS145<0,\"出来高が契約を超過\",X145-AN145-AF145)))","v":""}]
[null,{"$f":"'見積書 (2)'!F65","v":""}]
[34,{"$f":"'見積書 (2)'!F66","v":""},null,null,null,null,null,null,null,null,null,null,null,null,{"$f":"'見積書 (2)'!Q66","v":""},null,{"$f":"'見積書 (2)'!R66","v":""},null,null,{"$f":"'見積書 (2)'!S66","v":""},null,null,null,{"$f":"'見積書 (2)'!T66","v":""},null,null,null,null,{"$f":"IF(Q147=\"\",\"\",'出来高内訳書 (第4回請求)'!AC147+'出来高内訳書 (第4回請求)'!AK147)","v":""},null,null,{"$f":"IF(T147=\"\",\"\",ROUND(T147*AC147,0))","v":""},null,null,null,null,null,null,null,{"$f":"IF(T147=\"\",\"\",ROUND(T147*AK147,0))","v":""},null,null,null,null,{"$f":"IF(Q147=\"\",\"\",ROUND(Q147-AC147-AK147,2))","v":""},null,null,{"$f":"IF(T147=\"\",\"\",(IF(AS147<0,\"出来高が契約を超過\",X147-AN147-AF147)))","v":""}]
[null,{"$f":"'見積書 (2)'!F67","v":""}]
[35,{"$f":"'見積書 (2)'!F68","v":""},null,null,null,null,null,null,null,null,null,null,null,null,{"$f":"'見積書 (2)'!Q68","v":""},null,{"$f":"'見積書 (2)'!R68","v":""},null,null,{"$f":"'見積書 (2)'!S68","v":""},null,null,null,{"$f":"'見積書 (2)'!T68","v":""},null,null,null,null,{"$f":"IF(Q149=\"\",\"\",'出来高内訳書 (第4回請求)'!AC149+'出来高内訳書 (第4回請求)'!AK149)","v":""},null,null,{"$f":"IF(T149=\"\",\"\",ROUND(T149*AC149,0))","v":""},null,null,null,null,null,null,null,{"$f":"IF(T149=\"\",\"\",ROUND(T149*AK149,0))","v":""},null,null,null,null,{"$f":"IF(Q149=\"\",\"\",ROUND(Q149-AC149-AK149,2))","v":""},null,null,{"$f":"IF(T149=\"\",\"\",(IF(AS149<0,\"出来高が契約を超過\",X149-AN149-AF149)))","v":""}]
[null,{"$f":"'見積書 (2)'!F69","v":""}]
[36,{"$f":"'見積書 (3)'!F26","v":""},null,null,null,null,null,null,null,null,null,null,null,null,{"$f":"'見積書 (3)'!Q26","v":""},null,{"$f":"'見積書 (3)'!R26","v":""},null,null,{"$f":"'見積書 (3)'!S26","v":""},null,null,null,{"$f":"'見積書 (3)'!T26","v":""},null,null,null,null,{"$f":"IF(Q151=\"\",\"\",'出来高内訳書 (第4回請求)'!AC151+'出来高内訳書 (第4回請求)'!AK151)","v":""},null,null,{"$f":"IF(T151=\"\",\"\",ROUND(T151*AC151,0))","v":""},null,null,null,null,null,null,null,{"$f":"IF(T151=\"\",\"\",ROUND(T151*AK151,0))","v":""},null,null,null,null,{"$f":"IF(Q151=\"\",\"\",ROUND(Q151-AC151-AK151,2))","v":""},null,null,{"$f":"IF(T151=\"\",\"\",(IF(AS151<0,\"出来高が契約を超過\",X151-AN151-AF151)))","v":""}]
[null,{"$f":"'見積書 (3)'!F27","v":""}]
[37,{"$f":"'見積書 (3)'!F28","v":""},null,null,null,null,null,null,null,null,null,null,null,null,{"$f":"'見積書 (3)'!Q28","v":""},null,{"$f":"'見積書 (3)'!R28","v":""},null,null,{"$f":"'見積書 (3)'!S28","v":""},null,null,null,{"$f":"'見積書 (3)'!T28","v":""},null,null,null,null,{"$f":"IF(Q153=\"\",\"\",'出来高内訳書 (第4回請求)'!AC153+'出来高内訳書 (第4回請求)'!AK153)","v":""},null,null,{"$f":"IF(T153=\"\",\"\",ROUND(T153*AC153,0))","v":""},null,null,null,null,null,null,null,{"$f":"IF(T153=\"\",\"\",ROUND(T153*AK153,0))","v":""},null,null,null,null,{"$f":"IF(Q153=\"\",\"\",ROUND(Q153-AC153-AK153,2))","v":""},null,null,{"$f":"IF(T153=\"\",\"\",(IF(AS153<0,\"出来高が契約を超過\",X153-AN153-AF153)))","v":""}]
[null,{"$f":"'見積書 (3)'!F29","v":""}]
[38,{"$f":"'見積書 (3)'!F30","v":""},null,null,null,null,null,null,null,null,null,null,null,null,{"$f":"'見積書 (3)'!Q30","v":""},null,{"$f":"'見積書 (3)'!R30","v":""},null,null,{"$f":"'見積書 (3)'!S30","v":""},null,null,null,{"$f":"'見積書 (3)'!T30","v":""},null,null,null,null,{"$f":"IF(Q155=\"\",\"\",'出来高内訳書 (第4回請求)'!AC155+'出来高内訳書 (第4回請求)'!AK155)","v":""},null,null,{"$f":"IF(T155=\"\",\"\",ROUND(T155*AC155,0))","v":""},null,null,null,null,null,null,null,{"$f":"IF(T155=\"\",\"\",ROUND(T155*AK155,0))","v":""},null,null,null,null,{"$f":"IF(Q155=\"\",\"\",ROUND(Q155-AC155-AK155,2))","v":""},null,null,{"$f":"IF(T155=\"\",\"\",(IF(AS155<0,\"出来高が契約を超過\",X155-AN155-AF155)))","v":""}]
[null,{"$f":"'見積書 (3)'!F31","v":""}]
[39,{"$f":"'見積書 (3)'!F32","v":""},null,null,null,null,null,null,null,null,null,null,null,null,{"$f":"'見積書 (3)'!Q32","v":""},null,{"$f":"'見積書 (3)'!R32","v":""},null,null,{"$f":"'見積書 (3)'!S32","v":""},null,null,null,{"$f":"'見積書 (3)'!T32","v":""},null,null,null,null,{"$f":"IF(Q157=\"\",\"\",'出来高内訳書 (第4回請求)'!AC157+'出来高内訳書 (第4回請求)'!AK157)","v":""},null,null,{"$f":"IF(T157=\"\",\"\",ROUND(T157*AC157,0))","v":""},null,null,null,null,null,null,null,{"$f":"IF(T157=\"\",\"\",ROUND(T157*AK157,0))","v":""},null,null,null,null,{"$f":"IF(Q157=\"\",\"\",ROUND(Q157-AC157-AK157,2))","v":""},null,null,{"$f":"IF(T157=\"\",\"\",(IF(AS157<0,\"出来高が契約を超過\",X157-AN157-AF157)))","v":""}]
[null,{"$f":"'見積書 (3)'!F33","v":""}]
[40,{"$f":"'見積書 (3)'!F34","v":""},null,null,null,null,null,null,null,null,null,null,null,null,{"$f":"'見積書 (3)'!Q34","v":""},null,{"$f":"'見積書 (3)'!R34","v":""},null,null,{"$f":"'見積書 (3)'!S34","v":""},null,null,null,{"$f":"'見積書 (3)'!T34","v":""},null,null,null,null,{"$f":"IF(Q159=\"\",\"\",'出来高内訳書 (第4回請求)'!AC159+'出来高内訳書 (第4回請求)'!AK159)","v":""},null,null,{"$f":"IF(T159=\"\",\"\",ROUND(T159*AC159,0))","v":""},null,null,null,null,null,null,null,{"$f":"IF(T159=\"\",\"\",ROUND(T159*AK159,0))","v":""},null,null,null,null,{"$f":"IF(Q159=\"\",\"\",ROUND(Q159-AC159-AK159,2))","v":""},null,null,{"$f":"IF(T159=\"\",\"\",(IF(AS159<0,\"出来高が契約を超過\",X159-AN159-AF159)))","v":""}]
[null,{"$f":"'見積書 (3)'!F35","v":""}]
[41,{"$f":"'見積書 (3)'!F36","v":""},null,null,null,null,null,null,null,null,null,null,null,null,{"$f":"'見積書 (3)'!Q36","v":""},null,{"$f":"'見積書 (3)'!R36","v":""},null,null,{"$f":"'見積書 (3)'!S36","v":""},null,null,null,{"$f":"'見積書 (3)'!T36","v":""},null,null,null,null,{"$f":"IF(Q161=\"\",\"\",'出来高内訳書 (第4回請求)'!AC161+'出来高内訳書 (第4回請求)'!AK161)","v":""},null,null,{"$f":"IF(T161=\"\",\"\",ROUND(T161*AC161,0))","v":""},null,null,null,null,null,null,null,{"$f":"IF(T161=\"\",\"\",ROUND(T161*AK161,0))","v":""},null,null,null,null,{"$f":"IF(Q161=\"\",\"\",ROUND(Q161-AC161-AK161,2))","v":""},null,null,{"$f":"IF(T161=\"\",\"\",(IF(AS161<0,\"出来高が契約を超過\",X161-AN161-AF161)))","v":""}]
[null,{"$f":"'見積書 (3)'!F37","v":""}]
[null,"小計",null,null,null,null,null,null,null,null,null,null,null,null,null,null,null,null,null,null,null,null,null,{"$f":"SUM(X133:AB162)","v":0},null,null,null,null,null,null,null,{"$f":"SUM(AF133:AJ162)","v":0},null,null,null,null,null,null,null,{"$f":"SUM(AN133:AR162)","v":0},null,null,null,null,null,null,null,{"$f":"X163-AF163-AN163","v":0}]
[]
[]
[]
[]
[null,"請求内訳書（出来高・分割納入用）",null,null,null,null,null,null,null,null,null,null,null,null,null,null,null,null,null,null,null,null,null,null,null,null,null,null,null,null,null,null,null,null,null,null,null,null,null,null,null,null,null,null,null,null,null,null,null,null,"No."]
[]
[]
[]
[]
[]
[]
[]
[]
[]
[null,"製造番号",null,null,null,null,{"$f":"Y22","v":""},null,null,null,null,null,null,null,null,null,null,null,null,null,null,null,null,"※科目"]
[]
[]
[null,"注文番号",null,null,null,null,{"$f":"Y25","v":""},null,null,null,null,null,null,null,null,"第",null,{"$f":"AJ23","v":5},null,"回請求"]
[]
[]
[]
[null,"工　種・品　名",null,null,null,null,null,null,null,null,null,null,null,null,"契　約　金　額",null,null,null,null,null,null,null,null,null,null,null,null,null,"前回までの出来高",null,null,null,null,null,null,null,"今回出来高",null,null,null,null,null,null,null,"残高",null,null,null,null,null,null,null,"備　考"]
[null,null,null,null,null,null,null,null,null,null,null,null,null,null,"単位",null,"数量",null,null,"単価",null,null,null,"金額",null,null,null,null,"数量",null,null,"金額",null,null,null,null,"数量",null,null,"金額",null,null,null,null,"数量",null,null,"金額"]
[42,{"$f":"'見積書 (3)'!F38","v":""},null,null,null,null,null,null,null,null,null,null,null,null,{"$f":"'見積書 (3)'!Q38","v":""},null,{"$f":"'見積書 (3)'!R38","v":""},null,null,{"$f":"'見積書 (3)'!S38","v":""},null,null,null,{"$f":"'見積書 (3)'!T38","v":""},null,null,null,null,{"$f":"IF(Q187=\"\",\"\",'出来高内訳書 (第4回請求)'!AC187+'出来高内訳書 (第4回請求)'!AK187)","v":""},null,null,{"$f":"IF(T187=\"\",\"\",ROUND(T187*AC187,0))","v":""},null,null,null,null,null,null,null,{"$f":"IF(T187=\"\",\"\",ROUND(T187*AK187,0))","v":""},null,null,null,null,{"$f":"IF(Q187=\"\",\"\",ROUND(Q187-AC187-AK187,2))","v":""},null,null,{"$f":"IF(T187=\"\",\"\",(IF(AS187<0,\"出来高が契約を超過\",X187-AN187-AF187)))","v":""}]
[null,{"$f":"'見積書 (3)'!F39","v":""}]
[43,{"$f":"'見積書 (3)'!F40","v":""},null,null,null,null,null,null,null,null,null,null,null,null,{"$f":"'見積書 (3)'!Q40","v":""},null,{"$f":"'見積書 (3)'!R40","v":""},null,null,{"$f":"'見積書 (3)'!S40","v":""},null,null,null,{"$f":"'見積書 (3)'!T40","v":""},null,null,null,null,{"$f":"IF(Q189=\"\",\"\",'出来高内訳書 (第4回請求)'!AC189+'出来高内訳書 (第4回請求)'!AK189)","v":""},null,null,{"$f":"IF(T189=\"\",\"\",ROUND(T189*AC189,0))","v":""},null,null,null,null,null,null,null,{"$f":"IF(T189=\"\",\"\",ROUND(T189*AK189,0))","v":""},null,null,null,null,{"$f":"IF(Q189=\"\",\"\",ROUND(Q189-AC189-AK189,2))","v":""},null,null,{"$f":"IF(T189=\"\",\"\",(IF(AS189<0,\"出来高が契約を超過\",X189-AN189-AF189)))","v":""}]
[null,{"$f":"'見積書 (3)'!F41","v":""}]
[44,{"$f":"'見積書 (3)'!F42","v":""},null,null,null,null,null,null,null,null,null,null,null,null,{"$f":"'見積書 (3)'!Q42","v":""},null,{"$f":"'見積書 (3)'!R42","v":""},null,null,{"$f":"'見積書 (3)'!S42","v":""},null,null,null,{"$f":"'見積書 (3)'!T42","v":""},null,null,null,null,{"$f":"IF(Q191=\"\",\"\",'出来高内訳書 (第4回請求)'!AC191+'出来高内訳書 (第4回請求)'!AK191)","v":""},null,null,{"$f":"IF(T191=\"\",\"\",ROUND(T191*AC191,0))","v":""},null,null,null,null,null,null,null,{"$f":"IF(T191=\"\",\"\",ROUND(T191*AK191,0))","v":""},null,null,null,null,{"$f":"IF(Q191=\"\",\"\",ROUND(Q191-AC191-AK191,2))","v":""},null,null,{"$f":"IF(T191=\"\",\"\",(IF(AS191<0,\"出来高が契約を超過\",X191-AN191-AF191)))","v":""}]
[null,{"$f":"'見積書 (3)'!F43","v":""}]
[45,{"$f":"'見積書 (3)'!F44","v":""},null,null,null,null,null,null,null,null,null,null,null,null,{"$f":"'見積書 (3)'!Q44","v":""},null,{"$f":"'見積書 (3)'!R44","v":""},null,null,{"$f":"'見積書 (3)'!S44","v":""},null,null,null,{"$f":"'見積書 (3)'!T44","v":""},null,null,null,null,{"$f":"IF(Q193=\"\",\"\",'出来高内訳書 (第4回請求)'!AC193+'出来高内訳書 (第4回請求)'!AK193)","v":""},null,null,{"$f":"IF(T193=\"\",\"\",ROUND(T193*AC193,0))","v":""},null,null,null,null,null,null,null,{"$f":"IF(T193=\"\",\"\",ROUND(T193*AK193,0))","v":""},null,null,null,null,{"$f":"IF(Q193=\"\",\"\",ROUND(Q193-AC193-AK193,2))","v":""},null,null,{"$f":"IF(T193=\"\",\"\",(IF(AS193<0,\"出来高が契約を超過\",X193-AN193-AF193)))","v":""}]
[null,{"$f":"'見積書 (3)'!F45","v":""}]
[46,{"$f":"'見積書 (3)'!F46","v":""},null,null,null,null,null,null,null,null,null,null,null,null,{"$f":"'見積書 (3)'!Q46","v":""},null,{"$f":"'見積書 (3)'!R46","v":""},null,null,{"$f":"'見積書 (3)'!S46","v":""},null,null,null,{"$f":"'見積書 (3)'!T46","v":""},null,null,null,null,{"$f":"IF(Q195=\"\",\"\",'出来高内訳書 (第4回請求)'!AC195+'出来高内訳書 (第4回請求)'!AK195)","v":""},null,null,{"$f":"IF(T195=\"\",\"\",ROUND(T195*AC195,0))","v":""},null,null,null,null,null,null,null,{"$f":"IF(T195=\"\",\"\",ROUND(T195*AK195,0))","v":""},null,null,null,null,{"$f":"IF(Q195=\"\",\"\",ROUND(Q195-AC195-AK195,2))","v":""},null,null,{"$f":"IF(T195=\"\",\"\",(IF(AS195<0,\"出来高が契約を超過\",X195-AN195-AF195)))","v":""}]
[null,{"$f":"'見積書 (3)'!F47","v":""}]
[47,{"$f":"'見積書 (3)'!F48","v":""},null,null,null,null,null,null,null,null,null,null,null,null,{"$f":"'見積書 (3)'!Q48","v":""},null,{"$f":"'見積書 (3)'!R48","v":""},null,null,{"$f":"'見積書 (3)'!S48","v":""},null,null,null,{"$f":"'見積書 (3)'!T48","v":""},null,null,null,null,{"$f":"IF(Q197=\"\",\"\",'出来高内訳書 (第4回請求)'!AC197+'出来高内訳書 (第4回請求)'!AK197)","v":""},null,null,{"$f":"IF(T197=\"\",\"\",ROUND(T197*AC197,0))","v":""},null,null,null,null,null,null,null,{"$f":"IF(T197=\"\",\"\",ROUND(T197*AK197,0))","v":""},null,null,null,null,{"$f":"IF(Q197=\"\",\"\",ROUND(Q197-AC197-AK197,2))","v":""},null,null,{"$f":"IF(T197=\"\",\"\",(IF(AS197<0,\"出来高が契約を超過\",X197-AN197-AF197)))","v":""}]
[null,{"$f":"'見積書 (3)'!F49","v":""}]
[48,{"$f":"'見積書 (3)'!F50","v":""},null,null,null,null,null,null,null,null,null,null,null,null,{"$f":"'見積書 (3)'!Q50","v":""},null,{"$f":"'見積書 (3)'!R50","v":""},null,null,{"$f":"'見積書 (3)'!S50","v":""},null,null,null,{"$f":"'見積書 (3)'!T50","v":""},null,null,null,null,{"$f":"IF(Q199=\"\",\"\",'出来高内訳書 (第4回請求)'!AC199+'出来高内訳書 (第4回請求)'!AK199)","v":""},null,null,{"$f":"IF(T199=\"\",\"\",ROUND(T199*AC199,0))","v":""},null,null,null,null,null,null,null,{"$f":"IF(T199=\"\",\"\",ROUND(T199*AK199,0))","v":""},null,null,null,null,{"$f":"IF(Q199=\"\",\"\",ROUND(Q199-AC199-AK199,2))","v":""},null,null,{"$f":"IF(T199=\"\",\"\",(IF(AS199<0,\"出来高が契約を超過\",X199-AN199-AF199)))","v":""}]
[null,{"$f":"'見積書 (3)'!F51","v":""}]
[49,{"$f":"'見積書 (3)'!F52","v":""},null,null,null,null,null,null,null,null,null,null,null,null,{"$f":"'見積書 (3)'!Q52","v":""},null,{"$f":"'見積書 (3)'!R52","v":""},null,null,{"$f":"'見積書 (3)'!S52","v":""},null,null,null,{"$f":"'見積書 (3)'!T52","v":""},null,null,null,null,{"$f":"IF(Q201=\"\",\"\",'出来高内訳書 (第4回請求)'!AC201+'出来高内訳書 (第4回請求)'!AK201)","v":""},null,null,{"$f":"IF(T201=\"\",\"\",ROUND(T201*AC201,0))","v":""},null,null,null,null,null,null,null,{"$f":"IF(T201=\"\",\"\",ROUND(T201*AK201,0))","v":""},null,null,null,null,{"$f":"IF(Q201=\"\",\"\",ROUND(Q201-AC201-AK201,2))","v":""},null,null,{"$f":"IF(T201=\"\",\"\",(IF(AS201<0,\"出来高が契約を超過\",X201-AN201-AF201)))","v":""}]
[null,{"$f":"'見積書 (3)'!F53","v":""}]
[50,{"$f":"'見積書 (3)'!F54","v":""},null,null,null,null,null,null,null,null,null,null,null,null,{"$f":"'見積書 (3)'!Q54","v":""},null,{"$f":"'見積書 (3)'!R54","v":""},null,null,{"$f":"'見積書 (3)'!S54","v":""},null,null,null,{"$f":"'見積書 (3)'!T54","v":""},null,null,null,null,{"$f":"IF(Q203=\"\",\"\",'出来高内訳書 (第4回請求)'!AC203+'出来高内訳書 (第4回請求)'!AK203)","v":""},null,null,{"$f":"IF(T203=\"\",\"\",ROUND(T203*AC203,0))","v":""},null,null,null,null,null,null,null,{"$f":"IF(T203=\"\",\"\",ROUND(T203*AK203,0))","v":""},null,null,null,null,{"$f":"IF(Q203=\"\",\"\",ROUND(Q203-AC203-AK203,2))","v":""},null,null,{"$f":"IF(T203=\"\",\"\",(IF(AS203<0,\"出来高が契約を超過\",X203-AN203-AF203)))","v":""}]
[null,{"$f":"'見積書 (3)'!F55","v":""}]
[51,{"$f":"'見積書 (3)'!F56","v":""},null,null,null,null,null,null,null,null,null,null,null,null,{"$f":"'見積書 (3)'!Q56","v":""},null,{"$f":"'見積書 (3)'!R56","v":""},null,null,{"$f":"'見積書 (3)'!S56","v":""},null,null,null,{"$f":"'見積書 (3)'!T56","v":""},null,null,null,null,{"$f":"IF(Q205=\"\",\"\",'出来高内訳書 (第4回請求)'!AC205+'出来高内訳書 (第4回請求)'!AK205)","v":""},null,null,{"$f":"IF(T205=\"\",\"\",ROUND(T205*AC205,0))","v":""},null,null,null,null,null,null,null,{"$f":"IF(T205=\"\",\"\",ROUND(T205*AK205,0))","v":""},null,null,null,null,{"$f":"IF(Q205=\"\",\"\",ROUND(Q205-AC205-AK205,2))","v":""},null,null,{"$f":"IF(T205=\"\",\"\",(IF(AS205<0,\"出来高が契約を超過\",X205-AN205-AF205)))","v":""}]
[null,{"$f":"'見積書 (3)'!F57","v":""}]
[52,{"$f":"'見積書 (3)'!F58","v":""},null,null,null,null,null,null,null,null,null,null,null,null,{"$f":"'見積書 (3)'!Q58","v":""},null,{"$f":"'見積書 (3)'!R58","v":""},null,null,{"$f":"'見積書 (3)'!S58","v":""},null,null,null,{"$f":"'見積書 (3)'!T58","v":""},null,null,null,null,{"$f":"IF(Q207=\"\",\"\",'出来高内訳書 (第4回請求)'!AC207+'出来高内訳書 (第4回請求)'!AK207)","v":""},null,null,{"$f":"IF(T207=\"\",\"\",ROUND(T207*AC207,0))","v":""},null,null,null,null,null,null,null,{"$f":"IF(T207=\"\",\"\",ROUND(T207*AK207,0))","v":""},null,null,null,null,{"$f":"IF(Q207=\"\",\"\",ROUND(Q207-AC207-AK207,2))","v":""},null,null,{"$f":"IF(T207=\"\",\"\",(IF(AS207<0,\"出来高が契約を超過\",X207-AN207-AF207)))","v":""}]
[null,{"$f":"'見積書 (3)'!F59","v":""}]
[53,{"$f":"'見積書 (3)'!F60","v":""},null,null,null,null,null,null,null,null,null,null,null,null,{"$f":"'見積書 (3)'!Q60","v":""},null,{"$f":"'見積書 (3)'!R60","v":""},null,null,{"$f":"'見積書 (3)'!S60","v":""},null,null,null,{"$f":"'見積書 (3)'!T60","v":""},null,null,null,null,{"$f":"IF(Q209=\"\",\"\",'出来高内訳書 (第4回請求)'!AC209+'出来高内訳書 (第4回請求)'!AK209)","v":""},null,null,{"$f":"IF(T209=\"\",\"\",ROUND(T209*AC209,0))","v":""},null,null,null,null,null,null,null,{"$f":"IF(T209=\"\",\"\",ROUND(T209*AK209,0))","v":""},null,null,null,null,{"$f":"IF(Q209=\"\",\"\",ROUND(Q209-AC209-AK209,2))","v":""},null,null,{"$f":"IF(T209=\"\",\"\",(IF(AS209<0,\"出来高が契約を超過\",X209-AN209-AF209)))","v":""}]
[null,{"$f":"'見積書 (3)'!F61","v":""}]
[54,{"$f":"'見積書 (3)'!F62","v":""},null,null,null,null,null,null,null,null,null,null,null,null,{"$f":"'見積書 (3)'!Q62","v":""},null,{"$f":"'見積書 (3)'!R62","v":""},null,null,{"$f":"'見積書 (3)'!S62","v":""},null,null,null,{"$f":"'見積書 (3)'!T62","v":""},null,null,null,null,{"$f":"IF(Q211=\"\",\"\",'出来高内訳書 (第4回請求)'!AC211+'出来高内訳書 (第4回請求)'!AK211)","v":""},null,null,{"$f":"IF(T211=\"\",\"\",ROUND(T211*AC211,0))","v":""},null,null,null,null,null,null,null,{"$f":"IF(T211=\"\",\"\",ROUND(T211*AK211,0))","v":""},null,null,null,null,{"$f":"IF(Q211=\"\",\"\",ROUND(Q211-AC211-AK211,2))","v":""},null,null,{"$f":"IF(T211=\"\",\"\",(IF(AS211<0,\"出来高が契約を超過\",X211-AN211-AF211)))","v":""}]
[null,{"$f":"'見積書 (3)'!F63","v":""}]
[55,{"$f":"'見積書 (3)'!F64","v":""},null,null,null,null,null,null,null,null,null,null,null,null,{"$f":"'見積書 (3)'!Q64","v":""},null,{"$f":"'見積書 (3)'!R64","v":""},null,null,{"$f":"'見積書 (3)'!S64","v":""},null,null,null,{"$f":"'見積書 (3)'!T64","v":""},null,null,null,null,{"$f":"IF(Q213=\"\",\"\",'出来高内訳書 (第4回請求)'!AC213+'出来高内訳書 (第4回請求)'!AK213)","v":""},null,null,{"$f":"IF(T213=\"\",\"\",ROUND(T213*AC213,0))","v":""},null,null,null,null,null,null,null,{"$f":"IF(T213=\"\",\"\",ROUND(T213*AK213,0))","v":""},null,null,null,null,{"$f":"IF(Q213=\"\",\"\",ROUND(Q213-AC213-AK213,2))","v":""},null,null,{"$f":"IF(T213=\"\",\"\",(IF(AS213<0,\"出来高が契約を超過\",X213-AN213-AF213)))","v":""}]
[null,{"$f":"'見積書 (3)'!F65","v":""}]
[56,{"$f":"'見積書 (3)'!F66","v":""},null,null,null,null,null,null,null,null,null,null,null,null,{"$f":"'見積書 (3)'!Q66","v":""},null,{"$f":"'見積書 (3)'!R66","v":""},null,null,{"$f":"'見積書 (3)'!S66","v":""},null,null,null,{"$f":"'見積書 (3)'!T66","v":""},null,null,null,null,{"$f":"IF(Q215=\"\",\"\",'出来高内訳書 (第4回請求)'!AC215+'出来高内訳書 (第4回請求)'!AK215)","v":""},null,null,{"$f":"IF(T215=\"\",\"\",ROUND(T215*AC215,0))","v":""},null,null,null,null,null,null,null,{"$f":"IF(T215=\"\",\"\",ROUND(T215*AK215,0))","v":""},null,null,null,null,{"$f":"IF(Q215=\"\",\"\",ROUND(Q215-AC215-AK215,2))","v":""},null,null,{"$f":"IF(T215=\"\",\"\",(IF(AS215<0,\"出来高が契約を超過\",X215-AN215-AF215)))","v":""}]
[null,{"$f":"'見積書 (3)'!F67","v":""}]
[null,"小計",null,null,null,null,null,null,null,null,null,null,null,null,null,null,null,null,null,null,null,null,null,{"$f":"SUM(X187:AB216)","v":0},null,null,null,null,null,null,null,{"$f":"SUM(AF187:AJ216)","v":0},null,null,null,null,null,null,null,{"$f":"SUM(AN187:AR216)","v":0},null,null,null,null,null,null,null,{"$f":"X217-AF217-AN217","v":0}]
[]
[]
[]
[]
[null,"請求内訳書（出来高・分割納入用）",null,null,null,null,null,null,null,null,null,null,null,null,null,null,null,null,null,null,null,null,null,null,null,null,null,null,null,null,null,null,null,null,null,null,null,null,null,null,null,null,null,null,null,null,null,null,null,null,"No."]
[]
[]
[]
[]
[]
[]
[]
[]
[]
[null,"製造番号",null,null,null,null,{"$f":"Y22","v":""},null,null,null,null,null,null,null,null,null,null,null,null,null,null,null,null,"※科目"]
[]
[]
[null,"注文番号",null,null,null,null,{"$f":"Y25","v":""},null,null,null,null,null,null,null,null,"第",null,{"$f":"AJ23","v":5},null,"回請求"]
[]
[]
[]
[null,"工　種・品　名",null,null,null,null,null,null,null,null,null,null,null,null,"契　約　金　額",null,null,null,null,null,null,null,null,null,null,null,null,null,"前回までの出来高",null,null,null,null,null,null,null,"今回出来高",null,null,null,null,null,null,null,"残高",null,null,null,null,null,null,null,"備　考"]
[null,null,null,null,null,null,null,null,null,null,null,null,null,null,"単位",null,"数量",null,null,"単価",null,null,null,"金額",null,null,null,null,"数量",null,null,"金額",null,null,null,null,"数量",null,null,"金額",null,null,null,null,"数量",null,null,"金額"]
[57,{"$f":"'見積書 (3)'!F68","v":""},null,null,null,null,null,null,null,null,null,null,null,null,{"$f":"'見積書 (3)'!Q68","v":""},null,{"$f":"'見積書 (3)'!R68","v":""},null,null,{"$f":"'見積書 (3)'!S68","v":""},null,null,null,{"$f":"'見積書 (3)'!T68","v":""},null,null,null,null,{"$f":"IF(Q241=\"\",\"\",'出来高内訳書 (第4回請求)'!AC241+'出来高内訳書 (第4回請求)'!AK241)","v":""},null,null,{"$f":"IF(T241=\"\",\"\",ROUND(T241*AC241,0))","v":""},null,null,null,null,null,null,null,{"$f":"IF(T241=\"\",\"\",ROUND(T241*AK241,0))","v":""},null,null,null,null,{"$f":"IF(Q241=\"\",\"\",ROUND(Q241-AC241-AK241,2))","v":""},null,null,{"$f":"IF(T241=\"\",\"\",(IF(AS241<0,\"出来高が契約を超過\",X241-AN241-AF241)))","v":""}]
[null,{"$f":"'見積書 (3)'!F68","v":""}]
[]
[]
[]
[]
[]
[]
[]
[]
[]
[]
[]
[]
[]
[]
[null,"小計",null,null,null,null,null,null,null,null,null,null,null,null,null,null,null,null,null,null,null,null,null,{"$f":"SUM(X241:AB256)","v":0},null,null,null,null,null,null,null,{"$f":"SUM(AF241:AJ256)","v":0},null,null,null,null,null,null,null,{"$f":"SUM(AN241:AR256)","v":0},null,null,null,null,null,null,null,{"$f":"SUM(AV241:AZ256)","v":0}]

{"sheet":"出来高内訳書 (第6回請求)","index":13,"n_rows":257,"n_cols":53,"rows_kept":257,"cut":false,"hidden":false,"merged":[[204,44,205,46],[204,47,205,51],[204,52,205,54],[206,44,207,46],[206,47,207,51],[206,52,207,54],[208,44,209,46],[208,47,209,51],[208,52,209,54],[212,0,213,0],[188,52,189,54],[190,44,191,46],[190,47,191,51],[190,52,191,54],[192,44,193,46],[192,47,193,51],[192,52,193,54],[194,44,195,46],[194,47,195,51],[194,52,195,54],[196,44,197,46],[196,47,197,51],[196,52,197,54],[206,19,207,22],[206,23,207,27],[208,0,209,0],[208,14,209,15],[208,16,209,18],[208,19,209,22],[208,23,209,27],[210,0,211,0],[210,14,211,15],[240,0,241,0],[240,1,240,13],[240,14,241,15],[240,16,241,18],[240,19,241,22],[240,23,241,27],[240,28,241,30],[240,31,241,35],[240,36,241,38],[240,39,241,43],[240,44,241,46],[240,47,241,51],[240,52,241,54],[198,44,199,46],[198,47,199,51],[198,52,199,54],[200,44,201,46],[200,47,201,51],[200,52,201,54],[214,0,215,0],[214,14,215,15],[214,16,215,18],[214,19,215,22],[214,23,215,27],[204,28,205,30],[204,31,205,35],[206,28,207,30],[206,31,207,35],[204,0,205,0],[206,0,207,0],[206,14,207,15],[206,16,207,18],[202,16,203,18],[202,19,203,22],[202,23,203,27],[202,1,202,13],[201,1,201,13],[186,28,187,30],[186,31,187,35],[188,28,189,30],[188,31,189,35],[190,28,191,30],[190,31,191,35],[192,28,193,30],[192,31,193,35],[194,28,195,30],[194,31,195,35],[196,28,197,30],[196,31,197,35],[198,28,199,30],[198,31,199,35],[200,28,201,30],[200,31,201,35],[202,28,203,30],[202,31,203,35],[194,0,195,0],[194,1,194,13],[194,14,195,15],[194,16,195,18],[194,19,195,22],[194,23,195,27],[195,1,195,13],[196,0,197,0],[196,1,196,13],[196,14,197,15],[196,16,197,18],[196,19,197,22],[196,23,197,27],[197,1,197,13],[210,16,211,18],[210,19,211,22],[210,23,211,27],[211,1,211,13],[198,0,199,0],[198,1,198,13],[198,14,199,15],[198,16,199,18],[198,19,199,22],[198,23,199,27],[199,1,199,13],[200,0,201,0],[200,1,200,13],[200,14,201,15],[200,16,201,18],[200,19,201,22],[200,23,201,27],[202,0,203,0],[188,0,189,0],[188,1,188,13],[188,14,189,15],[188,16,189,18],[188,19,189,22],[188,23,189,27],[189,1,189,13],[190,0,191,0],[190,1,190,13],[190,14,191,15],[190,16,191,18],[190,19,191,22],[190,23,191,27],[191,1,191,13],[192,0,193,0],[192,1,192,13],[192,14,193,15],[192,16,193,18],[192,19,193,22],[192,23,193,27],[193,1,193,13],[148,44,149,46],[148,47,149,51],[148,52,149,54],[150,44,151,46],[150,47,151,51],[150,52,151,54],[152,44,153,46],[152,47,153,51],[152,52,153,54],[154,44,155,46],[154,47,155,51],[154,52,155,54],[156,44,157,46],[156,47,157,51],[156,52,157,54],[144,52,145,54],[186,0,187,0],[186,1,186,13],[186,14,187,15],[186,16,187,18],[186,19,187,22],[186,23,187,27],[187,1,187,13],[148,36,149,38],[148,39,149,43],[150,36,151,38],[150,39,151,43],[152,36,153,38],[152,39,153,43],[154,36,155,38],[154,39,155,43],[156,36,157,38],[156,39,157,43],[158,36,159,38],[158,39,159,43],[160,36,161,38],[160,39,161,43],[146,28,147,30],[146,31,147,35],[148,28,149,30],[148,31,149,35],[150,28,151,30],[150,31,151,35],[152,28,153,30],[152,31,153,35],[156,28,157,30],[156,31,157,35],[154,28,155,30],[154,31,155,35],[136,52,137,54],[138,36,139,38],[138,39,139,43],[140,36,141,38],[140,39,141,43],[142,36,143,38],[142,39,143,43],[144,36,145,38],[144,39,145,43],[138,47,139,51],[138,52,139,54],[140,47,141,51],[140,52,141,54],[142,47,143,51],[142,52,143,54],[144,47,145,51],[146,36,147,38],[146,39,147,43],[138,44,139,46],[140,44,141,46],[142,44,143,46],[144,44,145,46],[146,44,147,46],[146,47,147,51],[146,52,147,54],[154,0,155,0],[154,14,155,15],[154,16,155,18],[154,19,155,22],[154,23,155,27],[156,0,157,0],[156,14,157,15],[156,16,157,18],[156,19,157,22],[156,23,157,27],[157,1,157,13],[158,0,159,0],[158,14,159,15],[158,16,159,18],[158,19,159,22],[158,23,159,27],[160,0,161,0],[160,14,161,15],[160,16,161,18],[160,19,161,22],[160,23,161,27],[156,1,156,13],[155,1,155,13],[154,1,154,13],[146,0,147,0],[146,1,146,13],[146,14,147,15],[146,16,147,18],[146,19,147,22],[146,23,147,27],[148,0,149,0],[148,14,149,15],[148,16,149,18],[148,19,149,22],[148,23,149,27],[150,0,151,0],[150,14,151,15],[150,16,151,18],[150,19,151,22],[150,23,151,27],[152,0,153,0],[152,14,153,15],[152,16,153,18],[152,19,153,22],[152,23,153,27],[153,1,153,13],[152,1,152,13],[151,1,151,13],[150,1,150,13],[149,1,149,13],[148,1,148,13],[147,1,147,13],[140,0,141,0],[140,1,140,13],[140,14,141,15],[140,16,141,18],[140,19,141,22],[140,23,141,27],[141,1,141,13],[142,0,143,0],[142,1,142,13],[142,14,143,15],[142,16,143,18],[142,19,143,22],[142,23,143,27],[143,1,143,13],[144,0,145,0],[144,1,144,13],[144,14,145,15],[144,16,145,18],[144,19,145,22],[144,23,145,27],[145,1,145,13],[134,0,135,0],[134,1,134,13],[134,14,135,15],[134,16,135,18],[134,19,135,22],[134,23,135,27],[135,1,135,13],[136,0,137,0],[136,1,136,13],[136,14,137,15],[136,16,137,18],[136,19,137,22],[136,23,137,27],[137,1,137,13],[138,0,139,0],[138,1,138,13],[138,14,139,15],[138,16,139,18],[138,19,139,22],[138,23,139,27],[139,1,139,13],[92,36,93,38],[92,39,93,43],[92,44,93,46],[92,47,93,51],[92,52,93,54],[94,36,95,38],[94,39,95,43],[94,44,95,46],[94,47,95,51],[94,52,95,54],[132,0,133,0],[132,1,132,13],[132,14,133,15],[132,16,133,18],[132,19,133,22],[132,23,133,27],[133,1,133,13],[132,28,133,30],[132,31,133,35],[104,0,105,0],[104,14,105,15],[104,16,105,18],[104,19,105,22],[104,23,105,27],[106,0,107,0],[106,14,107,15],[106,16,107,18],[106,19,107,22],[106,23,107,27],[96,28,97,30],[96,31,97,35],[98,28,99,30],[84,31,85,35],[86,28,87,30],[86,31,87,35],[88,28,89,30],[88,31,89,35],[90,28,91,30],[90,31,91,35],[92,28,93,30],[92,31,93,35],[94,28,95,30],[94,31,95,35],[82,52,83,54],[84,36,85,38],[84,39,85,43],[84,44,85,46],[84,47,85,51],[84,52,85,54],[86,36,87,38],[86,39,87,43],[86,44,87,46],[86,47,87,51],[86,52,87,54],[88,36,89,38],[88,39,89,43],[88,44,89,46],[88,47,89,51],[88,52,89,54],[90,36,91,38],[90,39,91,43],[90,44,91,46],[90,47,91,51],[90,52,91,54],[96,0,97,0],[96,14,97,15],[96,16,97,18],[96,19,97,22],[96,23,97,27],[98,0,99,0],[98,14,99,15],[98,16,99,18],[98,19,99,22],[98,23,99,27],[100,0,101,0],[100,14,101,15],[100,16,101,18],[100,19,101,22],[100,23,101,27],[102,0,103,0],[102,14,103,15],[102,16,103,18],[102,19,103,22],[102,23,103,27],[103,1,103,13],[99,1,99,13],[97,1,97,13],[90,0,91,0],[90,1,90,13],[90,14,91,15],[90,16,91,18],[90,19,91,22],[90,23,91,27],[91,1,91,13],[92,0,93,0],[92,1,92,13],[92,14,93,15],[92,16,93,18],[92,19,93,22],[92,23,93,27],[94,0,95,0],[94,14,95,15],[94,16,95,18],[94,19,95,22],[94,23,95,27],[84,0,85,0],[84,1,84,13],[84,14,85,15],[84,16,85,18],[84,19,85,22],[84,23,85,27],[85,1,85,13],[86,0,87,0],[86,1,86,13],[86,14,87,15],[86,16,87,18],[86,19,87,22],[86,23,87,27],[87,1,87,13],[88,0,89,0],[88,1,88,13],[88,14,89,15],[88,16,89,18],[88,19,89,22],[88,23,89,27],[89,1,89,13],[78,0,79,0],[78,1,78,13],[78,14,79,15],[78,16,79,18],[78,19,79,22],[78,23,79,27],[79,1,79,13],[80,0,81,0],[80,1,80,13],[80,14,81,15],[80,16,81,18],[80,19,81,22],[80,23,81,27],[81,1,81,13],[82,0,83,0],[82,1,82,13],[82,14,83,15],[82,16,83,18],[82,19,83,22],[82,23,83,27],[83,1,83,13],[41,39,42,43],[43,36,44,38],[43,39,44,43],[45,36,46,38],[45,39,46,43],[47,36,48,38],[47,39,48,43],[49,36,50,38],[49,39,50,43],[51,36,52,38],[51,39,52,43],[35,44,36,46],[35,47,36,51],[35,52,36,54],[37,44,38,46],[37,47,38,51],[37,52,38,54],[39,44,40,46],[39,47,40,51],[39,52,40,54],[41,44,42,46],[41,47,42,51],[41,52,42,54],[43,44,44,46],[43,47,44,51],[43,52,44,54],[45,44,46,46],[45,47,46,51],[45,52,46,54],[55,0,56,0],[55,14,56,15],[55,16,56,18],[55,19,56,22],[55,23,56,27],[35,28,36,30],[35,31,36,35],[37,28,38,30],[37,31,38,35],[39,28,40,30],[39,31,40,35],[41,28,42,30],[41,31,42,35],[43,28,44,30],[43,31,44,35],[45,28,46,30],[45,31,46,35],[47,28,48,30],[47,31,48,35],[49,28,50,30],[49,31,50,35],[51,28,52,30],[51,31,52,35],[53,28,54,30],[53,31,54,35],[55,28,56,30],[55,31,56,35],[47,0,48,0],[47,14,48,15],[47,16,48,18],[47,19,48,22],[47,23,48,27],[49,0,50,0],[49,14,50,15],[49,16,50,18],[49,19,50,22],[49,23,50,27],[51,0,52,0],[51,14,52,15],[51,16,52,18],[51,19,52,22],[51,23,52,27],[53,0,54,0],[53,14,54,15],[53,16,54,18],[53,19,54,22],[53,23,54,27],[41,0,42,0],[41,1,41,13],[41,14,42,15],[41,16,42,18],[41,19,42,22],[41,23,42,27],[42,1,42,13],[43,0,44,0],[43,1,43,13],[43,14,44,15],[43,16,44,18],[43,19,44,22],[43,23,44,27],[44,1,44,13],[45,0,46,0],[45,1,45,13],[45,14,46,15],[35,0,36,0],[35,1,35,13],[35,14,36,15],[35,16,36,18],[35,19,36,22],[35,23,36,27],[36,1,36,13],[37,0,38,0],[37,1,37,13],[37,14,38,15],[37,16,38,18],[37,19,38,22],[37,23,38,27],[38,1,38,13],[39,0,40,0],[39,1,39,13],[39,14,40,15],[39,16,40,18],[39,19,40,22],[39,23,40,27],[40,1,40,13],[256,31,256,35],[256,36,256,38],[256,39,256,43],[256,44,256,46],[256,47,256,51],[256,52,256,54],[256,1,256,13],[256,14,256,15],[256,16,256,18],[256,19,256,22],[256,23,256,27],[256,28,256,30],[255,31,255,35],[255,36,255,38],[255,39,255,43],[255,44,255,46],[255,47,255,51],[255,52,255,54],[255,1,255,13],[255,14,255,15],[255,16,255,18],[255,19,255,22],[255,23,255,27],[255,28,255,30],[254,31,254,35],[254,36,254,38],[254,39,254,43],[254,44,254,46],[254,47,254,51],[254,52,254,54],[254,1,254,13],[254,14,254,15],[254,16,254,18],[254,19,254,22],[254,23,254,27],[254,28,254,30],[253,31,253,35],[253,36,253,38],[253,39,253,43],[253,44,253,46],[253,47,253,51],[253,52,253,54],[253,1,253,13],[253,14,253,15],[253,16,253,18],[253,19,253,22],[253,23,253,27],[253,28,253,30],[252,31,252,35],[252,36,252,38],[252,39,252,43],[252,44,252,46],[252,47,252,51],[252,52,252,54],[252,1,252,13],[252,14,252,15],[252,16,252,18],[252,19,252,22],[252,23,252,27],[252,28,252,30],[251,31,251,35],[251,36,251,38],[251,39,251,43],[251,44,251,46],[251,47,251,51],[251,52,251,54],[251,1,251,13],[251,14,251,15],[251,16,251,18],[251,19,251,22],[251,23,251,27],[251,28,251,30],[250,31,250,35],[250,36,250,38],[250,39,250,43],[250,44,250,46],[250,47,250,51],[250,52,250,54],[250,1,250,13],[250,14,250,15],[250,16,250,18],[250,19,250,22],[250,23,250,27],[250,28,250,30],[249,31,249,35],[249,36,249,38],[249,39,249,43],[249,44,249,46],[249,47,249,51],[249,52,249,54],[249,1,249,13],[249,14,249,15],[249,16,249,18],[249,19,249,22],[249,23,249,27],[249,28,249,30],[248,31,248,35],[248,36,248,38],[248,39,248,43],[248,44,248,46],[248,47,248,51],[248,52,248,54],[248,1,248,13],[248,14,248,15],[248,16,248,18],[248,19,248,22],[248,23,248,27],[248,28,248,30],[247,31,247,35],[247,36,247,38],[247,39,247,43],[247,44,247,46],[247,47,247,51],[247,52,247,54],[247,1,247,13],[247,14,247,15],[247,16,247,18],[247,19,247,22],[247,23,247,27],[247,28,247,30],[246,31,246,35],[246,36,246,38],[246,39,246,43],[246,44,246,46],[246,47,246,51],[246,52,246,54],[246,1,246,13],[246,14,246,15],[246,16,246,18],[246,19,246,22],[246,23,246,27],[246,28,246,30],[245,31,245,35],[245,36,245,38],[245,39,245,43],[245,44,245,46],[245,47,245,51],[245,52,245,54],[245,1,245,13],[245,14,245,15],[245,16,245,18],[245,19,245,22],[245,23,245,27],[245,28,245,30],[244,31,244,35],[244,36,244,38],[244,39,244,43],[244,44,244,46],[244,47,244,51],[244,52,244,54],[244,1,244,13],[244,14,244,15],[244,16,244,18],[244,19,244,22],[244,23,244,27],[244,28,244,30],[243,31,243,35],[243,36,243,38],[243,39,243,43],[243,44,243,46],[243,47,243,51],[243,52,243,54],[243,1,243,13],[243,14,243,15],[243,16,243,18],[243,19,243,22],[243,23,243,27],[243,28,243,30],[242,31,242,35],[242,36,242,38],[242,39,242,43],[242,44,242,46],[242,47,242,51],[242,52,242,54],[242,1,242,13],[242,14,242,15],[242,16,242,18],[242,19,242,22],[242,23,242,27],[242,28,242,30],[239,44,239,46],[239,47,239,51],[241,1,241,13],[238,44,238,51],[238,52,239,54],[239,14,239,15],[239,16,239,18],[239,19,239,22],[239,23,239,27],[239,28,239,30],[239,31,239,35],[239,36,239,38],[239,39,239,43],[234,19,236,22],[234,24,236,29],[238,1,239,13],[238,14,238,27],[238,28,238,35],[238,36,238,43],[221,1,227,17],[221,50,223,50],[231,1,233,5],[231,6,233,13],[231,23,236,23],[231,24,233,29],[234,1,236,5],[234,6,236,13],[234,15,236,16],[234,17,236,18],[216,31,216,35],[216,36,216,38],[216,39,216,43],[216,44,216,46],[216,47,216,51],[202,47,203,51],[202,52,203,54],[216,52,216,54],[216,1,216,13],[216,14,216,15],[216,16,216,18],[216,19,216,22],[216,23,216,27],[216,28,216,30],[215,1,215,13],[214,28,215,30],[214,31,215,35],[214,36,215,38],[214,39,215,43],[214,44,215,46],[214,47,215,51],[214,52,215,54],[214,1,214,13],[213,1,213,13],[212,28,213,30],[212,31,213,35],[212,36,213,38],[212,39,213,43],[212,44,213,46],[212,47,213,51],[212,52,213,54],[212,1,212,13],[212,14,213,15],[212,16,213,18],[212,19,213,22],[212,23,213,27],[202,14,203,15],[192,36,193,38],[192,39,193,43],[210,28,211,30],[210,31,211,35],[210,36,211,38],[210,39,211,43],[210,44,211,46],[210,47,211,51],[210,52,211,54],[210,1,210,13],[209,1,209,13],[208,28,209,30],[208,31,209,35],[208,1,208,13],[207,1,207,13],[206,1,206,13],[205,1,205,13],[204,1,204,13],[203,1,203,13],[204,14,205,15],[204,16,205,18],[204,19,205,22],[204,23,205,27],[202,36,203,38],[202,39,203,43],[204,36,205,38],[204,39,205,43],[206,36,207,38],[206,39,207,43],[208,36,209,38],[208,39,209,43],[202,44,203,46],[194,36,195,38],[194,39,195,43],[196,36,197,38],[196,39,197,43],[198,36,199,38],[198,39,199,43],[200,36,201,38],[200,39,201,43],[186,44,187,46],[186,47,187,51],[186,52,187,54],[188,44,189,46],[188,47,189,51],[180,19,182,22],[180,24,182,29],[184,1,185,13],[184,14,184,27],[184,28,184,35],[184,36,184,43],[186,36,187,38],[186,39,187,43],[188,36,189,38],[188,39,189,43],[190,36,191,38],[190,39,191,43],[184,44,184,51],[184,52,185,54],[185,14,185,15],[185,16,185,18],[185,19,185,22],[185,23,185,27],[185,28,185,30],[167,1,173,17],[167,50,169,50],[177,1,179,5],[177,6,179,13],[177,23,182,23],[177,24,179,29],[180,1,182,5],[180,6,182,13],[180,15,182,16],[180,17,182,18],[162,31,162,35],[162,36,162,38],[162,39,162,43],[162,44,162,46],[162,47,162,51],[185,44,185,46],[185,47,185,51],[185,31,185,35],[185,36,185,38],[185,39,185,43],[162,52,162,54],[162,1,162,13],[162,14,162,15],[162,16,162,18],[162,19,162,22],[162,23,162,27],[162,28,162,30],[161,1,161,13],[160,28,161,30],[160,31,161,35],[160,47,161,51],[160,52,161,54],[160,1,160,13],[159,1,159,13],[158,28,159,30],[158,31,159,35],[158,47,159,51],[158,52,159,54],[158,1,158,13],[158,44,159,46],[160,44,161,46],[136,28,137,30],[136,31,137,35],[138,28,139,30],[138,31,139,35],[140,28,141,30],[140,31,141,35],[142,28,143,30],[142,31,143,35],[144,28,145,30],[144,31,145,35],[134,39,135,43],[134,44,135,46],[134,47,135,51],[136,36,137,38],[136,39,137,43],[136,44,137,46],[136,47,137,51],[132,52,133,54],[134,36,135,38],[130,44,130,51],[130,52,131,54],[131,14,131,15],[131,16,131,18],[131,19,131,22],[131,23,131,27],[131,28,131,30],[131,31,131,35],[131,36,131,38],[131,39,131,43],[126,19,128,22],[126,24,128,29],[130,1,131,13],[130,14,130,27],[130,28,130,35],[130,36,130,43],[131,44,131,46],[131,47,131,51],[134,52,135,54],[132,36,133,38],[132,39,133,43],[132,44,133,46],[132,47,133,51],[134,28,135,30],[134,31,135,35],[113,1,119,17],[113,50,115,50],[123,1,125,5],[123,6,125,13],[123,23,128,23],[123,24,125,29],[126,1,128,5],[126,6,128,13],[126,15,128,16],[126,17,128,18],[108,31,108,35],[108,36,108,38],[108,39,108,43],[108,44,108,46],[108,47,108,51],[108,52,108,54],[108,1,108,13],[108,14,108,15],[108,16,108,18],[108,19,108,22],[108,23,108,27],[108,28,108,30],[107,1,107,13],[106,28,107,30],[106,31,107,35],[106,36,107,38],[106,39,107,43],[106,44,107,46],[106,47,107,51],[106,52,107,54],[106,1,106,13],[105,1,105,13],[104,28,105,30],[104,31,105,35],[104,36,105,38],[104,39,105,43]],"merged_total":1195,"flags":["merged_cut"]}
[null,null,null,null,null,null,null,null,"請 求 書（出来高・分割納入用）",null,null,null,null,null,null,null,null,null,null,null,null,null,null,null,null,null,null,null,null,null,null,null,null,null,null,null,null,null,null,null,null,null,null,null,null,null,null,null,null,null,"No."]
[null,null,null,null,null,null,null,null,null,null,null,null,null,null,null,null,null,null,null,null,null,null,null,null,null,null,null,null,null,null,null,null,null,null,null,null,null,null,null,"日付",null,null,null,null,"年",null,"月",null,"日"]
[]
[]
[null,null,null,null,null,null,null,null,null,null,null,null,null,null,null,null,null,null,null,null,null,null,null,null,null,null,null,null,null,null,null,null,null,null,null,null,null,"請求者住所･氏名･印･電話",null,null,null,null,null,"取引先コード",null,null,null,null,{"$f":"入力フォーム!B3","v":0}]
[]
[null,null,null,null,null,null,null,null,null,null,null,null,null,null,null,null,null,"御中"]
[null,null,null,null,null,null,null,null,null,null,null,null,null,null,null,null,null,null,null,null,null,null,null,null,null,null,null,null,null,null,null,null,null,null,null,null,null,{"$f":"\"登録番号\"&\" \"&入力フォーム!B4","v":"登録番号 "}]
[]
[]
[]
[null,"下記の通り請求いたします。"]
[]
[]
[null,null,null,"月分請求内訳書",null,null,null,null,null,null,null,"枚 (本用紙を含む)"]
[]
[]
[null,"請 求 金 額",null,null,null,null,{"$f":"SUM(G23:P32)","v":0}]
[]
[]
[]
[null,null,null,null,null,null,null,null,null,null,null,null,null,null,null,null,null,null,null,"製造番号",null,null,null,null,{"$f":"見積書!$B$47","v":""}]
[null,"内　訳","税抜金額",null,null,null,{"$f":"AN58+AN109+AN163+AN217+AN257","v":0},null,null,null,null,null,null,null,null,null,null,null,null,null,null,null,null,null,null,null,null,null,null,null,null,null,null,"第",null,6,null,"回請求"]
[]
[null,null,null,null,null,null,null,null,null,null,null,null,null,null,null,null,null,null,null,"注文番号",null,null,null,null,{"$f":"IF('出来高内訳書 (第1回請求)'!Y25=\"\",\"\",'出来高内訳書 (第1回請求)'!Y25)","v":""}]
[]
[null,null,null,null,null,null,null,null,null,null,null,null,null,null,null,null,null,null,null,null,null,null,null,null,null,null,null,null,null,null,null,null,null,null,"※科目"]
[null,null,"消費税額等",null,null,null,{"$f":"IF(AC28=\"10％\",ROUNDDOWN(G23*10%,0),IF(AC28=\"(軽)8%\",ROUNDDOWN(G23*8%,0),0))","v":0},null,null,null,null,null,null,null,null,null,null,null,null,"消費税率",null,null,null,null,null,null,null,null,{"$f":"入力フォーム!B10","v":"10％"}]
[]
[]
[]
[]
[]
[null,"工　種・品　名",null,null,null,null,null,null,null,null,null,null,null,null,"契　約　金　額",null,null,null,null,null,null,null,null,null,null,null,null,null,"前回までの出来高",null,null,null,null,null,null,null,"今回出来高",null,null,null,null,null,null,null,"残高",null,null,null,null,null,null,null,"備　考"]
[null,null,null,null,null,null,null,null,null,null,null,null,null,null,"単位",null,"数量",null,null,"単価",null,null,null,"金額",null,null,null,null,"数量",null,null,"金額",null,null,null,null,"数量",null,null,"金額",null,null,null,null,"数量",null,null,"金額"]
[1,{"$f":"見積書!F61","v":""},null,null,null,null,null,null,null,null,null,null,null,null,{"$f":"見積書!Q61","v":""},null,{"$f":"見積書!R61","v":""},null,null,{"$f":"見積書!S61","v":""},null,null,null,{"$f":"見積書!T61","v":""},null,null,null,null,{"$f":"IF(Q36=\"\",\"\",'出来高内訳書 (第5回請求)'!AC36+'出来高内訳書 (第5回請求)'!AK36)","v":""},null,null,{"$f":"IF(T36=\"\",\"\",ROUND(T36*AC36,0))","v":""},null,null,null,null,null,null,null,{"$f":"IF(T36=\"\",\"\",ROUND(T36*AK36,0))","v":""},null,null,null,null,{"$f":"IF(Q36=\"\",\"\",ROUND(Q36-AC36-AK36,2))","v":""},null,null,{"$f":"IF(T36=\"\",\"\",(IF(AS36<0,\"出来高が契約を超過\",X36-AN36-AF36)))","v":""}]
[null,{"$f":"見積書!F62","v":""}]
[2,{"$f":"見積書!F63","v":""},null,null,null,null,null,null,null,null,null,null,null,null,{"$f":"見積書!Q63","v":""},null,{"$f":"見積書!R63","v":""},null,null,{"$f":"見積書!S63","v":""},null,null,null,{"$f":"見積書!T63","v":""},null,null,null,null,{"$f":"IF(Q38=\"\",\"\",'出来高内訳書 (第5回請求)'!AC38+'出来高内訳書 (第5回請求)'!AK38)","v":""},null,null,{"$f":"IF(T38=\"\",\"\",ROUND(T38*AC38,0))","v":""},null,null,null,null,null,null,null,{"$f":"IF(T38=\"\",\"\",ROUND(T38*AK38,0))","v":""},null,null,null,null,{"$f":"IF(Q38=\"\",\"\",ROUND(Q38-AC38-AK38,2))","v":""},null,null,{"$f":"IF(T38=\"\",\"\",(IF(AS38<0,\"出来高が契約を超過\",X38-AN38-AF38)))","v":""}]
[null,{"$f":"見積書!F64","v":""}]
[3,{"$f":"見積書!F65","v":""},null,null,null,null,null,null,null,null,null,null,null,null,{"$f":"見積書!Q65","v":""},null,{"$f":"見積書!R65","v":""},null,null,{"$f":"見積書!S65","v":""},null,null,null,{"$f":"見積書!T65","v":""},null,null,null,null,{"$f":"IF(Q40=\"\",\"\",'出来高内訳書 (第5回請求)'!AC40+'出来高内訳書 (第5回請求)'!AK40)","v":""},null,null,{"$f":"IF(T40=\"\",\"\",ROUND(T40*AC40,0))","v":""},null,null,null,null,null,null,null,{"$f":"IF(T40=\"\",\"\",ROUND(T40*AK40,0))","v":""},null,null,null,null,{"$f":"IF(Q40=\"\",\"\",ROUND(Q40-AC40-AK40,2))","v":""},null,null,{"$f":"IF(T40=\"\",\"\",(IF(AS40<0,\"出来高が契約を超過\",X40-AN40-AF40)))","v":""}]
[null,{"$f":"見積書!F66","v":""}]
[4,{"$f":"見積書!F67","v":""},null,null,null,null,null,null,null,null,null,null,null,null,{"$f":"見積書!Q67","v":""},null,{"$f":"見積書!R67","v":""},null,null,{"$f":"見積書!S67","v":""},null,null,null,{"$f":"見積書!T67","v":""},null,null,null,null,{"$f":"IF(Q42=\"\",\"\",'出来高内訳書 (第5回請求)'!AC42+'出来高内訳書 (第5回請求)'!AK42)","v":""},null,null,{"$f":"IF(T42=\"\",\"\",ROUND(T42*AC42,0))","v":""},null,null,null,null,null,null,null,{"$f":"IF(T42=\"\",\"\",ROUND(T42*AK42,0))","v":""},null,null,null,null,{"$f":"IF(Q42=\"\",\"\",ROUND(Q42-AC42-AK42,2))","v":""},null,null,{"$f":"IF(T42=\"\",\"\",(IF(AS42<0,\"出来高が契約を超過\",X42-AN42-AF42)))","v":""}]
[null,{"$f":"見積書!F68","v":""}]
[5,{"$f":"見積書!F69","v":""},null,null,null,null,null,null,null,null,null,null,null,null,{"$f":"見積書!Q69","v":""},null,{"$f":"見積書!R69","v":""},null,null,{"$f":"見積書!S69","v":""},null,null,null,{"$f":"見積書!T69","v":""},null,null,null,null,{"$f":"IF(Q44=\"\",\"\",'出来高内訳書 (第5回請求)'!AC44+'出来高内訳書 (第5回請求)'!AK44)","v":""},null,null,{"$f":"IF(T44=\"\",\"\",ROUND(T44*AC44,0))","v":""},null,null,null,null,null,null,null,{"$f":"IF(T44=\"\",\"\",ROUND(T44*AK44,0))","v":""},null,null,null,null,{"$f":"IF(Q44=\"\",\"\",ROUND(Q44-AC44-AK44,2))","v":""},null,null,{"$f":"IF(T44=\"\",\"\",(IF(AS44<0,\"出来高が契約を超過\",X44-AN44-AF44)))","v":""}]
[null,{"$f":"見積書!F70","v":""}]
[6,{"$f":"見積書!F71","v":""},null,null,null,null,null,null,null,null,null,null,null,null,{"$f":"見積書!Q71","v":""},null,{"$f":"見積書!R71","v":""},null,null,{"$f":"見積書!S71","v":""},null,null,null,{"$f":"見積書!T71","v":""},null,null,null,null,{"$f":"IF(Q46=\"\",\"\",'出来高内訳書 (第5回請求)'!AC46+'出来高内訳書 (第5回請求)'!AK46)","v":""},null,null,{"$f":"IF(T46=\"\",\"\",ROUND(T46*AC46,0))","v":""},null,null,null,null,null,null,null,{"$f":"IF(T46=\"\",\"\",ROUND(T46*AK46,0))","v":""},null,null,null,null,{"$f":"IF(Q46=\"\",\"\",ROUND(Q46-AC46-AK46,2))","v":""},null,null,{"$f":"IF(T46=\"\",\"\",(IF(AS46<0,\"出来高が契約を超過\",X46-AN46-AF46)))","v":""}]
[null,{"$f":"見積書!F72","v":""}]
[7,{"$f":"見積書!F73","v":""},null,null,null,null,null,null,null,null,null,null,null,null,{"$f":"見積書!Q73","v":""},null,{"$f":"見積書!R73","v":""},null,null,{"$f":"見積書!S73","v":""},null,null,null,{"$f":"見積書!T73","v":""},null,null,null,null,{"$f":"IF(Q48=\"\",\"\",'出来高内訳書 (第5回請求)'!AC48+'出来高内訳書 (第5回請求)'!AK48)","v":""},null,null,{"$f":"IF(T48=\"\",\"\",ROUND(T48*AC48,0))","v":""},null,null,null,null,null,null,null,{"$f":"IF(T48=\"\",\"\",ROUND(T48*AK48,0))","v":""},null,null,null,null,{"$f":"IF(Q48=\"\",\"\",ROUND(Q48-AC48-AK48,2))","v":""},null,null,{"$f":"IF(T48=\"\",\"\",(IF(AS48<0,\"出来高が契約を超過\",X48-AN48-AF48)))","v":""}]
[null,{"$f":"見積書!F74","v":""}]
[8,{"$f":"見積書!F75","v":""},null,null,null,null,null,null,null,null,null,null,null,null,{"$f":"見積書!Q75","v":""},null,{"$f":"見積書!R75","v":""},null,null,{"$f":"見積書!S75","v":""},null,null,null,{"$f":"見積書!T75","v":""},null,null,null,null,{"$f":"IF(Q50=\"\",\"\",'出来高内訳書 (第5回請求)'!AC50+'出来高内訳書 (第5回請求)'!AK50)","v":""},null,null,{"$f":"IF(T50=\"\",\"\",ROUND(T50*AC50,0))","v":""},null,null,null,null,null,null,null,{"$f":"IF(T50=\"\",\"\",ROUND(T50*AK50,0))","v":""},null,null,null,null,{"$f":"IF(Q50=\"\",\"\",ROUND(Q50-AC50-AK50,2))","v":""},null,null,{"$f":"IF(T50=\"\",\"\",(IF(AS50<0,\"出来高が契約を超過\",X50-AN50-AF50)))","v":""}]
[null,{"$f":"見積書!F76","v":""}]
[9,{"$f":"見積書!F77","v":""},null,null,null,null,null,null,null,null,null,null,null,null,{"$f":"見積書!Q77","v":""},null,{"$f":"見積書!R77","v":""},null,null,{"$f":"見積書!S77","v":""},null,null,null,{"$f":"見積書!T77","v":""},null,null,null,null,{"$f":"IF(Q52=\"\",\"\",'出来高内訳書 (第5回請求)'!AC52+'出来高内訳書 (第5回請求)'!AK52)","v":""},null,null,{"$f":"IF(T52=\"\",\"\",ROUND(T52*AC52,0))","v":""},null,null,null,null,null,null,null,{"$f":"IF(T52=\"\",\"\",ROUND(T52*AK52,0))","v":""},null,null,null,null,{"$f":"IF(Q52=\"\",\"\",ROUND(Q52-AC52-AK52,2))","v":""},null,null,{"$f":"IF(T52=\"\",\"\",(IF(AS52<0,\"出来高が契約を超過\",X52-AN52-AF52)))","v":""}]
[null,{"$f":"見積書!F78","v":""}]
[10,{"$f":"見積書!F79","v":""},null,null,null,null,null,null,null,null,null,null,null,null,{"$f":"見積書!Q79","v":""},null,{"$f":"見積書!R79","v":""},null,null,{"$f":"見積書!S79","v":""},null,null,null,{"$f":"見積書!T79","v":""},null,null,null,null,{"$f":"IF(Q54=\"\",\"\",'出来高内訳書 (第5回請求)'!AC54+'出来高内訳書 (第5回請求)'!AK54)","v":""},null,null,{"$f":"IF(T54=\"\",\"\",ROUND(T54*AC54,0))","v":""},null,null,null,null,null,null,null,{"$f":"IF(T54=\"\",\"\",ROUND(T54*AK54,0))","v":""},null,null,null,null,{"$f":"IF(Q54=\"\",\"\",ROUND(Q54-AC54-AK54,2))","v":""},null,null,{"$f":"IF(T54=\"\",\"\",(IF(AS54<0,\"出来高が契約を超過\",X54-AN54-AF54)))","v":""}]
[null,{"$f":"見積書!F80","v":""}]
[11,{"$f":"見積書!F81","v":""},null,null,null,null,null,null,null,null,null,null,null,null,{"$f":"見積書!Q81","v":""},null,{"$f":"見積書!R81","v":""},null,null,{"$f":"見積書!S81","v":""},null,null,null,{"$f":"見積書!T81","v":""},null,null,null,null,{"$f":"IF(Q56=\"\",\"\",'出来高内訳書 (第5回請求)'!AC56+'出来高内訳書 (第5回請求)'!AK56)","v":""},null,null,{"$f":"IF(T56=\"\",\"\",ROUND(T56*AC56,0))","v":""},null,null,null,null,null,null,null,{"$f":"IF(T56=\"\",\"\",ROUND(T56*AK56,0))","v":""},null,null,null,null,{"$f":"IF(Q56=\"\",\"\",ROUND(Q56-AC56-AK56,2))","v":""},null,null,{"$f":"IF(T56=\"\",\"\",(IF(AS56<0,\"出来高が契約を超過\",X56-AN56-AF56)))","v":""}]
[null,{"$f":"見積書!F82","v":""}]
[null,"小計",null,null,null,null,null,null,null,null,null,null,null,null,null,null,null,null,null,null,null,null,null,{"$f":"SUM(X36:AB57)","v":0},null,null,null,null,null,null,null,{"$f":"SUM(AF36:AJ57)","v":0},null,null,null,null,null,null,null,{"$f":"SUM(AN36:AR57)","v":0},null,null,null,null,null,null,null,{"$f":"X58-AF58-AN58","v":0}]
[]
[null,"請求内訳書（出来高・分割納入用）",null,null,null,null,null,null,null,null,null,null,null,null,null,null,null,null,null,null,null,null,null,null,null,null,null,null,null,null,null,null,null,null,null,null,null,null,null,null,null,null,null,null,null,null,null,null,null,null,"No."]
[]
[]
[]
[]
[]
[]
[]
[]
[]
[null,"製造番号",null,null,null,null,{"$f":"Y22","v":""},null,null,null,null,null,null,null,null,null,null,null,null,null,null,null,null,"※科目"]
[]
[]
[null,"注文番号",null,null,null,null,{"$f":"Y25","v":""},null,null,null,null,null,null,null,null,"第",null,{"$f":"AJ23","v":6},null,"回請求"]
[]
[]
[]
[null,"工　種・品　名",null,null,null,null,null,null,null,null,null,null,null,null,"契　約　金　額",null,null,null,null,null,null,null,null,null,null,null,null,null,"前回までの出来高",null,null,null,null,null,null,null,"今回出来高",null,null,null,null,null,null,null,"残高",null,null,null,null,null,null,null,"備　考"]
[null,null,null,null,null,null,null,null,null,null,null,null,null,null,"単位",null,"数量",null,null,"単価",null,null,null,"金額",null,null,null,null,"数量",null,null,"金額",null,null,null,null,"数量",null,null,"金額",null,null,null,null,"数量",null,null,"金額"]
[12,{"$f":"見積書!F83","v":""},null,null,null,null,null,null,null,null,null,null,null,null,{"$f":"見積書!Q83","v":""},null,{"$f":"見積書!R83","v":""},null,null,{"$f":"見積書!S83","v":""},null,null,null,{"$f":"見積書!T83","v":""},null,null,null,null,{"$f":"IF(Q79=\"\",\"\",'出来高内訳書 (第5回請求)'!AC79+'出来高内訳書 (第5回請求)'!AK79)","v":""},null,null,{"$f":"IF(T79=\"\",\"\",ROUND(T79*AC79,0))","v":""},null,null,null,null,null,null,null,{"$f":"IF(T79=\"\",\"\",ROUND(T79*AK79,0))","v":""},null,null,null,null,{"$f":"IF(Q79=\"\",\"\",ROUND(Q79-AC79-AK79,2))","v":""},null,null,{"$f":"IF(T79=\"\",\"\",(IF(AS79<0,\"出来高が契約を超過\",X79-AN79-AF79)))","v":""}]
[null,{"$f":"見積書!F84","v":""}]
[13,{"$f":"見積書!F85","v":""},null,null,null,null,null,null,null,null,null,null,null,null,{"$f":"見積書!Q85","v":""},null,{"$f":"見積書!R85","v":""},null,null,{"$f":"見積書!S85","v":""},null,null,null,{"$f":"見積書!T85","v":""},null,null,null,null,{"$f":"IF(Q81=\"\",\"\",'出来高内訳書 (第5回請求)'!AC81+'出来高内訳書 (第5回請求)'!AK81)","v":""},null,null,{"$f":"IF(T81=\"\",\"\",ROUND(T81*AC81,0))","v":""},null,null,null,null,null,null,null,{"$f":"IF(T81=\"\",\"\",ROUND(T81*AK81,0))","v":""},null,null,null,null,{"$f":"IF(Q81=\"\",\"\",ROUND(Q81-AC81-AK81,2))","v":""},null,null,{"$f":"IF(T81=\"\",\"\",(IF(AS81<0,\"出来高が契約を超過\",X81-AN81-AF81)))","v":""}]
[null,{"$f":"見積書!F86","v":""}]
[14,{"$f":"'見積書 (2)'!F26","v":""},null,null,null,null,null,null,null,null,null,null,null,null,{"$f":"'見積書 (2)'!Q26","v":""},null,{"$f":"'見積書 (2)'!R26","v":""},null,null,{"$f":"'見積書 (2)'!S26","v":""},null,null,null,{"$f":"'見積書 (2)'!T26","v":""},null,null,null,null,{"$f":"IF(Q83=\"\",\"\",'出来高内訳書 (第5回請求)'!AC83+'出来高内訳書 (第5回請求)'!AK83)","v":""},null,null,{"$f":"IF(T83=\"\",\"\",ROUND(T83*AC83,0))","v":""},null,null,null,null,null,null,null,{"$f":"IF(T83=\"\",\"\",ROUND(T83*AK83,0))","v":""},null,null,null,null,{"$f":"IF(Q83=\"\",\"\",ROUND(Q83-AC83-AK83,2))","v":""},null,null,{"$f":"IF(T83=\"\",\"\",(IF(AS83<0,\"出来高が契約を超過\",X83-AN83-AF83)))","v":""}]
[null,{"$f":"'見積書 (2)'!F27","v":""}]
[15,{"$f":"'見積書 (2)'!F28","v":""},null,null,null,null,null,null,null,null,null,null,null,null,{"$f":"'見積書 (2)'!Q28","v":""},null,{"$f":"'見積書 (2)'!R28","v":""},null,null,{"$f":"'見積書 (2)'!S28","v":""},null,null,null,{"$f":"'見積書 (2)'!T28","v":""},null,null,null,null,{"$f":"IF(Q85=\"\",\"\",'出来高内訳書 (第5回請求)'!AC85+'出来高内訳書 (第5回請求)'!AK85)","v":""},null,null,{"$f":"IF(T85=\"\",\"\",ROUND(T85*AC85,0))","v":""},null,null,null,null,null,null,null,{"$f":"IF(T85=\"\",\"\",ROUND(T85*AK85,0))","v":""},null,null,null,null,{"$f":"IF(Q85=\"\",\"\",ROUND(Q85-AC85-AK85,2))","v":""},null,null,{"$f":"IF(T85=\"\",\"\",(IF(AS85<0,\"出来高が契約を超過\",X85-AN85-AF85)))","v":""}]
[null,{"$f":"'見積書 (2)'!F29","v":""}]
[16,{"$f":"'見積書 (2)'!F30","v":""},null,null,null,null,null,null,null,null,null,null,null,null,{"$f":"'見積書 (2)'!Q30","v":""},null,{"$f":"'見積書 (2)'!R30","v":""},null,null,{"$f":"'見積書 (2)'!S30","v":""},null,null,null,{"$f":"'見積書 (2)'!T30","v":""},null,null,null,null,{"$f":"IF(Q87=\"\",\"\",'出来高内訳書 (第5回請求)'!AC87+'出来高内訳書 (第5回請求)'!AK87)","v":""},null,null,{"$f":"IF(T87=\"\",\"\",ROUND(T87*AC87,0))","v":""},null,null,null,null,null,null,null,{"$f":"IF(T87=\"\",\"\",ROUND(T87*AK87,0))","v":""},null,null,null,null,{"$f":"IF(Q87=\"\",\"\",ROUND(Q87-AC87-AK87,2))","v":""},null,null,{"$f":"IF(T87=\"\",\"\",(IF(AS87<0,\"出来高が契約を超過\",X87-AN87-AF87)))","v":""}]
[null,{"$f":"'見積書 (2)'!F31","v":""}]
[17,{"$f":"'見積書 (2)'!F32","v":""},null,null,null,null,null,null,null,null,null,null,null,null,{"$f":"'見積書 (2)'!Q32","v":""},null,{"$f":"'見積書 (2)'!R32","v":""},null,null,{"$f":"'見積書 (2)'!S32","v":""},null,null,null,{"$f":"'見積書 (2)'!T32","v":""},null,null,null,null,{"$f":"IF(Q89=\"\",\"\",'出来高内訳書 (第5回請求)'!AC89+'出来高内訳書 (第5回請求)'!AK89)","v":""},null,null,{"$f":"IF(T89=\"\",\"\",ROUND(T89*AC89,0))","v":""},null,null,null,null,null,null,null,{"$f":"IF(T89=\"\",\"\",ROUND(T89*AK89,0))","v":""},null,null,null,null,{"$f":"IF(Q89=\"\",\"\",ROUND(Q89-AC89-AK89,2))","v":""},null,null,{"$f":"IF(T89=\"\",\"\",(IF(AS89<0,\"出来高が契約を超過\",X89-AN89-AF89)))","v":""}]
[null,{"$f":"'見積書 (2)'!F33","v":""}]
[18,{"$f":"'見積書 (2)'!F34","v":""},null,null,null,null,null,null,null,null,null,null,null,null,{"$f":"'見積書 (2)'!Q34","v":""},null,{"$f":"'見積書 (2)'!R34","v":""},null,null,{"$f":"'見積書 (2)'!S34","v":""},null,null,null,{"$f":"'見積書 (2)'!T34","v":""},null,null,null,null,{"$f":"IF(Q91=\"\",\"\",'出来高内訳書 (第5回請求)'!AC91+'出来高内訳書 (第5回請求)'!AK91)","v":""},null,null,{"$f":"IF(T91=\"\",\"\",ROUND(T91*AC91,0))","v":""},null,null,null,null,null,null,null,{"$f":"IF(T91=\"\",\"\",ROUND(T91*AK91,0))","v":""},null,null,null,null,{"$f":"IF(Q91=\"\",\"\",ROUND(Q91-AC91-AK91,2))","v":""},null,null,{"$f":"IF(T91=\"\",\"\",(IF(AS91<0,\"出来高が契約を超過\",X91-AN91-AF91)))","v":""}]
[null,{"$f":"'見積書 (2)'!F35","v":""}]
[19,{"$f":"'見積書 (2)'!F36","v":""},null,null,null,null,null,null,null,null,null,null,null,null,{"$f":"'見積書 (2)'!Q36","v":""},null,{"$f":"'見積書 (2)'!R36","v":""},null,null,{"$f":"'見積書 (2)'!S36","v":""},null,null,null,{"$f":"'見積書 (2)'!T36","v":""},null,null,null,null,{"$f":"IF(Q93=\"\",\"\",'出来高内訳書 (第5回請求)'!AC93+'出来高内訳書 (第5回請求)'!AK93)","v":""},null,null,{"$f":"IF(T93=\"\",\"\",ROUND(T93*AC93,0))","v":""},null,null,null,null,null,null,null,{"$f":"IF(T93=\"\",\"\",ROUND(T93*AK93,0))","v":""},null,null,null,null,{"$f":"IF(Q93=\"\",\"\",ROUND(Q93-AC93-AK93,2))","v":""},null,null,{"$f":"IF(T93=\"\",\"\",(IF(AS93<0,\"出来高が契約を超過\",X93-AN93-AF93)))","v":""}]
[null,{"$f":"'見積書 (2)'!F37","v":""}]
[20,{"$f":"'見積書 (2)'!F38","v":""},null,null,null,null,null,null,null,null,null,null,null,null,{"$f":"'見積書 (2)'!Q38","v":""},null,{"$f":"'見積書 (2)'!R38","v":""},null,null,{"$f":"'見積書 (2)'!S38","v":""},null,null,null,{"$f":"'見積書 (2)'!T38","v":""},null,null,null,null,{"$f":"IF(Q95=\"\",\"\",'出来高内訳書 (第5回請求)'!AC95+'出来高内訳書 (第5回請求)'!AK95)","v":""},null,null,{"$f":"IF(T95=\"\",\"\",ROUND(T95*AC95,0))","v":""},null,null,null,null,null,null,null,{"$f":"IF(T95=\"\",\"\",ROUND(T95*AK95,0))","v":""},null,null,null,null,{"$f":"IF(Q95=\"\",\"\",ROUND(Q95-AC95-AK95,2))","v":""},null,null,{"$f":"IF(T95=\"\",\"\",(IF(AS95<0,\"出来高が契約を超過\",X95-AN95-AF95)))","v":""}]
[null,{"$f":"'見積書 (2)'!F39","v":""}]
[21,{"$f":"'見積書 (2)'!F40","v":""},null,null,null,null,null,null,null,null,null,null,null,null,{"$f":"'見積書 (2)'!Q40","v":""},null,{"$f":"'見積書 (2)'!R40","v":""},null,null,{"$f":"'見積書 (2)'!S40","v":""},null,null,null,{"$f":"'見積書 (2)'!T40","v":""},null,null,null,null,{"$f":"IF(Q97=\"\",\"\",'出来高内訳書 (第5回請求)'!AC97+'出来高内訳書 (第5回請求)'!AK97)","v":""},null,null,{"$f":"IF(T97=\"\",\"\",ROUND(T97*AC97,0))","v":""},null,null,null,null,null,null,null,{"$f":"IF(T97=\"\",\"\",ROUND(T97*AK97,0))","v":""},null,null,null,null,{"$f":"IF(Q97=\"\",\"\",ROUND(Q97-AC97-AK97,2))","v":""},null,null,{"$f":"IF(T97=\"\",\"\",(IF(AS97<0,\"出来高が契約を超過\",X97-AN97-AF97)))","v":""}]
[null,{"$f":"'見積書 (2)'!F41","v":""}]
[22,{"$f":"'見積書 (2)'!F42","v":""},null,null,null,null,null,null,null,null,null,null,null,null,{"$f":"'見積書 (2)'!Q42","v":""},null,{"$f":"'見積書 (2)'!R42","v":""},null,null,{"$f":"'見積書 (2)'!S42","v":""},null,null,null,{"$f":"'見積書 (2)'!T42","v":""},null,null,null,null,{"$f":"IF(Q99=\"\",\"\",'出来高内訳書 (第5回請求)'!AC99+'出来高内訳書 (第5回請求)'!AK99)","v":""},null,null,{"$f":"IF(T99=\"\",\"\",ROUND(T99*AC99,0))","v":""},null,null,null,null,null,null,null,{"$f":"IF(T99=\"\",\"\",ROUND(T99*AK99,0))","v":""},null,null,null,null,{"$f":"IF(Q99=\"\",\"\",ROUND(Q99-AC99-AK99,2))","v":""},null,null,{"$f":"IF(T99=\"\",\"\",(IF(AS99<0,\"出来高が契約を超過\",X99-AN99-AF99)))","v":""}]
[null,{"$f":"'見積書 (2)'!F43","v":""}]
[23,{"$f":"'見積書 (2)'!F44","v":""},null,null,null,null,null,null,null,null,null,null,null,null,{"$f":"'見積書 (2)'!Q44","v":""},null,{"$f":"'見積書 (2)'!R44","v":""},null,null,{"$f":"'見積書 (2)'!S44","v":""},null,null,null,{"$f":"'見積書 (2)'!T44","v":""},null,null,null,null,{"$f":"IF(Q101=\"\",\"\",'出来高内訳書 (第5回請求)'!AC101+'出来高内訳書 (第5回請求)'!AK101)","v":""},null,null,{"$f":"IF(T101=\"\",\"\",ROUND(T101*AC101,0))","v":""},null,null,null,null,null,null,null,{"$f":"IF(T101=\"\",\"\",ROUND(T101*AK101,0))","v":""},null,null,null,null,{"$f":"IF(Q101=\"\",\"\",ROUND(Q101-AC101-AK101,2))","v":""},null,null,{"$f":"IF(T101=\"\",\"\",(IF(AS101<0,\"出来高が契約を超過\",X101-AN101-AF101)))","v":""}]
[null,{"$f":"'見積書 (2)'!F45","v":""}]
[24,{"$f":"'見積書 (2)'!F46","v":""},null,null,null,null,null,null,null,null,null,null,null,null,{"$f":"'見積書 (2)'!Q46","v":""},null,{"$f":"'見積書 (2)'!R46","v":""},null,null,{"$f":"'見積書 (2)'!S46","v":""},null,null,null,{"$f":"'見積書 (2)'!T46","v":""},null,null,null,null,{"$f":"IF(Q103=\"\",\"\",'出来高内訳書 (第5回請求)'!AC103+'出来高内訳書 (第5回請求)'!AK103)","v":""},null,null,{"$f":"IF(T103=\"\",\"\",ROUND(T103*AC103,0))","v":""},null,null,null,null,null,null,null,{"$f":"IF(T103=\"\",\"\",ROUND(T103*AK103,0))","v":""},null,null,null,null,{"$f":"IF(Q103=\"\",\"\",ROUND(Q103-AC103-AK103,2))","v":""},null,null,{"$f":"IF(T103=\"\",\"\",(IF(AS103<0,\"出来高が契約を超過\",X103-AN103-AF103)))","v":""}]
[null,{"$f":"'見積書 (2)'!F47","v":""}]
[25,{"$f":"'見積書 (2)'!F48","v":""},null,null,null,null,null,null,null,null,null,null,null,null,{"$f":"'見積書 (2)'!Q48","v":""},null,{"$f":"'見積書 (2)'!R48","v":""},null,null,{"$f":"'見積書 (2)'!S48","v":""},null,null,null,{"$f":"'見積書 (2)'!T48","v":""},null,null,null,null,{"$f":"IF(Q105=\"\",\"\",'出来高内訳書 (第5回請求)'!AC105+'出来高内訳書 (第5回請求)'!AK105)","v":""},null,null,{"$f":"IF(T105=\"\",\"\",ROUND(T105*AC105,0))","v":""},null,null,null,null,null,null,null,{"$f":"IF(T105=\"\",\"\",ROUND(T105*AK105,0))","v":""},null,null,null,null,{"$f":"IF(Q105=\"\",\"\",ROUND(Q105-AC105-AK105,2))","v":""},null,null,{"$f":"IF(T105=\"\",\"\",(IF(AS105<0,\"出来高が契約を超過\",X105-AN105-AF105)))","v":""}]
[null,{"$f":"'見積書 (2)'!F49","v":""}]
[26,{"$f":"'見積書 (2)'!F50","v":""},null,null,null,null,null,null,null,null,null,null,null,null,{"$f":"'見積書 (2)'!Q50","v":""},null,{"$f":"'見積書 (2)'!R50","v":""},null,null,{"$f":"'見積書 (2)'!S50","v":""},null,null,null,{"$f":"'見積書 (2)'!T50","v":""},null,null,null,null,{"$f":"IF(Q107=\"\",\"\",'出来高内訳書 (第5回請求)'!AC107+'出来高内訳書 (第5回請求)'!AK107)","v":""},null,null,{"$f":"IF(T107=\"\",\"\",ROUND(T107*AC107,0))","v":""},null,null,null,null,null,null,null,{"$f":"IF(T107=\"\",\"\",ROUND(T107*AK107,0))","v":""},null,null,null,null,{"$f":"IF(Q107=\"\",\"\",ROUND(Q107-AC107-AK107,2))","v":""},null,null,{"$f":"IF(T107=\"\",\"\",(IF(AS107<0,\"出来高が契約を超過\",X107-AN107-AF107)))","v":""}]
[null,{"$f":"'見積書 (2)'!F51","v":""}]
[null,"小計",null,null,null,null,null,null,null,null,null,null,null,null,null,null,null,null,null,null,null,null,null,{"$f":"SUM(X79:AB108)","v":0},null,null,null,null,null,null,null,{"$f":"SUM(AF79:AJ108)","v":0},null,null,null,null,null,null,null,{"$f":"SUM(AN79:AR108)","v":0},null,null,null,null,null,null,null,{"$f":"X109-AF109-AN109","v":0}]
[]
[]
[]
[]
[null,"請求内訳書（出来高・分割納入用）",null,null,null,null,null,null,null,null,null,null,null,null,null,null,null,null,null,null,null,null,null,null,null,null,null,null,null,null,null,null,null,null,null,null,null,null,null,null,null,null,null,null,null,null,null,null,null,null,"No."]
[]
[]
[]
[]
[]
[]
[]
[]
[]
[null,"製造番号",null,null,null,null,{"$f":"Y22","v":""},null,null,null,null,null,null,null,null,null,null,null,null,null,null,null,null,"※科目"]
[]
[]
[null,"注文番号",null,null,null,null,{"$f":"Y25","v":""},null,null,null,null,null,null,null,null,"第",null,{"$f":"AJ23","v":6},null,"回請求"]
[]
[]
[]
[null,"工　種・品　名",null,null,null,null,null,null,null,null,null,null,null,null,"契　約　金　額",null,null,null,null,null,null,null,null,null,null,null,null,null,"前回までの出来高",null,null,null,null,null,null,null,"今回出来高",null,null,null,null,null,null,null,"残高",null,null,null,null,null,null,null,"備　考"]
[null,null,null,null,null,null,null,null,null,null,null,null,null,null,"単位",null,"数量",null,null,"単価",null,null,null,"金額",null,null,null,null,"数量",null,null,"金額",null,null,null,null,"数量",null,null,"金額",null,null,null,null,"数量",null,null,"金額"]
[27,{"$f":"'見積書 (2)'!F52","v":""},null,null,null,null,null,null,null,null,null,null,null,null,{"$f":"'見積書 (2)'!Q52","v":""},null,{"$f":"'見積書 (2)'!R52","v":""},null,null,{"$f":"'見積書 (2)'!S52","v":""},null,null,null,{"$f":"'見積書 (2)'!T52","v":""},null,null,null,null,{"$f":"IF(Q133=\"\",\"\",'出来高内訳書 (第5回請求)'!AC133+'出来高内訳書 (第5回請求)'!AK133)","v":""},null,null,{"$f":"IF(T133=\"\",\"\",ROUND(T133*AC133,0))","v":""},null,null,null,null,null,null,null,{"$f":"IF(T133=\"\",\"\",ROUND(T133*AK133,0))","v":""},null,null,null,null,{"$f":"IF(Q133=\"\",\"\",ROUND(Q133-AC133-AK133,2))","v":""},null,null,{"$f":"IF(T133=\"\",\"\",(IF(AS133<0,\"出来高が契約を超過\",X133-AN133-AF133)))","v":""}]
[null,{"$f":"'見積書 (2)'!F53","v":""}]
[28,{"$f":"'見積書 (2)'!F54","v":""},null,null,null,null,null,null,null,null,null,null,null,null,{"$f":"'見積書 (2)'!Q54","v":""},null,{"$f":"'見積書 (2)'!R54","v":""},null,null,{"$f":"'見積書 (2)'!S54","v":""},null,null,null,{"$f":"'見積書 (2)'!T54","v":""},null,null,null,null,{"$f":"IF(Q135=\"\",\"\",'出来高内訳書 (第5回請求)'!AC135+'出来高内訳書 (第5回請求)'!AK135)","v":""},null,null,{"$f":"IF(T135=\"\",\"\",ROUND(T135*AC135,0))","v":""},null,null,null,null,null,null,null,{"$f":"IF(T135=\"\",\"\",ROUND(T135*AK135,0))","v":""},null,null,null,null,{"$f":"IF(Q135=\"\",\"\",ROUND(Q135-AC135-AK135,2))","v":""},null,null,{"$f":"IF(T135=\"\",\"\",(IF(AS135<0,\"出来高が契約を超過\",X135-AN135-AF135)))","v":""}]
[null,{"$f":"'見積書 (2)'!F55","v":""}]
[29,{"$f":"'見積書 (2)'!F56","v":""},null,null,null,null,null,null,null,null,null,null,null,null,{"$f":"'見積書 (2)'!Q56","v":""},null,{"$f":"'見積書 (2)'!R56","v":""},null,null,{"$f":"'見積書 (2)'!S56","v":""},null,null,null,{"$f":"'見積書 (2)'!T56","v":""},null,null,null,null,{"$f":"IF(Q137=\"\",\"\",'出来高内訳書 (第5回請求)'!AC137+'出来高内訳書 (第5回請求)'!AK137)","v":""},null,null,{"$f":"IF(T137=\"\",\"\",ROUND(T137*AC137,0))","v":""},null,null,null,null,null,null,null,{"$f":"IF(T137=\"\",\"\",ROUND(T137*AK137,0))","v":""},null,null,null,null,{"$f":"IF(Q137=\"\",\"\",ROUND(Q137-AC137-AK137,2))","v":""},null,null,{"$f":"IF(T137=\"\",\"\",(IF(AS137<0,\"出来高が契約を超過\",X137-AN137-AF137)))","v":""}]
[null,{"$f":"'見積書 (2)'!F57","v":""}]
[30,{"$f":"'見積書 (2)'!F58","v":""},null,null,null,null,null,null,null,null,null,null,null,null,{"$f":"'見積書 (2)'!Q58","v":""},null,{"$f":"'見積書 (2)'!R58","v":""},null,null,{"$f":"'見積書 (2)'!S58","v":""},null,null,null,{"$f":"'見積書 (2)'!T58","v":""},null,null,null,null,{"$f":"IF(Q139=\"\",\"\",'出来高内訳書 (第5回請求)'!AC139+'出来高内訳書 (第5回請求)'!AK139)","v":""},null,null,{"$f":"IF(T139=\"\",\"\",ROUND(T139*AC139,0))","v":""},null,null,null,null,null,null,null,{"$f":"IF(T139=\"\",\"\",ROUND(T139*AK139,0))","v":""},null,null,null,null,{"$f":"IF(Q139=\"\",\"\",ROUND(Q139-AC139-AK139,2))","v":""},null,null,{"$f":"IF(T139=\"\",\"\",(IF(AS139<0,\"出来高が契約を超過\",X139-AN139-AF139)))","v":""}]
[null,{"$f":"'見積書 (2)'!F59","v":""}]
[31,{"$f":"'見積書 (2)'!F60","v":""},null,null,null,null,null,null,null,null,null,null,null,null,{"$f":"'見積書 (2)'!Q60","v":""},null,{"$f":"'見積書 (2)'!R60","v":""},null,null,{"$f":"'見積書 (2)'!S60","v":""},null,null,null,{"$f":"'見積書 (2)'!T60","v":""},null,null,null,null,{"$f":"IF(Q141=\"\",\"\",'出来高内訳書 (第5回請求)'!AC141+'出来高内訳書 (第5回請求)'!AK141)","v":""},null,null,{"$f":"IF(T141=\"\",\"\",ROUND(T141*AC141,0))","v":""},null,null,null,null,null,null,null,{"$f":"IF(T141=\"\",\"\",ROUND(T141*AK141,0))","v":""},null,null,null,null,{"$f":"IF(Q141=\"\",\"\",ROUND(Q141-AC141-AK141,2))","v":""},null,null,{"$f":"IF(T141=\"\",\"\",(IF(AS141<0,\"出来高が契約を超過\",X141-AN141-AF141)))","v":""}]
[null,{"$f":"'見積書 (2)'!F61","v":""}]
[32,{"$f":"'見積書 (2)'!F62","v":""},null,null,null,null,null,null,null,null,null,null,null,null,{"$f":"'見積書 (2)'!Q62","v":""},null,{"$f":"'見積書 (2)'!R62","v":""},null,null,{"$f":"'見積書 (2)'!S62","v":""},null,null,null,{"$f":"'見積書 (2)'!T62","v":""},null,null,null,null,{"$f":"IF(Q143=\"\",\"\",'出来高内訳書 (第5回請求)'!AC143+'出来高内訳書 (第5回請求)'!AK143)","v":""},null,null,{"$f":"IF(T143=\"\",\"\",ROUND(T143*AC143,0))","v":""},null,null,null,null,null,null,null,{"$f":"IF(T143=\"\",\"\",ROUND(T143*AK143,0))","v":""},null,null,null,null,{"$f":"IF(Q143=\"\",\"\",ROUND(Q143-AC143-AK143,2))","v":""},null,null,{"$f":"IF(T143=\"\",\"\",(IF(AS143<0,\"出来高が契約を超過\",X143-AN143-AF143)))","v":""}]
[null,{"$f":"'見積書 (2)'!F63","v":""}]
[33,{"$f":"'見積書 (2)'!F64","v":""},null,null,null,null,null,null,null,null,null,null,null,null,{"$f":"'見積書 (2)'!Q64","v":""},null,{"$f":"'見積書 (2)'!R64","v":""},null,null,{"$f":"'見積書 (2)'!S64","v":""},null,null,null,{"$f":"'見積書 (2)'!T64","v":""},null,null,null,null,{"$f":"IF(Q145=\"\",\"\",'出来高内訳書 (第5回請求)'!AC145+'出来高内訳書 (第5回請求)'!AK145)","v":""},null,null,{"$f":"IF(T145=\"\",\"\",ROUND(T145*AC145,0))","v":""},null,null,null,null,null,null,null,{"$f":"IF(T145=\"\",\"\",ROUND(T145*AK145,0))","v":""},null,null,null,null,{"$f":"IF(Q145=\"\",\"\",ROUND(Q145-AC145-AK145,2))","v":""},null,null,{"$f":"IF(T145=\"\",\"\",(IF(AS145<0,\"出来高が契約を超過\",X145-AN145-AF145)))","v":""}]
[null,{"$f":"'見積書 (2)'!F65","v":""}]
[34,{"$f":"'見積書 (2)'!F66","v":""},null,null,null,null,null,null,null,null,null,null,null,null,{"$f":"'見積書 (2)'!Q66","v":""},null,{"$f":"'見積書 (2)'!R66","v":""},null,null,{"$f":"'見積書 (2)'!S66","v":""},null,null,null,{"$f":"'見積書 (2)'!T66","v":""},null,null,null,null,{"$f":"IF(Q147=\"\",\"\",'出来高内訳書 (第5回請求)'!AC147+'出来高内訳書 (第5回請求)'!AK147)","v":""},null,null,{"$f":"IF(T147=\"\",\"\",ROUND(T147*AC147,0))","v":""},null,null,null,null,null,null,null,{"$f":"IF(T147=\"\",\"\",ROUND(T147*AK147,0))","v":""},null,null,null,null,{"$f":"IF(Q147=\"\",\"\",ROUND(Q147-AC147-AK147,2))","v":""},null,null,{"$f":"IF(T147=\"\",\"\",(IF(AS147<0,\"出来高が契約を超過\",X147-AN147-AF147)))","v":""}]
[null,{"$f":"'見積書 (2)'!F67","v":""}]
[35,{"$f":"'見積書 (2)'!F68","v":""},null,null,null,null,null,null,null,null,null,null,null,null,{"$f":"'見積書 (2)'!Q68","v":""},null,{"$f":"'見積書 (2)'!R68","v":""},null,null,{"$f":"'見積書 (2)'!S68","v":""},null,null,null,{"$f":"'見積書 (2)'!T68","v":""},null,null,null,null,{"$f":"IF(Q149=\"\",\"\",'出来高内訳書 (第5回請求)'!AC149+'出来高内訳書 (第5回請求)'!AK149)","v":""},null,null,{"$f":"IF(T149=\"\",\"\",ROUND(T149*AC149,0))","v":""},null,null,null,null,null,null,null,{"$f":"IF(T149=\"\",\"\",ROUND(T149*AK149,0))","v":""},null,null,null,null,{"$f":"IF(Q149=\"\",\"\",ROUND(Q149-AC149-AK149,2))","v":""},null,null,{"$f":"IF(T149=\"\",\"\",(IF(AS149<0,\"出来高が契約を超過\",X149-AN149-AF149)))","v":""}]
[null,{"$f":"'見積書 (2)'!F69","v":""}]
[36,{"$f":"'見積書 (3)'!F26","v":""},null,null,null,null,null,null,null,null,null,null,null,null,{"$f":"'見積書 (3)'!Q26","v":""},null,{"$f":"'見積書 (3)'!R26","v":""},null,null,{"$f":"'見積書 (3)'!S26","v":""},null,null,null,{"$f":"'見積書 (3)'!T26","v":""},null,null,null,null,{"$f":"IF(Q151=\"\",\"\",'出来高内訳書 (第5回請求)'!AC151+'出来高内訳書 (第5回請求)'!AK151)","v":""},null,null,{"$f":"IF(T151=\"\",\"\",ROUND(T151*AC151,0))","v":""},null,null,null,null,null,null,null,{"$f":"IF(T151=\"\",\"\",ROUND(T151*AK151,0))","v":""},null,null,null,null,{"$f":"IF(Q151=\"\",\"\",ROUND(Q151-AC151-AK151,2))","v":""},null,null,{"$f":"IF(T151=\"\",\"\",(IF(AS151<0,\"出来高が契約を超過\",X151-AN151-AF151)))","v":""}]
[null,{"$f":"'見積書 (3)'!F27","v":""}]
[37,{"$f":"'見積書 (3)'!F28","v":""},null,null,null,null,null,null,null,null,null,null,null,null,{"$f":"'見積書 (3)'!Q28","v":""},null,{"$f":"'見積書 (3)'!R28","v":""},null,null,{"$f":"'見積書 (3)'!S28","v":""},null,null,null,{"$f":"'見積書 (3)'!T28","v":""},null,null,null,null,{"$f":"IF(Q153=\"\",\"\",'出来高内訳書 (第5回請求)'!AC153+'出来高内訳書 (第5回請求)'!AK153)","v":""},null,null,{"$f":"IF(T153=\"\",\"\",ROUND(T153*AC153,0))","v":""},null,null,null,null,null,null,null,{"$f":"IF(T153=\"\",\"\",ROUND(T153*AK153,0))","v":""},null,null,null,null,{"$f":"IF(Q153=\"\",\"\",ROUND(Q153-AC153-AK153,2))","v":""},null,null,{"$f":"IF(T153=\"\",\"\",(IF(AS153<0,\"出来高が契約を超過\",X153-AN153-AF153)))","v":""}]
[null,{"$f":"'見積書 (3)'!F29","v":""}]
[38,{"$f":"'見積書 (3)'!F30","v":""},null,null,null,null,null,null,null,null,null,null,null,null,{"$f":"'見積書 (3)'!Q30","v":""},null,{"$f":"'見積書 (3)'!R30","v":""},null,null,{"$f":"'見積書 (3)'!S30","v":""},null,null,null,{"$f":"'見積書 (3)'!T30","v":""},null,null,null,null,{"$f":"IF(Q155=\"\",\"\",'出来高内訳書 (第5回請求)'!AC155+'出来高内訳書 (第5回請求)'!AK155)","v":""},null,null,{"$f":"IF(T155=\"\",\"\",ROUND(T155*AC155,0))","v":""},null,null,null,null,null,null,null,{"$f":"IF(T155=\"\",\"\",ROUND(T155*AK155,0))","v":""},null,null,null,null,{"$f":"IF(Q155=\"\",\"\",ROUND(Q155-AC155-AK155,2))","v":""},null,null,{"$f":"IF(T155=\"\",\"\",(IF(AS155<0,\"出来高が契約を超過\",X155-AN155-AF155)))","v":""}]
[null,{"$f":"'見積書 (3)'!F31","v":""}]
[39,{"$f":"'見積書 (3)'!F32","v":""},null,null,null,null,null,null,null,null,null,null,null,null,{"$f":"'見積書 (3)'!Q32","v":""},null,{"$f":"'見積書 (3)'!R32","v":""},null,null,{"$f":"'見積書 (3)'!S32","v":""},null,null,null,{"$f":"'見積書 (3)'!T32","v":""},null,null,null,null,{"$f":"IF(Q157=\"\",\"\",'出来高内訳書 (第5回請求)'!AC157+'出来高内訳書 (第5回請求)'!AK157)","v":""},null,null,{"$f":"IF(T157=\"\",\"\",ROUND(T157*AC157,0))","v":""},null,null,null,null,null,null,null,{"$f":"IF(T157=\"\",\"\",ROUND(T157*AK157,0))","v":""},null,null,null,null,{"$f":"IF(Q157=\"\",\"\",ROUND(Q157-AC157-AK157,2))","v":""},null,null,{"$f":"IF(T157=\"\",\"\",(IF(AS157<0,\"出来高が契約を超過\",X157-AN157-AF157)))","v":""}]
[null,{"$f":"'見積書 (3)'!F33","v":""}]
[40,{"$f":"'見積書 (3)'!F34","v":""},null,null,null,null,null,null,null,null,null,null,null,null,{"$f":"'見積書 (3)'!Q34","v":""},null,{"$f":"'見積書 (3)'!R34","v":""},null,null,{"$f":"'見積書 (3)'!S34","v":""},null,null,null,{"$f":"'見積書 (3)'!T34","v":""},null,null,null,null,{"$f":"IF(Q159=\"\",\"\",'出来高内訳書 (第5回請求)'!AC159+'出来高内訳書 (第5回請求)'!AK159)","v":""},null,null,{"$f":"IF(T159=\"\",\"\",ROUND(T159*AC159,0))","v":""},null,null,null,null,null,null,null,{"$f":"IF(T159=\"\",\"\",ROUND(T159*AK159,0))","v":""},null,null,null,null,{"$f":"IF(Q159=\"\",\"\",ROUND(Q159-AC159-AK159,2))","v":""},null,null,{"$f":"IF(T159=\"\",\"\",(IF(AS159<0,\"出来高が契約を超過\",X159-AN159-AF159)))","v":""}]
[null,{"$f":"'見積書 (3)'!F35","v":""}]
[41,{"$f":"'見積書 (3)'!F36","v":""},null,null,null,null,null,null,null,null,null,null,null,null,{"$f":"'見積書 (3)'!Q36","v":""},null,{"$f":"'見積書 (3)'!R36","v":""},null,null,{"$f":"'見積書 (3)'!S36","v":""},null,null,null,{"$f":"'見積書 (3)'!T36","v":""},null,null,null,null,{"$f":"IF(Q161=\"\",\"\",'出来高内訳書 (第5回請求)'!AC161+'出来高内訳書 (第5回請求)'!AK161)","v":""},null,null,{"$f":"IF(T161=\"\",\"\",ROUND(T161*AC161,0))","v":""},null,null,null,null,null,null,null,{"$f":"IF(T161=\"\",\"\",ROUND(T161*AK161,0))","v":""},null,null,null,null,{"$f":"IF(Q161=\"\",\"\",ROUND(Q161-AC161-AK161,2))","v":""},null,null,{"$f":"IF(T161=\"\",\"\",(IF(AS161<0,\"出来高が契約を超過\",X161-AN161-AF161)))","v":""}]
[null,{"$f":"'見積書 (3)'!F37","v":""}]
[null,"小計",null,null,null,null,null,null,null,null,null,null,null,null,null,null,null,null,null,null,null,null,null,{"$f":"SUM(X133:AB162)","v":0},null,null,null,null,null,null,null,{"$f":"SUM(AF133:AJ162)","v":0},null,null,null,null,null,null,null,{"$f":"SUM(AN133:AR162)","v":0},null,null,null,null,null,null,null,{"$f":"X163-AF163-AN163","v":0}]
[]
[]
[]
[]
[null,"請求内訳書（出来高・分割納入用）",null,null,null,null,null,null,null,null,null,null,null,null,null,null,null,null,null,null,null,null,null,null,null,null,null,null,null,null,null,null,null,null,null,null,null,null,null,null,null,null,null,null,null,null,null,null,null,null,"No."]
[]
[]
[]
[]
[]
[]
[]
[]
[]
[null,"製造番号",null,null,null,null,{"$f":"Y22","v":""},null,null,null,null,null,null,null,null,null,null,null,null,null,null,null,null,"※科目"]
[]
[]
[null,"注文番号",null,null,null,null,{"$f":"Y25","v":""},null,null,null,null,null,null,null,null,"第",null,{"$f":"AJ23","v":6},null,"回請求"]
[]
[]
[]
[null,"工　種・品　名",null,null,null,null,null,null,null,null,null,null,null,null,"契　約　金　額",null,null,null,null,null,null,null,null,null,null,null,null,null,"前回までの出来高",null,null,null,null,null,null,null,"今回出来高",null,null,null,null,null,null,null,"残高",null,null,null,null,null,null,null,"備　考"]
[null,null,null,null,null,null,null,null,null,null,null,null,null,null,"単位",null,"数量",null,null,"単価",null,null,null,"金額",null,null,null,null,"数量",null,null,"金額",null,null,null,null,"数量",null,null,"金額",null,null,null,null,"数量",null,null,"金額"]
[42,{"$f":"'見積書 (3)'!F38","v":""},null,null,null,null,null,null,null,null,null,null,null,null,{"$f":"'見積書 (3)'!Q38","v":""},null,{"$f":"'見積書 (3)'!R38","v":""},null,null,{"$f":"'見積書 (3)'!S38","v":""},null,null,null,{"$f":"'見積書 (3)'!T38","v":""},null,null,null,null,{"$f":"IF(Q187=\"\",\"\",'出来高内訳書 (第5回請求)'!AC187+'出来高内訳書 (第5回請求)'!AK187)","v":""},null,null,{"$f":"IF(T187=\"\",\"\",ROUND(T187*AC187,0))","v":""},null,null,null,null,null,null,null,{"$f":"IF(T187=\"\",\"\",ROUND(T187*AK187,0))","v":""},null,null,null,null,{"$f":"IF(Q187=\"\",\"\",ROUND(Q187-AC187-AK187,2))","v":""},null,null,{"$f":"IF(T187=\"\",\"\",(IF(AS187<0,\"出来高が契約を超過\",X187-AN187-AF187)))","v":""}]
[null,{"$f":"'見積書 (3)'!F39","v":""}]
[43,{"$f":"'見積書 (3)'!F40","v":""},null,null,null,null,null,null,null,null,null,null,null,null,{"$f":"'見積書 (3)'!Q40","v":""},null,{"$f":"'見積書 (3)'!R40","v":""},null,null,{"$f":"'見積書 (3)'!S40","v":""},null,null,null,{"$f":"'見積書 (3)'!T40","v":""},null,null,null,null,{"$f":"IF(Q189=\"\",\"\",'出来高内訳書 (第5回請求)'!AC189+'出来高内訳書 (第5回請求)'!AK189)","v":""},null,null,{"$f":"IF(T189=\"\",\"\",ROUND(T189*AC189,0))","v":""},null,null,null,null,null,null,null,{"$f":"IF(T189=\"\",\"\",ROUND(T189*AK189,0))","v":""},null,null,null,null,{"$f":"IF(Q189=\"\",\"\",ROUND(Q189-AC189-AK189,2))","v":""},null,null,{"$f":"IF(T189=\"\",\"\",(IF(AS189<0,\"出来高が契約を超過\",X189-AN189-AF189)))","v":""}]
[null,{"$f":"'見積書 (3)'!F41","v":""}]
[44,{"$f":"'見積書 (3)'!F42","v":""},null,null,null,null,null,null,null,null,null,null,null,null,{"$f":"'見積書 (3)'!Q42","v":""},null,{"$f":"'見積書 (3)'!R42","v":""},null,null,{"$f":"'見積書 (3)'!S42","v":""},null,null,null,{"$f":"'見積書 (3)'!T42","v":""},null,null,null,null,{"$f":"IF(Q191=\"\",\"\",'出来高内訳書 (第5回請求)'!AC191+'出来高内訳書 (第5回請求)'!AK191)","v":""},null,null,{"$f":"IF(T191=\"\",\"\",ROUND(T191*AC191,0))","v":""},null,null,null,null,null,null,null,{"$f":"IF(T191=\"\",\"\",ROUND(T191*AK191,0))","v":""},null,null,null,null,{"$f":"IF(Q191=\"\",\"\",ROUND(Q191-AC191-AK191,2))","v":""},null,null,{"$f":"IF(T191=\"\",\"\",(IF(AS191<0,\"出来高が契約を超過\",X191-AN191-AF191)))","v":""}]
[null,{"$f":"'見積書 (3)'!F43","v":""}]
[45,{"$f":"'見積書 (3)'!F44","v":""},null,null,null,null,null,null,null,null,null,null,null,null,{"$f":"'見積書 (3)'!Q44","v":""},null,{"$f":"'見積書 (3)'!R44","v":""},null,null,{"$f":"'見積書 (3)'!S44","v":""},null,null,null,{"$f":"'見積書 (3)'!T44","v":""},null,null,null,null,{"$f":"IF(Q193=\"\",\"\",'出来高内訳書 (第5回請求)'!AC193+'出来高内訳書 (第5回請求)'!AK193)","v":""},null,null,{"$f":"IF(T193=\"\",\"\",ROUND(T193*AC193,0))","v":""},null,null,null,null,null,null,null,{"$f":"IF(T193=\"\",\"\",ROUND(T193*AK193,0))","v":""},null,null,null,null,{"$f":"IF(Q193=\"\",\"\",ROUND(Q193-AC193-AK193,2))","v":""},null,null,{"$f":"IF(T193=\"\",\"\",(IF(AS193<0,\"出来高が契約を超過\",X193-AN193-AF193)))","v":""}]
[null,{"$f":"'見積書 (3)'!F45","v":""}]
[46,{"$f":"'見積書 (3)'!F46","v":""},null,null,null,null,null,null,null,null,null,null,null,null,{"$f":"'見積書 (3)'!Q46","v":""},null,{"$f":"'見積書 (3)'!R46","v":""},null,null,{"$f":"'見積書 (3)'!S46","v":""},null,null,null,{"$f":"'見積書 (3)'!T46","v":""},null,null,null,null,{"$f":"IF(Q195=\"\",\"\",'出来高内訳書 (第5回請求)'!AC195+'出来高内訳書 (第5回請求)'!AK195)","v":""},null,null,{"$f":"IF(T195=\"\",\"\",ROUND(T195*AC195,0))","v":""},null,null,null,null,null,null,null,{"$f":"IF(T195=\"\",\"\",ROUND(T195*AK195,0))","v":""},null,null,null,null,{"$f":"IF(Q195=\"\",\"\",ROUND(Q195-AC195-AK195,2))","v":""},null,null,{"$f":"IF(T195=\"\",\"\",(IF(AS195<0,\"出来高が契約を超過\",X195-AN195-AF195)))","v":""}]
[null,{"$f":"'見積書 (3)'!F47","v":""}]
[47,{"$f":"'見積書 (3)'!F48","v":""},null,null,null,null,null,null,null,null,null,null,null,null,{"$f":"'見積書 (3)'!Q48","v":""},null,{"$f":"'見積書 (3)'!R48","v":""},null,null,{"$f":"'見積書 (3)'!S48","v":""},null,null,null,{"$f":"'見積書 (3)'!T48","v":""},null,null,null,null,{"$f":"IF(Q197=\"\",\"\",'出来高内訳書 (第5回請求)'!AC197+'出来高内訳書 (第5回請求)'!AK197)","v":""},null,null,{"$f":"IF(T197=\"\",\"\",ROUND(T197*AC197,0))","v":""},null,null,null,null,null,null,null,{"$f":"IF(T197=\"\",\"\",ROUND(T197*AK197,0))","v":""},null,null,null,null,{"$f":"IF(Q197=\"\",\"\",ROUND(Q197-AC197-AK197,2))","v":""},null,null,{"$f":"IF(T197=\"\",\"\",(IF(AS197<0,\"出来高が契約を超過\",X197-AN197-AF197)))","v":""}]
[null,{"$f":"'見積書 (3)'!F49","v":""}]
[48,{"$f":"'見積書 (3)'!F50","v":""},null,null,null,null,null,null,null,null,null,null,null,null,{"$f":"'見積書 (3)'!Q50","v":""},null,{"$f":"'見積書 (3)'!R50","v":""},null,null,{"$f":"'見積書 (3)'!S50","v":""},null,null,null,{"$f":"'見積書 (3)'!T50","v":""},null,null,null,null,{"$f":"IF(Q199=\"\",\"\",'出来高内訳書 (第5回請求)'!AC199+'出来高内訳書 (第5回請求)'!AK199)","v":""},null,null,{"$f":"IF(T199=\"\",\"\",ROUND(T199*AC199,0))","v":""},null,null,null,null,null,null,null,{"$f":"IF(T199=\"\",\"\",ROUND(T199*AK199,0))","v":""},null,null,null,null,{"$f":"IF(Q199=\"\",\"\",ROUND(Q199-AC199-AK199,2))","v":""},null,null,{"$f":"IF(T199=\"\",\"\",(IF(AS199<0,\"出来高が契約を超過\",X199-AN199-AF199)))","v":""}]
[null,{"$f":"'見積書 (3)'!F51","v":""}]
[49,{"$f":"'見積書 (3)'!F52","v":""},null,null,null,null,null,null,null,null,null,null,null,null,{"$f":"'見積書 (3)'!Q52","v":""},null,{"$f":"'見積書 (3)'!R52","v":""},null,null,{"$f":"'見積書 (3)'!S52","v":""},null,null,null,{"$f":"'見積書 (3)'!T52","v":""},null,null,null,null,{"$f":"IF(Q201=\"\",\"\",'出来高内訳書 (第5回請求)'!AC201+'出来高内訳書 (第5回請求)'!AK201)","v":""},null,null,{"$f":"IF(T201=\"\",\"\",ROUND(T201*AC201,0))","v":""},null,null,null,null,null,null,null,{"$f":"IF(T201=\"\",\"\",ROUND(T201*AK201,0))","v":""},null,null,null,null,{"$f":"IF(Q201=\"\",\"\",ROUND(Q201-AC201-AK201,2))","v":""},null,null,{"$f":"IF(T201=\"\",\"\",(IF(AS201<0,\"出来高が契約を超過\",X201-AN201-AF201)))","v":""}]
[null,{"$f":"'見積書 (3)'!F53","v":""}]
[50,{"$f":"'見積書 (3)'!F54","v":""},null,null,null,null,null,null,null,null,null,null,null,null,{"$f":"'見積書 (3)'!Q54","v":""},null,{"$f":"'見積書 (3)'!R54","v":""},null,null,{"$f":"'見積書 (3)'!S54","v":""},null,null,null,{"$f":"'見積書 (3)'!T54","v":""},null,null,null,null,{"$f":"IF(Q203=\"\",\"\",'出来高内訳書 (第5回請求)'!AC203+'出来高内訳書 (第5回請求)'!AK203)","v":""},null,null,{"$f":"IF(T203=\"\",\"\",ROUND(T203*AC203,0))","v":""},null,null,null,null,null,null,null,{"$f":"IF(T203=\"\",\"\",ROUND(T203*AK203,0))","v":""},null,null,null,null,{"$f":"IF(Q203=\"\",\"\",ROUND(Q203-AC203-AK203,2))","v":""},null,null,{"$f":"IF(T203=\"\",\"\",(IF(AS203<0,\"出来高が契約を超過\",X203-AN203-AF203)))","v":""}]
[null,{"$f":"'見積書 (3)'!F55","v":""}]
[51,{"$f":"'見積書 (3)'!F56","v":""},null,null,null,null,null,null,null,null,null,null,null,null,{"$f":"'見積書 (3)'!Q56","v":""},null,{"$f":"'見積書 (3)'!R56","v":""},null,null,{"$f":"'見積書 (3)'!S56","v":""},null,null,null,{"$f":"'見積書 (3)'!T56","v":""},null,null,null,null,{"$f":"IF(Q205=\"\",\"\",'出来高内訳書 (第5回請求)'!AC205+'出来高内訳書 (第5回請求)'!AK205)","v":""},null,null,{"$f":"IF(T205=\"\",\"\",ROUND(T205*AC205,0))","v":""},null,null,null,null,null,null,null,{"$f":"IF(T205=\"\",\"\",ROUND(T205*AK205,0))","v":""},null,null,null,null,{"$f":"IF(Q205=\"\",\"\",ROUND(Q205-AC205-AK205,2))","v":""},null,null,{"$f":"IF(T205=\"\",\"\",(IF(AS205<0,\"出来高が契約を超過\",X205-AN205-AF205)))","v":""}]
[null,{"$f":"'見積書 (3)'!F57","v":""}]
[52,{"$f":"'見積書 (3)'!F58","v":""},null,null,null,null,null,null,null,null,null,null,null,null,{"$f":"'見積書 (3)'!Q58","v":""},null,{"$f":"'見積書 (3)'!R58","v":""},null,null,{"$f":"'見積書 (3)'!S58","v":""},null,null,null,{"$f":"'見積書 (3)'!T58","v":""},null,null,null,null,{"$f":"IF(Q207=\"\",\"\",'出来高内訳書 (第5回請求)'!AC207+'出来高内訳書 (第5回請求)'!AK207)","v":""},null,null,{"$f":"IF(T207=\"\",\"\",ROUND(T207*AC207,0))","v":""},null,null,null,null,null,null,null,{"$f":"IF(T207=\"\",\"\",ROUND(T207*AK207,0))","v":""},null,null,null,null,{"$f":"IF(Q207=\"\",\"\",ROUND(Q207-AC207-AK207,2))","v":""},null,null,{"$f":"IF(T207=\"\",\"\",(IF(AS207<0,\"出来高が契約を超過\",X207-AN207-AF207)))","v":""}]
[null,{"$f":"'見積書 (3)'!F59","v":""}]
[53,{"$f":"'見積書 (3)'!F60","v":""},null,null,null,null,null,null,null,null,null,null,null,null,{"$f":"'見積書 (3)'!Q60","v":""},null,{"$f":"'見積書 (3)'!R60","v":""},null,null,{"$f":"'見積書 (3)'!S60","v":""},null,null,null,{"$f":"'見積書 (3)'!T60","v":""},null,null,null,null,{"$f":"IF(Q209=\"\",\"\",'出来高内訳書 (第5回請求)'!AC209+'出来高内訳書 (第5回請求)'!AK209)","v":""},null,null,{"$f":"IF(T209=\"\",\"\",ROUND(T209*AC209,0))","v":""},null,null,null,null,null,null,null,{"$f":"IF(T209=\"\",\"\",ROUND(T209*AK209,0))","v":""},null,null,null,null,{"$f":"IF(Q209=\"\",\"\",ROUND(Q209-AC209-AK209,2))","v":""},null,null,{"$f":"IF(T209=\"\",\"\",(IF(AS209<0,\"出来高が契約を超過\",X209-AN209-AF209)))","v":""}]
[null,{"$f":"'見積書 (3)'!F61","v":""}]
[54,{"$f":"'見積書 (3)'!F62","v":""},null,null,null,null,null,null,null,null,null,null,null,null,{"$f":"'見積書 (3)'!Q62","v":""},null,{"$f":"'見積書 (3)'!R62","v":""},null,null,{"$f":"'見積書 (3)'!S62","v":""},null,null,null,{"$f":"'見積書 (3)'!T62","v":""},null,null,null,null,{"$f":"IF(Q211=\"\",\"\",'出来高内訳書 (第5回請求)'!AC211+'出来高内訳書 (第5回請求)'!AK211)","v":""},null,null,{"$f":"IF(T211=\"\",\"\",ROUND(T211*AC211,0))","v":""},null,null,null,null,null,null,null,{"$f":"IF(T211=\"\",\"\",ROUND(T211*AK211,0))","v":""},null,null,null,null,{"$f":"IF(Q211=\"\",\"\",ROUND(Q211-AC211-AK211,2))","v":""},null,null,{"$f":"IF(T211=\"\",\"\",(IF(AS211<0,\"出来高が契約を超過\",X211-AN211-AF211)))","v":""}]
[null,{"$f":"'見積書 (3)'!F63","v":""}]
[55,{"$f":"'見積書 (3)'!F64","v":""},null,null,null,null,null,null,null,null,null,null,null,null,{"$f":"'見積書 (3)'!Q64","v":""},null,{"$f":"'見積書 (3)'!R64","v":""},null,null,{"$f":"'見積書 (3)'!S64","v":""},null,null,null,{"$f":"'見積書 (3)'!T64","v":""},null,null,null,null,{"$f":"IF(Q213=\"\",\"\",'出来高内訳書 (第5回請求)'!AC213+'出来高内訳書 (第5回請求)'!AK213)","v":""},null,null,{"$f":"IF(T213=\"\",\"\",ROUND(T213*AC213,0))","v":""},null,null,null,null,null,null,null,{"$f":"IF(T213=\"\",\"\",ROUND(T213*AK213,0))","v":""},null,null,null,null,{"$f":"IF(Q213=\"\",\"\",ROUND(Q213-AC213-AK213,2))","v":""},null,null,{"$f":"IF(T213=\"\",\"\",(IF(AS213<0,\"出来高が契約を超過\",X213-AN213-AF213)))","v":""}]
[null,{"$f":"'見積書 (3)'!F65","v":""}]
[56,{"$f":"'見積書 (3)'!F66","v":""},null,null,null,null,null,null,null,null,null,null,null,null,{"$f":"'見積書 (3)'!Q66","v":""},null,{"$f":"'見積書 (3)'!R66","v":""},null,null,{"$f":"'見積書 (3)'!S66","v":""},null,null,null,{"$f":"'見積書 (3)'!T66","v":""},null,null,null,null,{"$f":"IF(Q215=\"\",\"\",'出来高内訳書 (第5回請求)'!AC215+'出来高内訳書 (第5回請求)'!AK215)","v":""},null,null,{"$f":"IF(T215=\"\",\"\",ROUND(T215*AC215,0))","v":""},null,null,null,null,null,null,null,{"$f":"IF(T215=\"\",\"\",ROUND(T215*AK215,0))","v":""},null,null,null,null,{"$f":"IF(Q215=\"\",\"\",ROUND(Q215-AC215-AK215,2))","v":""},null,null,{"$f":"IF(T215=\"\",\"\",(IF(AS215<0,\"出来高が契約を超過\",X215-AN215-AF215)))","v":""}]
[null,{"$f":"'見積書 (3)'!F67","v":""}]
[null,"小計",null,null,null,null,null,null,null,null,null,null,null,null,null,null,null,null,null,null,null,null,null,{"$f":"SUM(X187:AB216)","v":0},null,null,null,null,null,null,null,{"$f":"SUM(AF187:AJ216)","v":0},null,null,null,null,null,null,null,{"$f":"SUM(AN187:AR216)","v":0},null,null,null,null,null,null,null,{"$f":"X217-AF217-AN217","v":0}]
[]
[]
[]
[]
[null,"請求内訳書（出来高・分割納入用）",null,null,null,null,null,null,null,null,null,null,null,null,null,null,null,null,null,null,null,null,null,null,null,null,null,null,null,null,null,null,null,null,null,null,null,null,null,null,null,null,null,null,null,null,null,null,null,null,"No."]
[]
[]
[]
[]
[]
[]
[]
[]
[]
[null,"製造番号",null,null,null,null,{"$f":"Y22","v":""},null,null,null,null,null,null,null,null,null,null,null,null,null,null,null,null,"※科目"]
[]
[]
[null,"注文番号",null,null,null,null,{"$f":"Y25","v":""},null,null,null,null,null,null,null,null,"第",null,{"$f":"AJ23","v":6},null,"回請求"]
[]
[]
[]
[null,"工　種・品　名",null,null,null,null,null,null,null,null,null,null,null,null,"契　約　金　額",null,null,null,null,null,null,null,null,null,null,null,null,null,"前回までの出来高",null,null,null,null,null,null,null,"今回出来高",null,null,null,null,null,null,null,"残高",null,null,null,null,null,null,null,"備　考"]
[null,null,null,null,null,null,null,null,null,null,null,null,null,null,"単位",null,"数量",null,null,"単価",null,null,null,"金額",null,null,null,null,"数量",null,null,"金額",null,null,null,null,"数量",null,null,"金額",null,null,null,null,"数量",null,null,"金額"]
[57,{"$f":"'見積書 (3)'!F68","v":""},null,null,null,null,null,null,null,null,null,null,null,null,{"$f":"'見積書 (3)'!Q68","v":""},null,{"$f":"'見積書 (3)'!R68","v":""},null,null,{"$f":"'見積書 (3)'!S68","v":""},null,null,null,{"$f":"'見積書 (3)'!T68","v":""},null,null,null,null,{"$f":"IF(Q241=\"\",\"\",'出来高内訳書 (第5回請求)'!AC241+'出来高内訳書 (第5回請求)'!AK241)","v":""},null,null,{"$f":"IF(T241=\"\",\"\",ROUND(T241*AC241,0))","v":""},null,null,null,null,null,null,null,{"$f":"IF(T241=\"\",\"\",ROUND(T241*AK241,0))","v":""},null,null,null,null,{"$f":"IF(Q241=\"\",\"\",ROUND(Q241-AC241-AK241,2))","v":""},null,null,{"$f":"IF(T241=\"\",\"\",(IF(AS241<0,\"出来高が契約を超過\",X241-AN241-AF241)))","v":""}]
[null,{"$f":"'見積書 (3)'!F68","v":""}]
[]
[]
[]
[]
[]
[]
[]
[]
[]
[]
[]
[]
[]
[]
[null,"小計",null,null,null,null,null,null,null,null,null,null,null,null,null,null,null,null,null,null,null,null,null,{"$f":"SUM(X241:AB256)","v":0},null,null,null,null,null,null,null,{"$f":"SUM(AF241:AJ256)","v":0},null,null,null,null,null,null,null,{"$f":"SUM(AN241:AR256)","v":0},null,null,null,null,null,null,null,{"$f":"SUM(AV241:AZ256)","v":0}]

{"sheet":"出来高内訳書 (第7回請求)","index":14,"n_rows":257,"n_cols":53,"rows_kept":257,"cut":false,"hidden":false,"merged":[[240,0,241,0],[240,1,240,13],[240,14,241,15],[240,16,241,18],[240,19,241,22],[240,23,241,27],[240,28,241,30],[240,31,241,35],[240,36,241,38],[240,39,241,43],[240,44,241,46],[240,47,241,51],[240,52,241,54],[210,0,211,0],[210,1,210,13],[210,14,211,15],[210,16,211,18],[212,0,213,0],[212,1,212,13],[212,14,213,15],[212,16,213,18],[212,19,213,22],[212,23,213,27],[212,28,213,30],[212,31,213,35],[212,36,213,38],[212,39,213,43],[212,44,213,46],[212,47,213,51],[212,52,213,54],[213,1,213,13],[234,19,236,22],[55,0,56,0],[214,0,215,0],[214,1,214,13],[214,14,215,15],[214,16,215,18],[214,19,215,22],[214,23,215,27],[214,28,215,30],[214,31,215,35],[214,36,215,38],[214,39,215,43],[214,44,215,46],[214,47,215,51],[214,52,215,54],[215,1,215,13],[206,0,207,0],[206,1,206,13],[206,14,207,15],[206,16,207,18],[206,19,207,22],[206,23,207,27],[206,28,207,30],[206,31,207,35],[206,36,207,38],[206,39,207,43],[206,44,207,46],[206,47,207,51],[206,52,207,54],[207,1,207,13],[208,0,209,0],[208,1,208,13],[208,14,209,15],[208,16,209,18],[208,19,209,22],[208,23,209,27],[208,28,209,30],[208,31,209,35],[208,36,209,38],[208,39,209,43],[208,44,209,46],[208,47,209,51],[208,52,209,54],[209,1,209,13],[202,0,203,0],[202,1,202,13],[202,14,203,15],[202,16,203,18],[202,19,203,22],[202,23,203,27],[202,28,203,30],[202,31,203,35],[202,36,203,38],[202,39,203,43],[202,44,203,46],[202,47,203,51],[202,52,203,54],[203,1,203,13],[204,0,205,0],[204,1,204,13],[204,14,205,15],[204,16,205,18],[204,19,205,22],[204,23,205,27],[204,28,205,30],[204,47,205,51],[204,52,205,54],[205,1,205,13],[198,0,199,0],[198,14,199,15],[198,16,199,18],[198,19,199,22],[198,23,199,27],[198,28,199,30],[198,31,199,35],[198,36,199,38],[198,39,199,43],[198,44,199,46],[198,47,199,51],[198,52,199,54],[200,0,201,0],[200,1,200,13],[200,14,201,15],[200,16,201,18],[200,19,201,22],[200,23,201,27],[200,28,201,30],[200,31,201,35],[200,36,201,38],[200,39,201,43],[200,44,201,46],[200,47,201,51],[200,52,201,54],[192,39,193,43],[192,44,193,46],[192,47,193,51],[192,52,193,54],[194,0,195,0],[194,14,195,15],[194,16,195,18],[194,19,195,22],[194,23,195,27],[194,28,195,30],[194,31,195,35],[194,36,195,38],[194,39,195,43],[194,44,195,46],[194,47,195,51],[194,52,195,54],[196,0,197,0],[196,14,197,15],[196,16,197,18],[196,19,197,22],[196,23,197,27],[196,28,197,30],[196,31,197,35],[196,36,197,38],[160,0,161,0],[160,14,161,15],[160,16,161,18],[160,19,161,22],[160,23,161,27],[160,28,161,30],[160,31,161,35],[160,36,161,38],[160,39,161,43],[160,44,161,46],[160,47,161,51],[160,52,161,54],[186,0,187,0],[186,14,187,15],[186,16,187,18],[186,19,187,22],[186,23,187,27],[186,28,187,30],[186,31,187,35],[186,36,187,38],[186,39,187,43],[186,44,187,46],[186,47,187,51],[186,52,187,54],[180,19,182,22],[180,24,182,29],[167,1,173,17],[167,50,169,50],[177,1,179,5],[177,6,179,13],[177,23,182,23],[177,24,179,29],[156,0,157,0],[156,14,157,15],[156,16,157,18],[156,19,157,22],[156,23,157,27],[156,28,157,30],[156,31,157,35],[156,36,157,38],[156,39,157,43],[156,44,157,46],[156,47,157,51],[156,52,157,54],[158,0,159,0],[158,14,159,15],[158,16,159,18],[158,19,159,22],[158,23,159,27],[158,28,159,30],[158,31,159,35],[158,36,159,38],[158,39,159,43],[158,44,159,46],[158,47,159,51],[158,52,159,54],[152,0,153,0],[152,14,153,15],[152,16,153,18],[152,19,153,22],[152,23,153,27],[152,28,153,30],[152,31,153,35],[152,36,153,38],[152,39,153,43],[152,44,153,46],[152,47,153,51],[152,52,153,54],[154,0,155,0],[154,14,155,15],[154,16,155,18],[154,19,155,22],[154,23,155,27],[154,28,155,30],[154,31,155,35],[154,36,155,38],[154,39,155,43],[154,44,155,46],[154,47,155,51],[154,52,155,54],[148,0,149,0],[148,14,149,15],[148,16,149,18],[148,19,149,22],[148,23,149,27],[148,28,149,30],[148,31,149,35],[148,36,149,38],[148,39,149,43],[148,44,149,46],[148,47,149,51],[148,52,149,54],[150,0,151,0],[150,14,151,15],[150,16,151,18],[150,19,151,22],[150,23,151,27],[150,28,151,30],[150,31,151,35],[150,36,151,38],[150,39,151,43],[150,44,151,46],[150,47,151,51],[150,52,151,54],[144,0,145,0],[144,1,144,13],[144,14,145,15],[144,16,145,18],[144,19,145,22],[144,23,145,27],[144,28,145,30],[144,31,145,35],[144,36,145,38],[144,39,145,43],[144,44,145,46],[144,47,145,51],[144,52,145,54],[145,1,145,13],[146,0,147,0],[146,1,146,13],[146,14,147,15],[146,16,147,18],[146,19,147,22],[146,23,147,27],[146,28,147,30],[146,31,147,35],[146,36,147,38],[146,39,147,43],[146,44,147,46],[146,47,147,51],[146,52,147,54],[140,0,141,0],[140,1,140,13],[140,14,141,15],[140,16,141,18],[140,19,141,22],[140,23,141,27],[140,28,141,30],[140,31,141,35],[140,36,141,38],[140,39,141,43],[140,44,141,46],[140,47,141,51],[140,52,141,54],[141,1,141,13],[142,0,143,0],[142,1,142,13],[142,14,143,15],[142,16,143,18],[142,19,143,22],[142,23,143,27],[142,28,143,30],[142,31,143,35],[142,36,143,38],[142,39,143,43],[142,44,143,46],[142,47,143,51],[142,52,143,54],[143,1,143,13],[136,0,137,0],[136,1,136,13],[136,14,137,15],[136,16,137,18],[136,19,137,22],[136,23,137,27],[136,28,137,30],[136,31,137,35],[136,36,137,38],[136,39,137,43],[136,44,137,46],[136,47,137,51],[136,52,137,54],[137,1,137,13],[138,0,139,0],[138,1,138,13],[138,14,139,15],[138,16,139,18],[138,19,139,22],[138,23,139,27],[138,28,139,30],[138,31,139,35],[138,36,139,38],[138,39,139,43],[138,44,139,46],[138,47,139,51],[138,52,139,54],[139,1,139,13],[132,0,133,0],[132,1,132,13],[132,14,133,15],[132,16,133,18],[132,19,133,22],[132,23,133,27],[132,28,133,30],[132,31,133,35],[132,36,133,38],[132,39,133,43],[132,44,133,46],[132,47,133,51],[132,52,133,54],[133,1,133,13],[134,0,135,0],[134,1,134,13],[134,14,135,15],[134,16,135,18],[134,19,135,22],[134,23,135,27],[134,52,135,54],[135,1,135,13],[190,0,191,0],[190,14,191,15],[190,16,191,18],[190,19,191,22],[190,23,191,27],[190,28,191,30],[190,31,191,35],[190,36,191,38],[188,0,189,0],[188,14,189,15],[188,16,189,18],[188,19,189,22],[188,23,189,27],[188,28,189,30],[188,31,189,35],[188,36,189,38],[193,1,193,13],[192,1,192,13],[191,1,191,13],[190,1,190,13],[192,0,193,0],[192,14,193,15],[192,16,193,18],[192,19,193,22],[192,23,193,27],[192,28,193,30],[192,31,193,35],[192,36,193,38],[90,44,91,46],[90,47,91,51],[92,44,93,46],[92,47,93,51],[82,52,83,54],[84,52,85,54],[86,52,87,54],[88,52,89,54],[90,52,91,54],[92,52,93,54],[94,52,95,54],[96,52,97,54],[98,52,99,54],[100,52,101,54],[102,52,103,54],[104,52,105,54],[106,52,107,54],[94,47,95,51],[94,44,95,46],[96,44,97,46],[96,47,97,51],[98,47,99,51],[100,47,101,51],[98,44,99,46],[100,44,101,46],[102,44,103,46],[104,44,105,46],[106,44,107,46],[102,47,103,51],[104,47,105,51],[106,47,107,51],[90,36,91,38],[90,39,91,43],[92,36,93,38],[92,39,93,43],[94,36,95,38],[94,39,95,43],[96,36,97,38],[98,36,99,38],[100,36,101,38],[102,36,103,38],[104,36,105,38],[106,36,107,38],[96,39,97,43],[98,39,99,43],[100,39,101,43],[102,39,103,43],[104,39,105,43],[106,39,107,43],[78,44,79,46],[78,47,79,51],[78,52,79,54],[80,36,81,38],[80,39,81,43],[80,44,81,46],[80,47,81,51],[80,52,81,54],[82,36,83,38],[82,39,83,43],[84,36,85,38],[84,39,85,43],[86,36,87,38],[86,39,87,43],[88,36,89,38],[88,39,89,43],[82,44,83,46],[82,47,83,51],[84,44,85,46],[84,47,85,51],[86,44,87,46],[86,47,87,51],[88,44,89,46],[88,47,89,51],[90,0,91,0],[90,1,90,13],[90,14,91,15],[90,16,91,18],[90,19,91,22],[90,23,91,27],[90,28,91,30],[90,31,91,35],[91,1,91,13],[92,0,93,0],[94,0,95,0],[96,0,97,0],[98,0,99,0],[100,0,101,0],[102,0,103,0],[104,0,105,0],[106,0,107,0],[92,1,92,13],[92,14,93,15],[94,14,95,15],[96,14,97,15],[98,14,99,15],[100,14,101,15],[102,14,103,15],[104,14,105,15],[106,14,107,15],[92,16,93,18],[94,16,95,18],[96,16,97,18],[98,16,99,18],[100,16,101,18],[102,16,103,18],[86,0,87,0],[86,1,86,13],[86,14,87,15],[86,16,87,18],[86,19,87,22],[86,23,87,27],[86,28,87,30],[86,31,87,35],[87,1,87,13],[88,0,89,0],[88,1,88,13],[88,14,89,15],[88,16,89,18],[88,19,89,22],[88,23,89,27],[88,28,89,30],[88,31,89,35],[89,1,89,13],[82,0,83,0],[82,1,82,13],[82,14,83,15],[82,16,83,18],[82,19,83,22],[82,23,83,27],[82,28,83,30],[82,31,83,35],[83,1,83,13],[84,0,85,0],[84,1,84,13],[84,14,85,15],[84,16,85,18],[84,19,85,22],[84,23,85,27],[84,28,85,30],[84,31,85,35],[85,1,85,13],[78,0,79,0],[78,1,78,13],[78,14,79,15],[78,16,79,18],[78,19,79,22],[78,23,79,27],[78,28,79,30],[78,31,79,35],[79,1,79,13],[80,0,81,0],[80,1,80,13],[80,14,81,15],[80,16,81,18],[80,19,81,22],[80,23,81,27],[80,28,81,30],[80,31,81,35],[81,1,81,13],[256,31,256,35],[256,36,256,38],[256,39,256,43],[256,44,256,46],[256,47,256,51],[256,52,256,54],[256,1,256,13],[256,14,256,15],[256,16,256,18],[256,19,256,22],[256,23,256,27],[256,28,256,30],[255,31,255,35],[255,36,255,38],[255,39,255,43],[255,44,255,46],[255,47,255,51],[255,52,255,54],[255,1,255,13],[255,14,255,15],[255,16,255,18],[255,19,255,22],[255,23,255,27],[255,28,255,30],[254,31,254,35],[254,36,254,38],[254,39,254,43],[254,44,254,46],[254,47,254,51],[254,52,254,54],[254,1,254,13],[254,14,254,15],[254,16,254,18],[254,19,254,22],[254,23,254,27],[254,28,254,30],[253,31,253,35],[253,36,253,38],[253,39,253,43],[253,44,253,46],[253,47,253,51],[253,52,253,54],[253,1,253,13],[253,14,253,15],[253,16,253,18],[253,19,253,22],[253,23,253,27],[253,28,253,30],[252,31,252,35],[252,36,252,38],[252,39,252,43],[252,44,252,46],[252,47,252,51],[252,52,252,54],[252,1,252,13],[252,14,252,15],[252,16,252,18],[252,19,252,22],[252,23,252,27],[252,28,252,30],[251,31,251,35],[251,36,251,38],[251,39,251,43],[251,44,251,46],[251,47,251,51],[251,52,251,54],[251,1,251,13],[251,14,251,15],[251,16,251,18],[251,19,251,22],[251,23,251,27],[251,28,251,30],[250,31,250,35],[250,36,250,38],[250,39,250,43],[250,44,250,46],[250,47,250,51],[250,52,250,54],[250,1,250,13],[250,14,250,15],[250,16,250,18],[250,19,250,22],[250,23,250,27],[250,28,250,30],[249,31,249,35],[249,36,249,38],[249,39,249,43],[249,44,249,46],[249,47,249,51],[249,52,249,54],[249,1,249,13],[249,14,249,15],[249,16,249,18],[249,19,249,22],[249,23,249,27],[249,28,249,30],[248,31,248,35],[248,36,248,38],[248,39,248,43],[248,44,248,46],[248,47,248,51],[248,52,248,54],[248,1,248,13],[248,14,248,15],[248,16,248,18],[248,19,248,22],[248,23,248,27],[248,28,248,30],[247,31,247,35],[247,36,247,38],[247,39,247,43],[247,44,247,46],[247,47,247,51],[247,52,247,54],[247,1,247,13],[247,14,247,15],[247,16,247,18],[247,19,247,22],[247,23,247,27],[247,28,247,30],[246,31,246,35],[246,36,246,38],[246,39,246,43],[246,44,246,46],[246,47,246,51],[246,52,246,54],[246,1,246,13],[246,14,246,15],[246,16,246,18],[246,19,246,22],[246,23,246,27],[246,28,246,30],[245,31,245,35],[245,36,245,38],[245,39,245,43],[245,44,245,46],[245,47,245,51],[245,52,245,54],[245,1,245,13],[245,14,245,15],[245,16,245,18],[245,19,245,22],[245,23,245,27],[245,28,245,30],[244,31,244,35],[244,36,244,38],[244,39,244,43],[244,44,244,46],[244,47,244,51],[244,52,244,54],[244,1,244,13],[244,14,244,15],[244,16,244,18],[244,19,244,22],[244,23,244,27],[244,28,244,30],[243,31,243,35],[243,36,243,38],[243,39,243,43],[243,44,243,46],[243,47,243,51],[243,52,243,54],[243,1,243,13],[243,14,243,15],[243,16,243,18],[243,19,243,22],[243,23,243,27],[243,28,243,30],[242,31,242,35],[242,36,242,38],[242,39,242,43],[242,44,242,46],[242,47,242,51],[242,52,242,54],[242,1,242,13],[242,14,242,15],[242,16,242,18],[242,19,242,22],[242,23,242,27],[242,28,242,30],[239,44,239,46],[239,47,239,51],[241,1,241,13],[238,44,238,51],[238,52,239,54],[239,14,239,15],[239,16,239,18],[239,19,239,22],[239,23,239,27],[239,28,239,30],[239,31,239,35],[239,36,239,38],[239,39,239,43],[234,24,236,29],[238,1,239,13],[238,14,238,27],[238,28,238,35],[238,36,238,43],[221,1,227,17],[221,50,223,50],[231,1,233,5],[231,6,233,13],[231,23,236,23],[231,24,233,29],[234,1,236,5],[234,6,236,13],[234,15,236,16],[234,17,236,18],[216,31,216,35],[216,36,216,38],[216,39,216,43],[216,44,216,46],[216,47,216,51],[221,51,223,55],[216,52,216,54],[216,1,216,13],[216,14,216,15],[216,16,216,18],[216,19,216,22],[216,23,216,27],[216,28,216,30],[199,1,199,13],[198,1,198,13],[197,1,197,13],[196,1,196,13],[196,39,197,43],[196,44,197,46],[196,47,197,51],[196,52,197,54],[195,1,195,13],[194,1,194,13],[210,19,211,22],[210,23,211,27],[210,28,211,30],[210,31,211,35],[210,36,211,38],[210,39,211,43],[210,44,211,46],[210,47,211,51],[210,52,211,54],[211,1,211,13],[201,1,201,13],[204,31,205,35],[204,36,205,38],[204,39,205,43],[204,44,205,46],[190,39,191,43],[190,44,191,46],[190,47,191,51],[190,52,191,54],[189,1,189,13],[188,1,188,13],[188,39,189,43],[188,44,189,46],[188,47,189,51],[188,52,189,54],[187,1,187,13],[185,44,185,46],[185,47,185,51],[186,1,186,13],[184,44,184,51],[184,52,185,54],[185,14,185,15],[185,16,185,18],[185,19,185,22],[185,23,185,27],[185,28,185,30],[185,31,185,35],[185,36,185,38],[185,39,185,43],[184,1,185,13],[184,14,184,27],[184,28,184,35],[184,36,184,43],[180,1,182,5],[180,6,182,13],[180,15,182,16],[180,17,182,18],[162,31,162,35],[162,36,162,38],[162,39,162,43],[162,44,162,46],[162,47,162,51],[162,52,162,54],[162,1,162,13],[162,14,162,15],[162,16,162,18],[162,19,162,22],[162,23,162,27],[162,28,162,30],[161,1,161,13],[167,51,169,55],[160,1,160,13],[159,1,159,13],[158,1,158,13],[157,1,157,13],[156,1,156,13],[155,1,155,13],[154,1,154,13],[153,1,153,13],[152,1,152,13],[151,1,151,13],[150,1,150,13],[149,1,149,13],[148,1,148,13],[131,44,131,46],[131,47,131,51],[147,1,147,13],[134,28,135,30],[134,31,135,35],[134,36,135,38],[134,39,135,43],[134,44,135,46],[134,47,135,51],[130,44,130,51],[130,52,131,54],[131,14,131,15],[131,16,131,18],[131,19,131,22],[131,23,131,27],[131,28,131,30],[131,31,131,35],[131,36,131,38],[131,39,131,43],[126,19,128,22],[126,24,128,29],[130,1,131,13],[130,14,130,27],[130,28,130,35],[130,36,130,43],[113,1,119,17],[113,50,115,50],[123,1,125,5],[123,6,125,13],[123,23,128,23],[123,24,125,29],[126,1,128,5],[126,6,128,13],[126,15,128,16],[126,17,128,18],[113,51,115,55],[108,31,108,35],[108,36,108,38],[108,39,108,43],[108,44,108,46],[108,47,108,51],[108,52,108,54],[108,1,108,13],[108,14,108,15],[108,16,108,18],[108,19,108,22],[108,23,108,27],[108,28,108,30],[107,1,107,13],[106,16,107,18],[106,19,107,22],[106,23,107,27],[106,28,107,30],[106,31,107,35],[106,1,106,13],[105,1,105,13],[104,16,105,18],[104,19,105,22],[104,23,105,27],[104,28,105,30],[104,31,105,35],[104,1,104,13],[103,1,103,13],[102,19,103,22],[102,23,103,27],[102,28,103,30],[102,31,103,35],[102,1,102,13],[101,1,101,13],[100,19,101,22],[100,23,101,27],[100,28,101,30],[100,31,101,35],[100,1,100,13],[93,1,93,13],[92,19,93,22],[92,23,93,27],[92,28,93,30],[92,31,93,35],[78,36,79,38],[57,1,57,13],[57,14,57,15],[57,16,57,18],[57,19,57,22],[57,23,57,27],[57,28,57,30],[76,44,76,51],[99,1,99,13],[98,19,99,22],[98,23,99,27],[98,28,99,30],[98,31,99,35],[98,1,98,13],[97,1,97,13],[96,19,97,22],[96,23,97,27],[96,28,97,30],[96,31,97,35],[96,1,96,13],[95,1,95,13],[94,19,95,22],[94,23,95,27],[94,28,95,30],[94,31,95,35],[94,1,94,13],[78,39,79,43],[76,52,77,54],[77,14,77,15],[77,16,77,18],[77,19,77,22],[77,23,77,27],[77,28,77,30],[77,31,77,35],[77,36,77,38],[77,39,77,43],[72,19,74,22],[72,24,74,29],[76,1,77,13],[76,14,76,27],[76,28,76,35],[76,36,76,43],[59,1,65,17],[59,50,61,50],[69,1,71,5],[69,6,71,13],[69,23,74,23],[69,24,71,29],[72,1,74,5],[72,6,74,13],[72,15,74,16],[72,17,74,18],[77,44,77,46],[77,47,77,51],[59,51,61,55],[43,39,44,43],[45,39,46,43],[47,39,48,43],[43,44,44,46],[45,44,46,46],[47,44,48,46],[49,44,50,46],[57,31,57,35],[57,36,57,38],[57,39,57,43],[57,44,57,46],[57,47,57,51],[57,52,57,54],[41,52,42,54],[43,52,44,54],[45,52,46,54],[47,52,48,54]],"merged_total":1198,"flags":["merged_cut"]}
[null,null,null,null,null,null,null,null,"請 求 書（出来高・分割納入用）",null,null,null,null,null,null,null,null,null,null,null,null,null,null,null,null,null,null,null,null,null,null,null,null,null,null,null,null,null,null,null,null,null,null,null,null,null,null,null,null,null,"No."]
[null,null,null,null,null,null,null,null,null,null,null,null,null,null,null,null,null,null,null,null,null,null,null,null,null,null,null,null,null,null,null,null,null,null,null,null,null,null,null,"日付",null,null,null,null,"年",null,"月",null,"日"]
[]
[]
[null,null,null,null,null,null,null,null,null,null,null,null,null,null,null,null,null,null,null,null,null,null,null,null,null,null,null,null,null,null,null,null,null,null,null,null,null,"請求者住所･氏名･印･電話",null,null,null,null,null,"取引先コード",null,null,null,null,{"$f":"入力フォーム!B3","v":0}]
[]
[null,null,null,null,null,null,null,null,null,null,null,null,null,null,null,null,null,"御中"]
[null,null,null,null,null,null,null,null,null,null,null,null,null,null,null,null,null,null,null,null,null,null,null,null,null,null,null,null,null,null,null,null,null,null,null,null,null,{"$f":"\"登録番号\"&\" \"&入力フォーム!B4","v":"登録番号 "}]
[]
[]
[]
[null,"下記の通り請求いたします。"]
[]
[]
[null,null,null,"月分請求内訳書",null,null,null,null,null,null,null,"枚 (本用紙を含む)"]
[]
[]
[null,"請 求 金 額",null,null,null,null,{"$f":"SUM(G23:P32)","v":0}]
[]
[]
[]
[null,null,null,null,null,null,null,null,null,null,null,null,null,null,null,null,null,null,null,"製造番号",null,null,null,null,{"$f":"見積書!$B$47","v":""}]
[null,"内　訳","税抜金額",null,null,null,{"$f":"AN58+AN109+AN163+AN217+AN257","v":0},null,null,null,null,null,null,null,null,null,null,null,null,null,null,null,null,null,null,null,null,null,null,null,null,null,null,"第",null,7,null,"回請求"]
[]
[null,null,null,null,null,null,null,null,null,null,null,null,null,null,null,null,null,null,null,"注文番号",null,null,null,null,{"$f":"IF('出来高内訳書 (第1回請求)'!Y25=\"\",\"\",'出来高内訳書 (第1回請求)'!Y25)","v":""}]
[]
[null,null,null,null,null,null,null,null,null,null,null,null,null,null,null,null,null,null,null,null,null,null,null,null,null,null,null,null,null,null,null,null,null,null,"※科目"]
[null,null,"消費税額等",null,null,null,{"$f":"IF(AC28=\"10％\",ROUNDDOWN(G23*10%,0),IF(AC28=\"(軽)8%\",ROUNDDOWN(G23*8%,0),0))","v":0},null,null,null,null,null,null,null,null,null,null,null,null,"消費税率",null,null,null,null,null,null,null,null,{"$f":"入力フォーム!B10","v":"10％"}]
[]
[]
[]
[]
[]
[null,"工　種・品　名",null,null,null,null,null,null,null,null,null,null,null,null,"契　約　金　額",null,null,null,null,null,null,null,null,null,null,null,null,null,"前回までの出来高",null,null,null,null,null,null,null,"今回出来高",null,null,null,null,null,null,null,"残高",null,null,null,null,null,null,null,"備　考"]
[null,null,null,null,null,null,null,null,null,null,null,null,null,null,"単位",null,"数量",null,null,"単価",null,null,null,"金額",null,null,null,null,"数量",null,null,"金額",null,null,null,null,"数量",null,null,"金額",null,null,null,null,"数量",null,null,"金額"]
[1,{"$f":"見積書!F61","v":""},null,null,null,null,null,null,null,null,null,null,null,null,{"$f":"見積書!Q61","v":""},null,{"$f":"見積書!R61","v":""},null,null,{"$f":"見積書!S61","v":""},null,null,null,{"$f":"見積書!T61","v":""},null,null,null,null,{"$f":"IF(Q36=\"\",\"\",'出来高内訳書 (第6回請求)'!AC36+'出来高内訳書 (第6回請求)'!AK36)","v":""},null,null,{"$f":"IF(T36=\"\",\"\",ROUND(T36*AC36,0))","v":""},null,null,null,null,null,null,null,{"$f":"IF(T36=\"\",\"\",ROUND(T36*AK36,0))","v":""},null,null,null,null,{"$f":"IF(Q36=\"\",\"\",ROUND(Q36-AC36-AK36,2))","v":""},null,null,{"$f":"IF(T36=\"\",\"\",(IF(AS36<0,\"出来高が契約を超過\",X36-AN36-AF36)))","v":""}]
[null,{"$f":"見積書!F62","v":""}]
[2,{"$f":"見積書!F63","v":""},null,null,null,null,null,null,null,null,null,null,null,null,{"$f":"見積書!Q63","v":""},null,{"$f":"見積書!R63","v":""},null,null,{"$f":"見積書!S63","v":""},null,null,null,{"$f":"見積書!T63","v":""},null,null,null,null,{"$f":"IF(Q38=\"\",\"\",'出来高内訳書 (第6回請求)'!AC38+'出来高内訳書 (第6回請求)'!AK38)","v":""},null,null,{"$f":"IF(T38=\"\",\"\",ROUND(T38*AC38,0))","v":""},null,null,null,null,null,null,null,{"$f":"IF(T38=\"\",\"\",ROUND(T38*AK38,0))","v":""},null,null,null,null,{"$f":"IF(Q38=\"\",\"\",ROUND(Q38-AC38-AK38,2))","v":""},null,null,{"$f":"IF(T38=\"\",\"\",(IF(AS38<0,\"出来高が契約を超過\",X38-AN38-AF38)))","v":""}]
[null,{"$f":"見積書!F64","v":""}]
[3,{"$f":"見積書!F65","v":""},null,null,null,null,null,null,null,null,null,null,null,null,{"$f":"見積書!Q65","v":""},null,{"$f":"見積書!R65","v":""},null,null,{"$f":"見積書!S65","v":""},null,null,null,{"$f":"見積書!T65","v":""},null,null,null,null,{"$f":"IF(Q40=\"\",\"\",'出来高内訳書 (第6回請求)'!AC40+'出来高内訳書 (第6回請求)'!AK40)","v":""},null,null,{"$f":"IF(T40=\"\",\"\",ROUND(T40*AC40,0))","v":""},null,null,null,null,null,null,null,{"$f":"IF(T40=\"\",\"\",ROUND(T40*AK40,0))","v":""},null,null,null,null,{"$f":"IF(Q40=\"\",\"\",ROUND(Q40-AC40-AK40,2))","v":""},null,null,{"$f":"IF(T40=\"\",\"\",(IF(AS40<0,\"出来高が契約を超過\",X40-AN40-AF40)))","v":""}]
[null,{"$f":"見積書!F66","v":""}]
[4,{"$f":"見積書!F67","v":""},null,null,null,null,null,null,null,null,null,null,null,null,{"$f":"見積書!Q67","v":""},null,{"$f":"見積書!R67","v":""},null,null,{"$f":"見積書!S67","v":""},null,null,null,{"$f":"見積書!T67","v":""},null,null,null,null,{"$f":"IF(Q42=\"\",\"\",'出来高内訳書 (第6回請求)'!AC42+'出来高内訳書 (第6回請求)'!AK42)","v":""},null,null,{"$f":"IF(T42=\"\",\"\",ROUND(T42*AC42,0))","v":""},null,null,null,null,null,null,null,{"$f":"IF(T42=\"\",\"\",ROUND(T42*AK42,0))","v":""},null,null,null,null,{"$f":"IF(Q42=\"\",\"\",ROUND(Q42-AC42-AK42,2))","v":""},null,null,{"$f":"IF(T42=\"\",\"\",(IF(AS42<0,\"出来高が契約を超過\",X42-AN42-AF42)))","v":""}]
[null,{"$f":"見積書!F68","v":""}]
[5,{"$f":"見積書!F69","v":""},null,null,null,null,null,null,null,null,null,null,null,null,{"$f":"見積書!Q69","v":""},null,{"$f":"見積書!R69","v":""},null,null,{"$f":"見積書!S69","v":""},null,null,null,{"$f":"見積書!T69","v":""},null,null,null,null,{"$f":"IF(Q44=\"\",\"\",'出来高内訳書 (第6回請求)'!AC44+'出来高内訳書 (第6回請求)'!AK44)","v":""},null,null,{"$f":"IF(T44=\"\",\"\",ROUND(T44*AC44,0))","v":""},null,null,null,null,null,null,null,{"$f":"IF(T44=\"\",\"\",ROUND(T44*AK44,0))","v":""},null,null,null,null,{"$f":"IF(Q44=\"\",\"\",ROUND(Q44-AC44-AK44,2))","v":""},null,null,{"$f":"IF(T44=\"\",\"\",(IF(AS44<0,\"出来高が契約を超過\",X44-AN44-AF44)))","v":""}]
[null,{"$f":"見積書!F70","v":""}]
[6,{"$f":"見積書!F71","v":""},null,null,null,null,null,null,null,null,null,null,null,null,{"$f":"見積書!Q71","v":""},null,{"$f":"見積書!R71","v":""},null,null,{"$f":"見積書!S71","v":""},null,null,null,{"$f":"見積書!T71","v":""},null,null,null,null,{"$f":"IF(Q46=\"\",\"\",'出来高内訳書 (第6回請求)'!AC46+'出来高内訳書 (第6回請求)'!AK46)","v":""},null,null,{"$f":"IF(T46=\"\",\"\",ROUND(T46*AC46,0))","v":""},null,null,null,null,null,null,null,{"$f":"IF(T46=\"\",\"\",ROUND(T46*AK46,0))","v":""},null,null,null,null,{"$f":"IF(Q46=\"\",\"\",ROUND(Q46-AC46-AK46,2))","v":""},null,null,{"$f":"IF(T46=\"\",\"\",(IF(AS46<0,\"出来高が契約を超過\",X46-AN46-AF46)))","v":""}]
[null,{"$f":"見積書!F72","v":""}]
[7,{"$f":"見積書!F73","v":""},null,null,null,null,null,null,null,null,null,null,null,null,{"$f":"見積書!Q73","v":""},null,{"$f":"見積書!R73","v":""},null,null,{"$f":"見積書!S73","v":""},null,null,null,{"$f":"見積書!T73","v":""},null,null,null,null,{"$f":"IF(Q48=\"\",\"\",'出来高内訳書 (第6回請求)'!AC48+'出来高内訳書 (第6回請求)'!AK48)","v":""},null,null,{"$f":"IF(T48=\"\",\"\",ROUND(T48*AC48,0))","v":""},null,null,null,null,null,null,null,{"$f":"IF(T48=\"\",\"\",ROUND(T48*AK48,0))","v":""},null,null,null,null,{"$f":"IF(Q48=\"\",\"\",ROUND(Q48-AC48-AK48,2))","v":""},null,null,{"$f":"IF(T48=\"\",\"\",(IF(AS48<0,\"出来高が契約を超過\",X48-AN48-AF48)))","v":""}]
[null,{"$f":"見積書!F74","v":""}]
[8,{"$f":"見積書!F75","v":""},null,null,null,null,null,null,null,null,null,null,null,null,{"$f":"見積書!Q75","v":""},null,{"$f":"見積書!R75","v":""},null,null,{"$f":"見積書!S75","v":""},null,null,null,{"$f":"見積書!T75","v":""},null,null,null,null,{"$f":"IF(Q50=\"\",\"\",'出来高内訳書 (第6回請求)'!AC50+'出来高内訳書 (第6回請求)'!AK50)","v":""},null,null,{"$f":"IF(T50=\"\",\"\",ROUND(T50*AC50,0))","v":""},null,null,null,null,null,null,null,{"$f":"IF(T50=\"\",\"\",ROUND(T50*AK50,0))","v":""},null,null,null,null,{"$f":"IF(Q50=\"\",\"\",ROUND(Q50-AC50-AK50,2))","v":""},null,null,{"$f":"IF(T50=\"\",\"\",(IF(AS50<0,\"出来高が契約を超過\",X50-AN50-AF50)))","v":""}]
[null,{"$f":"見積書!F76","v":""}]
[9,{"$f":"見積書!F77","v":""},null,null,null,null,null,null,null,null,null,null,null,null,{"$f":"見積書!Q77","v":""},null,{"$f":"見積書!R77","v":""},null,null,{"$f":"見積書!S77","v":""},null,null,null,{"$f":"見積書!T77","v":""},null,null,null,null,{"$f":"IF(Q52=\"\",\"\",'出来高内訳書 (第6回請求)'!AC52+'出来高内訳書 (第6回請求)'!AK52)","v":""},null,null,{"$f":"IF(T52=\"\",\"\",ROUND(T52*AC52,0))","v":""},null,null,null,null,null,null,null,{"$f":"IF(T52=\"\",\"\",ROUND(T52*AK52,0))","v":""},null,null,null,null,{"$f":"IF(Q52=\"\",\"\",ROUND(Q52-AC52-AK52,2))","v":""},null,null,{"$f":"IF(T52=\"\",\"\",(IF(AS52<0,\"出来高が契約を超過\",X52-AN52-AF52)))","v":""}]
[null,{"$f":"見積書!F78","v":""}]
[10,{"$f":"見積書!F79","v":""},null,null,null,null,null,null,null,null,null,null,null,null,{"$f":"見積書!Q79","v":""},null,{"$f":"見積書!R79","v":""},null,null,{"$f":"見積書!S79","v":""},null,null,null,{"$f":"見積書!T79","v":""},null,null,null,null,{"$f":"IF(Q54=\"\",\"\",'出来高内訳書 (第6回請求)'!AC54+'出来高内訳書 (第6回請求)'!AK54)","v":""},null,null,{"$f":"IF(T54=\"\",\"\",ROUND(T54*AC54,0))","v":""},null,null,null,null,null,null,null,{"$f":"IF(T54=\"\",\"\",ROUND(T54*AK54,0))","v":""},null,null,null,null,{"$f":"IF(Q54=\"\",\"\",ROUND(Q54-AC54-AK54,2))","v":""},null,null,{"$f":"IF(T54=\"\",\"\",(IF(AS54<0,\"出来高が契約を超過\",X54-AN54-AF54)))","v":""}]
[null,{"$f":"見積書!F80","v":""}]
[11,{"$f":"見積書!F81","v":""},null,null,null,null,null,null,null,null,null,null,null,null,{"$f":"見積書!Q81","v":""},null,{"$f":"見積書!R81","v":""},null,null,{"$f":"見積書!S81","v":""},null,null,null,{"$f":"見積書!T81","v":""},null,null,null,null,{"$f":"IF(Q56=\"\",\"\",'出来高内訳書 (第6回請求)'!AC56+'出来高内訳書 (第6回請求)'!AK56)","v":""},null,null,{"$f":"IF(T56=\"\",\"\",ROUND(T56*AC56,0))","v":""},null,null,null,null,null,null,null,{"$f":"IF(T56=\"\",\"\",ROUND(T56*AK56,0))","v":""},null,null,null,null,{"$f":"IF(Q56=\"\",\"\",ROUND(Q56-AC56-AK56,2))","v":""},null,null,{"$f":"IF(T56=\"\",\"\",(IF(AS56<0,\"出来高が契約を超過\",X56-AN56-AF56)))","v":""}]
[null,{"$f":"見積書!F82","v":""}]
[null,"小計",null,null,null,null,null,null,null,null,null,null,null,null,null,null,null,null,null,null,null,null,null,{"$f":"SUM(X36:AB57)","v":0},null,null,null,null,null,null,null,{"$f":"SUM(AF36:AJ57)","v":0},null,null,null,null,null,null,null,{"$f":"SUM(AN36:AR57)","v":0},null,null,null,null,null,null,null,{"$f":"X58-AF58-AN58","v":0}]
[]
[null,"請求内訳書（出来高・分割納入用）",null,null,null,null,null,null,null,null,null,null,null,null,null,null,null,null,null,null,null,null,null,null,null,null,null,null,null,null,null,null,null,null,null,null,null,null,null,null,null,null,null,null,null,null,null,null,null,null,"No."]
[]
[]
[]
[]
[]
[]
[]
[]
[]
[null,"製造番号",null,null,null,null,{"$f":"Y22","v":""},null,null,null,null,null,null,null,null,null,null,null,null,null,null,null,null,"※科目"]
[]
[]
[null,"注文番号",null,null,null,null,{"$f":"Y25","v":""},null,null,null,null,null,null,null,null,"第",null,{"$f":"AJ23","v":7},null,"回請求"]
[]
[]
[]
[null,"工　種・品　名",null,null,null,null,null,null,null,null,null,null,null,null,"契　約　金　額",null,null,null,null,null,null,null,null,null,null,null,null,null,"前回までの出来高",null,null,null,null,null,null,null,"今回出来高",null,null,null,null,null,null,null,"残高",null,null,null,null,null,null,null,"備　考"]
[null,null,null,null,null,null,null,null,null,null,null,null,null,null,"単位",null,"数量",null,null,"単価",null,null,null,"金額",null,null,null,null,"数量",null,null,"金額",null,null,null,null,"数量",null,null,"金額",null,null,null,null,"数量",null,null,"金額"]
[12,{"$f":"見積書!F83","v":""},null,null,null,null,null,null,null,null,null,null,null,null,{"$f":"見積書!Q83","v":""},null,{"$f":"見積書!R83","v":""},null,null,{"$f":"見積書!S83","v":""},null,null,null,{"$f":"見積書!T83","v":""},null,null,null,null,{"$f":"IF(Q79=\"\",\"\",'出来高内訳書 (第6回請求)'!AC79+'出来高内訳書 (第6回請求)'!AK79)","v":""},null,null,{"$f":"IF(T79=\"\",\"\",ROUND(T79*AC79,0))","v":""},null,null,null,null,null,null,null,{"$f":"IF(T79=\"\",\"\",ROUND(T79*AK79,0))","v":""},null,null,null,null,{"$f":"IF(Q79=\"\",\"\",ROUND(Q79-AC79-AK79,2))","v":""},null,null,{"$f":"IF(T79=\"\",\"\",(IF(AS79<0,\"出来高が契約を超過\",X79-AN79-AF79)))","v":""}]
[null,{"$f":"見積書!F84","v":""}]
[13,{"$f":"見積書!F85","v":""},null,null,null,null,null,null,null,null,null,null,null,null,{"$f":"見積書!Q85","v":""},null,{"$f":"見積書!R85","v":""},null,null,{"$f":"見積書!S85","v":""},null,null,null,{"$f":"見積書!T85","v":""},null,null,null,null,{"$f":"IF(Q81=\"\",\"\",'出来高内訳書 (第6回請求)'!AC81+'出来高内訳書 (第6回請求)'!AK81)","v":""},null,null,{"$f":"IF(T81=\"\",\"\",ROUND(T81*AC81,0))","v":""},null,null,null,null,null,null,null,{"$f":"IF(T81=\"\",\"\",ROUND(T81*AK81,0))","v":""},null,null,null,null,{"$f":"IF(Q81=\"\",\"\",ROUND(Q81-AC81-AK81,2))","v":""},null,null,{"$f":"IF(T81=\"\",\"\",(IF(AS81<0,\"出来高が契約を超過\",X81-AN81-AF81)))","v":""}]
[null,{"$f":"見積書!F86","v":""}]
[14,{"$f":"'見積書 (2)'!F26","v":""},null,null,null,null,null,null,null,null,null,null,null,null,{"$f":"'見積書 (2)'!Q26","v":""},null,{"$f":"'見積書 (2)'!R26","v":""},null,null,{"$f":"'見積書 (2)'!S26","v":""},null,null,null,{"$f":"'見積書 (2)'!T26","v":""},null,null,null,null,{"$f":"IF(Q83=\"\",\"\",'出来高内訳書 (第6回請求)'!AC83+'出来高内訳書 (第6回請求)'!AK83)","v":""},null,null,{"$f":"IF(T83=\"\",\"\",ROUND(T83*AC83,0))","v":""},null,null,null,null,null,null,null,{"$f":"IF(T83=\"\",\"\",ROUND(T83*AK83,0))","v":""},null,null,null,null,{"$f":"IF(Q83=\"\",\"\",ROUND(Q83-AC83-AK83,2))","v":""},null,null,{"$f":"IF(T83=\"\",\"\",(IF(AS83<0,\"出来高が契約を超過\",X83-AN83-AF83)))","v":""}]
[null,{"$f":"'見積書 (2)'!F27","v":""}]
[15,{"$f":"'見積書 (2)'!F28","v":""},null,null,null,null,null,null,null,null,null,null,null,null,{"$f":"'見積書 (2)'!Q28","v":""},null,{"$f":"'見積書 (2)'!R28","v":""},null,null,{"$f":"'見積書 (2)'!S28","v":""},null,null,null,{"$f":"'見積書 (2)'!T28","v":""},null,null,null,null,{"$f":"IF(Q85=\"\",\"\",'出来高内訳書 (第6回請求)'!AC85+'出来高内訳書 (第6回請求)'!AK85)","v":""},null,null,{"$f":"IF(T85=\"\",\"\",ROUND(T85*AC85,0))","v":""},null,null,null,null,null,null,null,{"$f":"IF(T85=\"\",\"\",ROUND(T85*AK85,0))","v":""},null,null,null,null,{"$f":"IF(Q85=\"\",\"\",ROUND(Q85-AC85-AK85,2))","v":""},null,null,{"$f":"IF(T85=\"\",\"\",(IF(AS85<0,\"出来高が契約を超過\",X85-AN85-AF85)))","v":""}]
[null,{"$f":"'見積書 (2)'!F29","v":""}]
[16,{"$f":"'見積書 (2)'!F30","v":""},null,null,null,null,null,null,null,null,null,null,null,null,{"$f":"'見積書 (2)'!Q30","v":""},null,{"$f":"'見積書 (2)'!R30","v":""},null,null,{"$f":"'見積書 (2)'!S30","v":""},null,null,null,{"$f":"'見積書 (2)'!T30","v":""},null,null,null,null,{"$f":"IF(Q87=\"\",\"\",'出来高内訳書 (第6回請求)'!AC87+'出来高内訳書 (第6回請求)'!AK87)","v":""},null,null,{"$f":"IF(T87=\"\",\"\",ROUND(T87*AC87,0))","v":""},null,null,null,null,null,null,null,{"$f":"IF(T87=\"\",\"\",ROUND(T87*AK87,0))","v":""},null,null,null,null,{"$f":"IF(Q87=\"\",\"\",ROUND(Q87-AC87-AK87,2))","v":""},null,null,{"$f":"IF(T87=\"\",\"\",(IF(AS87<0,\"出来高が契約を超過\",X87-AN87-AF87)))","v":""}]
[null,{"$f":"'見積書 (2)'!F31","v":""}]
[17,{"$f":"'見積書 (2)'!F32","v":""},null,null,null,null,null,null,null,null,null,null,null,null,{"$f":"'見積書 (2)'!Q32","v":""},null,{"$f":"'見積書 (2)'!R32","v":""},null,null,{"$f":"'見積書 (2)'!S32","v":""},null,null,null,{"$f":"'見積書 (2)'!T32","v":""},null,null,null,null,{"$f":"IF(Q89=\"\",\"\",'出来高内訳書 (第6回請求)'!AC89+'出来高内訳書 (第6回請求)'!AK89)","v":""},null,null,{"$f":"IF(T89=\"\",\"\",ROUND(T89*AC89,0))","v":""},null,null,null,null,null,null,null,{"$f":"IF(T89=\"\",\"\",ROUND(T89*AK89,0))","v":""},null,null,null,null,{"$f":"IF(Q89=\"\",\"\",ROUND(Q89-AC89-AK89,2))","v":""},null,null,{"$f":"IF(T89=\"\",\"\",(IF(AS89<0,\"出来高が契約を超過\",X89-AN89-AF89)))","v":""}]
[null,{"$f":"'見積書 (2)'!F33","v":""}]
[18,{"$f":"'見積書 (2)'!F34","v":""},null,null,null,null,null,null,null,null,null,null,null,null,{"$f":"'見積書 (2)'!Q34","v":""},null,{"$f":"'見積書 (2)'!R34","v":""},null,null,{"$f":"'見積書 (2)'!S34","v":""},null,null,null,{"$f":"'見積書 (2)'!T34","v":""},null,null,null,null,{"$f":"IF(Q91=\"\",\"\",'出来高内訳書 (第6回請求)'!AC91+'出来高内訳書 (第6回請求)'!AK91)","v":""},null,null,{"$f":"IF(T91=\"\",\"\",ROUND(T91*AC91,0))","v":""},null,null,null,null,null,null,null,{"$f":"IF(T91=\"\",\"\",ROUND(T91*AK91,0))","v":""},null,null,null,null,{"$f":"IF(Q91=\"\",\"\",ROUND(Q91-AC91-AK91,2))","v":""},null,null,{"$f":"IF(T91=\"\",\"\",(IF(AS91<0,\"出来高が契約を超過\",X91-AN91-AF91)))","v":""}]
[null,{"$f":"'見積書 (2)'!F35","v":""}]
[19,{"$f":"'見積書 (2)'!F36","v":""},null,null,null,null,null,null,null,null,null,null,null,null,{"$f":"'見積書 (2)'!Q36","v":""},null,{"$f":"'見積書 (2)'!R36","v":""},null,null,{"$f":"'見積書 (2)'!S36","v":""},null,null,null,{"$f":"'見積書 (2)'!T36","v":""},null,null,null,null,{"$f":"IF(Q93=\"\",\"\",'出来高内訳書 (第6回請求)'!AC93+'出来高内訳書 (第6回請求)'!AK93)","v":""},null,null,{"$f":"IF(T93=\"\",\"\",ROUND(T93*AC93,0))","v":""},null,null,null,null,null,null,null,{"$f":"IF(T93=\"\",\"\",ROUND(T93*AK93,0))","v":""},null,null,null,null,{"$f":"IF(Q93=\"\",\"\",ROUND(Q93-AC93-AK93,2))","v":""},null,null,{"$f":"IF(T93=\"\",\"\",(IF(AS93<0,\"出来高が契約を超過\",X93-AN93-AF93)))","v":""}]
[null,{"$f":"'見積書 (2)'!F37","v":""}]
[20,{"$f":"'見積書 (2)'!F38","v":""},null,null,null,null,null,null,null,null,null,null,null,null,{"$f":"'見積書 (2)'!Q38","v":""},null,{"$f":"'見積書 (2)'!R38","v":""},null,null,{"$f":"'見積書 (2)'!S38","v":""},null,null,null,{"$f":"'見積書 (2)'!T38","v":""},null,null,null,null,{"$f":"IF(Q95=\"\",\"\",'出来高内訳書 (第6回請求)'!AC95+'出来高内訳書 (第6回請求)'!AK95)","v":""},null,null,{"$f":"IF(T95=\"\",\"\",ROUND(T95*AC95,0))","v":""},null,null,null,null,null,null,null,{"$f":"IF(T95=\"\",\"\",ROUND(T95*AK95,0))","v":""},null,null,null,null,{"$f":"IF(Q95=\"\",\"\",ROUND(Q95-AC95-AK95,2))","v":""},null,null,{"$f":"IF(T95=\"\",\"\",(IF(AS95<0,\"出来高が契約を超過\",X95-AN95-AF95)))","v":""}]
[null,{"$f":"'見積書 (2)'!F39","v":""}]
[21,{"$f":"'見積書 (2)'!F40","v":""},null,null,null,null,null,null,null,null,null,null,null,null,{"$f":"'見積書 (2)'!Q40","v":""},null,{"$f":"'見積書 (2)'!R40","v":""},null,null,{"$f":"'見積書 (2)'!S40","v":""},null,null,null,{"$f":"'見積書 (2)'!T40","v":""},null,null,null,null,{"$f":"IF(Q97=\"\",\"\",'出来高内訳書 (第6回請求)'!AC97+'出来高内訳書 (第6回請求)'!AK97)","v":""},null,null,{"$f":"IF(T97=\"\",\"\",ROUND(T97*AC97,0))","v":""},null,null,null,null,null,null,null,{"$f":"IF(T97=\"\",\"\",ROUND(T97*AK97,0))","v":""},null,null,null,null,{"$f":"IF(Q97=\"\",\"\",ROUND(Q97-AC97-AK97,2))","v":""},null,null,{"$f":"IF(T97=\"\",\"\",(IF(AS97<0,\"出来高が契約を超過\",X97-AN97-AF97)))","v":""}]
[null,{"$f":"'見積書 (2)'!F41","v":""}]
[22,{"$f":"'見積書 (2)'!F42","v":""},null,null,null,null,null,null,null,null,null,null,null,null,{"$f":"'見積書 (2)'!Q42","v":""},null,{"$f":"'見積書 (2)'!R42","v":""},null,null,{"$f":"'見積書 (2)'!S42","v":""},null,null,null,{"$f":"'見積書 (2)'!T42","v":""},null,null,null,null,{"$f":"IF(Q99=\"\",\"\",'出来高内訳書 (第6回請求)'!AC99+'出来高内訳書 (第6回請求)'!AK99)","v":""},null,null,{"$f":"IF(T99=\"\",\"\",ROUND(T99*AC99,0))","v":""},null,null,null,null,null,null,null,{"$f":"IF(T99=\"\",\"\",ROUND(T99*AK99,0))","v":""},null,null,null,null,{"$f":"IF(Q99=\"\",\"\",ROUND(Q99-AC99-AK99,2))","v":""},null,null,{"$f":"IF(T99=\"\",\"\",(IF(AS99<0,\"出来高が契約を超過\",X99-AN99-AF99)))","v":""}]
[null,{"$f":"'見積書 (2)'!F43","v":""}]
[23,{"$f":"'見積書 (2)'!F44","v":""},null,null,null,null,null,null,null,null,null,null,null,null,{"$f":"'見積書 (2)'!Q44","v":""},null,{"$f":"'見積書 (2)'!R44","v":""},null,null,{"$f":"'見積書 (2)'!S44","v":""},null,null,null,{"$f":"'見積書 (2)'!T44","v":""},null,null,null,null,{"$f":"IF(Q101=\"\",\"\",'出来高内訳書 (第6回請求)'!AC101+'出来高内訳書 (第6回請求)'!AK101)","v":""},null,null,{"$f":"IF(T101=\"\",\"\",ROUND(T101*AC101,0))","v":""},null,null,null,null,null,null,null,{"$f":"IF(T101=\"\",\"\",ROUND(T101*AK101,0))","v":""},null,null,null,null,{"$f":"IF(Q101=\"\",\"\",ROUND(Q101-AC101-AK101,2))","v":""},null,null,{"$f":"IF(T101=\"\",\"\",(IF(AS101<0,\"出来高が契約を超過\",X101-AN101-AF101)))","v":""}]
[null,{"$f":"'見積書 (2)'!F45","v":""}]
[24,{"$f":"'見積書 (2)'!F46","v":""},null,null,null,null,null,null,null,null,null,null,null,null,{"$f":"'見積書 (2)'!Q46","v":""},null,{"$f":"'見積書 (2)'!R46","v":""},null,null,{"$f":"'見積書 (2)'!S46","v":""},null,null,null,{"$f":"'見積書 (2)'!T46","v":""},null,null,null,null,{"$f":"IF(Q103=\"\",\"\",'出来高内訳書 (第6回請求)'!AC103+'出来高内訳書 (第6回請求)'!AK103)","v":""},null,null,{"$f":"IF(T103=\"\",\"\",ROUND(T103*AC103,0))","v":""},null,null,null,null,null,null,null,{"$f":"IF(T103=\"\",\"\",ROUND(T103*AK103,0))","v":""},null,null,null,null,{"$f":"IF(Q103=\"\",\"\",ROUND(Q103-AC103-AK103,2))","v":""},null,null,{"$f":"IF(T103=\"\",\"\",(IF(AS103<0,\"出来高が契約を超過\",X103-AN103-AF103)))","v":""}]
[null,{"$f":"'見積書 (2)'!F47","v":""}]
[25,{"$f":"'見積書 (2)'!F48","v":""},null,null,null,null,null,null,null,null,null,null,null,null,{"$f":"'見積書 (2)'!Q48","v":""},null,{"$f":"'見積書 (2)'!R48","v":""},null,null,{"$f":"'見積書 (2)'!S48","v":""},null,null,null,{"$f":"'見積書 (2)'!T48","v":""},null,null,null,null,{"$f":"IF(Q105=\"\",\"\",'出来高内訳書 (第6回請求)'!AC105+'出来高内訳書 (第6回請求)'!AK105)","v":""},null,null,{"$f":"IF(T105=\"\",\"\",ROUND(T105*AC105,0))","v":""},null,null,null,null,null,null,null,{"$f":"IF(T105=\"\",\"\",ROUND(T105*AK105,0))","v":""},null,null,null,null,{"$f":"IF(Q105=\"\",\"\",ROUND(Q105-AC105-AK105,2))","v":""},null,null,{"$f":"IF(T105=\"\",\"\",(IF(AS105<0,\"出来高が契約を超過\",X105-AN105-AF105)))","v":""}]
[null,{"$f":"'見積書 (2)'!F49","v":""}]
[26,{"$f":"'見積書 (2)'!F50","v":""},null,null,null,null,null,null,null,null,null,null,null,null,{"$f":"'見積書 (2)'!Q50","v":""},null,{"$f":"'見積書 (2)'!R50","v":""},null,null,{"$f":"'見積書 (2)'!S50","v":""},null,null,null,{"$f":"'見積書 (2)'!T50","v":""},null,null,null,null,{"$f":"IF(Q107=\"\",\"\",'出来高内訳書 (第6回請求)'!AC107+'出来高内訳書 (第6回請求)'!AK107)","v":""},null,null,{"$f":"IF(T107=\"\",\"\",ROUND(T107*AC107,0))","v":""},null,null,null,null,null,null,null,{"$f":"IF(T107=\"\",\"\",ROUND(T107*AK107,0))","v":""},null,null,null,null,{"$f":"IF(Q107=\"\",\"\",ROUND(Q107-AC107-AK107,2))","v":""},null,null,{"$f":"IF(T107=\"\",\"\",(IF(AS107<0,\"出来高が契約を超過\",X107-AN107-AF107)))","v":""}]
[null,{"$f":"'見積書 (2)'!F51","v":""}]
[null,"小計",null,null,null,null,null,null,null,null,null,null,null,null,null,null,null,null,null,null,null,null,null,{"$f":"SUM(X79:AB108)","v":0},null,null,null,null,null,null,null,{"$f":"SUM(AF94:AJ108)","v":0},null,null,null,null,null,null,null,{"$f":"SUM(AN79:AR108)","v":0},null,null,null,null,null,null,null,{"$f":"X109-AF109-AN109","v":0}]
[]
[]
[]
[]
[null,"請求内訳書（出来高・分割納入用）",null,null,null,null,null,null,null,null,null,null,null,null,null,null,null,null,null,null,null,null,null,null,null,null,null,null,null,null,null,null,null,null,null,null,null,null,null,null,null,null,null,null,null,null,null,null,null,null,"No."]
[]
[]
[]
[]
[]
[]
[]
[]
[]
[null,"製造番号",null,null,null,null,{"$f":"Y22","v":""},null,null,null,null,null,null,null,null,null,null,null,null,null,null,null,null,"※科目"]
[]
[]
[null,"注文番号",null,null,null,null,{"$f":"Y25","v":""},null,null,null,null,null,null,null,null,"第",null,{"$f":"AJ23","v":7},null,"回請求"]
[]
[]
[]
[null,"工　種・品　名",null,null,null,null,null,null,null,null,null,null,null,null,"契　約　金　額",null,null,null,null,null,null,null,null,null,null,null,null,null,"前回までの出来高",null,null,null,null,null,null,null,"今回出来高",null,null,null,null,null,null,null,"残高",null,null,null,null,null,null,null,"備　考"]
[null,null,null,null,null,null,null,null,null,null,null,null,null,null,"単位",null,"数量",null,null,"単価",null,null,null,"金額",null,null,null,null,"数量",null,null,"金額",null,null,null,null,"数量",null,null,"金額",null,null,null,null,"数量",null,null,"金額"]
[27,{"$f":"'見積書 (2)'!F52","v":""},null,null,null,null,null,null,null,null,null,null,null,null,{"$f":"'見積書 (2)'!Q52","v":""},null,{"$f":"'見積書 (2)'!R52","v":""},null,null,{"$f":"'見積書 (2)'!S52","v":""},null,null,null,{"$f":"'見積書 (2)'!T52","v":""},null,null,null,null,{"$f":"IF(Q133=\"\",\"\",'出来高内訳書 (第6回請求)'!AC133+'出来高内訳書 (第6回請求)'!AK133)","v":""},null,null,{"$f":"IF(T133=\"\",\"\",ROUND(T133*AC133,0))","v":""},null,null,null,null,null,null,null,{"$f":"IF(T133=\"\",\"\",ROUND(T133*AK133,0))","v":""},null,null,null,null,{"$f":"IF(Q133=\"\",\"\",ROUND(Q133-AC133-AK133,2))","v":""},null,null,{"$f":"IF(T133=\"\",\"\",(IF(AS133<0,\"出来高が契約を超過\",X133-AN133-AF133)))","v":""}]
[null,{"$f":"'見積書 (2)'!F53","v":""}]
[28,{"$f":"'見積書 (2)'!F54","v":""},null,null,null,null,null,null,null,null,null,null,null,null,{"$f":"'見積書 (2)'!Q54","v":""},null,{"$f":"'見積書 (2)'!R54","v":""},null,null,{"$f":"'見積書 (2)'!S54","v":""},null,null,null,{"$f":"'見積書 (2)'!T54","v":""},null,null,null,null,{"$f":"IF(Q135=\"\",\"\",'出来高内訳書 (第6回請求)'!AC135+'出来高内訳書 (第6回請求)'!AK135)","v":""},null,null,{"$f":"IF(T135=\"\",\"\",ROUND(T135*AC135,0))","v":""},null,null,null,null,null,null,null,{"$f":"IF(T135=\"\",\"\",ROUND(T135*AK135,0))","v":""},null,null,null,null,{"$f":"IF(Q135=\"\",\"\",ROUND(Q135-AC135-AK135,2))","v":""},null,null,{"$f":"IF(T135=\"\",\"\",(IF(AS135<0,\"出来高が契約を超過\",X135-AN135-AF135)))","v":""}]
[null,{"$f":"'見積書 (2)'!F55","v":""}]
[29,{"$f":"'見積書 (2)'!F56","v":""},null,null,null,null,null,null,null,null,null,null,null,null,{"$f":"'見積書 (2)'!Q56","v":""},null,{"$f":"'見積書 (2)'!R56","v":""},null,null,{"$f":"'見積書 (2)'!S56","v":""},null,null,null,{"$f":"'見積書 (2)'!T56","v":""},null,null,null,null,{"$f":"IF(Q137=\"\",\"\",'出来高内訳書 (第6回請求)'!AC137+'出来高内訳書 (第6回請求)'!AK137)","v":""},null,null,{"$f":"IF(T137=\"\",\"\",ROUND(T137*AC137,0))","v":""},null,null,null,null,null,null,null,{"$f":"IF(T137=\"\",\"\",ROUND(T137*AK137,0))","v":""},null,null,null,null,{"$f":"IF(Q137=\"\",\"\",ROUND(Q137-AC137-AK137,2))","v":""},null,null,{"$f":"IF(T137=\"\",\"\",(IF(AS137<0,\"出来高が契約を超過\",X137-AN137-AF137)))","v":""}]
[null,{"$f":"'見積書 (2)'!F57","v":""}]
[30,{"$f":"'見積書 (2)'!F58","v":""},null,null,null,null,null,null,null,null,null,null,null,null,{"$f":"'見積書 (2)'!Q58","v":""},null,{"$f":"'見積書 (2)'!R58","v":""},null,null,{"$f":"'見積書 (2)'!S58","v":""},null,null,null,{"$f":"'見積書 (2)'!T58","v":""},null,null,null,null,{"$f":"IF(Q139=\"\",\"\",'出来高内訳書 (第6回請求)'!AC139+'出来高内訳書 (第6回請求)'!AK139)","v":""},null,null,{"$f":"IF(T139=\"\",\"\",ROUND(T139*AC139,0))","v":""},null,null,null,null,null,null,null,{"$f":"IF(T139=\"\",\"\",ROUND(T139*AK139,0))","v":""},null,null,null,null,{"$f":"IF(Q139=\"\",\"\",ROUND(Q139-AC139-AK139,2))","v":""},null,null,{"$f":"IF(T139=\"\",\"\",(IF(AS139<0,\"出来高が契約を超過\",X139-AN139-AF139)))","v":""}]
[null,{"$f":"'見積書 (2)'!F59","v":""}]
[31,{"$f":"'見積書 (2)'!F60","v":""},null,null,null,null,null,null,null,null,null,null,null,null,{"$f":"'見積書 (2)'!Q60","v":""},null,{"$f":"'見積書 (2)'!R60","v":""},null,null,{"$f":"'見積書 (2)'!S60","v":""},null,null,null,{"$f":"'見積書 (2)'!T60","v":""},null,null,null,null,{"$f":"IF(Q141=\"\",\"\",'出来高内訳書 (第6回請求)'!AC141+'出来高内訳書 (第6回請求)'!AK141)","v":""},null,null,{"$f":"IF(T141=\"\",\"\",ROUND(T141*AC141,0))","v":""},null,null,null,null,null,null,null,{"$f":"IF(T141=\"\",\"\",ROUND(T141*AK141,0))","v":""},null,null,null,null,{"$f":"IF(Q141=\"\",\"\",ROUND(Q141-AC141-AK141,2))","v":""},null,null,{"$f":"IF(T141=\"\",\"\",(IF(AS141<0,\"出来高が契約を超過\",X141-AN141-AF141)))","v":""}]
[null,{"$f":"'見積書 (2)'!F61","v":""}]
[32,{"$f":"'見積書 (2)'!F62","v":""},null,null,null,null,null,null,null,null,null,null,null,null,{"$f":"'見積書 (2)'!Q62","v":""},null,{"$f":"'見積書 (2)'!R62","v":""},null,null,{"$f":"'見積書 (2)'!S62","v":""},null,null,null,{"$f":"'見積書 (2)'!T62","v":""},null,null,null,null,{"$f":"IF(Q143=\"\",\"\",'出来高内訳書 (第6回請求)'!AC143+'出来高内訳書 (第6回請求)'!AK143)","v":""},null,null,{"$f":"IF(T143=\"\",\"\",ROUND(T143*AC143,0))","v":""},null,null,null,null,null,null,null,{"$f":"IF(T143=\"\",\"\",ROUND(T143*AK143,0))","v":""},null,null,null,null,{"$f":"IF(Q143=\"\",\"\",ROUND(Q143-AC143-AK143,2))","v":""},null,null,{"$f":"IF(T143=\"\",\"\",(IF(AS143<0,\"出来高が契約を超過\",X143-AN143-AF143)))","v":""}]
[null,{"$f":"'見積書 (2)'!F63","v":""}]
[33,{"$f":"'見積書 (2)'!F64","v":""},null,null,null,null,null,null,null,null,null,null,null,null,{"$f":"'見積書 (2)'!Q64","v":""},null,{"$f":"'見積書 (2)'!R64","v":""},null,null,{"$f":"'見積書 (2)'!S64","v":""},null,null,null,{"$f":"'見積書 (2)'!T64","v":""},null,null,null,null,{"$f":"IF(Q145=\"\",\"\",'出来高内訳書 (第6回請求)'!AC145+'出来高内訳書 (第6回請求)'!AK145)","v":""},null,null,{"$f":"IF(T145=\"\",\"\",ROUND(T145*AC145,0))","v":""},null,null,null,null,null,null,null,{"$f":"IF(T145=\"\",\"\",ROUND(T145*AK145,0))","v":""},null,null,null,null,{"$f":"IF(Q145=\"\",\"\",ROUND(Q145-AC145-AK145,2))","v":""},null,null,{"$f":"IF(T145=\"\",\"\",(IF(AS145<0,\"出来高が契約を超過\",X145-AN145-AF145)))","v":""}]
[null,{"$f":"'見積書 (2)'!F65","v":""}]
[34,{"$f":"'見積書 (2)'!F66","v":""},null,null,null,null,null,null,null,null,null,null,null,null,{"$f":"'見積書 (2)'!Q66","v":""},null,{"$f":"'見積書 (2)'!R66","v":""},null,null,{"$f":"'見積書 (2)'!S66","v":""},null,null,null,{"$f":"'見積書 (2)'!T66","v":""},null,null,null,null,{"$f":"IF(Q147=\"\",\"\",'出来高内訳書 (第6回請求)'!AC147+'出来高内訳書 (第6回請求)'!AK147)","v":""},null,null,{"$f":"IF(T147=\"\",\"\",ROUND(T147*AC147,0))","v":""},null,null,null,null,null,null,null,{"$f":"IF(T147=\"\",\"\",ROUND(T147*AK147,0))","v":""},null,null,null,null,{"$f":"IF(Q147=\"\",\"\",ROUND(Q147-AC147-AK147,2))","v":""},null,null,{"$f":"IF(T147=\"\",\"\",(IF(AS147<0,\"出来高が契約を超過\",X147-AN147-AF147)))","v":""}]
[null,{"$f":"'見積書 (2)'!F67","v":""}]
[35,{"$f":"'見積書 (2)'!F68","v":""},null,null,null,null,null,null,null,null,null,null,null,null,{"$f":"'見積書 (2)'!Q68","v":""},null,{"$f":"'見積書 (2)'!R68","v":""},null,null,{"$f":"'見積書 (2)'!S68","v":""},null,null,null,{"$f":"'見積書 (2)'!T68","v":""},null,null,null,null,{"$f":"IF(Q149=\"\",\"\",'出来高内訳書 (第6回請求)'!AC149+'出来高内訳書 (第6回請求)'!AK149)","v":""},null,null,{"$f":"IF(T149=\"\",\"\",ROUND(T149*AC149,0))","v":""},null,null,null,null,null,null,null,{"$f":"IF(T149=\"\",\"\",ROUND(T149*AK149,0))","v":""},null,null,null,null,{"$f":"IF(Q149=\"\",\"\",ROUND(Q149-AC149-AK149,2))","v":""},null,null,{"$f":"IF(T149=\"\",\"\",(IF(AS149<0,\"出来高が契約を超過\",X149-AN149-AF149)))","v":""}]
[null,{"$f":"'見積書 (2)'!F69","v":""}]
[36,{"$f":"'見積書 (3)'!F26","v":""},null,null,null,null,null,null,null,null,null,null,null,null,{"$f":"'見積書 (3)'!Q26","v":""},null,{"$f":"'見積書 (3)'!R26","v":""},null,null,{"$f":"'見積書 (3)'!S26","v":""},null,null,null,{"$f":"'見積書 (3)'!T26","v":""},null,null,null,null,{"$f":"IF(Q151=\"\",\"\",'出来高内訳書 (第6回請求)'!AC151+'出来高内訳書 (第6回請求)'!AK151)","v":""},null,null,{"$f":"IF(T151=\"\",\"\",ROUND(T151*AC151,0))","v":""},null,null,null,null,null,null,null,{"$f":"IF(T151=\"\",\"\",ROUND(T151*AK151,0))","v":""},null,null,null,null,{"$f":"IF(Q151=\"\",\"\",ROUND(Q151-AC151-AK151,2))","v":""},null,null,{"$f":"IF(T151=\"\",\"\",(IF(AS151<0,\"出来高が契約を超過\",X151-AN151-AF151)))","v":""}]
[null,{"$f":"'見積書 (3)'!F27","v":""}]
[37,{"$f":"'見積書 (3)'!F28","v":""},null,null,null,null,null,null,null,null,null,null,null,null,{"$f":"'見積書 (3)'!Q28","v":""},null,{"$f":"'見積書 (3)'!R28","v":""},null,null,{"$f":"'見積書 (3)'!S28","v":""},null,null,null,{"$f":"'見積書 (3)'!T28","v":""},null,null,null,null,{"$f":"IF(Q153=\"\",\"\",'出来高内訳書 (第6回請求)'!AC153+'出来高内訳書 (第6回請求)'!AK153)","v":""},null,null,{"$f":"IF(T153=\"\",\"\",ROUND(T153*AC153,0))","v":""},null,null,null,null,null,null,null,{"$f":"IF(T153=\"\",\"\",ROUND(T153*AK153,0))","v":""},null,null,null,null,{"$f":"IF(Q153=\"\",\"\",ROUND(Q153-AC153-AK153,2))","v":""},null,null,{"$f":"IF(T153=\"\",\"\",(IF(AS153<0,\"出来高が契約を超過\",X153-AN153-AF153)))","v":""}]
[null,{"$f":"'見積書 (3)'!F29","v":""}]
[38,{"$f":"'見積書 (3)'!F30","v":""},null,null,null,null,null,null,null,null,null,null,null,null,{"$f":"'見積書 (3)'!Q30","v":""},null,{"$f":"'見積書 (3)'!R30","v":""},null,null,{"$f":"'見積書 (3)'!S30","v":""},null,null,null,{"$f":"'見積書 (3)'!T30","v":""},null,null,null,null,{"$f":"IF(Q155=\"\",\"\",'出来高内訳書 (第6回請求)'!AC155+'出来高内訳書 (第6回請求)'!AK155)","v":""},null,null,{"$f":"IF(T155=\"\",\"\",ROUND(T155*AC155,0))","v":""},null,null,null,null,null,null,null,{"$f":"IF(T155=\"\",\"\",ROUND(T155*AK155,0))","v":""},null,null,null,null,{"$f":"IF(Q155=\"\",\"\",ROUND(Q155-AC155-AK155,2))","v":""},null,null,{"$f":"IF(T155=\"\",\"\",(IF(AS155<0,\"出来高が契約を超過\",X155-AN155-AF155)))","v":""}]
[null,{"$f":"'見積書 (3)'!F31","v":""}]
[39,{"$f":"'見積書 (3)'!F32","v":""},null,null,null,null,null,null,null,null,null,null,null,null,{"$f":"'見積書 (3)'!Q32","v":""},null,{"$f":"'見積書 (3)'!R32","v":""},null,null,{"$f":"'見積書 (3)'!S32","v":""},null,null,null,{"$f":"'見積書 (3)'!T32","v":""},null,null,null,null,{"$f":"IF(Q157=\"\",\"\",'出来高内訳書 (第6回請求)'!AC157+'出来高内訳書 (第6回請求)'!AK157)","v":""},null,null,{"$f":"IF(T157=\"\",\"\",ROUND(T157*AC157,0))","v":""},null,null,null,null,null,null,null,{"$f":"IF(T157=\"\",\"\",ROUND(T157*AK157,0))","v":""},null,null,null,null,{"$f":"IF(Q157=\"\",\"\",ROUND(Q157-AC157-AK157,2))","v":""},null,null,{"$f":"IF(T157=\"\",\"\",(IF(AS157<0,\"出来高が契約を超過\",X157-AN157-AF157)))","v":""}]
[null,{"$f":"'見積書 (3)'!F33","v":""}]
[40,{"$f":"'見積書 (3)'!F34","v":""},null,null,null,null,null,null,null,null,null,null,null,null,{"$f":"'見積書 (3)'!Q34","v":""},null,{"$f":"'見積書 (3)'!R34","v":""},null,null,{"$f":"'見積書 (3)'!S34","v":""},null,null,null,{"$f":"'見積書 (3)'!T34","v":""},null,null,null,null,{"$f":"IF(Q159=\"\",\"\",'出来高内訳書 (第6回請求)'!AC159+'出来高内訳書 (第6回請求)'!AK159)","v":""},null,null,{"$f":"IF(T159=\"\",\"\",ROUND(T159*AC159,0))","v":""},null,null,null,null,null,null,null,{"$f":"IF(T159=\"\",\"\",ROUND(T159*AK159,0))","v":""},null,null,null,null,{"$f":"IF(Q159=\"\",\"\",ROUND(Q159-AC159-AK159,2))","v":""},null,null,{"$f":"IF(T159=\"\",\"\",(IF(AS159<0,\"出来高が契約を超過\",X159-AN159-AF159)))","v":""}]
[null,{"$f":"'見積書 (3)'!F35","v":""}]
[41,{"$f":"'見積書 (3)'!F36","v":""},null,null,null,null,null,null,null,null,null,null,null,null,{"$f":"'見積書 (3)'!Q36","v":""},null,{"$f":"'見積書 (3)'!R36","v":""},null,null,{"$f":"'見積書 (3)'!S36","v":""},null,null,null,{"$f":"'見積書 (3)'!T36","v":""},null,null,null,null,{"$f":"IF(Q161=\"\",\"\",'出来高内訳書 (第6回請求)'!AC161+'出来高内訳書 (第6回請求)'!AK161)","v":""},null,null,{"$f":"IF(T161=\"\",\"\",ROUND(T161*AC161,0))","v":""},null,null,null,null,null,null,null,{"$f":"IF(T161=\"\",\"\",ROUND(T161*AK161,0))","v":""},null,null,null,null,{"$f":"IF(Q161=\"\",\"\",ROUND(Q161-AC161-AK161,2))","v":""},null,null,{"$f":"IF(T161=\"\",\"\",(IF(AS161<0,\"出来高が契約を超過\",X161-AN161-AF161)))","v":""}]
[null,{"$f":"'見積書 (3)'!F37","v":""}]
[null,"小計",null,null,null,null,null,null,null,null,null,null,null,null,null,null,null,null,null,null,null,null,null,{"$f":"SUM(X133:AB162)","v":0},null,null,null,null,null,null,null,{"$f":"SUM(AF133:AJ162)","v":0},null,null,null,null,null,null,null,{"$f":"SUM(AN133:AR162)","v":0},null,null,null,null,null,null,null,{"$f":"X163-AF163-AN163","v":0}]
[]
[]
[]
[]
[null,"請求内訳書（出来高・分割納入用）",null,null,null,null,null,null,null,null,null,null,null,null,null,null,null,null,null,null,null,null,null,null,null,null,null,null,null,null,null,null,null,null,null,null,null,null,null,null,null,null,null,null,null,null,null,null,null,null,"No."]
[]
[]
[]
[]
[]
[]
[]
[]
[]
[null,"製造番号",null,null,null,null,{"$f":"Y22","v":""},null,null,null,null,null,null,null,null,null,null,null,null,null,null,null,null,"※科目"]
[]
[]
[null,"注文番号",null,null,null,null,{"$f":"Y25","v":""},null,null,null,null,null,null,null,null,"第",null,{"$f":"AJ23","v":7},null,"回請求"]
[]
[]
[]
[null,"工　種・品　名",null,null,null,null,null,null,null,null,null,null,null,null,"契　約　金　額",null,null,null,null,null,null,null,null,null,null,null,null,null,"前回までの出来高",null,null,null,null,null,null,null,"今回出来高",null,null,null,null,null,null,null,"残高",null,null,null,null,null,null,null,"備　考"]
[null,null,null,null,null,null,null,null,null,null,null,null,null,null,"単位",null,"数量",null,null,"単価",null,null,null,"金額",null,null,null,null,"数量",null,null,"金額",null,null,null,null,"数量",null,null,"金額",null,null,null,null,"数量",null,null,"金額"]
[42,{"$f":"'見積書 (3)'!F38","v":""},null,null,null,null,null,null,null,null,null,null,null,null,{"$f":"'見積書 (3)'!Q38","v":""},null,{"$f":"'見積書 (3)'!R38","v":""},null,null,{"$f":"'見積書 (3)'!S38","v":""},null,null,null,{"$f":"'見積書 (3)'!T38","v":""},null,null,null,null,{"$f":"IF(Q187=\"\",\"\",'出来高内訳書 (第6回請求)'!AC187+'出来高内訳書 (第6回請求)'!AK187)","v":""},null,null,{"$f":"IF(T187=\"\",\"\",ROUND(T187*AC187,0))","v":""},null,null,null,null,null,null,null,{"$f":"IF(T187=\"\",\"\",ROUND(T187*AK187,0))","v":""},null,null,null,null,{"$f":"IF(Q187=\"\",\"\",ROUND(Q187-AC187-AK187,2))","v":""},null,null,{"$f":"IF(T187=\"\",\"\",(IF(AS187<0,\"出来高が契約を超過\",X187-AN187-AF187)))","v":""}]
[null,{"$f":"'見積書 (3)'!F39","v":""}]
[43,{"$f":"'見積書 (3)'!F40","v":""},null,null,null,null,null,null,null,null,null,null,null,null,{"$f":"'見積書 (3)'!Q40","v":""},null,{"$f":"'見積書 (3)'!R40","v":""},null,null,{"$f":"'見積書 (3)'!S40","v":""},null,null,null,{"$f":"'見積書 (3)'!T40","v":""},null,null,null,null,{"$f":"IF(Q189=\"\",\"\",'出来高内訳書 (第6回請求)'!AC189+'出来高内訳書 (第6回請求)'!AK189)","v":""},null,null,{"$f":"IF(T189=\"\",\"\",ROUND(T189*AC189,0))","v":""},null,null,null,null,null,null,null,{"$f":"IF(T189=\"\",\"\",ROUND(T189*AK189,0))","v":""},null,null,null,null,{"$f":"IF(Q189=\"\",\"\",ROUND(Q189-AC189-AK189,2))","v":""},null,null,{"$f":"IF(T189=\"\",\"\",(IF(AS189<0,\"出来高が契約を超過\",X189-AN189-AF189)))","v":""}]
[null,{"$f":"'見積書 (3)'!F41","v":""}]
[44,{"$f":"'見積書 (3)'!F42","v":""},null,null,null,null,null,null,null,null,null,null,null,null,{"$f":"'見積書 (3)'!Q42","v":""},null,{"$f":"'見積書 (3)'!R42","v":""},null,null,{"$f":"'見積書 (3)'!S42","v":""},null,null,null,{"$f":"'見積書 (3)'!T42","v":""},null,null,null,null,{"$f":"IF(Q191=\"\",\"\",'出来高内訳書 (第6回請求)'!AC191+'出来高内訳書 (第6回請求)'!AK191)","v":""},null,null,{"$f":"IF(T191=\"\",\"\",ROUND(T191*AC191,0))","v":""},null,null,null,null,null,null,null,{"$f":"IF(T191=\"\",\"\",ROUND(T191*AK191,0))","v":""},null,null,null,null,{"$f":"IF(Q191=\"\",\"\",ROUND(Q191-AC191-AK191,2))","v":""},null,null,{"$f":"IF(T191=\"\",\"\",(IF(AS191<0,\"出来高が契約を超過\",X191-AN191-AF191)))","v":""}]
[null,{"$f":"'見積書 (3)'!F43","v":""}]
[45,{"$f":"'見積書 (3)'!F44","v":""},null,null,null,null,null,null,null,null,null,null,null,null,{"$f":"'見積書 (3)'!Q44","v":""},null,{"$f":"'見積書 (3)'!R44","v":""},null,null,{"$f":"'見積書 (3)'!S44","v":""},null,null,null,{"$f":"'見積書 (3)'!T44","v":""},null,null,null,null,{"$f":"IF(Q193=\"\",\"\",'出来高内訳書 (第6回請求)'!AC193+'出来高内訳書 (第6回請求)'!AK193)","v":""},null,null,{"$f":"IF(T193=\"\",\"\",ROUND(T193*AC193,0))","v":""},null,null,null,null,null,null,null,{"$f":"IF(T193=\"\",\"\",ROUND(T193*AK193,0))","v":""},null,null,null,null,{"$f":"IF(Q193=\"\",\"\",ROUND(Q193-AC193-AK193,2))","v":""},null,null,{"$f":"IF(T193=\"\",\"\",(IF(AS193<0,\"出来高が契約を超過\",X193-AN193-AF193)))","v":""}]
[null,{"$f":"'見積書 (3)'!F45","v":""}]
[46,{"$f":"'見積書 (3)'!F46","v":""},null,null,null,null,null,null,null,null,null,null,null,null,{"$f":"'見積書 (3)'!Q46","v":""},null,{"$f":"'見積書 (3)'!R46","v":""},null,null,{"$f":"'見積書 (3)'!S46","v":""},null,null,null,{"$f":"'見積書 (3)'!T46","v":""},null,null,null,null,{"$f":"IF(Q195=\"\",\"\",'出来高内訳書 (第6回請求)'!AC195+'出来高内訳書 (第6回請求)'!AK195)","v":""},null,null,{"$f":"IF(T195=\"\",\"\",ROUND(T195*AC195,0))","v":""},null,null,null,null,null,null,null,{"$f":"IF(T195=\"\",\"\",ROUND(T195*AK195,0))","v":""},null,null,null,null,{"$f":"IF(Q195=\"\",\"\",ROUND(Q195-AC195-AK195,2))","v":""},null,null,{"$f":"IF(T195=\"\",\"\",(IF(AS195<0,\"出来高が契約を超過\",X195-AN195-AF195)))","v":""}]
[null,{"$f":"'見積書 (3)'!F47","v":""}]
[47,{"$f":"'見積書 (3)'!F48","v":""},null,null,null,null,null,null,null,null,null,null,null,null,{"$f":"'見積書 (3)'!Q48","v":""},null,{"$f":"'見積書 (3)'!R48","v":""},null,null,{"$f":"'見積書 (3)'!S48","v":""},null,null,null,{"$f":"'見積書 (3)'!T48","v":""},null,null,null,null,{"$f":"IF(Q197=\"\",\"\",'出来高内訳書 (第6回請求)'!AC197+'出来高内訳書 (第6回請求)'!AK197)","v":""},null,null,{"$f":"IF(T197=\"\",\"\",ROUND(T197*AC197,0))","v":""},null,null,null,null,null,null,null,{"$f":"IF(T197=\"\",\"\",ROUND(T197*AK197,0))","v":""},null,null,null,null,{"$f":"IF(Q197=\"\",\"\",ROUND(Q197-AC197-AK197,2))","v":""},null,null,{"$f":"IF(T197=\"\",\"\",(IF(AS197<0,\"出来高が契約を超過\",X197-AN197-AF197)))","v":""}]
[null,{"$f":"'見積書 (3)'!F49","v":""}]
[48,{"$f":"'見積書 (3)'!F50","v":""},null,null,null,null,null,null,null,null,null,null,null,null,{"$f":"'見積書 (3)'!Q50","v":""},null,{"$f":"'見積書 (3)'!R50","v":""},null,null,{"$f":"'見積書 (3)'!S50","v":""},null,null,null,{"$f":"'見積書 (3)'!T50","v":""},null,null,null,null,{"$f":"IF(Q199=\"\",\"\",'出来高内訳書 (第6回請求)'!AC199+'出来高内訳書 (第6回請求)'!AK199)","v":""},null,null,{"$f":"IF(T199=\"\",\"\",ROUND(T199*AC199,0))","v":""},null,null,null,null,null,null,null,{"$f":"IF(T199=\"\",\"\",ROUND(T199*AK199,0))","v":""},null,null,null,null,{"$f":"IF(Q199=\"\",\"\",ROUND(Q199-AC199-AK199,2))","v":""},null,null,{"$f":"IF(T199=\"\",\"\",(IF(AS199<0,\"出来高が契約を超過\",X199-AN199-AF199)))","v":""}]
[null,{"$f":"'見積書 (3)'!F51","v":""}]
[49,{"$f":"'見積書 (3)'!F52","v":""},null,null,null,null,null,null,null,null,null,null,null,null,{"$f":"'見積書 (3)'!Q52","v":""},null,{"$f":"'見積書 (3)'!R52","v":""},null,null,{"$f":"'見積書 (3)'!S52","v":""},null,null,null,{"$f":"'見積書 (3)'!T52","v":""},null,null,null,null,{"$f":"IF(Q201=\"\",\"\",'出来高内訳書 (第6回請求)'!AC201+'出来高内訳書 (第6回請求)'!AK201)","v":""},null,null,{"$f":"IF(T201=\"\",\"\",ROUND(T201*AC201,0))","v":""},null,null,null,null,null,null,null,{"$f":"IF(T201=\"\",\"\",ROUND(T201*AK201,0))","v":""},null,null,null,null,{"$f":"IF(Q201=\"\",\"\",ROUND(Q201-AC201-AK201,2))","v":""},null,null,{"$f":"IF(T201=\"\",\"\",(IF(AS201<0,\"出来高が契約を超過\",X201-AN201-AF201)))","v":""}]
[null,{"$f":"'見積書 (3)'!F53","v":""}]
[50,{"$f":"'見積書 (3)'!F54","v":""},null,null,null,null,null,null,null,null,null,null,null,null,{"$f":"'見積書 (3)'!Q54","v":""},null,{"$f":"'見積書 (3)'!R54","v":""},null,null,{"$f":"'見積書 (3)'!S54","v":""},null,null,null,{"$f":"'見積書 (3)'!T54","v":""},null,null,null,null,{"$f":"IF(Q203=\"\",\"\",'出来高内訳書 (第6回請求)'!AC203+'出来高内訳書 (第6回請求)'!AK203)","v":""},null,null,{"$f":"IF(T203=\"\",\"\",ROUND(T203*AC203,0))","v":""},null,null,null,null,null,null,null,{"$f":"IF(T203=\"\",\"\",ROUND(T203*AK203,0))","v":""},null,null,null,null,{"$f":"IF(Q203=\"\",\"\",ROUND(Q203-AC203-AK203,2))","v":""},null,null,{"$f":"IF(T203=\"\",\"\",(IF(AS203<0,\"出来高が契約を超過\",X203-AN203-AF203)))","v":""}]
[null,{"$f":"'見積書 (3)'!F55","v":""}]
[51,{"$f":"'見積書 (3)'!F56","v":""},null,null,null,null,null,null,null,null,null,null,null,null,{"$f":"'見積書 (3)'!Q56","v":""},null,{"$f":"'見積書 (3)'!R56","v":""},null,null,{"$f":"'見積書 (3)'!S56","v":""},null,null,null,{"$f":"'見積書 (3)'!T56","v":""},null,null,null,null,{"$f":"IF(Q205=\"\",\"\",'出来高内訳書 (第6回請求)'!AC205+'出来高内訳書 (第6回請求)'!AK205)","v":""},null,null,{"$f":"IF(T205=\"\",\"\",ROUND(T205*AC205,0))","v":""},null,null,null,null,null,null,null,{"$f":"IF(T205=\"\",\"\",ROUND(T205*AK205,0))","v":""},null,null,null,null,{"$f":"IF(Q205=\"\",\"\",ROUND(Q205-AC205-AK205,2))","v":""},null,null,{"$f":"IF(T205=\"\",\"\",(IF(AS205<0,\"出来高が契約を超過\",X205-AN205-AF205)))","v":""}]
[null,{"$f":"'見積書 (3)'!F57","v":""}]
[52,{"$f":"'見積書 (3)'!F58","v":""},null,null,null,null,null,null,null,null,null,null,null,null,{"$f":"'見積書 (3)'!Q58","v":""},null,{"$f":"'見積書 (3)'!R58","v":""},null,null,{"$f":"'見積書 (3)'!S58","v":""},null,null,null,{"$f":"'見積書 (3)'!T58","v":""},null,null,null,null,{"$f":"IF(Q207=\"\",\"\",'出来高内訳書 (第6回請求)'!AC207+'出来高内訳書 (第6回請求)'!AK207)","v":""},null,null,{"$f":"IF(T207=\"\",\"\",ROUND(T207*AC207,0))","v":""},null,null,null,null,null,null,null,{"$f":"IF(T207=\"\",\"\",ROUND(T207*AK207,0))","v":""},null,null,null,null,{"$f":"IF(Q207=\"\",\"\",ROUND(Q207-AC207-AK207,2))","v":""},null,null,{"$f":"IF(T207=\"\",\"\",(IF(AS207<0,\"出来高が契約を超過\",X207-AN207-AF207)))","v":""}]
[null,{"$f":"'見積書 (3)'!F59","v":""}]
[53,{"$f":"'見積書 (3)'!F60","v":""},null,null,null,null,null,null,null,null,null,null,null,null,{"$f":"'見積書 (3)'!Q60","v":""},null,{"$f":"'見積書 (3)'!R60","v":""},null,null,{"$f":"'見積書 (3)'!S60","v":""},null,null,null,{"$f":"'見積書 (3)'!T60","v":""},null,null,null,null,{"$f":"IF(Q209=\"\",\"\",'出来高内訳書 (第6回請求)'!AC209+'出来高内訳書 (第6回請求)'!AK209)","v":""},null,null,{"$f":"IF(T209=\"\",\"\",ROUND(T209*AC209,0))","v":""},null,null,null,null,null,null,null,{"$f":"IF(T209=\"\",\"\",ROUND(T209*AK209,0))","v":""},null,null,null,null,{"$f":"IF(Q209=\"\",\"\",ROUND(Q209-AC209-AK209,2))","v":""},null,null,{"$f":"IF(T209=\"\",\"\",(IF(AS209<0,\"出来高が契約を超過\",X209-AN209-AF209)))","v":""}]
[null,{"$f":"'見積書 (3)'!F61","v":""}]
[54,{"$f":"'見積書 (3)'!F62","v":""},null,null,null,null,null,null,null,null,null,null,null,null,{"$f":"'見積書 (3)'!Q62","v":""},null,{"$f":"'見積書 (3)'!R62","v":""},null,null,{"$f":"'見積書 (3)'!S62","v":""},null,null,null,{"$f":"'見積書 (3)'!T62","v":""},null,null,null,null,{"$f":"IF(Q211=\"\",\"\",'出来高内訳書 (第6回請求)'!AC211+'出来高内訳書 (第6回請求)'!AK211)","v":""},null,null,{"$f":"IF(T211=\"\",\"\",ROUND(T211*AC211,0))","v":""},null,null,null,null,null,null,null,{"$f":"IF(T211=\"\",\"\",ROUND(T211*AK211,0))","v":""},null,null,null,null,{"$f":"IF(Q211=\"\",\"\",ROUND(Q211-AC211-AK211,2))","v":""},null,null,{"$f":"IF(T211=\"\",\"\",(IF(AS211<0,\"出来高が契約を超過\",X211-AN211-AF211)))","v":""}]
[null,{"$f":"'見積書 (3)'!F63","v":""}]
[55,{"$f":"'見積書 (3)'!F64","v":""},null,null,null,null,null,null,null,null,null,null,null,null,{"$f":"'見積書 (3)'!Q64","v":""},null,{"$f":"'見積書 (3)'!R64","v":""},null,null,{"$f":"'見積書 (3)'!S64","v":""},null,null,null,{"$f":"'見積書 (3)'!T64","v":""},null,null,null,null,{"$f":"IF(Q213=\"\",\"\",'出来高内訳書 (第6回請求)'!AC213+'出来高内訳書 (第6回請求)'!AK213)","v":""},null,null,{"$f":"IF(T213=\"\",\"\",ROUND(T213*AC213,0))","v":""},null,null,null,null,null,null,null,{"$f":"IF(T213=\"\",\"\",ROUND(T213*AK213,0))","v":""},null,null,null,null,{"$f":"IF(Q213=\"\",\"\",ROUND(Q213-AC213-AK213,2))","v":""},null,null,{"$f":"IF(T213=\"\",\"\",(IF(AS213<0,\"出来高が契約を超過\",X213-AN213-AF213)))","v":""}]
[null,{"$f":"'見積書 (3)'!F65","v":""}]
[56,{"$f":"'見積書 (3)'!F66","v":""},null,null,null,null,null,null,null,null,null,null,null,null,{"$f":"'見積書 (3)'!Q66","v":""},null,{"$f":"'見積書 (3)'!R66","v":""},null,null,{"$f":"'見積書 (3)'!S66","v":""},null,null,null,{"$f":"'見積書 (3)'!T66","v":""},null,null,null,null,{"$f":"IF(Q215=\"\",\"\",'出来高内訳書 (第6回請求)'!AC215+'出来高内訳書 (第6回請求)'!AK215)","v":""},null,null,{"$f":"IF(T215=\"\",\"\",ROUND(T215*AC215,0))","v":""},null,null,null,null,null,null,null,{"$f":"IF(T215=\"\",\"\",ROUND(T215*AK215,0))","v":""},null,null,null,null,{"$f":"IF(Q215=\"\",\"\",ROUND(Q215-AC215-AK215,2))","v":""},null,null,{"$f":"IF(T215=\"\",\"\",(IF(AS215<0,\"出来高が契約を超過\",X215-AN215-AF215)))","v":""}]
[null,{"$f":"'見積書 (3)'!F67","v":""}]
[null,"小計",null,null,null,null,null,null,null,null,null,null,null,null,null,null,null,null,null,null,null,null,null,{"$f":"SUM(X187:AB216)","v":0},null,null,null,null,null,null,null,{"$f":"SUM(AF187:AJ216)","v":0},null,null,null,null,null,null,null,{"$f":"SUM(AN187:AR216)","v":0},null,null,null,null,null,null,null,{"$f":"X217-AF217-AN217","v":0}]
[]
[]
[]
[]
[null,"請求内訳書（出来高・分割納入用）",null,null,null,null,null,null,null,null,null,null,null,null,null,null,null,null,null,null,null,null,null,null,null,null,null,null,null,null,null,null,null,null,null,null,null,null,null,null,null,null,null,null,null,null,null,null,null,null,"No."]
[]
[]
[]
[]
[]
[]
[]
[]
[]
[null,"製造番号",null,null,null,null,{"$f":"Y22","v":""},null,null,null,null,null,null,null,null,null,null,null,null,null,null,null,null,"※科目"]
[]
[]
[null,"注文番号",null,null,null,null,{"$f":"Y25","v":""},null,null,null,null,null,null,null,null,"第",null,{"$f":"AJ23","v":7},null,"回請求"]
[]
[]
[]
[null,"工　種・品　名",null,null,null,null,null,null,null,null,null,null,null,null,"契　約　金　額",null,null,null,null,null,null,null,null,null,null,null,null,null,"前回までの出来高",null,null,null,null,null,null,null,"今回出来高",null,null,null,null,null,null,null,"残高",null,null,null,null,null,null,null,"備　考"]
[null,null,null,null,null,null,null,null,null,null,null,null,null,null,"単位",null,"数量",null,null,"単価",null,null,null,"金額",null,null,null,null,"数量",null,null,"金額",null,null,null,null,"数量",null,null,"金額",null,null,null,null,"数量",null,null,"金額"]
[57,{"$f":"'見積書 (3)'!F68","v":""},null,null,null,null,null,null,null,null,null,null,null,null,{"$f":"'見積書 (3)'!Q68","v":""},null,{"$f":"'見積書 (3)'!R68","v":""},null,null,{"$f":"'見積書 (3)'!S68","v":""},null,null,null,{"$f":"'見積書 (3)'!T68","v":""},null,null,null,null,{"$f":"IF(Q241=\"\",\"\",'出来高内訳書 (第6回請求)'!AC241+'出来高内訳書 (第6回請求)'!AK241)","v":""},null,null,{"$f":"IF(T241=\"\",\"\",ROUND(T241*AC241,0))","v":""},null,null,null,null,null,null,null,{"$f":"IF(T241=\"\",\"\",ROUND(T241*AK241,0))","v":""},null,null,null,null,{"$f":"IF(Q241=\"\",\"\",ROUND(Q241-AC241-AK241,2))","v":""},null,null,{"$f":"IF(T241=\"\",\"\",(IF(AS241<0,\"出来高が契約を超過\",X241-AN241-AF241)))","v":""}]
[null,{"$f":"'見積書 (3)'!F68","v":""}]
[]
[]
[]
[]
[]
[]
[]
[]
[]
[]
[]
[]
[]
[]
[null,"小計",null,null,null,null,null,null,null,null,null,null,null,null,null,null,null,null,null,null,null,null,null,{"$f":"SUM(X241:AB256)","v":0},null,null,null,null,null,null,null,{"$f":"SUM(AF241:AJ256)","v":0},null,null,null,null,null,null,null,{"$f":"SUM(AN241:AR256)","v":0},null,null,null,null,null,null,null,{"$f":"SUM(AV241:AZ256)","v":0}]

{"sheet":"出来高内訳書 (第8回請求)","index":15,"n_rows":257,"n_cols":53,"rows_kept":257,"cut":false,"hidden":false,"merged":[[214,0,215,0],[214,14,215,15],[214,16,215,18],[214,19,215,22],[214,23,215,27],[214,28,215,30],[214,31,215,35],[214,36,215,38],[214,39,215,43],[214,44,215,46],[214,47,215,51],[214,52,215,54],[240,0,241,0],[240,1,240,13],[240,14,241,15],[240,16,241,18],[240,19,241,22],[240,23,241,27],[240,28,241,30],[240,31,241,35],[240,36,241,38],[240,39,241,43],[240,44,241,46],[240,47,241,51],[240,52,241,54],[234,19,236,22],[234,24,236,29],[221,1,227,17],[221,50,223,50],[231,1,233,5],[231,6,233,13],[231,23,236,23],[210,0,211,0],[210,14,211,15],[210,16,211,18],[210,19,211,22],[210,23,211,27],[210,28,211,30],[210,31,211,35],[210,36,211,38],[210,39,211,43],[210,44,211,46],[210,47,211,51],[210,52,211,54],[212,0,213,0],[212,14,213,15],[212,16,213,18],[212,19,213,22],[212,23,213,27],[212,28,213,30],[212,31,213,35],[212,36,213,38],[212,39,213,43],[212,44,213,46],[212,47,213,51],[212,52,213,54],[206,0,207,0],[206,14,207,15],[206,16,207,18],[206,19,207,22],[206,23,207,27],[206,28,207,30],[206,31,207,35],[206,36,207,38],[206,39,207,43],[206,44,207,46],[206,47,207,51],[206,52,207,54],[208,0,209,0],[208,14,209,15],[208,16,209,18],[208,19,209,22],[208,23,209,27],[208,28,209,30],[208,31,209,35],[208,36,209,38],[208,39,209,43],[208,44,209,46],[208,47,209,51],[208,52,209,54],[202,0,203,0],[202,14,203,15],[202,16,203,18],[202,19,203,22],[202,23,203,27],[202,28,203,30],[202,31,203,35],[202,36,203,38],[202,39,203,43],[202,44,203,46],[202,47,203,51],[202,52,203,54],[204,0,205,0],[204,14,205,15],[204,16,205,18],[204,19,205,22],[204,23,205,27],[204,28,205,30],[204,31,205,35],[204,36,205,38],[204,39,205,43],[204,44,205,46],[204,47,205,51],[204,52,205,54],[198,0,199,0],[198,1,198,13],[198,14,199,15],[198,16,199,18],[198,19,199,22],[198,23,199,27],[198,28,199,30],[198,31,199,35],[198,36,199,38],[198,39,199,43],[198,44,199,46],[198,47,199,51],[198,52,199,54],[199,1,199,13],[200,0,201,0],[200,1,200,13],[200,14,201,15],[200,16,201,18],[200,19,201,22],[200,23,201,27],[200,28,201,30],[200,31,201,35],[200,36,201,38],[200,39,201,43],[200,44,201,46],[200,47,201,51],[200,52,201,54],[194,0,195,0],[194,1,194,13],[194,14,195,15],[194,16,195,18],[194,19,195,22],[194,23,195,27],[194,28,195,30],[194,31,195,35],[194,36,195,38],[194,39,195,43],[194,44,195,46],[194,47,195,51],[194,52,195,54],[195,1,195,13],[196,0,197,0],[196,1,196,13],[196,14,197,15],[196,16,197,18],[196,19,197,22],[196,23,197,27],[196,28,197,30],[196,31,197,35],[196,36,197,38],[196,39,197,43],[196,44,197,46],[196,47,197,51],[196,52,197,54],[197,1,197,13],[190,0,191,0],[190,1,190,13],[190,14,191,15],[190,16,191,18],[190,19,191,22],[190,23,191,27],[190,28,191,30],[190,31,191,35],[190,36,191,38],[190,39,191,43],[190,44,191,46],[190,47,191,51],[190,52,191,54],[191,1,191,13],[192,0,193,0],[192,1,192,13],[192,14,193,15],[192,16,193,18],[192,19,193,22],[192,23,193,27],[192,28,193,30],[192,31,193,35],[192,36,193,38],[192,39,193,43],[192,44,193,46],[192,47,193,51],[192,52,193,54],[193,1,193,13],[186,0,187,0],[186,1,186,13],[186,14,187,15],[186,16,187,18],[186,19,187,22],[186,23,187,27],[186,28,187,30],[186,31,187,35],[186,36,187,38],[186,39,187,43],[186,44,187,46],[186,47,187,51],[186,52,187,54],[187,1,187,13],[188,0,189,0],[188,1,188,13],[188,14,189,15],[188,16,189,18],[188,19,189,22],[188,23,189,27],[188,28,189,30],[188,31,189,35],[188,36,189,38],[188,39,189,43],[188,44,189,46],[188,47,189,51],[188,52,189,54],[189,1,189,13],[158,0,159,0],[158,14,159,15],[158,16,159,18],[158,19,159,22],[158,23,159,27],[158,28,159,30],[158,31,159,35],[158,36,159,38],[158,39,159,43],[158,44,159,46],[158,47,159,51],[158,52,159,54],[160,0,161,0],[160,14,161,15],[160,16,161,18],[160,19,161,22],[160,23,161,27],[160,28,161,30],[160,31,161,35],[160,36,161,38],[160,39,161,43],[160,44,161,46],[160,47,161,51],[160,52,161,54],[154,0,155,0],[154,14,155,15],[154,16,155,18],[154,19,155,22],[154,23,155,27],[154,28,155,30],[154,31,155,35],[154,36,155,38],[154,39,155,43],[154,44,155,46],[154,47,155,51],[154,52,155,54],[156,0,157,0],[156,14,157,15],[156,16,157,18],[156,19,157,22],[156,23,157,27],[156,28,157,30],[156,31,157,35],[156,36,157,38],[156,39,157,43],[156,44,157,46],[156,47,157,51],[156,52,157,54],[156,1,156,13],[155,1,155,13],[154,1,154,13],[150,0,151,0],[150,14,151,15],[150,16,151,18],[150,19,151,22],[150,23,151,27],[150,28,151,30],[150,31,151,35],[150,36,151,38],[150,39,151,43],[150,44,151,46],[150,47,151,51],[150,52,151,54],[152,0,153,0],[152,14,153,15],[152,16,153,18],[152,19,153,22],[152,23,153,27],[152,28,153,30],[152,31,153,35],[152,36,153,38],[152,39,153,43],[152,44,153,46],[152,47,153,51],[152,52,153,54],[153,1,153,13],[152,1,152,13],[151,1,151,13],[150,1,150,13],[146,0,147,0],[146,1,146,13],[146,14,147,15],[146,16,147,18],[146,19,147,22],[146,23,147,27],[146,28,147,30],[146,31,147,35],[146,36,147,38],[146,39,147,43],[146,44,147,46],[146,47,147,51],[146,52,147,54],[148,0,149,0],[148,14,149,15],[148,16,149,18],[148,19,149,22],[148,23,149,27],[148,28,149,30],[148,31,149,35],[148,36,149,38],[148,39,149,43],[148,44,149,46],[148,47,149,51],[148,52,149,54],[149,1,149,13],[148,1,148,13],[147,1,147,13],[142,0,143,0],[142,1,142,13],[142,14,143,15],[142,16,143,18],[142,19,143,22],[142,23,143,27],[142,28,143,30],[142,31,143,35],[142,36,143,38],[142,39,143,43],[142,44,143,46],[142,47,143,51],[142,52,143,54],[143,1,143,13],[144,0,145,0],[144,1,144,13],[144,14,145,15],[144,16,145,18],[144,19,145,22],[144,23,145,27],[144,28,145,30],[144,31,145,35],[144,36,145,38],[144,39,145,43],[144,44,145,46],[144,47,145,51],[144,52,145,54],[145,1,145,13],[138,0,139,0],[138,1,138,13],[138,14,139,15],[138,16,139,18],[138,19,139,22],[138,23,139,27],[138,28,139,30],[138,31,139,35],[138,36,139,38],[138,39,139,43],[138,44,139,46],[138,47,139,51],[138,52,139,54],[139,1,139,13],[140,0,141,0],[140,1,140,13],[140,14,141,15],[140,16,141,18],[140,19,141,22],[140,23,141,27],[140,28,141,30],[140,31,141,35],[140,36,141,38],[140,39,141,43],[140,44,141,46],[140,47,141,51],[140,52,141,54],[141,1,141,13],[134,0,135,0],[134,1,134,13],[134,14,135,15],[134,16,135,18],[134,19,135,22],[134,23,135,27],[134,28,135,30],[134,31,135,35],[134,36,135,38],[134,39,135,43],[134,44,135,46],[134,47,135,51],[134,52,135,54],[135,1,135,13],[136,0,137,0],[136,1,136,13],[136,14,137,15],[136,16,137,18],[136,19,137,22],[136,23,137,27],[136,28,137,30],[136,31,137,35],[136,36,137,38],[136,39,137,43],[136,44,137,46],[136,47,137,51],[136,52,137,54],[137,1,137,13],[106,0,107,0],[106,14,107,15],[106,16,107,18],[106,19,107,22],[106,23,107,27],[106,28,107,30],[106,31,107,35],[106,36,107,38],[106,39,107,43],[106,44,107,46],[106,47,107,51],[106,52,107,54],[132,0,133,0],[132,1,132,13],[132,14,133,15],[132,16,133,18],[132,19,133,22],[132,23,133,27],[132,28,133,30],[132,31,133,35],[132,36,133,38],[132,39,133,43],[132,44,133,46],[132,47,133,51],[132,52,133,54],[133,1,133,13],[131,44,131,46],[131,47,131,51],[130,44,130,51],[130,52,131,54],[131,14,131,15],[131,16,131,18],[102,0,103,0],[102,14,103,15],[102,16,103,18],[102,19,103,22],[102,23,103,27],[102,28,103,30],[102,31,103,35],[102,36,103,38],[102,39,103,43],[102,44,103,46],[102,47,103,51],[102,52,103,54],[104,0,105,0],[104,14,105,15],[104,16,105,18],[104,19,105,22],[104,23,105,27],[104,28,105,30],[104,31,105,35],[104,36,105,38],[104,39,105,43],[104,44,105,46],[104,47,105,51],[104,52,105,54],[102,1,102,13],[98,0,99,0],[98,14,99,15],[98,16,99,18],[98,19,99,22],[98,23,99,27],[98,28,99,30],[98,31,99,35],[98,36,99,38],[98,39,99,43],[98,44,99,46],[98,47,99,51],[98,52,99,54],[100,0,101,0],[100,14,101,15],[100,16,101,18],[100,19,101,22],[100,23,101,27],[100,28,101,30],[100,31,101,35],[100,36,101,38],[100,39,101,43],[100,44,101,46],[100,47,101,51],[100,52,101,54],[101,1,101,13],[100,1,100,13],[99,1,99,13],[98,1,98,13],[94,0,95,0],[94,14,95,15],[94,16,95,18],[94,19,95,22],[94,23,95,27],[94,28,95,30],[94,31,95,35],[94,36,95,38],[94,39,95,43],[94,44,95,46],[94,47,95,51],[94,52,95,54],[96,0,97,0],[96,14,97,15],[96,16,97,18],[96,19,97,22],[96,23,97,27],[96,28,97,30],[96,31,97,35],[96,36,97,38],[96,39,97,43],[96,44,97,46],[96,47,97,51],[96,52,97,54],[97,1,97,13],[96,1,96,13],[95,1,95,13],[94,1,94,13],[90,0,91,0],[90,1,90,13],[90,14,91,15],[90,16,91,18],[90,19,91,22],[90,23,91,27],[90,28,91,30],[90,31,91,35],[90,36,91,38],[90,39,91,43],[90,44,91,46],[90,47,91,51],[90,52,91,54],[91,1,91,13],[92,0,93,0],[92,1,92,13],[92,14,93,15],[92,16,93,18],[92,19,93,22],[92,23,93,27],[92,28,93,30],[92,31,93,35],[92,36,93,38],[92,39,93,43],[92,44,93,46],[92,47,93,51],[92,52,93,54],[93,1,93,13],[86,0,87,0],[86,1,86,13],[86,14,87,15],[86,16,87,18],[86,19,87,22],[86,23,87,27],[86,28,87,30],[86,31,87,35],[86,36,87,38],[86,39,87,43],[86,44,87,46],[86,47,87,51],[86,52,87,54],[87,1,87,13],[88,0,89,0],[88,1,88,13],[88,14,89,15],[88,16,89,18],[88,19,89,22],[88,23,89,27],[88,28,89,30],[88,31,89,35],[88,36,89,38],[88,39,89,43],[88,44,89,46],[88,47,89,51],[88,52,89,54],[89,1,89,13],[82,0,83,0],[82,1,82,13],[82,14,83,15],[82,16,83,18],[82,19,83,22],[82,23,83,27],[82,28,83,30],[82,31,83,35],[82,36,83,38],[82,39,83,43],[82,44,83,46],[82,47,83,51],[82,52,83,54],[83,1,83,13],[84,0,85,0],[84,1,84,13],[84,14,85,15],[84,16,85,18],[84,19,85,22],[84,23,85,27],[84,28,85,30],[84,31,85,35],[84,36,85,38],[84,39,85,43],[84,44,85,46],[84,47,85,51],[84,52,85,54],[85,1,85,13],[55,0,56,0],[78,0,79,0],[78,1,78,13],[78,14,79,15],[78,16,79,18],[78,19,79,22],[78,23,79,27],[78,28,79,30],[78,31,79,35],[78,36,79,38],[78,39,79,43],[78,44,79,46],[78,47,79,51],[78,52,79,54],[79,1,79,13],[80,0,81,0],[80,1,80,13],[80,14,81,15],[80,16,81,18],[80,19,81,22],[80,23,81,27],[80,28,81,30],[80,31,81,35],[80,36,81,38],[80,39,81,43],[80,44,81,46],[80,47,81,51],[80,52,81,54],[81,1,81,13],[77,44,77,46],[77,47,77,51],[76,44,76,51],[51,0,52,0],[51,14,52,15],[51,16,52,18],[51,19,52,22],[51,23,52,27],[51,28,52,30],[51,31,52,35],[51,36,52,38],[51,39,52,43],[51,44,52,46],[51,47,52,51],[51,52,52,54],[53,0,54,0],[53,14,54,15],[53,16,54,18],[53,19,54,22],[53,23,54,27],[53,28,54,30],[53,31,54,35],[53,36,54,38],[53,39,54,43],[53,44,54,46],[53,47,54,51],[53,52,54,54],[54,1,54,13],[53,1,53,13],[52,1,52,13],[51,1,51,13],[47,0,48,0],[47,14,48,15],[47,16,48,18],[47,19,48,22],[47,23,48,27],[47,28,48,30],[47,31,48,35],[47,36,48,38],[47,39,48,43],[47,44,48,46],[47,47,48,51],[47,52,48,54],[49,0,50,0],[49,14,50,15],[49,16,50,18],[49,19,50,22],[49,23,50,27],[49,28,50,30],[49,31,50,35],[49,36,50,38],[49,39,50,43],[49,44,50,46],[49,47,50,51],[49,52,50,54],[50,1,50,13],[49,1,49,13],[48,1,48,13],[47,1,47,13],[43,0,44,0],[43,1,43,13],[43,14,44,15],[43,16,44,18],[43,19,44,22],[43,23,44,27],[43,28,44,30],[43,31,44,35],[43,36,44,38],[43,39,44,43],[43,44,44,46],[43,47,44,51],[43,52,44,54],[44,1,44,13],[45,0,46,0],[45,1,45,13],[45,14,46,15],[45,16,46,18],[45,19,46,22],[45,23,46,27],[45,28,46,30],[45,31,46,35],[45,36,46,38],[45,39,46,43],[45,44,46,46],[45,47,46,51],[45,52,46,54],[46,1,46,13],[39,0,40,0],[39,1,39,13],[39,14,40,15],[39,16,40,18],[39,19,40,22],[39,23,40,27],[39,28,40,30],[39,31,40,35],[39,36,40,38],[39,39,40,43],[39,44,40,46],[39,47,40,51],[39,52,40,54],[40,1,40,13],[41,0,42,0],[41,1,41,13],[41,14,42,15],[41,16,42,18],[41,19,42,22],[41,23,42,27],[41,28,42,30],[41,31,42,35],[41,36,42,38],[41,39,42,43],[41,44,42,46],[41,47,42,51],[41,52,42,54],[42,1,42,13],[35,0,36,0],[35,1,35,13],[35,14,36,15],[35,16,36,18],[35,19,36,22],[35,23,36,27],[35,28,36,30],[35,31,36,35],[35,36,36,38],[35,39,36,43],[35,44,36,46],[35,47,36,51],[35,52,36,54],[36,1,36,13],[37,0,38,0],[37,1,37,13],[37,14,38,15],[37,16,38,18],[37,19,38,22],[37,23,38,27],[37,28,38,30],[37,31,38,35],[37,36,38,38],[37,39,38,43],[37,44,38,46],[37,47,38,51],[37,52,38,54],[38,1,38,13],[256,31,256,35],[256,36,256,38],[256,39,256,43],[256,44,256,46],[256,47,256,51],[256,52,256,54],[256,1,256,13],[256,14,256,15],[256,16,256,18],[256,19,256,22],[256,23,256,27],[256,28,256,30],[255,31,255,35],[255,36,255,38],[255,39,255,43],[255,44,255,46],[255,47,255,51],[255,52,255,54],[255,1,255,13],[255,14,255,15],[255,16,255,18],[255,19,255,22],[255,23,255,27],[255,28,255,30],[254,31,254,35],[254,36,254,38],[254,39,254,43],[254,44,254,46],[254,47,254,51],[254,52,254,54],[254,1,254,13],[254,14,254,15],[254,16,254,18],[254,19,254,22],[254,23,254,27],[254,28,254,30],[253,31,253,35],[253,36,253,38],[253,39,253,43],[253,44,253,46],[253,47,253,51],[253,52,253,54],[253,1,253,13],[253,14,253,15],[253,16,253,18],[253,19,253,22],[253,23,253,27],[253,28,253,30],[252,31,252,35],[252,36,252,38],[252,39,252,43],[252,44,252,46],[252,47,252,51],[252,52,252,54],[252,1,252,13],[252,14,252,15],[252,16,252,18],[252,19,252,22],[252,23,252,27],[252,28,252,30],[251,31,251,35],[251,36,251,38],[251,39,251,43],[251,44,251,46],[251,47,251,51],[251,52,251,54],[251,1,251,13],[251,14,251,15],[251,16,251,18],[251,19,251,22],[251,23,251,27],[251,28,251,30],[250,31,250,35],[250,36,250,38],[250,39,250,43],[250,44,250,46],[250,47,250,51],[250,52,250,54],[250,1,250,13],[250,14,250,15],[250,16,250,18],[250,19,250,22],[250,23,250,27],[250,28,250,30],[249,31,249,35],[249,36,249,38],[249,39,249,43],[249,44,249,46],[249,47,249,51],[249,52,249,54],[249,1,249,13],[249,14,249,15],[249,16,249,18],[249,19,249,22],[249,23,249,27],[249,28,249,30],[248,31,248,35],[248,36,248,38],[248,39,248,43],[248,44,248,46],[248,47,248,51],[248,52,248,54],[248,1,248,13],[248,14,248,15],[248,16,248,18],[248,19,248,22],[248,23,248,27],[248,28,248,30],[247,31,247,35],[247,36,247,38],[247,39,247,43],[247,44,247,46],[247,47,247,51],[247,52,247,54],[247,1,247,13],[247,14,247,15],[247,16,247,18],[247,19,247,22],[247,23,247,27],[247,28,247,30],[246,31,246,35],[246,36,246,38],[246,39,246,43],[246,44,246,46],[246,47,246,51],[246,52,246,54],[246,1,246,13],[246,14,246,15],[246,16,246,18],[246,19,246,22],[246,23,246,27],[246,28,246,30],[245,31,245,35],[245,36,245,38],[245,39,245,43],[245,44,245,46],[245,47,245,51],[245,52,245,54],[245,1,245,13],[245,14,245,15],[245,16,245,18],[245,19,245,22],[245,23,245,27],[245,28,245,30],[244,31,244,35],[244,36,244,38],[244,39,244,43],[244,44,244,46],[244,47,244,51],[244,52,244,54],[244,1,244,13],[244,14,244,15],[244,16,244,18],[244,19,244,22],[244,23,244,27],[244,28,244,30],[243,31,243,35],[243,36,243,38],[243,39,243,43],[243,44,243,46],[243,47,243,51],[243,52,243,54],[243,1,243,13],[243,14,243,15],[243,16,243,18],[243,19,243,22],[243,23,243,27],[243,28,243,30],[242,31,242,35],[242,36,242,38],[242,39,242,43],[242,44,242,46],[242,47,242,51],[242,52,242,54],[242,1,242,13],[242,14,242,15],[242,16,242,18],[242,19,242,22],[242,23,242,27],[242,28,242,30],[239,44,239,46],[239,47,239,51],[241,1,241,13],[238,44,238,51],[238,52,239,54],[239,14,239,15],[239,16,239,18],[239,19,239,22],[239,23,239,27],[239,28,239,30],[239,31,239,35],[239,36,239,38],[239,39,239,43],[238,1,239,13],[238,14,238,27],[238,28,238,35],[238,36,238,43],[231,24,233,29],[234,1,236,5],[234,6,236,13],[234,15,236,16],[234,17,236,18],[216,31,216,35],[216,36,216,38],[216,39,216,43],[216,44,216,46],[216,47,216,51],[216,52,216,54],[216,1,216,13],[216,14,216,15],[216,16,216,18],[216,19,216,22],[216,23,216,27],[216,28,216,30],[215,1,215,13],[214,1,214,13],[213,1,213,13],[212,1,212,13],[211,1,211,13],[210,1,210,13],[209,1,209,13],[208,1,208,13],[207,1,207,13],[206,1,206,13],[205,1,205,13]],"merged_total":1200,"flags":["merged_cut"]}
[null,null,null,null,null,null,null,null,"請 求 書（出来高・分割納入用）",null,null,null,null,null,null,null,null,null,null,null,null,null,null,null,null,null,null,null,null,null,null,null,null,null,null,null,null,null,null,null,null,null,null,null,null,null,null,null,null,null,"No."]
[null,null,null,null,null,null,null,null,null,null,null,null,null,null,null,null,null,null,null,null,null,null,null,null,null,null,null,null,null,null,null,null,null,null,null,null,null,null,null,"日付",null,null,null,null,"年",null,"月",null,"日"]
[]
[]
[null,null,null,null,null,null,null,null,null,null,null,null,null,null,null,null,null,null,null,null,null,null,null,null,null,null,null,null,null,null,null,null,null,null,null,null,null,"請求者住所･氏名･印･電話",null,null,null,null,null,"取引先コード",null,null,null,null,{"$f":"入力フォーム!B3","v":0}]
[]
[null,null,null,null,null,null,null,null,null,null,null,null,null,null,null,null,null,"御中"]
[null,null,null,null,null,null,null,null,null,null,null,null,null,null,null,null,null,null,null,null,null,null,null,null,null,null,null,null,null,null,null,null,null,null,null,null,null,{"$f":"\"登録番号\"&\" \"&入力フォーム!B4","v":"登録番号 "}]
[]
[]
[]
[null,"下記の通り請求いたします。"]
[]
[]
[null,null,null,"月分請求内訳書",null,null,null,null,null,null,null,"枚 (本用紙を含む)"]
[]
[]
[null,"請 求 金 額",null,null,null,null,{"$f":"SUM(G23:P32)","v":0}]
[]
[]
[]
[null,null,null,null,null,null,null,null,null,null,null,null,null,null,null,null,null,null,null,"製造番号",null,null,null,null,{"$f":"見積書!$B$47","v":""}]
[null,"内　訳","税抜金額",null,null,null,{"$f":"AN58+AN109+AN163+AN217+AN257","v":0},null,null,null,null,null,null,null,null,null,null,null,null,null,null,null,null,null,null,null,null,null,null,null,null,null,null,"第",null,8,null,"回請求"]
[]
[null,null,null,null,null,null,null,null,null,null,null,null,null,null,null,null,null,null,null,"注文番号",null,null,null,null,{"$f":"IF('出来高内訳書 (第1回請求)'!Y25=\"\",\"\",'出来高内訳書 (第1回請求)'!Y25)","v":""}]
[]
[null,null,null,null,null,null,null,null,null,null,null,null,null,null,null,null,null,null,null,null,null,null,null,null,null,null,null,null,null,null,null,null,null,null,"※科目"]
[null,null,"消費税額等",null,null,null,{"$f":"IF(AC28=\"10％\",ROUNDDOWN(G23*10%,0),IF(AC28=\"(軽)8%\",ROUNDDOWN(G23*8%,0),0))","v":0},null,null,null,null,null,null,null,null,null,null,null,null,"消費税率",null,null,null,null,null,null,null,null,{"$f":"入力フォーム!B10","v":"10％"}]
[]
[]
[]
[]
[]
[null,"工　種・品　名",null,null,null,null,null,null,null,null,null,null,null,null,"契　約　金　額",null,null,null,null,null,null,null,null,null,null,null,null,null,"前回までの出来高",null,null,null,null,null,null,null,"今回出来高",null,null,null,null,null,null,null,"残高",null,null,null,null,null,null,null,"備　考"]
[null,null,null,null,null,null,null,null,null,null,null,null,null,null,"単位",null,"数量",null,null,"単価",null,null,null,"金額",null,null,null,null,"数量",null,null,"金額",null,null,null,null,"数量",null,null,"金額",null,null,null,null,"数量",null,null,"金額"]
[1,{"$f":"見積書!F61","v":""},null,null,null,null,null,null,null,null,null,null,null,null,{"$f":"見積書!Q61","v":""},null,{"$f":"見積書!R61","v":""},null,null,{"$f":"見積書!S61","v":""},null,null,null,{"$f":"見積書!T61","v":""},null,null,null,null,{"$f":"IF(Q36=\"\",\"\",'出来高内訳書 (第7回請求)'!AC36+'出来高内訳書 (第7回請求)'!AK36)","v":""},null,null,{"$f":"IF(T36=\"\",\"\",ROUND(T36*AC36,0))","v":""},null,null,null,null,null,null,null,{"$f":"IF(T36=\"\",\"\",ROUND(T36*AK36,0))","v":""},null,null,null,null,{"$f":"IF(Q36=\"\",\"\",ROUND(Q36-AC36-AK36,2))","v":""},null,null,{"$f":"IF(T36=\"\",\"\",(IF(AS36<0,\"出来高が契約を超過\",X36-AN36-AF36)))","v":""}]
[null,{"$f":"見積書!F62","v":""}]
[2,{"$f":"見積書!F63","v":""},null,null,null,null,null,null,null,null,null,null,null,null,{"$f":"見積書!Q63","v":""},null,{"$f":"見積書!R63","v":""},null,null,{"$f":"見積書!S63","v":""},null,null,null,{"$f":"見積書!T63","v":""},null,null,null,null,{"$f":"IF(Q38=\"\",\"\",'出来高内訳書 (第7回請求)'!AC38+'出来高内訳書 (第7回請求)'!AK38)","v":""},null,null,{"$f":"IF(T38=\"\",\"\",ROUND(T38*AC38,0))","v":""},null,null,null,null,null,null,null,{"$f":"IF(T38=\"\",\"\",ROUND(T38*AK38,0))","v":""},null,null,null,null,{"$f":"IF(Q38=\"\",\"\",ROUND(Q38-AC38-AK38,2))","v":""},null,null,{"$f":"IF(T38=\"\",\"\",(IF(AS38<0,\"出来高が契約を超過\",X38-AN38-AF38)))","v":""}]
[null,{"$f":"見積書!F64","v":""}]
[3,{"$f":"見積書!F65","v":""},null,null,null,null,null,null,null,null,null,null,null,null,{"$f":"見積書!Q65","v":""},null,{"$f":"見積書!R65","v":""},null,null,{"$f":"見積書!S65","v":""},null,null,null,{"$f":"見積書!T65","v":""},null,null,null,null,{"$f":"IF(Q40=\"\",\"\",'出来高内訳書 (第7回請求)'!AC40+'出来高内訳書 (第7回請求)'!AK40)","v":""},null,null,{"$f":"IF(T40=\"\",\"\",ROUND(T40*AC40,0))","v":""},null,null,null,null,null,null,null,{"$f":"IF(T40=\"\",\"\",ROUND(T40*AK40,0))","v":""},null,null,null,null,{"$f":"IF(Q40=\"\",\"\",ROUND(Q40-AC40-AK40,2))","v":""},null,null,{"$f":"IF(T40=\"\",\"\",(IF(AS40<0,\"出来高が契約を超過\",X40-AN40-AF40)))","v":""}]
[null,{"$f":"見積書!F66","v":""}]
[4,{"$f":"見積書!F67","v":""},null,null,null,null,null,null,null,null,null,null,null,null,{"$f":"見積書!Q67","v":""},null,{"$f":"見積書!R67","v":""},null,null,{"$f":"見積書!S67","v":""},null,null,null,{"$f":"見積書!T67","v":""},null,null,null,null,{"$f":"IF(Q42=\"\",\"\",'出来高内訳書 (第7回請求)'!AC42+'出来高内訳書 (第7回請求)'!AK42)","v":""},null,null,{"$f":"IF(T42=\"\",\"\",ROUND(T42*AC42,0))","v":""},null,null,null,null,null,null,null,{"$f":"IF(T42=\"\",\"\",ROUND(T42*AK42,0))","v":""},null,null,null,null,{"$f":"IF(Q42=\"\",\"\",ROUND(Q42-AC42-AK42,2))","v":""},null,null,{"$f":"IF(T42=\"\",\"\",(IF(AS42<0,\"出来高が契約を超過\",X42-AN42-AF42)))","v":""}]
[null,{"$f":"見積書!F68","v":""}]
[5,{"$f":"見積書!F69","v":""},null,null,null,null,null,null,null,null,null,null,null,null,{"$f":"見積書!Q69","v":""},null,{"$f":"見積書!R69","v":""},null,null,{"$f":"見積書!S69","v":""},null,null,null,{"$f":"見積書!T69","v":""},null,null,null,null,{"$f":"IF(Q44=\"\",\"\",'出来高内訳書 (第7回請求)'!AC44+'出来高内訳書 (第7回請求)'!AK44)","v":""},null,null,{"$f":"IF(T44=\"\",\"\",ROUND(T44*AC44,0))","v":""},null,null,null,null,null,null,null,{"$f":"IF(T44=\"\",\"\",ROUND(T44*AK44,0))","v":""},null,null,null,null,{"$f":"IF(Q44=\"\",\"\",ROUND(Q44-AC44-AK44,2))","v":""},null,null,{"$f":"IF(T44=\"\",\"\",(IF(AS44<0,\"出来高が契約を超過\",X44-AN44-AF44)))","v":""}]
[null,{"$f":"見積書!F70","v":""}]
[6,{"$f":"見積書!F71","v":""},null,null,null,null,null,null,null,null,null,null,null,null,{"$f":"見積書!Q71","v":""},null,{"$f":"見積書!R71","v":""},null,null,{"$f":"見積書!S71","v":""},null,null,null,{"$f":"見積書!T71","v":""},null,null,null,null,{"$f":"IF(Q46=\"\",\"\",'出来高内訳書 (第7回請求)'!AC46+'出来高内訳書 (第7回請求)'!AK46)","v":""},null,null,{"$f":"IF(T46=\"\",\"\",ROUND(T46*AC46,0))","v":""},null,null,null,null,null,null,null,{"$f":"IF(T46=\"\",\"\",ROUND(T46*AK46,0))","v":""},null,null,null,null,{"$f":"IF(Q46=\"\",\"\",ROUND(Q46-AC46-AK46,2))","v":""},null,null,{"$f":"IF(T46=\"\",\"\",(IF(AS46<0,\"出来高が契約を超過\",X46-AN46-AF46)))","v":""}]
[null,{"$f":"見積書!F72","v":""}]
[7,{"$f":"見積書!F73","v":""},null,null,null,null,null,null,null,null,null,null,null,null,{"$f":"見積書!Q73","v":""},null,{"$f":"見積書!R73","v":""},null,null,{"$f":"見積書!S73","v":""},null,null,null,{"$f":"見積書!T73","v":""},null,null,null,null,{"$f":"IF(Q48=\"\",\"\",'出来高内訳書 (第7回請求)'!AC48+'出来高内訳書 (第7回請求)'!AK48)","v":""},null,null,{"$f":"IF(T48=\"\",\"\",ROUND(T48*AC48,0))","v":""},null,null,null,null,null,null,null,{"$f":"IF(T48=\"\",\"\",ROUND(T48*AK48,0))","v":""},null,null,null,null,{"$f":"IF(Q48=\"\",\"\",ROUND(Q48-AC48-AK48,2))","v":""},null,null,{"$f":"IF(T48=\"\",\"\",(IF(AS48<0,\"出来高が契約を超過\",X48-AN48-AF48)))","v":""}]
[null,{"$f":"見積書!F74","v":""}]
[8,{"$f":"見積書!F75","v":""},null,null,null,null,null,null,null,null,null,null,null,null,{"$f":"見積書!Q75","v":""},null,{"$f":"見積書!R75","v":""},null,null,{"$f":"見積書!S75","v":""},null,null,null,{"$f":"見積書!T75","v":""},null,null,null,null,{"$f":"IF(Q50=\"\",\"\",'出来高内訳書 (第7回請求)'!AC50+'出来高内訳書 (第7回請求)'!AK50)","v":""},null,null,{"$f":"IF(T50=\"\",\"\",ROUND(T50*AC50,0))","v":""},null,null,null,null,null,null,null,{"$f":"IF(T50=\"\",\"\",ROUND(T50*AK50,0))","v":""},null,null,null,null,{"$f":"IF(Q50=\"\",\"\",ROUND(Q50-AC50-AK50,2))","v":""},null,null,{"$f":"IF(T50=\"\",\"\",(IF(AS50<0,\"出来高が契約を超過\",X50-AN50-AF50)))","v":""}]
[null,{"$f":"見積書!F76","v":""}]
[9,{"$f":"見積書!F77","v":""},null,null,null,null,null,null,null,null,null,null,null,null,{"$f":"見積書!Q77","v":""},null,{"$f":"見積書!R77","v":""},null,null,{"$f":"見積書!S77","v":""},null,null,null,{"$f":"見積書!T77","v":""},null,null,null,null,{"$f":"IF(Q52=\"\",\"\",'出来高内訳書 (第7回請求)'!AC52+'出来高内訳書 (第7回請求)'!AK52)","v":""},null,null,{"$f":"IF(T52=\"\",\"\",ROUND(T52*AC52,0))","v":""},null,null,null,null,null,null,null,{"$f":"IF(T52=\"\",\"\",ROUND(T52*AK52,0))","v":""},null,null,null,null,{"$f":"IF(Q52=\"\",\"\",ROUND(Q52-AC52-AK52,2))","v":""},null,null,{"$f":"IF(T52=\"\",\"\",(IF(AS52<0,\"出来高が契約を超過\",X52-AN52-AF52)))","v":""}]
[null,{"$f":"見積書!F78","v":""}]
[10,{"$f":"見積書!F79","v":""},null,null,null,null,null,null,null,null,null,null,null,null,{"$f":"見積書!Q79","v":""},null,{"$f":"見積書!R79","v":""},null,null,{"$f":"見積書!S79","v":""},null,null,null,{"$f":"見積書!T79","v":""},null,null,null,null,{"$f":"IF(Q54=\"\",\"\",'出来高内訳書 (第7回請求)'!AC54+'出来高内訳書 (第7回請求)'!AK54)","v":""},null,null,{"$f":"IF(T54=\"\",\"\",ROUND(T54*AC54,0))","v":""},null,null,null,null,null,null,null,{"$f":"IF(T54=\"\",\"\",ROUND(T54*AK54,0))","v":""},null,null,null,null,{"$f":"IF(Q54=\"\",\"\",ROUND(Q54-AC54-AK54,2))","v":""},null,null,{"$f":"IF(T54=\"\",\"\",(IF(AS54<0,\"出来高が契約を超過\",X54-AN54-AF54)))","v":""}]
[null,{"$f":"見積書!F80","v":""}]
[11,{"$f":"見積書!F81","v":""},null,null,null,null,null,null,null,null,null,null,null,null,{"$f":"見積書!Q81","v":""},null,{"$f":"見積書!R81","v":""},null,null,{"$f":"見積書!S81","v":""},null,null,null,{"$f":"見積書!T81","v":""},null,null,null,null,{"$f":"IF(Q56=\"\",\"\",'出来高内訳書 (第7回請求)'!AC56+'出来高内訳書 (第7回請求)'!AK56)","v":""},null,null,{"$f":"IF(T56=\"\",\"\",ROUND(T56*AC56,0))","v":""},null,null,null,null,null,null,null,{"$f":"IF(T56=\"\",\"\",ROUND(T56*AK56,0))","v":""},null,null,null,null,{"$f":"IF(Q56=\"\",\"\",ROUND(Q56-AC56-AK56,2))","v":""},null,null,{"$f":"IF(T56=\"\",\"\",(IF(AS56<0,\"出来高が契約を超過\",X56-AN56-AF56)))","v":""}]
[null,{"$f":"見積書!F82","v":""}]
[null,"小計",null,null,null,null,null,null,null,null,null,null,null,null,null,null,null,null,null,null,null,null,null,{"$f":"SUM(X36:AB57)","v":0},null,null,null,null,null,null,null,{"$f":"SUM(AF36:AJ57)","v":0},null,null,null,null,null,null,null,{"$f":"SUM(AN36:AR57)","v":0},null,null,null,null,null,null,null,{"$f":"X58-AF58-AN58","v":0}]
[]
[null,"請求内訳書（出来高・分割納入用）",null,null,null,null,null,null,null,null,null,null,null,null,null,null,null,null,null,null,null,null,null,null,null,null,null,null,null,null,null,null,null,null,null,null,null,null,null,null,null,null,null,null,null,null,null,null,null,null,"No."]
[]
[]
[]
[]
[]
[]
[]
[]
[]
[null,"製造番号",null,null,null,null,{"$f":"Y22","v":""},null,null,null,null,null,null,null,null,null,null,null,null,null,null,null,null,"※科目"]
[]
[]
[null,"注文番号",null,null,null,null,{"$f":"Y25","v":""},null,null,null,null,null,null,null,null,"第",null,{"$f":"AJ23","v":8},null,"回請求"]
[]
[]
[]
[null,"工　種・品　名",null,null,null,null,null,null,null,null,null,null,null,null,"契　約　金　額",null,null,null,null,null,null,null,null,null,null,null,null,null,"前回までの出来高",null,null,null,null,null,null,null,"今回出来高",null,null,null,null,null,null,null,"残高",null,null,null,null,null,null,null,"備　考"]
[null,null,null,null,null,null,null,null,null,null,null,null,null,null,"単位",null,"数量",null,null,"単価",null,null,null,"金額",null,null,null,null,"数量",null,null,"金額",null,null,null,null,"数量",null,null,"金額",null,null,null,null,"数量",null,null,"金額"]
[12,{"$f":"見積書!F83","v":""},null,null,null,null,null,null,null,null,null,null,null,null,{"$f":"見積書!Q83","v":""},null,{"$f":"見積書!R83","v":""},null,null,{"$f":"見積書!S83","v":""},null,null,null,{"$f":"見積書!T83","v":""},null,null,null,null,{"$f":"IF(Q79=\"\",\"\",'出来高内訳書 (第7回請求)'!AC79+'出来高内訳書 (第7回請求)'!AK79)","v":""},null,null,{"$f":"IF(T79=\"\",\"\",ROUND(T79*AC79,0))","v":""},null,null,null,null,null,null,null,{"$f":"IF(T79=\"\",\"\",ROUND(T79*AK79,0))","v":""},null,null,null,null,{"$f":"IF(Q79=\"\",\"\",ROUND(Q79-AC79-AK79,2))","v":""},null,null,{"$f":"IF(T79=\"\",\"\",(IF(AS79<0,\"出来高が契約を超過\",X79-AN79-AF79)))","v":""}]
[null,{"$f":"見積書!F84","v":""}]
[13,{"$f":"見積書!F85","v":""},null,null,null,null,null,null,null,null,null,null,null,null,{"$f":"見積書!Q85","v":""},null,{"$f":"見積書!R85","v":""},null,null,{"$f":"見積書!S85","v":""},null,null,null,{"$f":"見積書!T85","v":""},null,null,null,null,{"$f":"IF(Q81=\"\",\"\",'出来高内訳書 (第7回請求)'!AC81+'出来高内訳書 (第7回請求)'!AK81)","v":""},null,null,{"$f":"IF(T81=\"\",\"\",ROUND(T81*AC81,0))","v":""},null,null,null,null,null,null,null,{"$f":"IF(T81=\"\",\"\",ROUND(T81*AK81,0))","v":""},null,null,null,null,{"$f":"IF(Q81=\"\",\"\",ROUND(Q81-AC81-AK81,2))","v":""},null,null,{"$f":"IF(T81=\"\",\"\",(IF(AS81<0,\"出来高が契約を超過\",X81-AN81-AF81)))","v":""}]
[null,{"$f":"見積書!F86","v":""}]
[14,{"$f":"'見積書 (2)'!F26","v":""},null,null,null,null,null,null,null,null,null,null,null,null,{"$f":"'見積書 (2)'!Q26","v":""},null,{"$f":"'見積書 (2)'!R26","v":""},null,null,{"$f":"'見積書 (2)'!S26","v":""},null,null,null,{"$f":"'見積書 (2)'!T26","v":""},null,null,null,null,{"$f":"IF(Q83=\"\",\"\",'出来高内訳書 (第7回請求)'!AC83+'出来高内訳書 (第7回請求)'!AK83)","v":""},null,null,{"$f":"IF(T83=\"\",\"\",ROUND(T83*AC83,0))","v":""},null,null,null,null,null,null,null,{"$f":"IF(T83=\"\",\"\",ROUND(T83*AK83,0))","v":""},null,null,null,null,{"$f":"IF(Q83=\"\",\"\",ROUND(Q83-AC83-AK83,2))","v":""},null,null,{"$f":"IF(T83=\"\",\"\",(IF(AS83<0,\"出来高が契約を超過\",X83-AN83-AF83)))","v":""}]
[null,{"$f":"'見積書 (2)'!F27","v":""}]
[15,{"$f":"'見積書 (2)'!F28","v":""},null,null,null,null,null,null,null,null,null,null,null,null,{"$f":"'見積書 (2)'!Q28","v":""},null,{"$f":"'見積書 (2)'!R28","v":""},null,null,{"$f":"'見積書 (2)'!S28","v":""},null,null,null,{"$f":"'見積書 (2)'!T28","v":""},null,null,null,null,{"$f":"IF(Q85=\"\",\"\",'出来高内訳書 (第7回請求)'!AC85+'出来高内訳書 (第7回請求)'!AK85)","v":""},null,null,{"$f":"IF(T85=\"\",\"\",ROUND(T85*AC85,0))","v":""},null,null,null,null,null,null,null,{"$f":"IF(T85=\"\",\"\",ROUND(T85*AK85,0))","v":""},null,null,null,null,{"$f":"IF(Q85=\"\",\"\",ROUND(Q85-AC85-AK85,2))","v":""},null,null,{"$f":"IF(T85=\"\",\"\",(IF(AS85<0,\"出来高が契約を超過\",X85-AN85-AF85)))","v":""}]
[null,{"$f":"'見積書 (2)'!F29","v":""}]
[16,{"$f":"'見積書 (2)'!F30","v":""},null,null,null,null,null,null,null,null,null,null,null,null,{"$f":"'見積書 (2)'!Q30","v":""},null,{"$f":"'見積書 (2)'!R30","v":""},null,null,{"$f":"'見積書 (2)'!S30","v":""},null,null,null,{"$f":"'見積書 (2)'!T30","v":""},null,null,null,null,{"$f":"IF(Q87=\"\",\"\",'出来高内訳書 (第7回請求)'!AC87+'出来高内訳書 (第7回請求)'!AK87)","v":""},null,null,{"$f":"IF(T87=\"\",\"\",ROUND(T87*AC87,0))","v":""},null,null,null,null,null,null,null,{"$f":"IF(T87=\"\",\"\",ROUND(T87*AK87,0))","v":""},null,null,null,null,{"$f":"IF(Q87=\"\",\"\",ROUND(Q87-AC87-AK87,2))","v":""},null,null,{"$f":"IF(T87=\"\",\"\",(IF(AS87<0,\"出来高が契約を超過\",X87-AN87-AF87)))","v":""}]
[null,{"$f":"'見積書 (2)'!F31","v":""}]
[17,{"$f":"'見積書 (2)'!F32","v":""},null,null,null,null,null,null,null,null,null,null,null,null,{"$f":"'見積書 (2)'!Q32","v":""},null,{"$f":"'見積書 (2)'!R32","v":""},null,null,{"$f":"'見積書 (2)'!S32","v":""},null,null,null,{"$f":"'見積書 (2)'!T32","v":""},null,null,null,null,{"$f":"IF(Q89=\"\",\"\",'出来高内訳書 (第7回請求)'!AC89+'出来高内訳書 (第7回請求)'!AK89)","v":""},null,null,{"$f":"IF(T89=\"\",\"\",ROUND(T89*AC89,0))","v":""},null,null,null,null,null,null,null,{"$f":"IF(T89=\"\",\"\",ROUND(T89*AK89,0))","v":""},null,null,null,null,{"$f":"IF(Q89=\"\",\"\",ROUND(Q89-AC89-AK89,2))","v":""},null,null,{"$f":"IF(T89=\"\",\"\",(IF(AS89<0,\"出来高が契約を超過\",X89-AN89-AF89)))","v":""}]
[null,{"$f":"'見積書 (2)'!F33","v":""}]
[18,{"$f":"'見積書 (2)'!F34","v":""},null,null,null,null,null,null,null,null,null,null,null,null,{"$f":"'見積書 (2)'!Q34","v":""},null,{"$f":"'見積書 (2)'!R34","v":""},null,null,{"$f":"'見積書 (2)'!S34","v":""},null,null,null,{"$f":"'見積書 (2)'!T34","v":""},null,null,null,null,{"$f":"IF(Q91=\"\",\"\",'出来高内訳書 (第7回請求)'!AC91+'出来高内訳書 (第7回請求)'!AK91)","v":""},null,null,{"$f":"IF(T91=\"\",\"\",ROUND(T91*AC91,0))","v":""},null,null,null,null,null,null,null,{"$f":"IF(T91=\"\",\"\",ROUND(T91*AK91,0))","v":""},null,null,null,null,{"$f":"IF(Q91=\"\",\"\",ROUND(Q91-AC91-AK91,2))","v":""},null,null,{"$f":"IF(T91=\"\",\"\",(IF(AS91<0,\"出来高が契約を超過\",X91-AN91-AF91)))","v":""}]
[null,{"$f":"'見積書 (2)'!F35","v":""}]
[19,{"$f":"'見積書 (2)'!F36","v":""},null,null,null,null,null,null,null,null,null,null,null,null,{"$f":"'見積書 (2)'!Q36","v":""},null,{"$f":"'見積書 (2)'!R36","v":""},null,null,{"$f":"'見積書 (2)'!S36","v":""},null,null,null,{"$f":"'見積書 (2)'!T36","v":""},null,null,null,null,{"$f":"IF(Q93=\"\",\"\",'出来高内訳書 (第7回請求)'!AC93+'出来高内訳書 (第7回請求)'!AK93)","v":""},null,null,{"$f":"IF(T93=\"\",\"\",ROUND(T93*AC93,0))","v":""},null,null,null,null,null,null,null,{"$f":"IF(T93=\"\",\"\",ROUND(T93*AK93,0))","v":""},null,null,null,null,{"$f":"IF(Q93=\"\",\"\",ROUND(Q93-AC93-AK93,2))","v":""},null,null,{"$f":"IF(T93=\"\",\"\",(IF(AS93<0,\"出来高が契約を超過\",X93-AN93-AF93)))","v":""}]
[null,{"$f":"'見積書 (2)'!F37","v":""}]
[20,{"$f":"'見積書 (2)'!F38","v":""},null,null,null,null,null,null,null,null,null,null,null,null,{"$f":"'見積書 (2)'!Q38","v":""},null,{"$f":"'見積書 (2)'!R38","v":""},null,null,{"$f":"'見積書 (2)'!S38","v":""},null,null,null,{"$f":"'見積書 (2)'!T38","v":""},null,null,null,null,{"$f":"IF(Q95=\"\",\"\",'出来高内訳書 (第7回請求)'!AC95+'出来高内訳書 (第7回請求)'!AK95)","v":""},null,null,{"$f":"IF(T95=\"\",\"\",ROUND(T95*AC95,0))","v":""},null,null,null,null,null,null,null,{"$f":"IF(T95=\"\",\"\",ROUND(T95*AK95,0))","v":""},null,null,null,null,{"$f":"IF(Q95=\"\",\"\",ROUND(Q95-AC95-AK95,2))","v":""},null,null,{"$f":"IF(T95=\"\",\"\",(IF(AS95<0,\"出来高が契約を超過\",X95-AN95-AF95)))","v":""}]
[null,{"$f":"'見積書 (2)'!F39","v":""}]
[21,{"$f":"'見積書 (2)'!F40","v":""},null,null,null,null,null,null,null,null,null,null,null,null,{"$f":"'見積書 (2)'!Q40","v":""},null,{"$f":"'見積書 (2)'!R40","v":""},null,null,{"$f":"'見積書 (2)'!S40","v":""},null,null,null,{"$f":"'見積書 (2)'!T40","v":""},null,null,null,null,{"$f":"IF(Q97=\"\",\"\",'出来高内訳書 (第7回請求)'!AC97+'出来高内訳書 (第7回請求)'!AK97)","v":""},null,null,{"$f":"IF(T97=\"\",\"\",ROUND(T97*AC97,0))","v":""},null,null,null,null,null,null,null,{"$f":"IF(T97=\"\",\"\",ROUND(T97*AK97,0))","v":""},null,null,null,null,{"$f":"IF(Q97=\"\",\"\",ROUND(Q97-AC97-AK97,2))","v":""},null,null,{"$f":"IF(T97=\"\",\"\",(IF(AS97<0,\"出来高が契約を超過\",X97-AN97-AF97)))","v":""}]
[null,{"$f":"'見積書 (2)'!F41","v":""}]
[22,{"$f":"'見積書 (2)'!F42","v":""},null,null,null,null,null,null,null,null,null,null,null,null,{"$f":"'見積書 (2)'!Q42","v":""},null,{"$f":"'見積書 (2)'!R42","v":""},null,null,{"$f":"'見積書 (2)'!S42","v":""},null,null,null,{"$f":"'見積書 (2)'!T42","v":""},null,null,null,null,{"$f":"IF(Q99=\"\",\"\",'出来高内訳書 (第7回請求)'!AC99+'出来高内訳書 (第7回請求)'!AK99)","v":""},null,null,{"$f":"IF(T99=\"\",\"\",ROUND(T99*AC99,0))","v":""},null,null,null,null,null,null,null,{"$f":"IF(T99=\"\",\"\",ROUND(T99*AK99,0))","v":""},null,null,null,null,{"$f":"IF(Q99=\"\",\"\",ROUND(Q99-AC99-AK99,2))","v":""},null,null,{"$f":"IF(T99=\"\",\"\",(IF(AS99<0,\"出来高が契約を超過\",X99-AN99-AF99)))","v":""}]
[null,{"$f":"'見積書 (2)'!F43","v":""}]
[23,{"$f":"'見積書 (2)'!F44","v":""},null,null,null,null,null,null,null,null,null,null,null,null,{"$f":"'見積書 (2)'!Q44","v":""},null,{"$f":"'見積書 (2)'!R44","v":""},null,null,{"$f":"'見積書 (2)'!S44","v":""},null,null,null,{"$f":"'見積書 (2)'!T44","v":""},null,null,null,null,{"$f":"IF(Q101=\"\",\"\",'出来高内訳書 (第7回請求)'!AC101+'出来高内訳書 (第7回請求)'!AK101)","v":""},null,null,{"$f":"IF(T101=\"\",\"\",ROUND(T101*AC101,0))","v":""},null,null,null,null,null,null,null,{"$f":"IF(T101=\"\",\"\",ROUND(T101*AK101,0))","v":""},null,null,null,null,{"$f":"IF(Q101=\"\",\"\",ROUND(Q101-AC101-AK101,2))","v":""},null,null,{"$f":"IF(T101=\"\",\"\",(IF(AS101<0,\"出来高が契約を超過\",X101-AN101-AF101)))","v":""}]
[null,{"$f":"'見積書 (2)'!F45","v":""}]
[24,{"$f":"'見積書 (2)'!F46","v":""},null,null,null,null,null,null,null,null,null,null,null,null,{"$f":"'見積書 (2)'!Q46","v":""},null,{"$f":"'見積書 (2)'!R46","v":""},null,null,{"$f":"'見積書 (2)'!S46","v":""},null,null,null,{"$f":"'見積書 (2)'!T46","v":""},null,null,null,null,{"$f":"IF(Q103=\"\",\"\",'出来高内訳書 (第7回請求)'!AC103+'出来高内訳書 (第7回請求)'!AK103)","v":""},null,null,{"$f":"IF(T103=\"\",\"\",ROUND(T103*AC103,0))","v":""},null,null,null,null,null,null,null,{"$f":"IF(T103=\"\",\"\",ROUND(T103*AK103,0))","v":""},null,null,null,null,{"$f":"IF(Q103=\"\",\"\",ROUND(Q103-AC103-AK103,2))","v":""},null,null,{"$f":"IF(T103=\"\",\"\",(IF(AS103<0,\"出来高が契約を超過\",X103-AN103-AF103)))","v":""}]
[null,{"$f":"'見積書 (2)'!F47","v":""}]
[25,{"$f":"'見積書 (2)'!F48","v":""},null,null,null,null,null,null,null,null,null,null,null,null,{"$f":"'見積書 (2)'!Q48","v":""},null,{"$f":"'見積書 (2)'!R48","v":""},null,null,{"$f":"'見積書 (2)'!S48","v":""},null,null,null,{"$f":"'見積書 (2)'!T48","v":""},null,null,null,null,{"$f":"IF(Q105=\"\",\"\",'出来高内訳書 (第7回請求)'!AC105+'出来高内訳書 (第7回請求)'!AK105)","v":""},null,null,{"$f":"IF(T105=\"\",\"\",ROUND(T105*AC105,0))","v":""},null,null,null,null,null,null,null,{"$f":"IF(T105=\"\",\"\",ROUND(T105*AK105,0))","v":""},null,null,null,null,{"$f":"IF(Q105=\"\",\"\",ROUND(Q105-AC105-AK105,2))","v":""},null,null,{"$f":"IF(T105=\"\",\"\",(IF(AS105<0,\"出来高が契約を超過\",X105-AN105-AF105)))","v":""}]
[null,{"$f":"'見積書 (2)'!F49","v":""}]
[26,{"$f":"'見積書 (2)'!F50","v":""},null,null,null,null,null,null,null,null,null,null,null,null,{"$f":"'見積書 (2)'!Q50","v":""},null,{"$f":"'見積書 (2)'!R50","v":""},null,null,{"$f":"'見積書 (2)'!S50","v":""},null,null,null,{"$f":"'見積書 (2)'!T50","v":""},null,null,null,null,{"$f":"IF(Q107=\"\",\"\",'出来高内訳書 (第7回請求)'!AC107+'出来高内訳書 (第7回請求)'!AK107)","v":""},null,null,{"$f":"IF(T107=\"\",\"\",ROUND(T107*AC107,0))","v":""},null,null,null,null,null,null,null,{"$f":"IF(T107=\"\",\"\",ROUND(T107*AK107,0))","v":""},null,null,null,null,{"$f":"IF(Q107=\"\",\"\",ROUND(Q107-AC107-AK107,2))","v":""},null,null,{"$f":"IF(T107=\"\",\"\",(IF(AS107<0,\"出来高が契約を超過\",X107-AN107-AF107)))","v":""}]
[null,{"$f":"'見積書 (2)'!F51","v":""}]
[null,"小計",null,null,null,null,null,null,null,null,null,null,null,null,null,null,null,null,null,null,null,null,null,{"$f":"SUM(X79:AB108)","v":0},null,null,null,null,null,null,null,{"$f":"SUM(AF79:AJ108)","v":0},null,null,null,null,null,null,null,{"$f":"SUM(AN79:AR108)","v":0},null,null,null,null,null,null,null,{"$f":"X109-AF109-AN109","v":0}]
[]
[]
[]
[]
[null,"請求内訳書（出来高・分割納入用）",null,null,null,null,null,null,null,null,null,null,null,null,null,null,null,null,null,null,null,null,null,null,null,null,null,null,null,null,null,null,null,null,null,null,null,null,null,null,null,null,null,null,null,null,null,null,null,null,"No."]
[]
[]
[]
[]
[]
[]
[]
[]
[]
[null,"製造番号",null,null,null,null,{"$f":"Y22","v":""},null,null,null,null,null,null,null,null,null,null,null,null,null,null,null,null,"※科目"]
[]
[]
[null,"注文番号",null,null,null,null,{"$f":"Y25","v":""},null,null,null,null,null,null,null,null,"第",null,{"$f":"AJ23","v":8},null,"回請求"]
[]
[]
[]
[null,"工　種・品　名",null,null,null,null,null,null,null,null,null,null,null,null,"契　約　金　額",null,null,null,null,null,null,null,null,null,null,null,null,null,"前回までの出来高",null,null,null,null,null,null,null,"今回出来高",null,null,null,null,null,null,null,"残高",null,null,null,null,null,null,null,"備　考"]
[null,null,null,null,null,null,null,null,null,null,null,null,null,null,"単位",null,"数量",null,null,"単価",null,null,null,"金額",null,null,null,null,"数量",null,null,"金額",null,null,null,null,"数量",null,null,"金額",null,null,null,null,"数量",null,null,"金額"]
[27,{"$f":"'見積書 (2)'!F52","v":""},null,null,null,null,null,null,null,null,null,null,null,null,{"$f":"'見積書 (2)'!Q52","v":""},null,{"$f":"'見積書 (2)'!R52","v":""},null,null,{"$f":"'見積書 (2)'!S52","v":""},null,null,null,{"$f":"'見積書 (2)'!T52","v":""},null,null,null,null,{"$f":"IF(Q133=\"\",\"\",'出来高内訳書 (第7回請求)'!AC133+'出来高内訳書 (第7回請求)'!AK133)","v":""},null,null,{"$f":"IF(T133=\"\",\"\",ROUND(T133*AC133,0))","v":""},null,null,null,null,null,null,null,{"$f":"IF(T133=\"\",\"\",ROUND(T133*AK133,0))","v":""},null,null,null,null,{"$f":"IF(Q133=\"\",\"\",ROUND(Q133-AC133-AK133,2))","v":""},null,null,{"$f":"IF(T133=\"\",\"\",(IF(AS133<0,\"出来高が契約を超過\",X133-AN133-AF133)))","v":""}]
[null,{"$f":"'見積書 (2)'!F53","v":""}]
[28,{"$f":"'見積書 (2)'!F54","v":""},null,null,null,null,null,null,null,null,null,null,null,null,{"$f":"'見積書 (2)'!Q54","v":""},null,{"$f":"'見積書 (2)'!R54","v":""},null,null,{"$f":"'見積書 (2)'!S54","v":""},null,null,null,{"$f":"'見積書 (2)'!T54","v":""},null,null,null,null,{"$f":"IF(Q135=\"\",\"\",'出来高内訳書 (第7回請求)'!AC135+'出来高内訳書 (第7回請求)'!AK135)","v":""},null,null,{"$f":"IF(T135=\"\",\"\",ROUND(T135*AC135,0))","v":""},null,null,null,null,null,null,null,{"$f":"IF(T135=\"\",\"\",ROUND(T135*AK135,0))","v":""},null,null,null,null,{"$f":"IF(Q135=\"\",\"\",ROUND(Q135-AC135-AK135,2))","v":""},null,null,{"$f":"IF(T135=\"\",\"\",(IF(AS135<0,\"出来高が契約を超過\",X135-AN135-AF135)))","v":""}]
[null,{"$f":"'見積書 (2)'!F55","v":""}]
[29,{"$f":"'見積書 (2)'!F56","v":""},null,null,null,null,null,null,null,null,null,null,null,null,{"$f":"'見積書 (2)'!Q56","v":""},null,{"$f":"'見積書 (2)'!R56","v":""},null,null,{"$f":"'見積書 (2)'!S56","v":""},null,null,null,{"$f":"'見積書 (2)'!T56","v":""},null,null,null,null,{"$f":"IF(Q137=\"\",\"\",'出来高内訳書 (第7回請求)'!AC137+'出来高内訳書 (第7回請求)'!AK137)","v":""},null,null,{"$f":"IF(T137=\"\",\"\",ROUND(T137*AC137,0))","v":""},null,null,null,null,null,null,null,{"$f":"IF(T137=\"\",\"\",ROUND(T137*AK137,0))","v":""},null,null,null,null,{"$f":"IF(Q137=\"\",\"\",ROUND(Q137-AC137-AK137,2))","v":""},null,null,{"$f":"IF(T137=\"\",\"\",(IF(AS137<0,\"出来高が契約を超過\",X137-AN137-AF137)))","v":""}]
[null,{"$f":"'見積書 (2)'!F57","v":""}]
[30,{"$f":"'見積書 (2)'!F58","v":""},null,null,null,null,null,null,null,null,null,null,null,null,{"$f":"'見積書 (2)'!Q58","v":""},null,{"$f":"'見積書 (2)'!R58","v":""},null,null,{"$f":"'見積書 (2)'!S58","v":""},null,null,null,{"$f":"'見積書 (2)'!T58","v":""},null,null,null,null,{"$f":"IF(Q139=\"\",\"\",'出来高内訳書 (第7回請求)'!AC139+'出来高内訳書 (第7回請求)'!AK139)","v":""},null,null,{"$f":"IF(T139=\"\",\"\",ROUND(T139*AC139,0))","v":""},null,null,null,null,null,null,null,{"$f":"IF(T139=\"\",\"\",ROUND(T139*AK139,0))","v":""},null,null,null,null,{"$f":"IF(Q139=\"\",\"\",ROUND(Q139-AC139-AK139,2))","v":""},null,null,{"$f":"IF(T139=\"\",\"\",(IF(AS139<0,\"出来高が契約を超過\",X139-AN139-AF139)))","v":""}]
[null,{"$f":"'見積書 (2)'!F59","v":""}]
[31,{"$f":"'見積書 (2)'!F60","v":""},null,null,null,null,null,null,null,null,null,null,null,null,{"$f":"'見積書 (2)'!Q60","v":""},null,{"$f":"'見積書 (2)'!R60","v":""},null,null,{"$f":"'見積書 (2)'!S60","v":""},null,null,null,{"$f":"'見積書 (2)'!T60","v":""},null,null,null,null,{"$f":"IF(Q141=\"\",\"\",'出来高内訳書 (第7回請求)'!AC141+'出来高内訳書 (第7回請求)'!AK141)","v":""},null,null,{"$f":"IF(T141=\"\",\"\",ROUND(T141*AC141,0))","v":""},null,null,null,null,null,null,null,{"$f":"IF(T141=\"\",\"\",ROUND(T141*AK141,0))","v":""},null,null,null,null,{"$f":"IF(Q141=\"\",\"\",ROUND(Q141-AC141-AK141,2))","v":""},null,null,{"$f":"IF(T141=\"\",\"\",(IF(AS141<0,\"出来高が契約を超過\",X141-AN141-AF141)))","v":""}]
[null,{"$f":"'見積書 (2)'!F61","v":""}]
[32,{"$f":"'見積書 (2)'!F62","v":""},null,null,null,null,null,null,null,null,null,null,null,null,{"$f":"'見積書 (2)'!Q62","v":""},null,{"$f":"'見積書 (2)'!R62","v":""},null,null,{"$f":"'見積書 (2)'!S62","v":""},null,null,null,{"$f":"'見積書 (2)'!T62","v":""},null,null,null,null,{"$f":"IF(Q143=\"\",\"\",'出来高内訳書 (第7回請求)'!AC143+'出来高内訳書 (第7回請求)'!AK143)","v":""},null,null,{"$f":"IF(T143=\"\",\"\",ROUND(T143*AC143,0))","v":""},null,null,null,null,null,null,null,{"$f":"IF(T143=\"\",\"\",ROUND(T143*AK143,0))","v":""},null,null,null,null,{"$f":"IF(Q143=\"\",\"\",ROUND(Q143-AC143-AK143,2))","v":""},null,null,{"$f":"IF(T143=\"\",\"\",(IF(AS143<0,\"出来高が契約を超過\",X143-AN143-AF143)))","v":""}]
[null,{"$f":"'見積書 (2)'!F63","v":""}]
[33,{"$f":"'見積書 (2)'!F64","v":""},null,null,null,null,null,null,null,null,null,null,null,null,{"$f":"'見積書 (2)'!Q64","v":""},null,{"$f":"'見積書 (2)'!R64","v":""},null,null,{"$f":"'見積書 (2)'!S64","v":""},null,null,null,{"$f":"'見積書 (2)'!T64","v":""},null,null,null,null,{"$f":"IF(Q145=\"\",\"\",'出来高内訳書 (第7回請求)'!AC145+'出来高内訳書 (第7回請求)'!AK145)","v":""},null,null,{"$f":"IF(T145=\"\",\"\",ROUND(T145*AC145,0))","v":""},null,null,null,null,null,null,null,{"$f":"IF(T145=\"\",\"\",ROUND(T145*AK145,0))","v":""},null,null,null,null,{"$f":"IF(Q145=\"\",\"\",ROUND(Q145-AC145-AK145,2))","v":""},null,null,{"$f":"IF(T145=\"\",\"\",(IF(AS145<0,\"出来高が契約を超過\",X145-AN145-AF145)))","v":""}]
[null,{"$f":"'見積書 (2)'!F65","v":""}]
[34,{"$f":"'見積書 (2)'!F66","v":""},null,null,null,null,null,null,null,null,null,null,null,null,{"$f":"'見積書 (2)'!Q66","v":""},null,{"$f":"'見積書 (2)'!R66","v":""},null,null,{"$f":"'見積書 (2)'!S66","v":""},null,null,null,{"$f":"'見積書 (2)'!T66","v":""},null,null,null,null,{"$f":"IF(Q147=\"\",\"\",'出来高内訳書 (第7回請求)'!AC147+'出来高内訳書 (第7回請求)'!AK147)","v":""},null,null,{"$f":"IF(T147=\"\",\"\",ROUND(T147*AC147,0))","v":""},null,null,null,null,null,null,null,{"$f":"IF(T147=\"\",\"\",ROUND(T147*AK147,0))","v":""},null,null,null,null,{"$f":"IF(Q147=\"\",\"\",ROUND(Q147-AC147-AK147,2))","v":""},null,null,{"$f":"IF(T147=\"\",\"\",(IF(AS147<0,\"出来高が契約を超過\",X147-AN147-AF147)))","v":""}]
[null,{"$f":"'見積書 (2)'!F67","v":""}]
[35,{"$f":"'見積書 (2)'!F68","v":""},null,null,null,null,null,null,null,null,null,null,null,null,{"$f":"'見積書 (2)'!Q68","v":""},null,{"$f":"'見積書 (2)'!R68","v":""},null,null,{"$f":"'見積書 (2)'!S68","v":""},null,null,null,{"$f":"'見積書 (2)'!T68","v":""},null,null,null,null,{"$f":"IF(Q149=\"\",\"\",'出来高内訳書 (第7回請求)'!AC149+'出来高内訳書 (第7回請求)'!AK149)","v":""},null,null,{"$f":"IF(T149=\"\",\"\",ROUND(T149*AC149,0))","v":""},null,null,null,null,null,null,null,{"$f":"IF(T149=\"\",\"\",ROUND(T149*AK149,0))","v":""},null,null,null,null,{"$f":"IF(Q149=\"\",\"\",ROUND(Q149-AC149-AK149,2))","v":""},null,null,{"$f":"IF(T149=\"\",\"\",(IF(AS149<0,\"出来高が契約を超過\",X149-AN149-AF149)))","v":""}]
[null,{"$f":"'見積書 (2)'!F69","v":""}]
[36,{"$f":"'見積書 (3)'!F26","v":""},null,null,null,null,null,null,null,null,null,null,null,null,{"$f":"'見積書 (3)'!Q26","v":""},null,{"$f":"'見積書 (3)'!R26","v":""},null,null,{"$f":"'見積書 (3)'!S26","v":""},null,null,null,{"$f":"'見積書 (3)'!T26","v":""},null,null,null,null,{"$f":"IF(Q151=\"\",\"\",'出来高内訳書 (第7回請求)'!AC151+'出来高内訳書 (第7回請求)'!AK151)","v":""},null,null,{"$f":"IF(T151=\"\",\"\",ROUND(T151*AC151,0))","v":""},null,null,null,null,null,null,null,{"$f":"IF(T151=\"\",\"\",ROUND(T151*AK151,0))","v":""},null,null,null,null,{"$f":"IF(Q151=\"\",\"\",ROUND(Q151-AC151-AK151,2))","v":""},null,null,{"$f":"IF(T151=\"\",\"\",(IF(AS151<0,\"出来高が契約を超過\",X151-AN151-AF151)))","v":""}]
[null,{"$f":"'見積書 (3)'!F27","v":""}]
[37,{"$f":"'見積書 (3)'!F28","v":""},null,null,null,null,null,null,null,null,null,null,null,null,{"$f":"'見積書 (3)'!Q28","v":""},null,{"$f":"'見積書 (3)'!R28","v":""},null,null,{"$f":"'見積書 (3)'!S28","v":""},null,null,null,{"$f":"'見積書 (3)'!T28","v":""},null,null,null,null,{"$f":"IF(Q153=\"\",\"\",'出来高内訳書 (第7回請求)'!AC153+'出来高内訳書 (第7回請求)'!AK153)","v":""},null,null,{"$f":"IF(T153=\"\",\"\",ROUND(T153*AC153,0))","v":""},null,null,null,null,null,null,null,{"$f":"IF(T153=\"\",\"\",ROUND(T153*AK153,0))","v":""},null,null,null,null,{"$f":"IF(Q153=\"\",\"\",ROUND(Q153-AC153-AK153,2))","v":""},null,null,{"$f":"IF(T153=\"\",\"\",(IF(AS153<0,\"出来高が契約を超過\",X153-AN153-AF153)))","v":""}]
[null,{"$f":"'見積書 (3)'!F29","v":""}]
[38,{"$f":"'見積書 (3)'!F30","v":""},null,null,null,null,null,null,null,null,null,null,null,null,{"$f":"'見積書 (3)'!Q30","v":""},null,{"$f":"'見積書 (3)'!R30","v":""},null,null,{"$f":"'見積書 (3)'!S30","v":""},null,null,null,{"$f":"'見積書 (3)'!T30","v":""},null,null,null,null,{"$f":"IF(Q155=\"\",\"\",'出来高内訳書 (第7回請求)'!AC155+'出来高内訳書 (第7回請求)'!AK155)","v":""},null,null,{"$f":"IF(T155=\"\",\"\",ROUND(T155*AC155,0))","v":""},null,null,null,null,null,null,null,{"$f":"IF(T155=\"\",\"\",ROUND(T155*AK155,0))","v":""},null,null,null,null,{"$f":"IF(Q155=\"\",\"\",ROUND(Q155-AC155-AK155,2))","v":""},null,null,{"$f":"IF(T155=\"\",\"\",(IF(AS155<0,\"出来高が契約を超過\",X155-AN155-AF155)))","v":""}]
[null,{"$f":"'見積書 (3)'!F31","v":""}]
[39,{"$f":"'見積書 (3)'!F32","v":""},null,null,null,null,null,null,null,null,null,null,null,null,{"$f":"'見積書 (3)'!Q32","v":""},null,{"$f":"'見積書 (3)'!R32","v":""},null,null,{"$f":"'見積書 (3)'!S32","v":""},null,null,null,{"$f":"'見積書 (3)'!T32","v":""},null,null,null,null,{"$f":"IF(Q157=\"\",\"\",'出来高内訳書 (第7回請求)'!AC157+'出来高内訳書 (第7回請求)'!AK157)","v":""},null,null,{"$f":"IF(T157=\"\",\"\",ROUND(T157*AC157,0))","v":""},null,null,null,null,null,null,null,{"$f":"IF(T157=\"\",\"\",ROUND(T157*AK157,0))","v":""},null,null,null,null,{"$f":"IF(Q157=\"\",\"\",ROUND(Q157-AC157-AK157,2))","v":""},null,null,{"$f":"IF(T157=\"\",\"\",(IF(AS157<0,\"出来高が契約を超過\",X157-AN157-AF157)))","v":""}]
[null,{"$f":"'見積書 (3)'!F33","v":""}]
[40,{"$f":"'見積書 (3)'!F34","v":""},null,null,null,null,null,null,null,null,null,null,null,null,{"$f":"'見積書 (3)'!Q34","v":""},null,{"$f":"'見積書 (3)'!R34","v":""},null,null,{"$f":"'見積書 (3)'!S34","v":""},null,null,null,{"$f":"'見積書 (3)'!T34","v":""},null,null,null,null,{"$f":"IF(Q159=\"\",\"\",'出来高内訳書 (第7回請求)'!AC159+'出来高内訳書 (第7回請求)'!AK159)","v":""},null,null,{"$f":"IF(T159=\"\",\"\",ROUND(T159*AC159,0))","v":""},null,null,null,null,null,null,null,{"$f":"IF(T159=\"\",\"\",ROUND(T159*AK159,0))","v":""},null,null,null,null,{"$f":"IF(Q159=\"\",\"\",ROUND(Q159-AC159-AK159,2))","v":""},null,null,{"$f":"IF(T159=\"\",\"\",(IF(AS159<0,\"出来高が契約を超過\",X159-AN159-AF159)))","v":""}]
[null,{"$f":"'見積書 (3)'!F35","v":""}]
[41,{"$f":"'見積書 (3)'!F36","v":""},null,null,null,null,null,null,null,null,null,null,null,null,{"$f":"'見積書 (3)'!Q36","v":""},null,{"$f":"'見積書 (3)'!R36","v":""},null,null,{"$f":"'見積書 (3)'!S36","v":""},null,null,null,{"$f":"'見積書 (3)'!T36","v":""},null,null,null,null,{"$f":"IF(Q161=\"\",\"\",'出来高内訳書 (第7回請求)'!AC161+'出来高内訳書 (第7回請求)'!AK161)","v":""},null,null,{"$f":"IF(T161=\"\",\"\",ROUND(T161*AC161,0))","v":""},null,null,null,null,null,null,null,{"$f":"IF(T161=\"\",\"\",ROUND(T161*AK161,0))","v":""},null,null,null,null,{"$f":"IF(Q161=\"\",\"\",ROUND(Q161-AC161-AK161,2))","v":""},null,null,{"$f":"IF(T161=\"\",\"\",(IF(AS161<0,\"出来高が契約を超過\",X161-AN161-AF161)))","v":""}]
[null,{"$f":"'見積書 (3)'!F37","v":""}]
[null,"小計",null,null,null,null,null,null,null,null,null,null,null,null,null,null,null,null,null,null,null,null,null,{"$f":"SUM(X133:AB162)","v":0},null,null,null,null,null,null,null,{"$f":"SUM(AF133:AJ162)","v":0},null,null,null,null,null,null,null,{"$f":"SUM(AN133:AR162)","v":0},null,null,null,null,null,null,null,{"$f":"X163-AF163-AN163","v":0}]
[]
[]
[]
[]
[null,"請求内訳書（出来高・分割納入用）",null,null,null,null,null,null,null,null,null,null,null,null,null,null,null,null,null,null,null,null,null,null,null,null,null,null,null,null,null,null,null,null,null,null,null,null,null,null,null,null,null,null,null,null,null,null,null,null,"No."]
[]
[]
[]
[]
[]
[]
[]
[]
[]
[null,"製造番号",null,null,null,null,{"$f":"Y22","v":""},null,null,null,null,null,null,null,null,null,null,null,null,null,null,null,null,"※科目"]
[]
[]
[null,"注文番号",null,null,null,null,{"$f":"Y25","v":""},null,null,null,null,null,null,null,null,"第",null,{"$f":"AJ23","v":8},null,"回請求"]
[]
[]
[]
[null,"工　種・品　名",null,null,null,null,null,null,null,null,null,null,null,null,"契　約　金　額",null,null,null,null,null,null,null,null,null,null,null,null,null,"前回までの出来高",null,null,null,null,null,null,null,"今回出来高",null,null,null,null,null,null,null,"残高",null,null,null,null,null,null,null,"備　考"]
[null,null,null,null,null,null,null,null,null,null,null,null,null,null,"単位",null,"数量",null,null,"単価",null,null,null,"金額",null,null,null,null,"数量",null,null,"金額",null,null,null,null,"数量",null,null,"金額",null,null,null,null,"数量",null,null,"金額"]
[42,{"$f":"'見積書 (3)'!F38","v":""},null,null,null,null,null,null,null,null,null,null,null,null,{"$f":"'見積書 (3)'!Q38","v":""},null,{"$f":"'見積書 (3)'!R38","v":""},null,null,{"$f":"'見積書 (3)'!S38","v":""},null,null,null,{"$f":"'見積書 (3)'!T38","v":""},null,null,null,null,{"$f":"IF(Q187=\"\",\"\",'出来高内訳書 (第7回請求)'!AC187+'出来高内訳書 (第7回請求)'!AK187)","v":""},null,null,{"$f":"IF(T187=\"\",\"\",ROUND(T187*AC187,0))","v":""},null,null,null,null,null,null,null,{"$f":"IF(T187=\"\",\"\",ROUND(T187*AK187,0))","v":""},null,null,null,null,{"$f":"IF(Q187=\"\",\"\",ROUND(Q187-AC187-AK187,2))","v":""},null,null,{"$f":"IF(T187=\"\",\"\",(IF(AS187<0,\"出来高が契約を超過\",X187-AN187-AF187)))","v":""}]
[null,{"$f":"'見積書 (3)'!F39","v":""}]
[43,{"$f":"'見積書 (3)'!F40","v":""},null,null,null,null,null,null,null,null,null,null,null,null,{"$f":"'見積書 (3)'!Q40","v":""},null,{"$f":"'見積書 (3)'!R40","v":""},null,null,{"$f":"'見積書 (3)'!S40","v":""},null,null,null,{"$f":"'見積書 (3)'!T40","v":""},null,null,null,null,{"$f":"IF(Q189=\"\",\"\",'出来高内訳書 (第7回請求)'!AC189+'出来高内訳書 (第7回請求)'!AK189)","v":""},null,null,{"$f":"IF(T189=\"\",\"\",ROUND(T189*AC189,0))","v":""},null,null,null,null,null,null,null,{"$f":"IF(T189=\"\",\"\",ROUND(T189*AK189,0))","v":""},null,null,null,null,{"$f":"IF(Q189=\"\",\"\",ROUND(Q189-AC189-AK189,2))","v":""},null,null,{"$f":"IF(T189=\"\",\"\",(IF(AS189<0,\"出来高が契約を超過\",X189-AN189-AF189)))","v":""}]
[null,{"$f":"'見積書 (3)'!F41","v":""}]
[44,{"$f":"'見積書 (3)'!F42","v":""},null,null,null,null,null,null,null,null,null,null,null,null,{"$f":"'見積書 (3)'!Q42","v":""},null,{"$f":"'見積書 (3)'!R42","v":""},null,null,{"$f":"'見積書 (3)'!S42","v":""},null,null,null,{"$f":"'見積書 (3)'!T42","v":""},null,null,null,null,{"$f":"IF(Q191=\"\",\"\",'出来高内訳書 (第7回請求)'!AC191+'出来高内訳書 (第7回請求)'!AK191)","v":""},null,null,{"$f":"IF(T191=\"\",\"\",ROUND(T191*AC191,0))","v":""},null,null,null,null,null,null,null,{"$f":"IF(T191=\"\",\"\",ROUND(T191*AK191,0))","v":""},null,null,null,null,{"$f":"IF(Q191=\"\",\"\",ROUND(Q191-AC191-AK191,2))","v":""},null,null,{"$f":"IF(T191=\"\",\"\",(IF(AS191<0,\"出来高が契約を超過\",X191-AN191-AF191)))","v":""}]
[null,{"$f":"'見積書 (3)'!F43","v":""}]
[45,{"$f":"'見積書 (3)'!F44","v":""},null,null,null,null,null,null,null,null,null,null,null,null,{"$f":"'見積書 (3)'!Q44","v":""},null,{"$f":"'見積書 (3)'!R44","v":""},null,null,{"$f":"'見積書 (3)'!S44","v":""},null,null,null,{"$f":"'見積書 (3)'!T44","v":""},null,null,null,null,{"$f":"IF(Q193=\"\",\"\",'出来高内訳書 (第7回請求)'!AC193+'出来高内訳書 (第7回請求)'!AK193)","v":""},null,null,{"$f":"IF(T193=\"\",\"\",ROUND(T193*AC193,0))","v":""},null,null,null,null,null,null,null,{"$f":"IF(T193=\"\",\"\",ROUND(T193*AK193,0))","v":""},null,null,null,null,{"$f":"IF(Q193=\"\",\"\",ROUND(Q193-AC193-AK193,2))","v":""},null,null,{"$f":"IF(T193=\"\",\"\",(IF(AS193<0,\"出来高が契約を超過\",X193-AN193-AF193)))","v":""}]
[null,{"$f":"'見積書 (3)'!F45","v":""}]
[46,{"$f":"'見積書 (3)'!F46","v":""},null,null,null,null,null,null,null,null,null,null,null,null,{"$f":"'見積書 (3)'!Q46","v":""},null,{"$f":"'見積書 (3)'!R46","v":""},null,null,{"$f":"'見積書 (3)'!S46","v":""},null,null,null,{"$f":"'見積書 (3)'!T46","v":""},null,null,null,null,{"$f":"IF(Q195=\"\",\"\",'出来高内訳書 (第7回請求)'!AC195+'出来高内訳書 (第7回請求)'!AK195)","v":""},null,null,{"$f":"IF(T195=\"\",\"\",ROUND(T195*AC195,0))","v":""},null,null,null,null,null,null,null,{"$f":"IF(T195=\"\",\"\",ROUND(T195*AK195,0))","v":""},null,null,null,null,{"$f":"IF(Q195=\"\",\"\",ROUND(Q195-AC195-AK195,2))","v":""},null,null,{"$f":"IF(T195=\"\",\"\",(IF(AS195<0,\"出来高が契約を超過\",X195-AN195-AF195)))","v":""}]
[null,{"$f":"'見積書 (3)'!F47","v":""}]
[47,{"$f":"'見積書 (3)'!F48","v":""},null,null,null,null,null,null,null,null,null,null,null,null,{"$f":"'見積書 (3)'!Q48","v":""},null,{"$f":"'見積書 (3)'!R48","v":""},null,null,{"$f":"'見積書 (3)'!S48","v":""},null,null,null,{"$f":"'見積書 (3)'!T48","v":""},null,null,null,null,{"$f":"IF(Q197=\"\",\"\",'出来高内訳書 (第7回請求)'!AC197+'出来高内訳書 (第7回請求)'!AK197)","v":""},null,null,{"$f":"IF(T197=\"\",\"\",ROUND(T197*AC197,0))","v":""},null,null,null,null,null,null,null,{"$f":"IF(T197=\"\",\"\",ROUND(T197*AK197,0))","v":""},null,null,null,null,{"$f":"IF(Q197=\"\",\"\",ROUND(Q197-AC197-AK197,2))","v":""},null,null,{"$f":"IF(T197=\"\",\"\",(IF(AS197<0,\"出来高が契約を超過\",X197-AN197-AF197)))","v":""}]
[null,{"$f":"'見積書 (3)'!F49","v":""}]
[48,{"$f":"'見積書 (3)'!F50","v":""},null,null,null,null,null,null,null,null,null,null,null,null,{"$f":"'見積書 (3)'!Q50","v":""},null,{"$f":"'見積書 (3)'!R50","v":""},null,null,{"$f":"'見積書 (3)'!S50","v":""},null,null,null,{"$f":"'見積書 (3)'!T50","v":""},null,null,null,null,{"$f":"IF(Q199=\"\",\"\",'出来高内訳書 (第7回請求)'!AC199+'出来高内訳書 (第7回請求)'!AK199)","v":""},null,null,{"$f":"IF(T199=\"\",\"\",ROUND(T199*AC199,0))","v":""},null,null,null,null,null,null,null,{"$f":"IF(T199=\"\",\"\",ROUND(T199*AK199,0))","v":""},null,null,null,null,{"$f":"IF(Q199=\"\",\"\",ROUND(Q199-AC199-AK199,2))","v":""},null,null,{"$f":"IF(T199=\"\",\"\",(IF(AS199<0,\"出来高が契約を超過\",X199-AN199-AF199)))","v":""}]
[null,{"$f":"'見積書 (3)'!F51","v":""}]
[49,{"$f":"'見積書 (3)'!F52","v":""},null,null,null,null,null,null,null,null,null,null,null,null,{"$f":"'見積書 (3)'!Q52","v":""},null,{"$f":"'見積書 (3)'!R52","v":""},null,null,{"$f":"'見積書 (3)'!S52","v":""},null,null,null,{"$f":"'見積書 (3)'!T52","v":""},null,null,null,null,{"$f":"IF(Q201=\"\",\"\",'出来高内訳書 (第7回請求)'!AC201+'出来高内訳書 (第7回請求)'!AK201)","v":""},null,null,{"$f":"IF(T201=\"\",\"\",ROUND(T201*AC201,0))","v":""},null,null,null,null,null,null,null,{"$f":"IF(T201=\"\",\"\",ROUND(T201*AK201,0))","v":""},null,null,null,null,{"$f":"IF(Q201=\"\",\"\",ROUND(Q201-AC201-AK201,2))","v":""},null,null,{"$f":"IF(T201=\"\",\"\",(IF(AS201<0,\"出来高が契約を超過\",X201-AN201-AF201)))","v":""}]
[null,{"$f":"'見積書 (3)'!F53","v":""}]
[50,{"$f":"'見積書 (3)'!F54","v":""},null,null,null,null,null,null,null,null,null,null,null,null,{"$f":"'見積書 (3)'!Q54","v":""},null,{"$f":"'見積書 (3)'!R54","v":""},null,null,{"$f":"'見積書 (3)'!S54","v":""},null,null,null,{"$f":"'見積書 (3)'!T54","v":""},null,null,null,null,{"$f":"IF(Q203=\"\",\"\",'出来高内訳書 (第7回請求)'!AC203+'出来高内訳書 (第7回請求)'!AK203)","v":""},null,null,{"$f":"IF(T203=\"\",\"\",ROUND(T203*AC203,0))","v":""},null,null,null,null,null,null,null,{"$f":"IF(T203=\"\",\"\",ROUND(T203*AK203,0))","v":""},null,null,null,null,{"$f":"IF(Q203=\"\",\"\",ROUND(Q203-AC203-AK203,2))","v":""},null,null,{"$f":"IF(T203=\"\",\"\",(IF(AS203<0,\"出来高が契約を超過\",X203-AN203-AF203)))","v":""}]
[null,{"$f":"'見積書 (3)'!F55","v":""}]
[51,{"$f":"'見積書 (3)'!F56","v":""},null,null,null,null,null,null,null,null,null,null,null,null,{"$f":"'見積書 (3)'!Q56","v":""},null,{"$f":"'見積書 (3)'!R56","v":""},null,null,{"$f":"'見積書 (3)'!S56","v":""},null,null,null,{"$f":"'見積書 (3)'!T56","v":""},null,null,null,null,{"$f":"IF(Q205=\"\",\"\",'出来高内訳書 (第7回請求)'!AC205+'出来高内訳書 (第7回請求)'!AK205)","v":""},null,null,{"$f":"IF(T205=\"\",\"\",ROUND(T205*AC205,0))","v":""},null,null,null,null,null,null,null,{"$f":"IF(T205=\"\",\"\",ROUND(T205*AK205,0))","v":""},null,null,null,null,{"$f":"IF(Q205=\"\",\"\",ROUND(Q205-AC205-AK205,2))","v":""},null,null,{"$f":"IF(T205=\"\",\"\",(IF(AS205<0,\"出来高が契約を超過\",X205-AN205-AF205)))","v":""}]
[null,{"$f":"'見積書 (3)'!F57","v":""}]
[52,{"$f":"'見積書 (3)'!F58","v":""},null,null,null,null,null,null,null,null,null,null,null,null,{"$f":"'見積書 (3)'!Q58","v":""},null,{"$f":"'見積書 (3)'!R58","v":""},null,null,{"$f":"'見積書 (3)'!S58","v":""},null,null,null,{"$f":"'見積書 (3)'!T58","v":""},null,null,null,null,{"$f":"IF(Q207=\"\",\"\",'出来高内訳書 (第7回請求)'!AC207+'出来高内訳書 (第7回請求)'!AK207)","v":""},null,null,{"$f":"IF(T207=\"\",\"\",ROUND(T207*AC207,0))","v":""},null,null,null,null,null,null,null,{"$f":"IF(T207=\"\",\"\",ROUND(T207*AK207,0))","v":""},null,null,null,null,{"$f":"IF(Q207=\"\",\"\",ROUND(Q207-AC207-AK207,2))","v":""},null,null,{"$f":"IF(T207=\"\",\"\",(IF(AS207<0,\"出来高が契約を超過\",X207-AN207-AF207)))","v":""}]
[null,{"$f":"'見積書 (3)'!F59","v":""}]
[53,{"$f":"'見積書 (3)'!F60","v":""},null,null,null,null,null,null,null,null,null,null,null,null,{"$f":"'見積書 (3)'!Q60","v":""},null,{"$f":"'見積書 (3)'!R60","v":""},null,null,{"$f":"'見積書 (3)'!S60","v":""},null,null,null,{"$f":"'見積書 (3)'!T60","v":""},null,null,null,null,{"$f":"IF(Q209=\"\",\"\",'出来高内訳書 (第7回請求)'!AC209+'出来高内訳書 (第7回請求)'!AK209)","v":""},null,null,{"$f":"IF(T209=\"\",\"\",ROUND(T209*AC209,0))","v":""},null,null,null,null,null,null,null,{"$f":"IF(T209=\"\",\"\",ROUND(T209*AK209,0))","v":""},null,null,null,null,{"$f":"IF(Q209=\"\",\"\",ROUND(Q209-AC209-AK209,2))","v":""},null,null,{"$f":"IF(T209=\"\",\"\",(IF(AS209<0,\"出来高が契約を超過\",X209-AN209-AF209)))","v":""}]
[null,{"$f":"'見積書 (3)'!F61","v":""}]
[54,{"$f":"'見積書 (3)'!F62","v":""},null,null,null,null,null,null,null,null,null,null,null,null,{"$f":"'見積書 (3)'!Q62","v":""},null,{"$f":"'見積書 (3)'!R62","v":""},null,null,{"$f":"'見積書 (3)'!S62","v":""},null,null,null,{"$f":"'見積書 (3)'!T62","v":""},null,null,null,null,{"$f":"IF(Q211=\"\",\"\",'出来高内訳書 (第7回請求)'!AC211+'出来高内訳書 (第7回請求)'!AK211)","v":""},null,null,{"$f":"IF(T211=\"\",\"\",ROUND(T211*AC211,0))","v":""},null,null,null,null,null,null,null,{"$f":"IF(T211=\"\",\"\",ROUND(T211*AK211,0))","v":""},null,null,null,null,{"$f":"IF(Q211=\"\",\"\",ROUND(Q211-AC211-AK211,2))","v":""},null,null,{"$f":"IF(T211=\"\",\"\",(IF(AS211<0,\"出来高が契約を超過\",X211-AN211-AF211)))","v":""}]
[null,{"$f":"'見積書 (3)'!F63","v":""}]
[55,{"$f":"'見積書 (3)'!F64","v":""},null,null,null,null,null,null,null,null,null,null,null,null,{"$f":"'見積書 (3)'!Q64","v":""},null,{"$f":"'見積書 (3)'!R64","v":""},null,null,{"$f":"'見積書 (3)'!S64","v":""},null,null,null,{"$f":"'見積書 (3)'!T64","v":""},null,null,null,null,{"$f":"IF(Q213=\"\",\"\",'出来高内訳書 (第7回請求)'!AC213+'出来高内訳書 (第7回請求)'!AK213)","v":""},null,null,{"$f":"IF(T213=\"\",\"\",ROUND(T213*AC213,0))","v":""},null,null,null,null,null,null,null,{"$f":"IF(T213=\"\",\"\",ROUND(T213*AK213,0))","v":""},null,null,null,null,{"$f":"IF(Q213=\"\",\"\",ROUND(Q213-AC213-AK213,2))","v":""},null,null,{"$f":"IF(T213=\"\",\"\",(IF(AS213<0,\"出来高が契約を超過\",X213-AN213-AF213)))","v":""}]
[null,{"$f":"'見積書 (3)'!F65","v":""}]
[56,{"$f":"'見積書 (3)'!F66","v":""},null,null,null,null,null,null,null,null,null,null,null,null,{"$f":"'見積書 (3)'!Q66","v":""},null,{"$f":"'見積書 (3)'!R66","v":""},null,null,{"$f":"'見積書 (3)'!S66","v":""},null,null,null,{"$f":"'見積書 (3)'!T66","v":""},null,null,null,null,{"$f":"IF(Q215=\"\",\"\",'出来高内訳書 (第7回請求)'!AC215+'出来高内訳書 (第7回請求)'!AK215)","v":""},null,null,{"$f":"IF(T215=\"\",\"\",ROUND(T215*AC215,0))","v":""},null,null,null,null,null,null,null,{"$f":"IF(T215=\"\",\"\",ROUND(T215*AK215,0))","v":""},null,null,null,null,{"$f":"IF(Q215=\"\",\"\",ROUND(Q215-AC215-AK215,2))","v":""},null,null,{"$f":"IF(T215=\"\",\"\",(IF(AS215<0,\"出来高が契約を超過\",X215-AN215-AF215)))","v":""}]
[null,{"$f":"'見積書 (3)'!F67","v":""}]
[null,"小計",null,null,null,null,null,null,null,null,null,null,null,null,null,null,null,null,null,null,null,null,null,{"$f":"SUM(X187:AB216)","v":0},null,null,null,null,null,null,null,{"$f":"SUM(AF187:AJ216)","v":0},null,null,null,null,null,null,null,{"$f":"SUM(AN187:AR216)","v":0},null,null,null,null,null,null,null,{"$f":"X217-AF217-AN217","v":0}]
[]
[]
[]
[]
[null,"請求内訳書（出来高・分割納入用）",null,null,null,null,null,null,null,null,null,null,null,null,null,null,null,null,null,null,null,null,null,null,null,null,null,null,null,null,null,null,null,null,null,null,null,null,null,null,null,null,null,null,null,null,null,null,null,null,"No."]
[]
[]
[]
[]
[]
[]
[]
[]
[]
[null,"製造番号",null,null,null,null,{"$f":"Y22","v":""},null,null,null,null,null,null,null,null,null,null,null,null,null,null,null,null,"※科目"]
[]
[]
[null,"注文番号",null,null,null,null,{"$f":"Y25","v":""},null,null,null,null,null,null,null,null,"第",null,{"$f":"AJ23","v":8},null,"回請求"]
[]
[]
[]
[null,"工　種・品　名",null,null,null,null,null,null,null,null,null,null,null,null,"契　約　金　額",null,null,null,null,null,null,null,null,null,null,null,null,null,"前回までの出来高",null,null,null,null,null,null,null,"今回出来高",null,null,null,null,null,null,null,"残高",null,null,null,null,null,null,null,"備　考"]
[null,null,null,null,null,null,null,null,null,null,null,null,null,null,"単位",null,"数量",null,null,"単価",null,null,null,"金額",null,null,null,null,"数量",null,null,"金額",null,null,null,null,"数量",null,null,"金額",null,null,null,null,"数量",null,null,"金額"]
[57,{"$f":"'見積書 (3)'!F68","v":""},null,null,null,null,null,null,null,null,null,null,null,null,{"$f":"'見積書 (3)'!Q68","v":""},null,{"$f":"'見積書 (3)'!R68","v":""},null,null,{"$f":"'見積書 (3)'!S68","v":""},null,null,null,{"$f":"'見積書 (3)'!T68","v":""},null,null,null,null,{"$f":"IF(Q241=\"\",\"\",'出来高内訳書 (第7回請求)'!AC241+'出来高内訳書 (第7回請求)'!AK241)","v":""},null,null,{"$f":"IF(T241=\"\",\"\",ROUND(T241*AC241,0))","v":""},null,null,null,null,null,null,null,{"$f":"IF(T241=\"\",\"\",ROUND(T241*AK241,0))","v":""},null,null,null,null,{"$f":"IF(Q241=\"\",\"\",ROUND(Q241-AC241-AK241,2))","v":""},null,null,{"$f":"IF(T241=\"\",\"\",(IF(AS241<0,\"出来高が契約を超過\",X241-AN241-AF241)))","v":""}]
[null,{"$f":"'見積書 (3)'!F68","v":""}]
[]
[]
[]
[]
[]
[]
[]
[]
[]
[]
[]
[]
[]
[]
[null,"小計",null,null,null,null,null,null,null,null,null,null,null,null,null,null,null,null,null,null,null,null,null,{"$f":"SUM(X241:AB256)","v":0},null,null,null,null,null,null,null,{"$f":"SUM(AF241:AJ256)","v":0},null,null,null,null,null,null,null,{"$f":"SUM(AN241:AR256)","v":0},null,null,null,null,null,null,null,{"$f":"SUM(AV241:AZ256)","v":0}]

{"sheet":"出来高内訳書 (第9回請求)","index":16,"n_rows":257,"n_cols":53,"rows_kept":257,"cut":false,"hidden":false,"merged":[[240,0,241,0],[240,1,240,13],[240,14,241,15],[240,16,241,18],[240,19,241,22],[240,23,241,27],[240,28,241,30],[240,31,241,35],[240,36,241,38],[240,39,241,43],[240,44,241,46],[240,47,241,51],[240,52,241,54],[212,0,213,0],[212,14,213,15],[212,16,213,18],[212,19,213,22],[212,23,213,27],[212,28,213,30],[212,31,213,35],[212,36,213,38],[212,39,213,43],[212,44,213,46],[212,47,213,51],[212,52,213,54],[214,0,215,0],[214,14,215,15],[214,16,215,18],[214,19,215,22],[214,23,215,27],[214,28,215,30],[214,31,215,35],[208,0,209,0],[208,14,209,15],[208,16,209,18],[208,19,209,22],[208,23,209,27],[208,28,209,30],[208,31,209,35],[208,36,209,38],[208,39,209,43],[208,44,209,46],[208,47,209,51],[208,52,209,54],[210,0,211,0],[210,14,211,15],[210,16,211,18],[210,19,211,22],[210,23,211,27],[210,28,211,30],[210,31,211,35],[210,36,211,38],[210,39,211,43],[210,44,211,46],[210,47,211,51],[210,52,211,54],[204,0,205,0],[204,14,205,15],[204,16,205,18],[204,19,205,22],[204,23,205,27],[204,28,205,30],[204,31,205,35],[204,36,205,38],[204,39,205,43],[204,44,205,46],[204,47,205,51],[204,52,205,54],[206,0,207,0],[206,14,207,15],[206,16,207,18],[206,19,207,22],[206,23,207,27],[206,28,207,30],[206,31,207,35],[206,36,207,38],[206,39,207,43],[206,44,207,46],[206,47,207,51],[206,52,207,54],[205,1,205,13],[204,1,204,13],[200,0,201,0],[200,1,200,13],[200,14,201,15],[200,16,201,18],[200,19,201,22],[200,23,201,27],[200,28,201,30],[200,31,201,35],[200,36,201,38],[200,39,201,43],[200,44,201,46],[200,47,201,51],[200,52,201,54],[202,0,203,0],[202,14,203,15],[202,16,203,18],[202,19,203,22],[202,23,203,27],[202,28,203,30],[202,31,203,35],[202,36,203,38],[202,39,203,43],[202,44,203,46],[202,47,203,51],[202,52,203,54],[203,1,203,13],[202,1,202,13],[201,1,201,13],[196,0,197,0],[196,1,196,13],[196,14,197,15],[196,16,197,18],[196,19,197,22],[196,23,197,27],[196,28,197,30],[196,31,197,35],[196,36,197,38],[196,39,197,43],[196,44,197,46],[196,47,197,51],[196,52,197,54],[197,1,197,13],[198,0,199,0],[198,1,198,13],[198,14,199,15],[198,16,199,18],[198,19,199,22],[198,23,199,27],[198,28,199,30],[198,31,199,35],[198,36,199,38],[198,39,199,43],[198,44,199,46],[198,47,199,51],[198,52,199,54],[199,1,199,13],[192,0,193,0],[192,1,192,13],[192,14,193,15],[192,16,193,18],[192,19,193,22],[192,23,193,27],[192,28,193,30],[192,31,193,35],[192,36,193,38],[192,39,193,43],[192,44,193,46],[192,47,193,51],[192,52,193,54],[193,1,193,13],[194,0,195,0],[194,1,194,13],[194,14,195,15],[194,16,195,18],[194,19,195,22],[194,23,195,27],[194,28,195,30],[194,31,195,35],[194,36,195,38],[194,39,195,43],[194,44,195,46],[194,47,195,51],[194,52,195,54],[195,1,195,13],[188,0,189,0],[188,1,188,13],[188,14,189,15],[188,16,189,18],[188,19,189,22],[188,23,189,27],[188,28,189,30],[188,31,189,35],[188,36,189,38],[188,39,189,43],[188,44,189,46],[188,47,189,51],[188,52,189,54],[189,1,189,13],[190,0,191,0],[190,1,190,13],[190,14,191,15],[190,16,191,18],[190,19,191,22],[190,23,191,27],[190,28,191,30],[190,31,191,35],[190,36,191,38],[190,39,191,43],[190,44,191,46],[190,47,191,51],[190,52,191,54],[191,1,191,13],[160,0,161,0],[160,14,161,15],[160,16,161,18],[160,19,161,22],[160,23,161,27],[160,28,161,30],[160,31,161,35],[160,36,161,38],[160,39,161,43],[160,44,161,46],[160,47,161,51],[160,52,161,54],[186,0,187,0],[186,1,186,13],[186,14,187,15],[186,16,187,18],[186,19,187,22],[186,23,187,27],[186,28,187,30],[186,31,187,35],[186,36,187,38],[186,39,187,43],[186,44,187,46],[186,47,187,51],[186,52,187,54],[187,1,187,13],[185,44,185,46],[185,47,185,51],[184,44,184,51],[184,52,185,54],[185,14,185,15],[185,16,185,18],[156,0,157,0],[156,14,157,15],[156,16,157,18],[156,19,157,22],[156,23,157,27],[156,28,157,30],[156,31,157,35],[156,36,157,38],[156,39,157,43],[156,44,157,46],[156,47,157,51],[156,52,157,54],[158,0,159,0],[158,14,159,15],[158,16,159,18],[158,19,159,22],[158,23,159,27],[158,28,159,30],[158,31,159,35],[158,36,159,38],[158,39,159,43],[158,44,159,46],[158,47,159,51],[158,52,159,54],[156,1,156,13],[152,0,153,0],[152,14,153,15],[152,16,153,18],[152,19,153,22],[152,23,153,27],[152,28,153,30],[152,31,153,35],[152,36,153,38],[152,39,153,43],[152,44,153,46],[152,47,153,51],[152,52,153,54],[154,0,155,0],[154,14,155,15],[154,16,155,18],[154,19,155,22],[154,23,155,27],[154,28,155,30],[154,31,155,35],[154,36,155,38],[154,39,155,43],[154,44,155,46],[154,47,155,51],[154,52,155,54],[155,1,155,13],[154,1,154,13],[153,1,153,13],[152,1,152,13],[148,0,149,0],[148,14,149,15],[148,16,149,18],[148,19,149,22],[148,23,149,27],[148,28,149,30],[148,31,149,35],[148,36,149,38],[148,39,149,43],[148,44,149,46],[148,47,149,51],[148,52,149,54],[150,0,151,0],[150,14,151,15],[150,16,151,18],[150,19,151,22],[150,23,151,27],[150,28,151,30],[150,31,151,35],[150,36,151,38],[150,39,151,43],[150,44,151,46],[150,47,151,51],[150,52,151,54],[151,1,151,13],[150,1,150,13],[149,1,149,13],[148,1,148,13],[144,0,145,0],[144,1,144,13],[144,14,145,15],[144,16,145,18],[144,19,145,22],[144,23,145,27],[144,28,145,30],[144,31,145,35],[144,36,145,38],[144,39,145,43],[144,44,145,46],[144,47,145,51],[144,52,145,54],[145,1,145,13],[146,0,147,0],[146,1,146,13],[146,14,147,15],[146,16,147,18],[146,19,147,22],[146,23,147,27],[146,28,147,30],[146,31,147,35],[146,36,147,38],[146,39,147,43],[146,44,147,46],[146,47,147,51],[146,52,147,54],[140,0,141,0],[140,1,140,13],[140,14,141,15],[140,16,141,18],[140,19,141,22],[140,23,141,27],[140,28,141,30],[140,31,141,35],[140,36,141,38],[140,39,141,43],[140,44,141,46],[140,47,141,51],[140,52,141,54],[141,1,141,13],[142,0,143,0],[142,1,142,13],[142,14,143,15],[142,16,143,18],[142,19,143,22],[142,23,143,27],[142,28,143,30],[142,31,143,35],[142,36,143,38],[142,39,143,43],[142,44,143,46],[142,47,143,51],[142,52,143,54],[143,1,143,13],[136,0,137,0],[136,1,136,13],[136,14,137,15],[136,16,137,18],[136,19,137,22],[136,23,137,27],[136,28,137,30],[136,31,137,35],[136,36,137,38],[136,39,137,43],[136,44,137,46],[136,47,137,51],[136,52,137,54],[137,1,137,13],[138,0,139,0],[138,1,138,13],[138,14,139,15],[138,16,139,18],[138,19,139,22],[138,23,139,27],[138,28,139,30],[138,31,139,35],[138,36,139,38],[138,39,139,43],[138,44,139,46],[138,47,139,51],[138,52,139,54],[139,1,139,13],[132,0,133,0],[132,1,132,13],[132,14,133,15],[132,16,133,18],[132,19,133,22],[132,23,133,27],[132,28,133,30],[132,31,133,35],[132,36,133,38],[132,39,133,43],[132,44,133,46],[132,47,133,51],[132,52,133,54],[133,1,133,13],[134,0,135,0],[134,1,134,13],[134,14,135,15],[134,16,135,18],[134,19,135,22],[134,23,135,27],[134,28,135,30],[134,31,135,35],[134,36,135,38],[134,39,135,43],[134,44,135,46],[134,47,135,51],[134,52,135,54],[135,1,135,13],[104,0,105,0],[104,14,105,15],[104,16,105,18],[104,19,105,22],[104,23,105,27],[104,28,105,30],[104,31,105,35],[104,36,105,38],[104,39,105,43],[104,44,105,46],[104,47,105,51],[104,52,105,54],[106,0,107,0],[106,14,107,15],[106,16,107,18],[106,19,107,22],[106,23,107,27],[106,28,107,30],[106,31,107,35],[106,36,107,38],[106,39,107,43],[106,44,107,46],[106,47,107,51],[106,52,107,54],[107,1,107,13],[106,1,106,13],[105,1,105,13],[104,1,104,13],[100,0,101,0],[100,14,101,15],[100,16,101,18],[100,19,101,22],[100,23,101,27],[100,28,101,30],[100,31,101,35],[100,36,101,38],[100,39,101,43],[100,44,101,46],[100,47,101,51],[100,52,101,54],[102,0,103,0],[102,14,103,15],[102,16,103,18],[102,19,103,22],[102,23,103,27],[102,28,103,30],[102,31,103,35],[102,36,103,38],[102,39,103,43],[102,44,103,46],[102,47,103,51],[102,52,103,54],[103,1,103,13],[102,1,102,13],[101,1,101,13],[100,1,100,13],[96,0,97,0],[96,14,97,15],[96,16,97,18],[96,19,97,22],[96,23,97,27],[96,28,97,30],[96,31,97,35],[96,36,97,38],[96,39,97,43],[96,44,97,46],[96,47,97,51],[96,52,97,54],[98,0,99,0],[98,14,99,15],[98,16,99,18],[98,19,99,22],[98,23,99,27],[98,28,99,30],[98,31,99,35],[98,36,99,38],[98,39,99,43],[98,44,99,46],[98,47,99,51],[98,52,99,54],[99,1,99,13],[98,1,98,13],[97,1,97,13],[96,1,96,13],[92,0,93,0],[92,1,92,13],[92,14,93,15],[92,16,93,18],[92,19,93,22],[92,23,93,27],[92,28,93,30],[92,31,93,35],[92,36,93,38],[92,39,93,43],[92,44,93,46],[92,47,93,51],[92,52,93,54],[94,0,95,0],[94,14,95,15],[94,16,95,18],[94,19,95,22],[94,23,95,27],[94,28,95,30],[94,31,95,35],[94,36,95,38],[94,39,95,43],[94,44,95,46],[94,47,95,51],[94,52,95,54],[95,1,95,13],[94,1,94,13],[93,1,93,13],[88,0,89,0],[88,1,88,13],[88,14,89,15],[88,16,89,18],[88,19,89,22],[88,23,89,27],[88,28,89,30],[88,31,89,35],[88,36,89,38],[88,39,89,43],[88,44,89,46],[88,47,89,51],[88,52,89,54],[89,1,89,13],[90,0,91,0],[90,1,90,13],[90,14,91,15],[90,16,91,18],[90,19,91,22],[90,23,91,27],[90,28,91,30],[90,31,91,35],[90,36,91,38],[90,39,91,43],[90,44,91,46],[90,47,91,51],[90,52,91,54],[91,1,91,13],[84,0,85,0],[84,1,84,13],[84,14,85,15],[84,16,85,18],[84,19,85,22],[84,23,85,27],[84,28,85,30],[84,31,85,35],[84,36,85,38],[84,39,85,43],[84,44,85,46],[84,47,85,51],[84,52,85,54],[85,1,85,13],[86,0,87,0],[86,1,86,13],[86,14,87,15],[86,16,87,18],[86,19,87,22],[86,23,87,27],[86,28,87,30],[86,31,87,35],[86,36,87,38],[86,39,87,43],[86,44,87,46],[86,47,87,51],[86,52,87,54],[87,1,87,13],[80,0,81,0],[80,1,80,13],[80,14,81,15],[80,16,81,18],[80,19,81,22],[80,23,81,27],[80,28,81,30],[80,31,81,35],[80,36,81,38],[80,39,81,43],[80,44,81,46],[80,47,81,51],[80,52,81,54],[81,1,81,13],[82,0,83,0],[82,1,82,13],[82,14,83,15],[82,16,83,18],[82,19,83,22],[82,23,83,27],[82,28,83,30],[82,31,83,35],[82,36,83,38],[82,39,83,43],[82,44,83,46],[82,47,83,51],[82,52,83,54],[83,1,83,13],[55,0,56,0],[55,14,56,15],[55,16,56,18],[55,19,56,22],[55,23,56,27],[55,28,56,30],[55,31,56,35],[55,36,56,38],[55,39,56,43],[55,44,56,46],[55,47,56,51],[55,52,56,54],[78,0,79,0],[78,1,78,13],[78,14,79,15],[78,16,79,18],[78,19,79,22],[78,23,79,27],[78,28,79,30],[78,31,79,35],[78,36,79,38],[78,39,79,43],[78,44,79,46],[78,47,79,51],[78,52,79,54],[79,1,79,13],[77,44,77,46],[77,47,77,51],[76,44,76,51],[76,52,77,54],[77,14,77,15],[77,16,77,18],[51,0,52,0],[51,14,52,15],[51,16,52,18],[51,19,52,22],[51,23,52,27],[51,28,52,30],[51,31,52,35],[51,36,52,38],[51,39,52,43],[51,44,52,46],[51,47,52,51],[51,52,52,54],[53,0,54,0],[53,14,54,15],[53,16,54,18],[53,19,54,22],[53,23,54,27],[53,28,54,30],[53,31,54,35],[53,36,54,38],[53,39,54,43],[53,44,54,46],[53,47,54,51],[53,52,54,54],[51,1,51,13],[47,0,48,0],[47,14,48,15],[47,16,48,18],[47,19,48,22],[47,23,48,27],[47,28,48,30],[47,31,48,35],[47,36,48,38],[47,39,48,43],[47,44,48,46],[47,47,48,51],[47,52,48,54],[49,0,50,0],[49,14,50,15],[49,16,50,18],[49,19,50,22],[49,23,50,27],[49,28,50,30],[49,31,50,35],[49,36,50,38],[49,39,50,43],[49,44,50,46],[49,47,50,51],[49,52,50,54],[50,1,50,13],[49,1,49,13],[48,1,48,13],[47,1,47,13],[43,0,44,0],[43,1,43,13],[43,14,44,15],[43,16,44,18],[43,19,44,22],[43,23,44,27],[43,28,44,30],[43,31,44,35],[43,36,44,38],[43,39,44,43],[43,44,44,46],[43,47,44,51],[43,52,44,54],[44,1,44,13],[45,0,46,0],[45,1,45,13],[45,14,46,15],[45,16,46,18],[45,19,46,22],[45,23,46,27],[45,28,46,30],[45,31,46,35],[45,36,46,38],[45,39,46,43],[45,44,46,46],[45,47,46,51],[45,52,46,54],[46,1,46,13],[39,0,40,0],[39,1,39,13],[39,14,40,15],[39,16,40,18],[39,19,40,22],[39,23,40,27],[39,28,40,30],[39,31,40,35],[39,36,40,38],[39,39,40,43],[39,44,40,46],[39,47,40,51],[39,52,40,54],[40,1,40,13],[41,0,42,0],[41,1,41,13],[41,14,42,15],[41,16,42,18],[41,19,42,22],[41,23,42,27],[41,28,42,30],[41,31,42,35],[41,36,42,38],[41,39,42,43],[41,44,42,46],[41,47,42,51],[41,52,42,54],[42,1,42,13],[35,0,36,0],[35,1,35,13],[35,14,36,15],[35,16,36,18],[35,19,36,22],[35,23,36,27],[35,28,36,30],[35,31,36,35],[35,36,36,38],[35,39,36,43],[35,44,36,46],[35,47,36,51],[35,52,36,54],[36,1,36,13],[37,0,38,0],[37,1,37,13],[37,14,38,15],[37,16,38,18],[37,19,38,22],[37,23,38,27],[37,28,38,30],[37,31,38,35],[37,36,38,38],[37,39,38,43],[37,44,38,46],[37,47,38,51],[37,52,38,54],[38,1,38,13],[256,31,256,35],[256,36,256,38],[256,39,256,43],[256,44,256,46],[256,47,256,51],[256,52,256,54],[256,1,256,13],[256,14,256,15],[256,16,256,18],[256,19,256,22],[256,23,256,27],[256,28,256,30],[255,31,255,35],[255,36,255,38],[255,39,255,43],[255,44,255,46],[255,47,255,51],[255,52,255,54],[255,1,255,13],[255,14,255,15],[255,16,255,18],[255,19,255,22],[255,23,255,27],[255,28,255,30],[254,31,254,35],[254,36,254,38],[254,39,254,43],[254,44,254,46],[254,47,254,51],[254,52,254,54],[254,1,254,13],[254,14,254,15],[254,16,254,18],[254,19,254,22],[254,23,254,27],[254,28,254,30],[253,31,253,35],[253,36,253,38],[253,39,253,43],[253,44,253,46],[253,47,253,51],[253,52,253,54],[253,1,253,13],[253,14,253,15],[253,16,253,18],[253,19,253,22],[253,23,253,27],[253,28,253,30],[252,31,252,35],[252,36,252,38],[252,39,252,43],[252,44,252,46],[252,47,252,51],[252,52,252,54],[252,1,252,13],[252,14,252,15],[252,16,252,18],[252,19,252,22],[252,23,252,27],[252,28,252,30],[251,31,251,35],[251,36,251,38],[251,39,251,43],[251,44,251,46],[251,47,251,51],[251,52,251,54],[251,1,251,13],[251,14,251,15],[251,16,251,18],[251,19,251,22],[251,23,251,27],[251,28,251,30],[250,31,250,35],[250,36,250,38],[250,39,250,43],[250,44,250,46],[250,47,250,51],[250,52,250,54],[250,1,250,13],[250,14,250,15],[250,16,250,18],[250,19,250,22],[250,23,250,27],[250,28,250,30],[249,31,249,35],[249,36,249,38],[249,39,249,43],[249,44,249,46],[249,47,249,51],[249,52,249,54],[249,1,249,13],[249,14,249,15],[249,16,249,18],[249,19,249,22],[249,23,249,27],[249,28,249,30],[248,31,248,35],[248,36,248,38],[248,39,248,43],[248,44,248,46],[248,47,248,51],[248,52,248,54],[248,1,248,13],[248,14,248,15],[248,16,248,18],[248,19,248,22],[248,23,248,27],[248,28,248,30],[247,31,247,35],[247,36,247,38],[247,39,247,43],[247,44,247,46],[247,47,247,51],[247,52,247,54],[247,1,247,13],[247,14,247,15],[247,16,247,18],[247,19,247,22],[247,23,247,27],[247,28,247,30],[246,31,246,35],[246,36,246,38],[246,39,246,43],[246,44,246,46],[246,47,246,51],[246,52,246,54],[246,1,246,13],[246,14,246,15],[246,16,246,18],[246,19,246,22],[246,23,246,27],[246,28,246,30],[245,31,245,35],[245,36,245,38],[245,39,245,43],[245,44,245,46],[245,47,245,51],[245,52,245,54],[245,1,245,13],[245,14,245,15],[245,16,245,18],[245,19,245,22],[245,23,245,27],[245,28,245,30],[244,31,244,35],[244,36,244,38],[244,39,244,43],[244,44,244,46],[244,47,244,51],[244,52,244,54],[244,1,244,13],[244,14,244,15],[244,16,244,18],[244,19,244,22],[244,23,244,27],[244,28,244,30],[243,31,243,35],[243,36,243,38],[243,39,243,43],[243,44,243,46],[243,47,243,51],[243,52,243,54],[243,1,243,13],[243,14,243,15],[243,16,243,18],[243,19,243,22],[243,23,243,27],[243,28,243,30],[242,31,242,35],[242,36,242,38],[242,39,242,43],[242,44,242,46],[242,47,242,51],[242,52,242,54],[242,1,242,13],[242,14,242,15],[242,16,242,18],[242,19,242,22],[242,23,242,27],[242,28,242,30],[239,44,239,46],[239,47,239,51],[241,1,241,13],[238,44,238,51],[238,52,239,54],[239,14,239,15],[239,16,239,18],[239,19,239,22],[239,23,239,27],[239,28,239,30],[239,31,239,35],[239,36,239,38],[239,39,239,43],[234,19,236,22],[234,24,236,29],[238,1,239,13],[238,14,238,27],[238,28,238,35],[238,36,238,43],[221,1,227,17],[221,50,223,50],[231,1,233,5],[231,6,233,13],[231,23,236,23],[231,24,233,29],[234,1,236,5],[234,6,236,13],[234,15,236,16],[234,17,236,18],[216,31,216,35],[216,36,216,38],[216,39,216,43],[216,44,216,46],[216,47,216,51],[216,52,216,54],[216,1,216,13],[216,14,216,15]],"merged_total":1200,"flags":["merged_cut"]}
[null,null,null,null,null,null,null,null,"請 求 書（出来高・分割納入用）",null,null,null,null,null,null,null,null,null,null,null,null,null,null,null,null,null,null,null,null,null,null,null,null,null,null,null,null,null,null,null,null,null,null,null,null,null,null,null,null,null,"No."]
[null,null,null,null,null,null,null,null,null,null,null,null,null,null,null,null,null,null,null,null,null,null,null,null,null,null,null,null,null,null,null,null,null,null,null,null,null,null,null,"日付",null,null,null,null,"年",null,"月",null,"日"]
[]
[]
[null,null,null,null,null,null,null,null,null,null,null,null,null,null,null,null,null,null,null,null,null,null,null,null,null,null,null,null,null,null,null,null,null,null,null,null,null,"請求者住所･氏名･印･電話",null,null,null,null,null,"取引先コード",null,null,null,null,{"$f":"入力フォーム!B3","v":0}]
[]
[null,null,null,null,null,null,null,null,null,null,null,null,null,null,null,null,null,"御中"]
[null,null,null,null,null,null,null,null,null,null,null,null,null,null,null,null,null,null,null,null,null,null,null,null,null,null,null,null,null,null,null,null,null,null,null,null,null,{"$f":"\"登録番号\"&\" \"&入力フォーム!B4","v":"登録番号 "}]
[]
[]
[]
[null,"下記の通り請求いたします。"]
[]
[]
[null,null,null,"月分請求内訳書",null,null,null,null,null,null,null,"枚 (本用紙を含む)"]
[]
[]
[null,"請 求 金 額",null,null,null,null,{"$f":"SUM(G23:P32)","v":0}]
[]
[]
[]
[null,null,null,null,null,null,null,null,null,null,null,null,null,null,null,null,null,null,null,"製造番号",null,null,null,null,{"$f":"見積書!$B$47","v":""}]
[null,"内　訳","税抜金額",null,null,null,{"$f":"AN58+AN109+AN163+AN217+AN257","v":0},null,null,null,null,null,null,null,null,null,null,null,null,null,null,null,null,null,null,null,null,null,null,null,null,null,null,"第",null,9,null,"回請求"]
[]
[null,null,null,null,null,null,null,null,null,null,null,null,null,null,null,null,null,null,null,"注文番号",null,null,null,null,{"$f":"IF('出来高内訳書 (第1回請求)'!Y25=\"\",\"\",'出来高内訳書 (第1回請求)'!Y25)","v":""}]
[]
[null,null,null,null,null,null,null,null,null,null,null,null,null,null,null,null,null,null,null,null,null,null,null,null,null,null,null,null,null,null,null,null,null,null,"※科目"]
[null,null,"消費税額等",null,null,null,{"$f":"IF(AC28=\"10％\",ROUNDDOWN(G23*10%,0),IF(AC28=\"(軽)8%\",ROUNDDOWN(G23*8%,0),0))","v":0},null,null,null,null,null,null,null,null,null,null,null,null,"消費税率",null,null,null,null,null,null,null,null,{"$f":"入力フォーム!B10","v":"10％"}]
[]
[]
[]
[]
[]
[null,"工　種・品　名",null,null,null,null,null,null,null,null,null,null,null,null,"契　約　金　額",null,null,null,null,null,null,null,null,null,null,null,null,null,"前回までの出来高",null,null,null,null,null,null,null,"今回出来高",null,null,null,null,null,null,null,"残高",null,null,null,null,null,null,null,"備　考"]
[null,null,null,null,null,null,null,null,null,null,null,null,null,null,"単位",null,"数量",null,null,"単価",null,null,null,"金額",null,null,null,null,"数量",null,null,"金額",null,null,null,null,"数量",null,null,"金額",null,null,null,null,"数量",null,null,"金額"]
[1,{"$f":"見積書!F61","v":""},null,null,null,null,null,null,null,null,null,null,null,null,{"$f":"見積書!Q61","v":""},null,{"$f":"見積書!R61","v":""},null,null,{"$f":"見積書!S61","v":""},null,null,null,{"$f":"見積書!T61","v":""},null,null,null,null,{"$f":"IF(Q36=\"\",\"\",'出来高内訳書 (第8回請求)'!AC36+'出来高内訳書 (第8回請求)'!AK36)","v":""},null,null,{"$f":"IF(T36=\"\",\"\",ROUND(T36*AC36,0))","v":""},null,null,null,null,null,null,null,{"$f":"IF(T36=\"\",\"\",ROUND(T36*AK36,0))","v":""},null,null,null,null,{"$f":"IF(Q36=\"\",\"\",ROUND(Q36-AC36-AK36,2))","v":""},null,null,{"$f":"IF(T36=\"\",\"\",(IF(AS36<0,\"出来高が契約を超過\",X36-AN36-AF36)))","v":""}]
[null,{"$f":"見積書!F62","v":""}]
[2,{"$f":"見積書!F63","v":""},null,null,null,null,null,null,null,null,null,null,null,null,{"$f":"見積書!Q63","v":""},null,{"$f":"見積書!R63","v":""},null,null,{"$f":"見積書!S63","v":""},null,null,null,{"$f":"見積書!T63","v":""},null,null,null,null,{"$f":"IF(Q38=\"\",\"\",'出来高内訳書 (第8回請求)'!AC38+'出来高内訳書 (第8回請求)'!AK38)","v":""},null,null,{"$f":"IF(T38=\"\",\"\",ROUND(T38*AC38,0))","v":""},null,null,null,null,null,null,null,{"$f":"IF(T38=\"\",\"\",ROUND(T38*AK38,0))","v":""},null,null,null,null,{"$f":"IF(Q38=\"\",\"\",ROUND(Q38-AC38-AK38,2))","v":""},null,null,{"$f":"IF(T38=\"\",\"\",(IF(AS38<0,\"出来高が契約を超過\",X38-AN38-AF38)))","v":""}]
[null,{"$f":"見積書!F64","v":""}]
[3,{"$f":"見積書!F65","v":""},null,null,null,null,null,null,null,null,null,null,null,null,{"$f":"見積書!Q65","v":""},null,{"$f":"見積書!R65","v":""},null,null,{"$f":"見積書!S65","v":""},null,null,null,{"$f":"見積書!T65","v":""},null,null,null,null,{"$f":"IF(Q40=\"\",\"\",'出来高内訳書 (第8回請求)'!AC40+'出来高内訳書 (第8回請求)'!AK40)","v":""},null,null,{"$f":"IF(T40=\"\",\"\",ROUND(T40*AC40,0))","v":""},null,null,null,null,null,null,null,{"$f":"IF(T40=\"\",\"\",ROUND(T40*AK40,0))","v":""},null,null,null,null,{"$f":"IF(Q40=\"\",\"\",ROUND(Q40-AC40-AK40,2))","v":""},null,null,{"$f":"IF(T40=\"\",\"\",(IF(AS40<0,\"出来高が契約を超過\",X40-AN40-AF40)))","v":""}]
[null,{"$f":"見積書!F66","v":""}]
[4,{"$f":"見積書!F67","v":""},null,null,null,null,null,null,null,null,null,null,null,null,{"$f":"見積書!Q67","v":""},null,{"$f":"見積書!R67","v":""},null,null,{"$f":"見積書!S67","v":""},null,null,null,{"$f":"見積書!T67","v":""},null,null,null,null,{"$f":"IF(Q42=\"\",\"\",'出来高内訳書 (第8回請求)'!AC42+'出来高内訳書 (第8回請求)'!AK42)","v":""},null,null,{"$f":"IF(T42=\"\",\"\",ROUND(T42*AC42,0))","v":""},null,null,null,null,null,null,null,{"$f":"IF(T42=\"\",\"\",ROUND(T42*AK42,0))","v":""},null,null,null,null,{"$f":"IF(Q42=\"\",\"\",ROUND(Q42-AC42-AK42,2))","v":""},null,null,{"$f":"IF(T42=\"\",\"\",(IF(AS42<0,\"出来高が契約を超過\",X42-AN42-AF42)))","v":""}]
[null,{"$f":"見積書!F68","v":""}]
[5,{"$f":"見積書!F69","v":""},null,null,null,null,null,null,null,null,null,null,null,null,{"$f":"見積書!Q69","v":""},null,{"$f":"見積書!R69","v":""},null,null,{"$f":"見積書!S69","v":""},null,null,null,{"$f":"見積書!T69","v":""},null,null,null,null,{"$f":"IF(Q44=\"\",\"\",'出来高内訳書 (第8回請求)'!AC44+'出来高内訳書 (第8回請求)'!AK44)","v":""},null,null,{"$f":"IF(T44=\"\",\"\",ROUND(T44*AC44,0))","v":""},null,null,null,null,null,null,null,{"$f":"IF(T44=\"\",\"\",ROUND(T44*AK44,0))","v":""},null,null,null,null,{"$f":"IF(Q44=\"\",\"\",ROUND(Q44-AC44-AK44,2))","v":""},null,null,{"$f":"IF(T44=\"\",\"\",(IF(AS44<0,\"出来高が契約を超過\",X44-AN44-AF44)))","v":""}]
[null,{"$f":"見積書!F70","v":""}]
[6,{"$f":"見積書!F71","v":""},null,null,null,null,null,null,null,null,null,null,null,null,{"$f":"見積書!Q71","v":""},null,{"$f":"見積書!R71","v":""},null,null,{"$f":"見積書!S71","v":""},null,null,null,{"$f":"見積書!T71","v":""},null,null,null,null,{"$f":"IF(Q46=\"\",\"\",'出来高内訳書 (第8回請求)'!AC46+'出来高内訳書 (第8回請求)'!AK46)","v":""},null,null,{"$f":"IF(T46=\"\",\"\",ROUND(T46*AC46,0))","v":""},null,null,null,null,null,null,null,{"$f":"IF(T46=\"\",\"\",ROUND(T46*AK46,0))","v":""},null,null,null,null,{"$f":"IF(Q46=\"\",\"\",ROUND(Q46-AC46-AK46,2))","v":""},null,null,{"$f":"IF(T46=\"\",\"\",(IF(AS46<0,\"出来高が契約を超過\",X46-AN46-AF46)))","v":""}]
[null,{"$f":"見積書!F72","v":""}]
[7,{"$f":"見積書!F73","v":""},null,null,null,null,null,null,null,null,null,null,null,null,{"$f":"見積書!Q73","v":""},null,{"$f":"見積書!R73","v":""},null,null,{"$f":"見積書!S73","v":""},null,null,null,{"$f":"見積書!T73","v":""},null,null,null,null,{"$f":"IF(Q48=\"\",\"\",'出来高内訳書 (第8回請求)'!AC48+'出来高内訳書 (第8回請求)'!AK48)","v":""},null,null,{"$f":"IF(T48=\"\",\"\",ROUND(T48*AC48,0))","v":""},null,null,null,null,null,null,null,{"$f":"IF(T48=\"\",\"\",ROUND(T48*AK48,0))","v":""},null,null,null,null,{"$f":"IF(Q48=\"\",\"\",ROUND(Q48-AC48-AK48,2))","v":""},null,null,{"$f":"IF(T48=\"\",\"\",(IF(AS48<0,\"出来高が契約を超過\",X48-AN48-AF48)))","v":""}]
[null,{"$f":"見積書!F74","v":""}]
[8,{"$f":"見積書!F75","v":""},null,null,null,null,null,null,null,null,null,null,null,null,{"$f":"見積書!Q75","v":""},null,{"$f":"見積書!R75","v":""},null,null,{"$f":"見積書!S75","v":""},null,null,null,{"$f":"見積書!T75","v":""},null,null,null,null,{"$f":"IF(Q50=\"\",\"\",'出来高内訳書 (第8回請求)'!AC50+'出来高内訳書 (第8回請求)'!AK50)","v":""},null,null,{"$f":"IF(T50=\"\",\"\",ROUND(T50*AC50,0))","v":""},null,null,null,null,null,null,null,{"$f":"IF(T50=\"\",\"\",ROUND(T50*AK50,0))","v":""},null,null,null,null,{"$f":"IF(Q50=\"\",\"\",ROUND(Q50-AC50-AK50,2))","v":""},null,null,{"$f":"IF(T50=\"\",\"\",(IF(AS50<0,\"出来高が契約を超過\",X50-AN50-AF50)))","v":""}]
[null,{"$f":"見積書!F76","v":""}]
[9,{"$f":"見積書!F77","v":""},null,null,null,null,null,null,null,null,null,null,null,null,{"$f":"見積書!Q77","v":""},null,{"$f":"見積書!R77","v":""},null,null,{"$f":"見積書!S77","v":""},null,null,null,{"$f":"見積書!T77","v":""},null,null,null,null,{"$f":"IF(Q52=\"\",\"\",'出来高内訳書 (第8回請求)'!AC52+'出来高内訳書 (第8回請求)'!AK52)","v":""},null,null,{"$f":"IF(T52=\"\",\"\",ROUND(T52*AC52,0))","v":""},null,null,null,null,null,null,null,{"$f":"IF(T52=\"\",\"\",ROUND(T52*AK52,0))","v":""},null,null,null,null,{"$f":"IF(Q52=\"\",\"\",ROUND(Q52-AC52-AK52,2))","v":""},null,null,{"$f":"IF(T52=\"\",\"\",(IF(AS52<0,\"出来高が契約を超過\",X52-AN52-AF52)))","v":""}]
[null,{"$f":"見積書!F78","v":""}]
[10,{"$f":"見積書!F79","v":""},null,null,null,null,null,null,null,null,null,null,null,null,{"$f":"見積書!Q79","v":""},null,{"$f":"見積書!R79","v":""},null,null,{"$f":"見積書!S79","v":""},null,null,null,{"$f":"見積書!T79","v":""},null,null,null,null,{"$f":"IF(Q54=\"\",\"\",'出来高内訳書 (第8回請求)'!AC54+'出来高内訳書 (第8回請求)'!AK54)","v":""},null,null,{"$f":"IF(T54=\"\",\"\",ROUND(T54*AC54,0))","v":""},null,null,null,null,null,null,null,{"$f":"IF(T54=\"\",\"\",ROUND(T54*AK54,0))","v":""},null,null,null,null,{"$f":"IF(Q54=\"\",\"\",ROUND(Q54-AC54-AK54,2))","v":""},null,null,{"$f":"IF(T54=\"\",\"\",(IF(AS54<0,\"出来高が契約を超過\",X54-AN54-AF54)))","v":""}]
[null,{"$f":"見積書!F80","v":""}]
[11,{"$f":"見積書!F81","v":""},null,null,null,null,null,null,null,null,null,null,null,null,{"$f":"見積書!Q81","v":""},null,{"$f":"見積書!R81","v":""},null,null,{"$f":"見積書!S81","v":""},null,null,null,{"$f":"見積書!T81","v":""},null,null,null,null,{"$f":"IF(Q56=\"\",\"\",'出来高内訳書 (第8回請求)'!AC56+'出来高内訳書 (第8回請求)'!AK56)","v":""},null,null,{"$f":"IF(T56=\"\",\"\",ROUND(T56*AC56,0))","v":""},null,null,null,null,null,null,null,{"$f":"IF(T56=\"\",\"\",ROUND(T56*AK56,0))","v":""},null,null,null,null,{"$f":"IF(Q56=\"\",\"\",ROUND(Q56-AC56-AK56,2))","v":""},null,null,{"$f":"IF(T56=\"\",\"\",(IF(AS56<0,\"出来高が契約を超過\",X56-AN56-AF56)))","v":""}]
[null,{"$f":"見積書!F82","v":""}]
[null,"小計",null,null,null,null,null,null,null,null,null,null,null,null,null,null,null,null,null,null,null,null,null,{"$f":"SUM(X36:AB57)","v":0},null,null,null,null,null,null,null,{"$f":"SUM(AF36:AJ57)","v":0},null,null,null,null,null,null,null,{"$f":"SUM(AN36:AR57)","v":0},null,null,null,null,null,null,null,{"$f":"X58-AF58-AN58","v":0}]
[]
[null,"請求内訳書（出来高・分割納入用）",null,null,null,null,null,null,null,null,null,null,null,null,null,null,null,null,null,null,null,null,null,null,null,null,null,null,null,null,null,null,null,null,null,null,null,null,null,null,null,null,null,null,null,null,null,null,null,null,"No."]
[]
[]
[]
[]
[]
[]
[]
[]
[]
[null,"製造番号",null,null,null,null,{"$f":"Y22","v":""},null,null,null,null,null,null,null,null,null,null,null,null,null,null,null,null,"※科目"]
[]
[]
[null,"注文番号",null,null,null,null,{"$f":"Y25","v":""},null,null,null,null,null,null,null,null,"第",null,{"$f":"AJ23","v":9},null,"回請求"]
[]
[]
[]
[null,"工　種・品　名",null,null,null,null,null,null,null,null,null,null,null,null,"契　約　金　額",null,null,null,null,null,null,null,null,null,null,null,null,null,"前回までの出来高",null,null,null,null,null,null,null,"今回出来高",null,null,null,null,null,null,null,"残高",null,null,null,null,null,null,null,"備　考"]
[null,null,null,null,null,null,null,null,null,null,null,null,null,null,"単位",null,"数量",null,null,"単価",null,null,null,"金額",null,null,null,null,"数量",null,null,"金額",null,null,null,null,"数量",null,null,"金額",null,null,null,null,"数量",null,null,"金額"]
[12,{"$f":"見積書!F83","v":""},null,null,null,null,null,null,null,null,null,null,null,null,{"$f":"見積書!Q83","v":""},null,{"$f":"見積書!R83","v":""},null,null,{"$f":"見積書!S83","v":""},null,null,null,{"$f":"見積書!T83","v":""},null,null,null,null,{"$f":"IF(Q79=\"\",\"\",'出来高内訳書 (第8回請求)'!AC79+'出来高内訳書 (第8回請求)'!AK79)","v":""},null,null,{"$f":"IF(T79=\"\",\"\",ROUND(T79*AC79,0))","v":""},null,null,null,null,null,null,null,{"$f":"IF(T79=\"\",\"\",ROUND(T79*AK79,0))","v":""},null,null,null,null,{"$f":"IF(Q79=\"\",\"\",ROUND(Q79-AC79-AK79,2))","v":""},null,null,{"$f":"IF(T79=\"\",\"\",(IF(AS79<0,\"出来高が契約を超過\",X79-AN79-AF79)))","v":""}]
[null,{"$f":"見積書!F84","v":""}]
[13,{"$f":"見積書!F85","v":""},null,null,null,null,null,null,null,null,null,null,null,null,{"$f":"見積書!Q85","v":""},null,{"$f":"見積書!R85","v":""},null,null,{"$f":"見積書!S85","v":""},null,null,null,{"$f":"見積書!T85","v":""},null,null,null,null,{"$f":"IF(Q81=\"\",\"\",'出来高内訳書 (第8回請求)'!AC81+'出来高内訳書 (第8回請求)'!AK81)","v":""},null,null,{"$f":"IF(T81=\"\",\"\",ROUND(T81*AC81,0))","v":""},null,null,null,null,null,null,null,{"$f":"IF(T81=\"\",\"\",ROUND(T81*AK81,0))","v":""},null,null,null,null,{"$f":"IF(Q81=\"\",\"\",ROUND(Q81-AC81-AK81,2))","v":""},null,null,{"$f":"IF(T81=\"\",\"\",(IF(AS81<0,\"出来高が契約を超過\",X81-AN81-AF81)))","v":""}]
[null,{"$f":"見積書!F86","v":""}]
[14,{"$f":"'見積書 (2)'!F26","v":""},null,null,null,null,null,null,null,null,null,null,null,null,{"$f":"'見積書 (2)'!Q26","v":""},null,{"$f":"'見積書 (2)'!R26","v":""},null,null,{"$f":"'見積書 (2)'!S26","v":""},null,null,null,{"$f":"'見積書 (2)'!T26","v":""},null,null,null,null,{"$f":"IF(Q83=\"\",\"\",'出来高内訳書 (第8回請求)'!AC83+'出来高内訳書 (第8回請求)'!AK83)","v":""},null,null,{"$f":"IF(T83=\"\",\"\",ROUND(T83*AC83,0))","v":""},null,null,null,null,null,null,null,{"$f":"IF(T83=\"\",\"\",ROUND(T83*AK83,0))","v":""},null,null,null,null,{"$f":"IF(Q83=\"\",\"\",ROUND(Q83-AC83-AK83,2))","v":""},null,null,{"$f":"IF(T83=\"\",\"\",(IF(AS83<0,\"出来高が契約を超過\",X83-AN83-AF83)))","v":""}]
[null,{"$f":"'見積書 (2)'!F27","v":""}]
[15,{"$f":"'見積書 (2)'!F28","v":""},null,null,null,null,null,null,null,null,null,null,null,null,{"$f":"'見積書 (2)'!Q28","v":""},null,{"$f":"'見積書 (2)'!R28","v":""},null,null,{"$f":"'見積書 (2)'!S28","v":""},null,null,null,{"$f":"'見積書 (2)'!T28","v":""},null,null,null,null,{"$f":"IF(Q85=\"\",\"\",'出来高内訳書 (第8回請求)'!AC85+'出来高内訳書 (第8回請求)'!AK85)","v":""},null,null,{"$f":"IF(T85=\"\",\"\",ROUND(T85*AC85,0))","v":""},null,null,null,null,null,null,null,{"$f":"IF(T85=\"\",\"\",ROUND(T85*AK85,0))","v":""},null,null,null,null,{"$f":"IF(Q85=\"\",\"\",ROUND(Q85-AC85-AK85,2))","v":""},null,null,{"$f":"IF(T85=\"\",\"\",(IF(AS85<0,\"出来高が契約を超過\",X85-AN85-AF85)))","v":""}]
[null,{"$f":"'見積書 (2)'!F29","v":""}]
[16,{"$f":"'見積書 (2)'!F30","v":""},null,null,null,null,null,null,null,null,null,null,null,null,{"$f":"'見積書 (2)'!Q30","v":""},null,{"$f":"'見積書 (2)'!R30","v":""},null,null,{"$f":"'見積書 (2)'!S30","v":""},null,null,null,{"$f":"'見積書 (2)'!T30","v":""},null,null,null,null,{"$f":"IF(Q87=\"\",\"\",'出来高内訳書 (第8回請求)'!AC87+'出来高内訳書 (第8回請求)'!AK87)","v":""},null,null,{"$f":"IF(T87=\"\",\"\",ROUND(T87*AC87,0))","v":""},null,null,null,null,null,null,null,{"$f":"IF(T87=\"\",\"\",ROUND(T87*AK87,0))","v":""},null,null,null,null,{"$f":"IF(Q87=\"\",\"\",ROUND(Q87-AC87-AK87,2))","v":""},null,null,{"$f":"IF(T87=\"\",\"\",(IF(AS87<0,\"出来高が契約を超過\",X87-AN87-AF87)))","v":""}]
[null,{"$f":"'見積書 (2)'!F31","v":""}]
[17,{"$f":"'見積書 (2)'!F32","v":""},null,null,null,null,null,null,null,null,null,null,null,null,{"$f":"'見積書 (2)'!Q32","v":""},null,{"$f":"'見積書 (2)'!R32","v":""},null,null,{"$f":"'見積書 (2)'!S32","v":""},null,null,null,{"$f":"'見積書 (2)'!T32","v":""},null,null,null,null,{"$f":"IF(Q89=\"\",\"\",'出来高内訳書 (第8回請求)'!AC89+'出来高内訳書 (第8回請求)'!AK89)","v":""},null,null,{"$f":"IF(T89=\"\",\"\",ROUND(T89*AC89,0))","v":""},null,null,null,null,null,null,null,{"$f":"IF(T89=\"\",\"\",ROUND(T89*AK89,0))","v":""},null,null,null,null,{"$f":"IF(Q89=\"\",\"\",ROUND(Q89-AC89-AK89,2))","v":""},null,null,{"$f":"IF(T89=\"\",\"\",(IF(AS89<0,\"出来高が契約を超過\",X89-AN89-AF89)))","v":""}]
[null,{"$f":"'見積書 (2)'!F33","v":""}]
[18,{"$f":"'見積書 (2)'!F34","v":""},null,null,null,null,null,null,null,null,null,null,null,null,{"$f":"'見積書 (2)'!Q34","v":""},null,{"$f":"'見積書 (2)'!R34","v":""},null,null,{"$f":"'見積書 (2)'!S34","v":""},null,null,null,{"$f":"'見積書 (2)'!T34","v":""},null,null,null,null,{"$f":"IF(Q91=\"\",\"\",'出来高内訳書 (第8回請求)'!AC91+'出来高内訳書 (第8回請求)'!AK91)","v":""},null,null,{"$f":"IF(T91=\"\",\"\",ROUND(T91*AC91,0))","v":""},null,null,null,null,null,null,null,{"$f":"IF(T91=\"\",\"\",ROUND(T91*AK91,0))","v":""},null,null,null,null,{"$f":"IF(Q91=\"\",\"\",ROUND(Q91-AC91-AK91,2))","v":""},null,null,{"$f":"IF(T91=\"\",\"\",(IF(AS91<0,\"出来高が契約を超過\",X91-AN91-AF91)))","v":""}]
[null,{"$f":"'見積書 (2)'!F35","v":""}]
[19,{"$f":"'見積書 (2)'!F36","v":""},null,null,null,null,null,null,null,null,null,null,null,null,{"$f":"'見積書 (2)'!Q36","v":""},null,{"$f":"'見積書 (2)'!R36","v":""},null,null,{"$f":"'見積書 (2)'!S36","v":""},null,null,null,{"$f":"'見積書 (2)'!T36","v":""},null,null,null,null,{"$f":"IF(Q93=\"\",\"\",'出来高内訳書 (第8回請求)'!AC93+'出来高内訳書 (第8回請求)'!AK93)","v":""},null,null,{"$f":"IF(T93=\"\",\"\",ROUND(T93*AC93,0))","v":""},null,null,null,null,null,null,null,{"$f":"IF(T93=\"\",\"\",ROUND(T93*AK93,0))","v":""},null,null,null,null,{"$f":"IF(Q93=\"\",\"\",ROUND(Q93-AC93-AK93,2))","v":""},null,null,{"$f":"IF(T93=\"\",\"\",(IF(AS93<0,\"出来高が契約を超過\",X93-AN93-AF93)))","v":""}]
[null,{"$f":"'見積書 (2)'!F37","v":""}]
[20,{"$f":"'見積書 (2)'!F38","v":""},null,null,null,null,null,null,null,null,null,null,null,null,{"$f":"'見積書 (2)'!Q38","v":""},null,{"$f":"'見積書 (2)'!R38","v":""},null,null,{"$f":"'見積書 (2)'!S38","v":""},null,null,null,{"$f":"'見積書 (2)'!T38","v":""},null,null,null,null,{"$f":"IF(Q95=\"\",\"\",'出来高内訳書 (第8回請求)'!AC95+'出来高内訳書 (第8回請求)'!AK95)","v":""},null,null,{"$f":"IF(T95=\"\",\"\",ROUND(T95*AC95,0))","v":""},null,null,null,null,null,null,null,{"$f":"IF(T95=\"\",\"\",ROUND(T95*AK95,0))","v":""},null,null,null,null,{"$f":"IF(Q95=\"\",\"\",ROUND(Q95-AC95-AK95,2))","v":""},null,null,{"$f":"IF(T95=\"\",\"\",(IF(AS95<0,\"出来高が契約を超過\",X95-AN95-AF95)))","v":""}]
[null,{"$f":"'見積書 (2)'!F39","v":""}]
[21,{"$f":"'見積書 (2)'!F40","v":""},null,null,null,null,null,null,null,null,null,null,null,null,{"$f":"'見積書 (2)'!Q40","v":""},null,{"$f":"'見積書 (2)'!R40","v":""},null,null,{"$f":"'見積書 (2)'!S40","v":""},null,null,null,{"$f":"'見積書 (2)'!T40","v":""},null,null,null,null,{"$f":"IF(Q97=\"\",\"\",'出来高内訳書 (第8回請求)'!AC97+'出来高内訳書 (第8回請求)'!AK97)","v":""},null,null,{"$f":"IF(T97=\"\",\"\",ROUND(T97*AC97,0))","v":""},null,null,null,null,null,null,null,{"$f":"IF(T97=\"\",\"\",ROUND(T97*AK97,0))","v":""},null,null,null,null,{"$f":"IF(Q97=\"\",\"\",ROUND(Q97-AC97-AK97,2))","v":""},null,null,{"$f":"IF(T97=\"\",\"\",(IF(AS97<0,\"出来高が契約を超過\",X97-AN97-AF97)))","v":""}]
[null,{"$f":"'見積書 (2)'!F41","v":""}]
[22,{"$f":"'見積書 (2)'!F42","v":""},null,null,null,null,null,null,null,null,null,null,null,null,{"$f":"'見積書 (2)'!Q42","v":""},null,{"$f":"'見積書 (2)'!R42","v":""},null,null,{"$f":"'見積書 (2)'!S42","v":""},null,null,null,{"$f":"'見積書 (2)'!T42","v":""},null,null,null,null,{"$f":"IF(Q99=\"\",\"\",'出来高内訳書 (第8回請求)'!AC99+'出来高内訳書 (第8回請求)'!AK99)","v":""},null,null,{"$f":"IF(T99=\"\",\"\",ROUND(T99*AC99,0))","v":""},null,null,null,null,null,null,null,{"$f":"IF(T99=\"\",\"\",ROUND(T99*AK99,0))","v":""},null,null,null,null,{"$f":"IF(Q99=\"\",\"\",ROUND(Q99-AC99-AK99,2))","v":""},null,null,{"$f":"IF(T99=\"\",\"\",(IF(AS99<0,\"出来高が契約を超過\",X99-AN99-AF99)))","v":""}]
[null,{"$f":"'見積書 (2)'!F43","v":""}]
[23,{"$f":"'見積書 (2)'!F44","v":""},null,null,null,null,null,null,null,null,null,null,null,null,{"$f":"'見積書 (2)'!Q44","v":""},null,{"$f":"'見積書 (2)'!R44","v":""},null,null,{"$f":"'見積書 (2)'!S44","v":""},null,null,null,{"$f":"'見積書 (2)'!T44","v":""},null,null,null,null,{"$f":"IF(Q101=\"\",\"\",'出来高内訳書 (第8回請求)'!AC101+'出来高内訳書 (第8回請求)'!AK101)","v":""},null,null,{"$f":"IF(T101=\"\",\"\",ROUND(T101*AC101,0))","v":""},null,null,null,null,null,null,null,{"$f":"IF(T101=\"\",\"\",ROUND(T101*AK101,0))","v":""},null,null,null,null,{"$f":"IF(Q101=\"\",\"\",ROUND(Q101-AC101-AK101,2))","v":""},null,null,{"$f":"IF(T101=\"\",\"\",(IF(AS101<0,\"出来高が契約を超過\",X101-AN101-AF101)))","v":""}]
[null,{"$f":"'見積書 (2)'!F45","v":""}]
[24,{"$f":"'見積書 (2)'!F46","v":""},null,null,null,null,null,null,null,null,null,null,null,null,{"$f":"'見積書 (2)'!Q46","v":""},null,{"$f":"'見積書 (2)'!R46","v":""},null,null,{"$f":"'見積書 (2)'!S46","v":""},null,null,null,{"$f":"'見積書 (2)'!T46","v":""},null,null,null,null,{"$f":"IF(Q103=\"\",\"\",'出来高内訳書 (第8回請求)'!AC103+'出来高内訳書 (第8回請求)'!AK103)","v":""},null,null,{"$f":"IF(T103=\"\",\"\",ROUND(T103*AC103,0))","v":""},null,null,null,null,null,null,null,{"$f":"IF(T103=\"\",\"\",ROUND(T103*AK103,0))","v":""},null,null,null,null,{"$f":"IF(Q103=\"\",\"\",ROUND(Q103-AC103-AK103,2))","v":""},null,null,{"$f":"IF(T103=\"\",\"\",(IF(AS103<0,\"出来高が契約を超過\",X103-AN103-AF103)))","v":""}]
[null,{"$f":"'見積書 (2)'!F47","v":""}]
[25,{"$f":"'見積書 (2)'!F48","v":""},null,null,null,null,null,null,null,null,null,null,null,null,{"$f":"'見積書 (2)'!Q48","v":""},null,{"$f":"'見積書 (2)'!R48","v":""},null,null,{"$f":"'見積書 (2)'!S48","v":""},null,null,null,{"$f":"'見積書 (2)'!T48","v":""},null,null,null,null,{"$f":"IF(Q105=\"\",\"\",'出来高内訳書 (第8回請求)'!AC105+'出来高内訳書 (第8回請求)'!AK105)","v":""},null,null,{"$f":"IF(T105=\"\",\"\",ROUND(T105*AC105,0))","v":""},null,null,null,null,null,null,null,{"$f":"IF(T105=\"\",\"\",ROUND(T105*AK105,0))","v":""},null,null,null,null,{"$f":"IF(Q105=\"\",\"\",ROUND(Q105-AC105-AK105,2))","v":""},null,null,{"$f":"IF(T105=\"\",\"\",(IF(AS105<0,\"出来高が契約を超過\",X105-AN105-AF105)))","v":""}]
[null,{"$f":"'見積書 (2)'!F49","v":""}]
[26,{"$f":"'見積書 (2)'!F50","v":""},null,null,null,null,null,null,null,null,null,null,null,null,{"$f":"'見積書 (2)'!Q50","v":""},null,{"$f":"'見積書 (2)'!R50","v":""},null,null,{"$f":"'見積書 (2)'!S50","v":""},null,null,null,{"$f":"'見積書 (2)'!T50","v":""},null,null,null,null,{"$f":"IF(Q107=\"\",\"\",'出来高内訳書 (第8回請求)'!AC107+'出来高内訳書 (第8回請求)'!AK107)","v":""},null,null,{"$f":"IF(T107=\"\",\"\",ROUND(T107*AC107,0))","v":""},null,null,null,null,null,null,null,{"$f":"IF(T107=\"\",\"\",ROUND(T107*AK107,0))","v":""},null,null,null,null,{"$f":"IF(Q107=\"\",\"\",ROUND(Q107-AC107-AK107,2))","v":""},null,null,{"$f":"IF(T107=\"\",\"\",(IF(AS107<0,\"出来高が契約を超過\",X107-AN107-AF107)))","v":""}]
[null,{"$f":"'見積書 (2)'!F51","v":""}]
[null,"小計",null,null,null,null,null,null,null,null,null,null,null,null,null,null,null,null,null,null,null,null,null,{"$f":"SUM(X79:AB108)","v":0},null,null,null,null,null,null,null,{"$f":"SUM(AF79:AJ108)","v":0},null,null,null,null,null,null,null,{"$f":"SUM(AN79:AR108)","v":0},null,null,null,null,null,null,null,{"$f":"X109-AF109-AN109","v":0}]
[]
[]
[]
[]
[null,"請求内訳書（出来高・分割納入用）",null,null,null,null,null,null,null,null,null,null,null,null,null,null,null,null,null,null,null,null,null,null,null,null,null,null,null,null,null,null,null,null,null,null,null,null,null,null,null,null,null,null,null,null,null,null,null,null,"No."]
[]
[]
[]
[]
[]
[]
[]
[]
[]
[null,"製造番号",null,null,null,null,{"$f":"Y22","v":""},null,null,null,null,null,null,null,null,null,null,null,null,null,null,null,null,"※科目"]
[]
[]
[null,"注文番号",null,null,null,null,{"$f":"Y25","v":""},null,null,null,null,null,null,null,null,"第",null,{"$f":"AJ23","v":9},null,"回請求"]
[]
[]
[]
[null,"工　種・品　名",null,null,null,null,null,null,null,null,null,null,null,null,"契　約　金　額",null,null,null,null,null,null,null,null,null,null,null,null,null,"前回までの出来高",null,null,null,null,null,null,null,"今回出来高",null,null,null,null,null,null,null,"残高",null,null,null,null,null,null,null,"備　考"]
[null,null,null,null,null,null,null,null,null,null,null,null,null,null,"単位",null,"数量",null,null,"単価",null,null,null,"金額",null,null,null,null,"数量",null,null,"金額",null,null,null,null,"数量",null,null,"金額",null,null,null,null,"数量",null,null,"金額"]
[27,{"$f":"'見積書 (2)'!F52","v":""},null,null,null,null,null,null,null,null,null,null,null,null,{"$f":"'見積書 (2)'!Q52","v":""},null,{"$f":"'見積書 (2)'!R52","v":""},null,null,{"$f":"'見積書 (2)'!S52","v":""},null,null,null,{"$f":"'見積書 (2)'!T52","v":""},null,null,null,null,{"$f":"IF(Q133=\"\",\"\",'出来高内訳書 (第8回請求)'!AC133+'出来高内訳書 (第8回請求)'!AK133)","v":""},null,null,{"$f":"IF(T133=\"\",\"\",ROUND(T133*AC133,0))","v":""},null,null,null,null,null,null,null,{"$f":"IF(T133=\"\",\"\",ROUND(T133*AK133,0))","v":""},null,null,null,null,{"$f":"IF(Q133=\"\",\"\",ROUND(Q133-AC133-AK133,2))","v":""},null,null,{"$f":"IF(T133=\"\",\"\",(IF(AS133<0,\"出来高が契約を超過\",X133-AN133-AF133)))","v":""}]
[null,{"$f":"'見積書 (2)'!F53","v":""}]
[28,{"$f":"'見積書 (2)'!F54","v":""},null,null,null,null,null,null,null,null,null,null,null,null,{"$f":"'見積書 (2)'!Q54","v":""},null,{"$f":"'見積書 (2)'!R54","v":""},null,null,{"$f":"'見積書 (2)'!S54","v":""},null,null,null,{"$f":"'見積書 (2)'!T54","v":""},null,null,null,null,{"$f":"IF(Q135=\"\",\"\",'出来高内訳書 (第8回請求)'!AC135+'出来高内訳書 (第8回請求)'!AK135)","v":""},null,null,{"$f":"IF(T135=\"\",\"\",ROUND(T135*AC135,0))","v":""},null,null,null,null,null,null,null,{"$f":"IF(T135=\"\",\"\",ROUND(T135*AK135,0))","v":""},null,null,null,null,{"$f":"IF(Q135=\"\",\"\",ROUND(Q135-AC135-AK135,2))","v":""},null,null,{"$f":"IF(T135=\"\",\"\",(IF(AS135<0,\"出来高が契約を超過\",X135-AN135-AF135)))","v":""}]
[null,{"$f":"'見積書 (2)'!F55","v":""}]
[29,{"$f":"'見積書 (2)'!F56","v":""},null,null,null,null,null,null,null,null,null,null,null,null,{"$f":"'見積書 (2)'!Q56","v":""},null,{"$f":"'見積書 (2)'!R56","v":""},null,null,{"$f":"'見積書 (2)'!S56","v":""},null,null,null,{"$f":"'見積書 (2)'!T56","v":""},null,null,null,null,{"$f":"IF(Q137=\"\",\"\",'出来高内訳書 (第8回請求)'!AC137+'出来高内訳書 (第8回請求)'!AK137)","v":""},null,null,{"$f":"IF(T137=\"\",\"\",ROUND(T137*AC137,0))","v":""},null,null,null,null,null,null,null,{"$f":"IF(T137=\"\",\"\",ROUND(T137*AK137,0))","v":""},null,null,null,null,{"$f":"IF(Q137=\"\",\"\",ROUND(Q137-AC137-AK137,2))","v":""},null,null,{"$f":"IF(T137=\"\",\"\",(IF(AS137<0,\"出来高が契約を超過\",X137-AN137-AF137)))","v":""}]
[null,{"$f":"'見積書 (2)'!F57","v":""}]
[30,{"$f":"'見積書 (2)'!F58","v":""},null,null,null,null,null,null,null,null,null,null,null,null,{"$f":"'見積書 (2)'!Q58","v":""},null,{"$f":"'見積書 (2)'!R58","v":""},null,null,{"$f":"'見積書 (2)'!S58","v":""},null,null,null,{"$f":"'見積書 (2)'!T58","v":""},null,null,null,null,{"$f":"IF(Q139=\"\",\"\",'出来高内訳書 (第8回請求)'!AC139+'出来高内訳書 (第8回請求)'!AK139)","v":""},null,null,{"$f":"IF(T139=\"\",\"\",ROUND(T139*AC139,0))","v":""},null,null,null,null,null,null,null,{"$f":"IF(T139=\"\",\"\",ROUND(T139*AK139,0))","v":""},null,null,null,null,{"$f":"IF(Q139=\"\",\"\",ROUND(Q139-AC139-AK139,2))","v":""},null,null,{"$f":"IF(T139=\"\",\"\",(IF(AS139<0,\"出来高が契約を超過\",X139-AN139-AF139)))","v":""}]
[null,{"$f":"'見積書 (2)'!F59","v":""}]
[31,{"$f":"'見積書 (2)'!F60","v":""},null,null,null,null,null,null,null,null,null,null,null,null,{"$f":"'見積書 (2)'!Q60","v":""},null,{"$f":"'見積書 (2)'!R60","v":""},null,null,{"$f":"'見積書 (2)'!S60","v":""},null,null,null,{"$f":"'見積書 (2)'!T60","v":""},null,null,null,null,{"$f":"IF(Q141=\"\",\"\",'出来高内訳書 (第8回請求)'!AC141+'出来高内訳書 (第8回請求)'!AK141)","v":""},null,null,{"$f":"IF(T141=\"\",\"\",ROUND(T141*AC141,0))","v":""},null,null,null,null,null,null,null,{"$f":"IF(T141=\"\",\"\",ROUND(T141*AK141,0))","v":""},null,null,null,null,{"$f":"IF(Q141=\"\",\"\",ROUND(Q141-AC141-AK141,2))","v":""},null,null,{"$f":"IF(T141=\"\",\"\",(IF(AS141<0,\"出来高が契約を超過\",X141-AN141-AF141)))","v":""}]
[null,{"$f":"'見積書 (2)'!F61","v":""}]
[32,{"$f":"'見積書 (2)'!F62","v":""},null,null,null,null,null,null,null,null,null,null,null,null,{"$f":"'見積書 (2)'!Q62","v":""},null,{"$f":"'見積書 (2)'!R62","v":""},null,null,{"$f":"'見積書 (2)'!S62","v":""},null,null,null,{"$f":"'見積書 (2)'!T62","v":""},null,null,null,null,{"$f":"IF(Q143=\"\",\"\",'出来高内訳書 (第8回請求)'!AC143+'出来高内訳書 (第8回請求)'!AK143)","v":""},null,null,{"$f":"IF(T143=\"\",\"\",ROUND(T143*AC143,0))","v":""},null,null,null,null,null,null,null,{"$f":"IF(T143=\"\",\"\",ROUND(T143*AK143,0))","v":""},null,null,null,null,{"$f":"IF(Q143=\"\",\"\",ROUND(Q143-AC143-AK143,2))","v":""},null,null,{"$f":"IF(T143=\"\",\"\",(IF(AS143<0,\"出来高が契約を超過\",X143-AN143-AF143)))","v":""}]
[null,{"$f":"'見積書 (2)'!F63","v":""}]
[33,{"$f":"'見積書 (2)'!F64","v":""},null,null,null,null,null,null,null,null,null,null,null,null,{"$f":"'見積書 (2)'!Q64","v":""},null,{"$f":"'見積書 (2)'!R64","v":""},null,null,{"$f":"'見積書 (2)'!S64","v":""},null,null,null,{"$f":"'見積書 (2)'!T64","v":""},null,null,null,null,{"$f":"IF(Q145=\"\",\"\",'出来高内訳書 (第8回請求)'!AC145+'出来高内訳書 (第8回請求)'!AK145)","v":""},null,null,{"$f":"IF(T145=\"\",\"\",ROUND(T145*AC145,0))","v":""},null,null,null,null,null,null,null,{"$f":"IF(T145=\"\",\"\",ROUND(T145*AK145,0))","v":""},null,null,null,null,{"$f":"IF(Q145=\"\",\"\",ROUND(Q145-AC145-AK145,2))","v":""},null,null,{"$f":"IF(T145=\"\",\"\",(IF(AS145<0,\"出来高が契約を超過\",X145-AN145-AF145)))","v":""}]
[null,{"$f":"'見積書 (2)'!F65","v":""}]
[34,{"$f":"'見積書 (2)'!F66","v":""},null,null,null,null,null,null,null,null,null,null,null,null,{"$f":"'見積書 (2)'!Q66","v":""},null,{"$f":"'見積書 (2)'!R66","v":""},null,null,{"$f":"'見積書 (2)'!S66","v":""},null,null,null,{"$f":"'見積書 (2)'!T66","v":""},null,null,null,null,{"$f":"IF(Q147=\"\",\"\",'出来高内訳書 (第8回請求)'!AC147+'出来高内訳書 (第8回請求)'!AK147)","v":""},null,null,{"$f":"IF(T147=\"\",\"\",ROUND(T147*AC147,0))","v":""},null,null,null,null,null,null,null,{"$f":"IF(T147=\"\",\"\",ROUND(T147*AK147,0))","v":""},null,null,null,null,{"$f":"IF(Q147=\"\",\"\",ROUND(Q147-AC147-AK147,2))","v":""},null,null,{"$f":"IF(T147=\"\",\"\",(IF(AS147<0,\"出来高が契約を超過\",X147-AN147-AF147)))","v":""}]
[null,{"$f":"'見積書 (2)'!F67","v":""}]
[35,{"$f":"'見積書 (2)'!F68","v":""},null,null,null,null,null,null,null,null,null,null,null,null,{"$f":"'見積書 (2)'!Q68","v":""},null,{"$f":"'見積書 (2)'!R68","v":""},null,null,{"$f":"'見積書 (2)'!S68","v":""},null,null,null,{"$f":"'見積書 (2)'!T68","v":""},null,null,null,null,{"$f":"IF(Q149=\"\",\"\",'出来高内訳書 (第8回請求)'!AC149+'出来高内訳書 (第8回請求)'!AK149)","v":""},null,null,{"$f":"IF(T149=\"\",\"\",ROUND(T149*AC149,0))","v":""},null,null,null,null,null,null,null,{"$f":"IF(T149=\"\",\"\",ROUND(T149*AK149,0))","v":""},null,null,null,null,{"$f":"IF(Q149=\"\",\"\",ROUND(Q149-AC149-AK149,2))","v":""},null,null,{"$f":"IF(T149=\"\",\"\",(IF(AS149<0,\"出来高が契約を超過\",X149-AN149-AF149)))","v":""}]
[null,{"$f":"'見積書 (2)'!F69","v":""}]
[36,{"$f":"'見積書 (3)'!F26","v":""},null,null,null,null,null,null,null,null,null,null,null,null,{"$f":"'見積書 (3)'!Q26","v":""},null,{"$f":"'見積書 (3)'!R26","v":""},null,null,{"$f":"'見積書 (3)'!S26","v":""},null,null,null,{"$f":"'見積書 (3)'!T26","v":""},null,null,null,null,{"$f":"IF(Q151=\"\",\"\",'出来高内訳書 (第8回請求)'!AC151+'出来高内訳書 (第8回請求)'!AK151)","v":""},null,null,{"$f":"IF(T151=\"\",\"\",ROUND(T151*AC151,0))","v":""},null,null,null,null,null,null,null,{"$f":"IF(T151=\"\",\"\",ROUND(T151*AK151,0))","v":""},null,null,null,null,{"$f":"IF(Q151=\"\",\"\",ROUND(Q151-AC151-AK151,2))","v":""},null,null,{"$f":"IF(T151=\"\",\"\",(IF(AS151<0,\"出来高が契約を超過\",X151-AN151-AF151)))","v":""}]
[null,{"$f":"'見積書 (3)'!F27","v":""}]
[37,{"$f":"'見積書 (3)'!F28","v":""},null,null,null,null,null,null,null,null,null,null,null,null,{"$f":"'見積書 (3)'!Q28","v":""},null,{"$f":"'見積書 (3)'!R28","v":""},null,null,{"$f":"'見積書 (3)'!S28","v":""},null,null,null,{"$f":"'見積書 (3)'!T28","v":""},null,null,null,null,{"$f":"IF(Q153=\"\",\"\",'出来高内訳書 (第8回請求)'!AC153+'出来高内訳書 (第8回請求)'!AK153)","v":""},null,null,{"$f":"IF(T153=\"\",\"\",ROUND(T153*AC153,0))","v":""},null,null,null,null,null,null,null,{"$f":"IF(T153=\"\",\"\",ROUND(T153*AK153,0))","v":""},null,null,null,null,{"$f":"IF(Q153=\"\",\"\",ROUND(Q153-AC153-AK153,2))","v":""},null,null,{"$f":"IF(T153=\"\",\"\",(IF(AS153<0,\"出来高が契約を超過\",X153-AN153-AF153)))","v":""}]
[null,{"$f":"'見積書 (3)'!F29","v":""}]
[38,{"$f":"'見積書 (3)'!F30","v":""},null,null,null,null,null,null,null,null,null,null,null,null,{"$f":"'見積書 (3)'!Q30","v":""},null,{"$f":"'見積書 (3)'!R30","v":""},null,null,{"$f":"'見積書 (3)'!S30","v":""},null,null,null,{"$f":"'見積書 (3)'!T30","v":""},null,null,null,null,{"$f":"IF(Q155=\"\",\"\",'出来高内訳書 (第8回請求)'!AC155+'出来高内訳書 (第8回請求)'!AK155)","v":""},null,null,{"$f":"IF(T155=\"\",\"\",ROUND(T155*AC155,0))","v":""},null,null,null,null,null,null,null,{"$f":"IF(T155=\"\",\"\",ROUND(T155*AK155,0))","v":""},null,null,null,null,{"$f":"IF(Q155=\"\",\"\",ROUND(Q155-AC155-AK155,2))","v":""},null,null,{"$f":"IF(T155=\"\",\"\",(IF(AS155<0,\"出来高が契約を超過\",X155-AN155-AF155)))","v":""}]
[null,{"$f":"'見積書 (3)'!F31","v":""}]
[39,{"$f":"'見積書 (3)'!F32","v":""},null,null,null,null,null,null,null,null,null,null,null,null,{"$f":"'見積書 (3)'!Q32","v":""},null,{"$f":"'見積書 (3)'!R32","v":""},null,null,{"$f":"'見積書 (3)'!S32","v":""},null,null,null,{"$f":"'見積書 (3)'!T32","v":""},null,null,null,null,{"$f":"IF(Q157=\"\",\"\",'出来高内訳書 (第8回請求)'!AC157+'出来高内訳書 (第8回請求)'!AK157)","v":""},null,null,{"$f":"IF(T157=\"\",\"\",ROUND(T157*AC157,0))","v":""},null,null,null,null,null,null,null,{"$f":"IF(T157=\"\",\"\",ROUND(T157*AK157,0))","v":""},null,null,null,null,{"$f":"IF(Q157=\"\",\"\",ROUND(Q157-AC157-AK157,2))","v":""},null,null,{"$f":"IF(T157=\"\",\"\",(IF(AS157<0,\"出来高が契約を超過\",X157-AN157-AF157)))","v":""}]
[null,{"$f":"'見積書 (3)'!F33","v":""}]
[40,{"$f":"'見積書 (3)'!F34","v":""},null,null,null,null,null,null,null,null,null,null,null,null,{"$f":"'見積書 (3)'!Q34","v":""},null,{"$f":"'見積書 (3)'!R34","v":""},null,null,{"$f":"'見積書 (3)'!S34","v":""},null,null,null,{"$f":"'見積書 (3)'!T34","v":""},null,null,null,null,{"$f":"IF(Q159=\"\",\"\",'出来高内訳書 (第8回請求)'!AC159+'出来高内訳書 (第8回請求)'!AK159)","v":""},null,null,{"$f":"IF(T159=\"\",\"\",ROUND(T159*AC159,0))","v":""},null,null,null,null,null,null,null,{"$f":"IF(T159=\"\",\"\",ROUND(T159*AK159,0))","v":""},null,null,null,null,{"$f":"IF(Q159=\"\",\"\",ROUND(Q159-AC159-AK159,2))","v":""},null,null,{"$f":"IF(T159=\"\",\"\",(IF(AS159<0,\"出来高が契約を超過\",X159-AN159-AF159)))","v":""}]
[null,{"$f":"'見積書 (3)'!F35","v":""}]
[41,{"$f":"'見積書 (3)'!F36","v":""},null,null,null,null,null,null,null,null,null,null,null,null,{"$f":"'見積書 (3)'!Q36","v":""},null,{"$f":"'見積書 (3)'!R36","v":""},null,null,{"$f":"'見積書 (3)'!S36","v":""},null,null,null,{"$f":"'見積書 (3)'!T36","v":""},null,null,null,null,{"$f":"IF(Q161=\"\",\"\",'出来高内訳書 (第8回請求)'!AC161+'出来高内訳書 (第8回請求)'!AK161)","v":""},null,null,{"$f":"IF(T161=\"\",\"\",ROUND(T161*AC161,0))","v":""},null,null,null,null,null,null,null,{"$f":"IF(T161=\"\",\"\",ROUND(T161*AK161,0))","v":""},null,null,null,null,{"$f":"IF(Q161=\"\",\"\",ROUND(Q161-AC161-AK161,2))","v":""},null,null,{"$f":"IF(T161=\"\",\"\",(IF(AS161<0,\"出来高が契約を超過\",X161-AN161-AF161)))","v":""}]
[null,{"$f":"'見積書 (3)'!F37","v":""}]
[null,"小計",null,null,null,null,null,null,null,null,null,null,null,null,null,null,null,null,null,null,null,null,null,{"$f":"SUM(X133:AB162)","v":0},null,null,null,null,null,null,null,{"$f":"SUM(AF133:AJ162)","v":0},null,null,null,null,null,null,null,{"$f":"SUM(AN133:AR162)","v":0},null,null,null,null,null,null,null,{"$f":"X163-AF163-AN163","v":0}]
[]
[]
[]
[]
[null,"請求内訳書（出来高・分割納入用）",null,null,null,null,null,null,null,null,null,null,null,null,null,null,null,null,null,null,null,null,null,null,null,null,null,null,null,null,null,null,null,null,null,null,null,null,null,null,null,null,null,null,null,null,null,null,null,null,"No."]
[]
[]
[]
[]
[]
[]
[]
[]
[]
[null,"製造番号",null,null,null,null,{"$f":"Y22","v":""},null,null,null,null,null,null,null,null,null,null,null,null,null,null,null,null,"※科目"]
[]
[]
[null,"注文番号",null,null,null,null,{"$f":"Y25","v":""},null,null,null,null,null,null,null,null,"第",null,{"$f":"AJ23","v":9},null,"回請求"]
[]
[]
[]
[null,"工　種・品　名",null,null,null,null,null,null,null,null,null,null,null,null,"契　約　金　額",null,null,null,null,null,null,null,null,null,null,null,null,null,"前回までの出来高",null,null,null,null,null,null,null,"今回出来高",null,null,null,null,null,null,null,"残高",null,null,null,null,null,null,null,"備　考"]
[null,null,null,null,null,null,null,null,null,null,null,null,null,null,"単位",null,"数量",null,null,"単価",null,null,null,"金額",null,null,null,null,"数量",null,null,"金額",null,null,null,null,"数量",null,null,"金額",null,null,null,null,"数量",null,null,"金額"]
[42,{"$f":"'見積書 (3)'!F38","v":""},null,null,null,null,null,null,null,null,null,null,null,null,{"$f":"'見積書 (3)'!Q38","v":""},null,{"$f":"'見積書 (3)'!R38","v":""},null,null,{"$f":"'見積書 (3)'!S38","v":""},null,null,null,{"$f":"'見積書 (3)'!T38","v":""},null,null,null,null,{"$f":"IF(Q187=\"\",\"\",'出来高内訳書 (第8回請求)'!AC187+'出来高内訳書 (第8回請求)'!AK187)","v":""},null,null,{"$f":"IF(T187=\"\",\"\",ROUND(T187*AC187,0))","v":""},null,null,null,null,null,null,null,{"$f":"IF(T187=\"\",\"\",ROUND(T187*AK187,0))","v":""},null,null,null,null,{"$f":"IF(Q187=\"\",\"\",ROUND(Q187-AC187-AK187,2))","v":""},null,null,{"$f":"IF(T187=\"\",\"\",(IF(AS187<0,\"出来高が契約を超過\",X187-AN187-AF187)))","v":""}]
[null,{"$f":"'見積書 (3)'!F39","v":""}]
[43,{"$f":"'見積書 (3)'!F40","v":""},null,null,null,null,null,null,null,null,null,null,null,null,{"$f":"'見積書 (3)'!Q40","v":""},null,{"$f":"'見積書 (3)'!R40","v":""},null,null,{"$f":"'見積書 (3)'!S40","v":""},null,null,null,{"$f":"'見積書 (3)'!T40","v":""},null,null,null,null,{"$f":"IF(Q189=\"\",\"\",'出来高内訳書 (第8回請求)'!AC189+'出来高内訳書 (第8回請求)'!AK189)","v":""},null,null,{"$f":"IF(T189=\"\",\"\",ROUND(T189*AC189,0))","v":""},null,null,null,null,null,null,null,{"$f":"IF(T189=\"\",\"\",ROUND(T189*AK189,0))","v":""},null,null,null,null,{"$f":"IF(Q189=\"\",\"\",ROUND(Q189-AC189-AK189,2))","v":""},null,null,{"$f":"IF(T189=\"\",\"\",(IF(AS189<0,\"出来高が契約を超過\",X189-AN189-AF189)))","v":""}]
[null,{"$f":"'見積書 (3)'!F41","v":""}]
[44,{"$f":"'見積書 (3)'!F42","v":""},null,null,null,null,null,null,null,null,null,null,null,null,{"$f":"'見積書 (3)'!Q42","v":""},null,{"$f":"'見積書 (3)'!R42","v":""},null,null,{"$f":"'見積書 (3)'!S42","v":""},null,null,null,{"$f":"'見積書 (3)'!T42","v":""},null,null,null,null,{"$f":"IF(Q191=\"\",\"\",'出来高内訳書 (第8回請求)'!AC191+'出来高内訳書 (第8回請求)'!AK191)","v":""},null,null,{"$f":"IF(T191=\"\",\"\",ROUND(T191*AC191,0))","v":""},null,null,null,null,null,null,null,{"$f":"IF(T191=\"\",\"\",ROUND(T191*AK191,0))","v":""},null,null,null,null,{"$f":"IF(Q191=\"\",\"\",ROUND(Q191-AC191-AK191,2))","v":""},null,null,{"$f":"IF(T191=\"\",\"\",(IF(AS191<0,\"出来高が契約を超過\",X191-AN191-AF191)))","v":""}]
[null,{"$f":"'見積書 (3)'!F43","v":""}]
[45,{"$f":"'見積書 (3)'!F44","v":""},null,null,null,null,null,null,null,null,null,null,null,null,{"$f":"'見積書 (3)'!Q44","v":""},null,{"$f":"'見積書 (3)'!R44","v":""},null,null,{"$f":"'見積書 (3)'!S44","v":""},null,null,null,{"$f":"'見積書 (3)'!T44","v":""},null,null,null,null,{"$f":"IF(Q193=\"\",\"\",'出来高内訳書 (第8回請求)'!AC193+'出来高内訳書 (第8回請求)'!AK193)","v":""},null,null,{"$f":"IF(T193=\"\",\"\",ROUND(T193*AC193,0))","v":""},null,null,null,null,null,null,null,{"$f":"IF(T193=\"\",\"\",ROUND(T193*AK193,0))","v":""},null,null,null,null,{"$f":"IF(Q193=\"\",\"\",ROUND(Q193-AC193-AK193,2))","v":""},null,null,{"$f":"IF(T193=\"\",\"\",(IF(AS193<0,\"出来高が契約を超過\",X193-AN193-AF193)))","v":""}]
[null,{"$f":"'見積書 (3)'!F45","v":""}]
[46,{"$f":"'見積書 (3)'!F46","v":""},null,null,null,null,null,null,null,null,null,null,null,null,{"$f":"'見積書 (3)'!Q46","v":""},null,{"$f":"'見積書 (3)'!R46","v":""},null,null,{"$f":"'見積書 (3)'!S46","v":""},null,null,null,{"$f":"'見積書 (3)'!T46","v":""},null,null,null,null,{"$f":"IF(Q195=\"\",\"\",'出来高内訳書 (第8回請求)'!AC195+'出来高内訳書 (第8回請求)'!AK195)","v":""},null,null,{"$f":"IF(T195=\"\",\"\",ROUND(T195*AC195,0))","v":""},null,null,null,null,null,null,null,{"$f":"IF(T195=\"\",\"\",ROUND(T195*AK195,0))","v":""},null,null,null,null,{"$f":"IF(Q195=\"\",\"\",ROUND(Q195-AC195-AK195,2))","v":""},null,null,{"$f":"IF(T195=\"\",\"\",(IF(AS195<0,\"出来高が契約を超過\",X195-AN195-AF195)))","v":""}]
[null,{"$f":"'見積書 (3)'!F47","v":""}]
[47,{"$f":"'見積書 (3)'!F48","v":""},null,null,null,null,null,null,null,null,null,null,null,null,{"$f":"'見積書 (3)'!Q48","v":""},null,{"$f":"'見積書 (3)'!R48","v":""},null,null,{"$f":"'見積書 (3)'!S48","v":""},null,null,null,{"$f":"'見積書 (3)'!T48","v":""},null,null,null,null,{"$f":"IF(Q197=\"\",\"\",'出来高内訳書 (第8回請求)'!AC197+'出来高内訳書 (第8回請求)'!AK197)","v":""},null,null,{"$f":"IF(T197=\"\",\"\",ROUND(T197*AC197,0))","v":""},null,null,null,null,null,null,null,{"$f":"IF(T197=\"\",\"\",ROUND(T197*AK197,0))","v":""},null,null,null,null,{"$f":"IF(Q197=\"\",\"\",ROUND(Q197-AC197-AK197,2))","v":""},null,null,{"$f":"IF(T197=\"\",\"\",(IF(AS197<0,\"出来高が契約を超過\",X197-AN197-AF197)))","v":""}]
[null,{"$f":"'見積書 (3)'!F49","v":""}]
[48,{"$f":"'見積書 (3)'!F50","v":""},null,null,null,null,null,null,null,null,null,null,null,null,{"$f":"'見積書 (3)'!Q50","v":""},null,{"$f":"'見積書 (3)'!R50","v":""},null,null,{"$f":"'見積書 (3)'!S50","v":""},null,null,null,{"$f":"'見積書 (3)'!T50","v":""},null,null,null,null,{"$f":"IF(Q199=\"\",\"\",'出来高内訳書 (第8回請求)'!AC199+'出来高内訳書 (第8回請求)'!AK199)","v":""},null,null,{"$f":"IF(T199=\"\",\"\",ROUND(T199*AC199,0))","v":""},null,null,null,null,null,null,null,{"$f":"IF(T199=\"\",\"\",ROUND(T199*AK199,0))","v":""},null,null,null,null,{"$f":"IF(Q199=\"\",\"\",ROUND(Q199-AC199-AK199,2))","v":""},null,null,{"$f":"IF(T199=\"\",\"\",(IF(AS199<0,\"出来高が契約を超過\",X199-AN199-AF199)))","v":""}]
[null,{"$f":"'見積書 (3)'!F51","v":""}]
[49,{"$f":"'見積書 (3)'!F52","v":""},null,null,null,null,null,null,null,null,null,null,null,null,{"$f":"'見積書 (3)'!Q52","v":""},null,{"$f":"'見積書 (3)'!R52","v":""},null,null,{"$f":"'見積書 (3)'!S52","v":""},null,null,null,{"$f":"'見積書 (3)'!T52","v":""},null,null,null,null,{"$f":"IF(Q201=\"\",\"\",'出来高内訳書 (第8回請求)'!AC201+'出来高内訳書 (第8回請求)'!AK201)","v":""},null,null,{"$f":"IF(T201=\"\",\"\",ROUND(T201*AC201,0))","v":""},null,null,null,null,null,null,null,{"$f":"IF(T201=\"\",\"\",ROUND(T201*AK201,0))","v":""},null,null,null,null,{"$f":"IF(Q201=\"\",\"\",ROUND(Q201-AC201-AK201,2))","v":""},null,null,{"$f":"IF(T201=\"\",\"\",(IF(AS201<0,\"出来高が契約を超過\",X201-AN201-AF201)))","v":""}]
[null,{"$f":"'見積書 (3)'!F53","v":""}]
[50,{"$f":"'見積書 (3)'!F54","v":""},null,null,null,null,null,null,null,null,null,null,null,null,{"$f":"'見積書 (3)'!Q54","v":""},null,{"$f":"'見積書 (3)'!R54","v":""},null,null,{"$f":"'見積書 (3)'!S54","v":""},null,null,null,{"$f":"'見積書 (3)'!T54","v":""},null,null,null,null,{"$f":"IF(Q203=\"\",\"\",'出来高内訳書 (第8回請求)'!AC203+'出来高内訳書 (第8回請求)'!AK203)","v":""},null,null,{"$f":"IF(T203=\"\",\"\",ROUND(T203*AC203,0))","v":""},null,null,null,null,null,null,null,{"$f":"IF(T203=\"\",\"\",ROUND(T203*AK203,0))","v":""},null,null,null,null,{"$f":"IF(Q203=\"\",\"\",ROUND(Q203-AC203-AK203,2))","v":""},null,null,{"$f":"IF(T203=\"\",\"\",(IF(AS203<0,\"出来高が契約を超過\",X203-AN203-AF203)))","v":""}]
[null,{"$f":"'見積書 (3)'!F55","v":""}]
[51,{"$f":"'見積書 (3)'!F56","v":""},null,null,null,null,null,null,null,null,null,null,null,null,{"$f":"'見積書 (3)'!Q56","v":""},null,{"$f":"'見積書 (3)'!R56","v":""},null,null,{"$f":"'見積書 (3)'!S56","v":""},null,null,null,{"$f":"'見積書 (3)'!T56","v":""},null,null,null,null,{"$f":"IF(Q205=\"\",\"\",'出来高内訳書 (第8回請求)'!AC205+'出来高内訳書 (第8回請求)'!AK205)","v":""},null,null,{"$f":"IF(T205=\"\",\"\",ROUND(T205*AC205,0))","v":""},null,null,null,null,null,null,null,{"$f":"IF(T205=\"\",\"\",ROUND(T205*AK205,0))","v":""},null,null,null,null,{"$f":"IF(Q205=\"\",\"\",ROUND(Q205-AC205-AK205,2))","v":""},null,null,{"$f":"IF(T205=\"\",\"\",(IF(AS205<0,\"出来高が契約を超過\",X205-AN205-AF205)))","v":""}]
[null,{"$f":"'見積書 (3)'!F57","v":""}]
[52,{"$f":"'見積書 (3)'!F58","v":""},null,null,null,null,null,null,null,null,null,null,null,null,{"$f":"'見積書 (3)'!Q58","v":""},null,{"$f":"'見積書 (3)'!R58","v":""},null,null,{"$f":"'見積書 (3)'!S58","v":""},null,null,null,{"$f":"'見積書 (3)'!T58","v":""},null,null,null,null,{"$f":"IF(Q207=\"\",\"\",'出来高内訳書 (第8回請求)'!AC207+'出来高内訳書 (第8回請求)'!AK207)","v":""},null,null,{"$f":"IF(T207=\"\",\"\",ROUND(T207*AC207,0))","v":""},null,null,null,null,null,null,null,{"$f":"IF(T207=\"\",\"\",ROUND(T207*AK207,0))","v":""},null,null,null,null,{"$f":"IF(Q207=\"\",\"\",ROUND(Q207-AC207-AK207,2))","v":""},null,null,{"$f":"IF(T207=\"\",\"\",(IF(AS207<0,\"出来高が契約を超過\",X207-AN207-AF207)))","v":""}]
[null,{"$f":"'見積書 (3)'!F59","v":""}]
[53,{"$f":"'見積書 (3)'!F60","v":""},null,null,null,null,null,null,null,null,null,null,null,null,{"$f":"'見積書 (3)'!Q60","v":""},null,{"$f":"'見積書 (3)'!R60","v":""},null,null,{"$f":"'見積書 (3)'!S60","v":""},null,null,null,{"$f":"'見積書 (3)'!T60","v":""},null,null,null,null,{"$f":"IF(Q209=\"\",\"\",'出来高内訳書 (第8回請求)'!AC209+'出来高内訳書 (第8回請求)'!AK209)","v":""},null,null,{"$f":"IF(T209=\"\",\"\",ROUND(T209*AC209,0))","v":""},null,null,null,null,null,null,null,{"$f":"IF(T209=\"\",\"\",ROUND(T209*AK209,0))","v":""},null,null,null,null,{"$f":"IF(Q209=\"\",\"\",ROUND(Q209-AC209-AK209,2))","v":""},null,null,{"$f":"IF(T209=\"\",\"\",(IF(AS209<0,\"出来高が契約を超過\",X209-AN209-AF209)))","v":""}]
[null,{"$f":"'見積書 (3)'!F61","v":""}]
[54,{"$f":"'見積書 (3)'!F62","v":""},null,null,null,null,null,null,null,null,null,null,null,null,{"$f":"'見積書 (3)'!Q62","v":""},null,{"$f":"'見積書 (3)'!R62","v":""},null,null,{"$f":"'見積書 (3)'!S62","v":""},null,null,null,{"$f":"'見積書 (3)'!T62","v":""},null,null,null,null,{"$f":"IF(Q211=\"\",\"\",'出来高内訳書 (第8回請求)'!AC211+'出来高内訳書 (第8回請求)'!AK211)","v":""},null,null,{"$f":"IF(T211=\"\",\"\",ROUND(T211*AC211,0))","v":""},null,null,null,null,null,null,null,{"$f":"IF(T211=\"\",\"\",ROUND(T211*AK211,0))","v":""},null,null,null,null,{"$f":"IF(Q211=\"\",\"\",ROUND(Q211-AC211-AK211,2))","v":""},null,null,{"$f":"IF(T211=\"\",\"\",(IF(AS211<0,\"出来高が契約を超過\",X211-AN211-AF211)))","v":""}]
[null,{"$f":"'見積書 (3)'!F63","v":""}]
[55,{"$f":"'見積書 (3)'!F64","v":""},null,null,null,null,null,null,null,null,null,null,null,null,{"$f":"'見積書 (3)'!Q64","v":""},null,{"$f":"'見積書 (3)'!R64","v":""},null,null,{"$f":"'見積書 (3)'!S64","v":""},null,null,null,{"$f":"'見積書 (3)'!T64","v":""},null,null,null,null,{"$f":"IF(Q213=\"\",\"\",'出来高内訳書 (第8回請求)'!AC213+'出来高内訳書 (第8回請求)'!AK213)","v":""},null,null,{"$f":"IF(T213=\"\",\"\",ROUND(T213*AC213,0))","v":""},null,null,null,null,null,null,null,{"$f":"IF(T213=\"\",\"\",ROUND(T213*AK213,0))","v":""},null,null,null,null,{"$f":"IF(Q213=\"\",\"\",ROUND(Q213-AC213-AK213,2))","v":""},null,null,{"$f":"IF(T213=\"\",\"\",(IF(AS213<0,\"出来高が契約を超過\",X213-AN213-AF213)))","v":""}]
[null,{"$f":"'見積書 (3)'!F65","v":""}]
[56,{"$f":"'見積書 (3)'!F66","v":""},null,null,null,null,null,null,null,null,null,null,null,null,{"$f":"'見積書 (3)'!Q66","v":""},null,{"$f":"'見積書 (3)'!R66","v":""},null,null,{"$f":"'見積書 (3)'!S66","v":""},null,null,null,{"$f":"'見積書 (3)'!T66","v":""},null,null,null,null,{"$f":"IF(Q215=\"\",\"\",'出来高内訳書 (第8回請求)'!AC215+'出来高内訳書 (第8回請求)'!AK215)","v":""},null,null,{"$f":"IF(T215=\"\",\"\",ROUND(T215*AC215,0))","v":""},null,null,null,null,null,null,null,{"$f":"IF(T215=\"\",\"\",ROUND(T215*AK215,0))","v":""},null,null,null,null,{"$f":"IF(Q215=\"\",\"\",ROUND(Q215-AC215-AK215,2))","v":""},null,null,{"$f":"IF(T215=\"\",\"\",(IF(AS215<0,\"出来高が契約を超過\",X215-AN215-AF215)))","v":""}]
[null,{"$f":"'見積書 (3)'!F67","v":""}]
[null,"小計",null,null,null,null,null,null,null,null,null,null,null,null,null,null,null,null,null,null,null,null,null,{"$f":"SUM(X187:AB216)","v":0},null,null,null,null,null,null,null,{"$f":"SUM(AF187:AJ216)","v":0},null,null,null,null,null,null,null,{"$f":"SUM(AN187:AR216)","v":0},null,null,null,null,null,null,null,{"$f":"X217-AF217-AN217","v":0}]
[]
[]
[]
[]
[null,"請求内訳書（出来高・分割納入用）",null,null,null,null,null,null,null,null,null,null,null,null,null,null,null,null,null,null,null,null,null,null,null,null,null,null,null,null,null,null,null,null,null,null,null,null,null,null,null,null,null,null,null,null,null,null,null,null,"No."]
[]
[]
[]
[]
[]
[]
[]
[]
[]
[null,"製造番号",null,null,null,null,{"$f":"Y22","v":""},null,null,null,null,null,null,null,null,null,null,null,null,null,null,null,null,"※科目"]
[]
[]
[null,"注文番号",null,null,null,null,{"$f":"Y25","v":""},null,null,null,null,null,null,null,null,"第",null,{"$f":"AJ23","v":9},null,"回請求"]
[]
[]
[]
[null,"工　種・品　名",null,null,null,null,null,null,null,null,null,null,null,null,"契　約　金　額",null,null,null,null,null,null,null,null,null,null,null,null,null,"前回までの出来高",null,null,null,null,null,null,null,"今回出来高",null,null,null,null,null,null,null,"残高",null,null,null,null,null,null,null,"備　考"]
[null,null,null,null,null,null,null,null,null,null,null,null,null,null,"単位",null,"数量",null,null,"単価",null,null,null,"金額",null,null,null,null,"数量",null,null,"金額",null,null,null,null,"数量",null,null,"金額",null,null,null,null,"数量",null,null,"金額"]
[57,{"$f":"'見積書 (3)'!F68","v":""},null,null,null,null,null,null,null,null,null,null,null,null,{"$f":"'見積書 (3)'!Q68","v":""},null,{"$f":"'見積書 (3)'!R68","v":""},null,null,{"$f":"'見積書 (3)'!S68","v":""},null,null,null,{"$f":"'見積書 (3)'!T68","v":""},null,null,null,null,{"$f":"IF(Q241=\"\",\"\",'出来高内訳書 (第8回請求)'!AC241+'出来高内訳書 (第8回請求)'!AK241)","v":""},null,null,{"$f":"IF(T241=\"\",\"\",ROUND(T241*AC241,0))","v":""},null,null,null,null,null,null,null,{"$f":"IF(T241=\"\",\"\",ROUND(T241*AK241,0))","v":""},null,null,null,null,{"$f":"IF(Q241=\"\",\"\",ROUND(Q241-AC241-AK241,2))","v":""},null,null,{"$f":"IF(T241=\"\",\"\",(IF(AS241<0,\"出来高が契約を超過\",X241-AN241-AF241)))","v":""}]
[null,{"$f":"'見積書 (3)'!F68","v":""}]
[]
[]
[]
[]
[]
[]
[]
[]
[]
[]
[]
[]
[]
[]
[null,"小計",null,null,null,null,null,null,null,null,null,null,null,null,null,null,null,null,null,null,null,null,null,{"$f":"SUM(X241:AB256)","v":0},null,null,null,null,null,null,null,{"$f":"SUM(AF241:AJ256)","v":0},null,null,null,null,null,null,null,{"$f":"SUM(AN241:AR256)","v":0},null,null,null,null,null,null,null,{"$f":"SUM(AV241:AZ256)","v":0}]

{"sheet":"出来高内訳書 (第10回請求)","index":17,"n_rows":257,"n_cols":53,"rows_kept":257,"cut":false,"hidden":false,"merged":[[240,0,241,0],[240,1,240,13],[240,14,241,15],[240,16,241,18],[240,19,241,22],[240,23,241,27],[240,28,241,30],[240,31,241,35],[240,36,241,38],[240,39,241,43],[240,44,241,46],[240,47,241,51],[240,52,241,54],[212,0,213,0],[212,14,213,15],[212,16,213,18],[212,19,213,22],[212,23,213,27],[212,28,213,30],[212,31,213,35],[212,36,213,38],[212,39,213,43],[212,44,213,46],[212,47,213,51],[212,52,213,54],[214,0,215,0],[214,14,215,15],[214,16,215,18],[214,19,215,22],[214,23,215,27],[214,28,215,30],[214,31,215,35],[208,0,209,0],[208,14,209,15],[208,16,209,18],[208,19,209,22],[208,23,209,27],[208,28,209,30],[208,31,209,35],[208,36,209,38],[208,39,209,43],[208,44,209,46],[208,47,209,51],[208,52,209,54],[210,0,211,0],[210,14,211,15],[210,16,211,18],[210,19,211,22],[210,23,211,27],[210,28,211,30],[210,31,211,35],[210,36,211,38],[210,39,211,43],[210,44,211,46],[210,47,211,51],[210,52,211,54],[204,0,205,0],[204,14,205,15],[204,16,205,18],[204,19,205,22],[204,23,205,27],[204,28,205,30],[204,31,205,35],[204,36,205,38],[204,39,205,43],[204,44,205,46],[204,47,205,51],[204,52,205,54],[206,0,207,0],[206,14,207,15],[206,16,207,18],[206,19,207,22],[206,23,207,27],[206,28,207,30],[206,31,207,35],[206,36,207,38],[206,39,207,43],[206,44,207,46],[206,47,207,51],[206,52,207,54],[205,1,205,13],[204,1,204,13],[200,0,201,0],[200,1,200,13],[200,14,201,15],[200,16,201,18],[200,19,201,22],[200,23,201,27],[200,28,201,30],[200,31,201,35],[200,36,201,38],[200,39,201,43],[200,44,201,46],[200,47,201,51],[200,52,201,54],[202,0,203,0],[202,14,203,15],[202,16,203,18],[202,19,203,22],[202,23,203,27],[202,28,203,30],[202,31,203,35],[202,36,203,38],[202,39,203,43],[202,44,203,46],[202,47,203,51],[202,52,203,54],[203,1,203,13],[202,1,202,13],[201,1,201,13],[196,0,197,0],[196,1,196,13],[196,14,197,15],[196,16,197,18],[196,19,197,22],[196,23,197,27],[196,28,197,30],[196,31,197,35],[196,36,197,38],[196,39,197,43],[196,44,197,46],[196,47,197,51],[196,52,197,54],[197,1,197,13],[198,0,199,0],[198,1,198,13],[198,14,199,15],[198,16,199,18],[198,19,199,22],[198,23,199,27],[198,28,199,30],[198,31,199,35],[198,36,199,38],[198,39,199,43],[198,44,199,46],[198,47,199,51],[198,52,199,54],[199,1,199,13],[192,0,193,0],[192,1,192,13],[192,14,193,15],[192,16,193,18],[192,19,193,22],[192,23,193,27],[192,28,193,30],[192,31,193,35],[192,36,193,38],[192,39,193,43],[192,44,193,46],[192,47,193,51],[192,52,193,54],[193,1,193,13],[194,0,195,0],[194,1,194,13],[194,14,195,15],[194,16,195,18],[194,19,195,22],[194,23,195,27],[194,28,195,30],[194,31,195,35],[194,36,195,38],[194,39,195,43],[194,44,195,46],[194,47,195,51],[194,52,195,54],[195,1,195,13],[188,0,189,0],[188,1,188,13],[188,14,189,15],[188,16,189,18],[188,19,189,22],[188,23,189,27],[188,28,189,30],[188,31,189,35],[188,36,189,38],[188,39,189,43],[188,44,189,46],[188,47,189,51],[188,52,189,54],[189,1,189,13],[190,0,191,0],[190,1,190,13],[190,14,191,15],[190,16,191,18],[190,19,191,22],[190,23,191,27],[190,28,191,30],[190,31,191,35],[190,36,191,38],[190,39,191,43],[190,44,191,46],[190,47,191,51],[190,52,191,54],[191,1,191,13],[160,0,161,0],[160,14,161,15],[160,16,161,18],[160,19,161,22],[160,23,161,27],[160,28,161,30],[160,31,161,35],[160,36,161,38],[160,39,161,43],[160,44,161,46],[160,47,161,51],[160,52,161,54],[186,0,187,0],[186,1,186,13],[186,14,187,15],[186,16,187,18],[186,19,187,22],[186,23,187,27],[186,28,187,30],[186,31,187,35],[186,36,187,38],[186,39,187,43],[186,44,187,46],[186,47,187,51],[186,52,187,54],[187,1,187,13],[185,44,185,46],[185,47,185,51],[184,44,184,51],[184,52,185,54],[185,14,185,15],[185,16,185,18],[156,0,157,0],[156,14,157,15],[156,16,157,18],[156,19,157,22],[156,23,157,27],[156,28,157,30],[156,31,157,35],[156,36,157,38],[156,39,157,43],[156,44,157,46],[156,47,157,51],[156,52,157,54],[158,0,159,0],[158,14,159,15],[158,16,159,18],[158,19,159,22],[158,23,159,27],[158,28,159,30],[158,31,159,35],[158,36,159,38],[158,39,159,43],[158,44,159,46],[158,47,159,51],[158,52,159,54],[156,1,156,13],[152,0,153,0],[152,14,153,15],[152,16,153,18],[152,19,153,22],[152,23,153,27],[152,28,153,30],[152,31,153,35],[152,36,153,38],[152,39,153,43],[152,44,153,46],[152,47,153,51],[152,52,153,54],[154,0,155,0],[154,14,155,15],[154,16,155,18],[154,19,155,22],[154,23,155,27],[154,28,155,30],[154,31,155,35],[154,36,155,38],[154,39,155,43],[154,44,155,46],[154,47,155,51],[154,52,155,54],[155,1,155,13],[154,1,154,13],[153,1,153,13],[152,1,152,13],[148,0,149,0],[148,14,149,15],[148,16,149,18],[148,19,149,22],[148,23,149,27],[148,28,149,30],[148,31,149,35],[148,36,149,38],[148,39,149,43],[148,44,149,46],[148,47,149,51],[148,52,149,54],[150,0,151,0],[150,14,151,15],[150,16,151,18],[150,19,151,22],[150,23,151,27],[150,28,151,30],[150,31,151,35],[150,36,151,38],[150,39,151,43],[150,44,151,46],[150,47,151,51],[150,52,151,54],[151,1,151,13],[150,1,150,13],[149,1,149,13],[148,1,148,13],[144,0,145,0],[144,1,144,13],[144,14,145,15],[144,16,145,18],[144,19,145,22],[144,23,145,27],[144,28,145,30],[144,31,145,35],[144,36,145,38],[144,39,145,43],[144,44,145,46],[144,47,145,51],[144,52,145,54],[145,1,145,13],[146,0,147,0],[146,1,146,13],[146,14,147,15],[146,16,147,18],[146,19,147,22],[146,23,147,27],[146,28,147,30],[146,31,147,35],[146,36,147,38],[146,39,147,43],[146,44,147,46],[146,47,147,51],[146,52,147,54],[140,0,141,0],[140,1,140,13],[140,14,141,15],[140,16,141,18],[140,19,141,22],[140,23,141,27],[140,28,141,30],[140,31,141,35],[140,36,141,38],[140,39,141,43],[140,44,141,46],[140,47,141,51],[140,52,141,54],[141,1,141,13],[142,0,143,0],[142,1,142,13],[142,14,143,15],[142,16,143,18],[142,19,143,22],[142,23,143,27],[142,28,143,30],[142,31,143,35],[142,36,143,38],[142,39,143,43],[142,44,143,46],[142,47,143,51],[142,52,143,54],[143,1,143,13],[136,0,137,0],[136,1,136,13],[136,14,137,15],[136,16,137,18],[136,19,137,22],[136,23,137,27],[136,28,137,30],[136,31,137,35],[136,36,137,38],[136,39,137,43],[136,44,137,46],[136,47,137,51],[136,52,137,54],[137,1,137,13],[138,0,139,0],[138,1,138,13],[138,14,139,15],[138,16,139,18],[138,19,139,22],[138,23,139,27],[138,28,139,30],[138,31,139,35],[138,36,139,38],[138,39,139,43],[138,44,139,46],[138,47,139,51],[138,52,139,54],[139,1,139,13],[132,0,133,0],[132,1,132,13],[132,14,133,15],[132,16,133,18],[132,19,133,22],[132,23,133,27],[132,28,133,30],[132,31,133,35],[132,36,133,38],[132,39,133,43],[132,44,133,46],[132,47,133,51],[132,52,133,54],[133,1,133,13],[134,0,135,0],[134,1,134,13],[134,14,135,15],[134,16,135,18],[134,19,135,22],[134,23,135,27],[134,28,135,30],[134,31,135,35],[134,36,135,38],[134,39,135,43],[134,44,135,46],[134,47,135,51],[134,52,135,54],[135,1,135,13],[104,0,105,0],[104,14,105,15],[104,16,105,18],[104,19,105,22],[104,23,105,27],[104,28,105,30],[104,31,105,35],[104,36,105,38],[104,39,105,43],[104,44,105,46],[104,47,105,51],[104,52,105,54],[106,0,107,0],[106,14,107,15],[106,16,107,18],[106,19,107,22],[106,23,107,27],[106,28,107,30],[106,31,107,35],[106,36,107,38],[106,39,107,43],[106,44,107,46],[106,47,107,51],[106,52,107,54],[107,1,107,13],[106,1,106,13],[105,1,105,13],[104,1,104,13],[100,0,101,0],[100,14,101,15],[100,16,101,18],[100,19,101,22],[100,23,101,27],[100,28,101,30],[100,31,101,35],[100,36,101,38],[100,39,101,43],[100,44,101,46],[100,47,101,51],[100,52,101,54],[102,0,103,0],[102,14,103,15],[102,16,103,18],[102,19,103,22],[102,23,103,27],[102,28,103,30],[102,31,103,35],[102,36,103,38],[102,39,103,43],[102,44,103,46],[102,47,103,51],[102,52,103,54],[103,1,103,13],[102,1,102,13],[101,1,101,13],[100,1,100,13],[96,0,97,0],[96,14,97,15],[96,16,97,18],[96,19,97,22],[96,23,97,27],[96,28,97,30],[96,31,97,35],[96,36,97,38],[96,39,97,43],[96,44,97,46],[96,47,97,51],[96,52,97,54],[98,0,99,0],[98,14,99,15],[98,16,99,18],[98,19,99,22],[98,23,99,27],[98,28,99,30],[98,31,99,35],[98,36,99,38],[98,39,99,43],[98,44,99,46],[98,47,99,51],[98,52,99,54],[99,1,99,13],[98,1,98,13],[97,1,97,13],[96,1,96,13],[92,0,93,0],[92,1,92,13],[92,14,93,15],[92,16,93,18],[92,19,93,22],[92,23,93,27],[92,28,93,30],[92,31,93,35],[92,36,93,38],[92,39,93,43],[92,44,93,46],[92,47,93,51],[92,52,93,54],[94,0,95,0],[94,14,95,15],[94,16,95,18],[94,19,95,22],[94,23,95,27],[94,28,95,30],[94,31,95,35],[94,36,95,38],[94,39,95,43],[94,44,95,46],[94,47,95,51],[94,52,95,54],[95,1,95,13],[94,1,94,13],[93,1,93,13],[88,0,89,0],[88,1,88,13],[88,14,89,15],[88,16,89,18],[88,19,89,22],[88,23,89,27],[88,28,89,30],[88,31,89,35],[88,36,89,38],[88,39,89,43],[88,44,89,46],[88,47,89,51],[88,52,89,54],[89,1,89,13],[90,0,91,0],[90,1,90,13],[90,14,91,15],[90,16,91,18],[90,19,91,22],[90,23,91,27],[90,28,91,30],[90,31,91,35],[90,36,91,38],[90,39,91,43],[90,44,91,46],[90,47,91,51],[90,52,91,54],[91,1,91,13],[84,0,85,0],[84,1,84,13],[84,14,85,15],[84,16,85,18],[84,19,85,22],[84,23,85,27],[84,28,85,30],[84,31,85,35],[84,36,85,38],[84,39,85,43],[84,44,85,46],[84,47,85,51],[84,52,85,54],[85,1,85,13],[86,0,87,0],[86,1,86,13],[86,14,87,15],[86,16,87,18],[86,19,87,22],[86,23,87,27],[86,28,87,30],[86,31,87,35],[86,36,87,38],[86,39,87,43],[86,44,87,46],[86,47,87,51],[86,52,87,54],[87,1,87,13],[80,0,81,0],[80,1,80,13],[80,14,81,15],[80,16,81,18],[80,19,81,22],[80,23,81,27],[80,28,81,30],[80,31,81,35],[80,36,81,38],[80,39,81,43],[80,44,81,46],[80,47,81,51],[80,52,81,54],[81,1,81,13],[82,0,83,0],[82,1,82,13],[82,14,83,15],[82,16,83,18],[82,19,83,22],[82,23,83,27],[82,28,83,30],[82,31,83,35],[82,36,83,38],[82,39,83,43],[82,44,83,46],[82,47,83,51],[82,52,83,54],[83,1,83,13],[55,0,56,0],[55,14,56,15],[55,16,56,18],[55,19,56,22],[55,23,56,27],[55,28,56,30],[55,31,56,35],[55,36,56,38],[55,39,56,43],[55,44,56,46],[55,47,56,51],[55,52,56,54],[78,0,79,0],[78,1,78,13],[78,14,79,15],[78,16,79,18],[78,19,79,22],[78,23,79,27],[78,28,79,30],[78,31,79,35],[78,36,79,38],[78,39,79,43],[78,44,79,46],[78,47,79,51],[78,52,79,54],[79,1,79,13],[77,44,77,46],[77,47,77,51],[76,44,76,51],[76,52,77,54],[77,14,77,15],[77,16,77,18],[51,0,52,0],[51,14,52,15],[51,16,52,18],[51,19,52,22],[51,23,52,27],[51,28,52,30],[51,31,52,35],[51,36,52,38],[51,39,52,43],[51,44,52,46],[51,47,52,51],[51,52,52,54],[53,0,54,0],[53,14,54,15],[53,16,54,18],[53,19,54,22],[53,23,54,27],[53,28,54,30],[53,31,54,35],[53,36,54,38],[53,39,54,43],[53,44,54,46],[53,47,54,51],[53,52,54,54],[51,1,51,13],[47,0,48,0],[47,14,48,15],[47,16,48,18],[47,19,48,22],[47,23,48,27],[47,28,48,30],[47,31,48,35],[47,36,48,38],[47,39,48,43],[47,44,48,46],[47,47,48,51],[47,52,48,54],[49,0,50,0],[49,14,50,15],[49,16,50,18],[49,19,50,22],[49,23,50,27],[49,28,50,30],[49,31,50,35],[49,36,50,38],[49,39,50,43],[49,44,50,46],[49,47,50,51],[49,52,50,54],[50,1,50,13],[49,1,49,13],[48,1,48,13],[47,1,47,13],[43,0,44,0],[43,1,43,13],[43,14,44,15],[43,16,44,18],[43,19,44,22],[43,23,44,27],[43,28,44,30],[43,31,44,35],[43,36,44,38],[43,39,44,43],[43,44,44,46],[43,47,44,51],[43,52,44,54],[44,1,44,13],[45,0,46,0],[45,1,45,13],[45,14,46,15],[45,16,46,18],[45,19,46,22],[45,23,46,27],[45,28,46,30],[45,31,46,35],[45,36,46,38],[45,39,46,43],[45,44,46,46],[45,47,46,51],[45,52,46,54],[46,1,46,13],[39,0,40,0],[39,1,39,13],[39,14,40,15],[39,16,40,18],[39,19,40,22],[39,23,40,27],[39,28,40,30],[39,31,40,35],[39,36,40,38],[39,39,40,43],[39,44,40,46],[39,47,40,51],[39,52,40,54],[40,1,40,13],[41,0,42,0],[41,1,41,13],[41,14,42,15],[41,16,42,18],[41,19,42,22],[41,23,42,27],[41,28,42,30],[41,31,42,35],[41,36,42,38],[41,39,42,43],[41,44,42,46],[41,47,42,51],[41,52,42,54],[42,1,42,13],[35,0,36,0],[35,1,35,13],[35,14,36,15],[35,16,36,18],[35,19,36,22],[35,23,36,27],[35,28,36,30],[35,31,36,35],[35,36,36,38],[35,39,36,43],[35,44,36,46],[35,47,36,51],[35,52,36,54],[36,1,36,13],[37,0,38,0],[37,1,37,13],[37,14,38,15],[37,16,38,18],[37,19,38,22],[37,23,38,27],[37,28,38,30],[37,31,38,35],[37,36,38,38],[37,39,38,43],[37,44,38,46],[37,47,38,51],[37,52,38,54],[38,1,38,13],[256,31,256,35],[256,36,256,38],[256,39,256,43],[256,44,256,46],[256,47,256,51],[256,52,256,54],[256,1,256,13],[256,14,256,15],[256,16,256,18],[256,19,256,22],[256,23,256,27],[256,28,256,30],[255,31,255,35],[255,36,255,38],[255,39,255,43],[255,44,255,46],[255,47,255,51],[255,52,255,54],[255,1,255,13],[255,14,255,15],[255,16,255,18],[255,19,255,22],[255,23,255,27],[255,28,255,30],[254,31,254,35],[254,36,254,38],[254,39,254,43],[254,44,254,46],[254,47,254,51],[254,52,254,54],[254,1,254,13],[254,14,254,15],[254,16,254,18],[254,19,254,22],[254,23,254,27],[254,28,254,30],[253,31,253,35],[253,36,253,38],[253,39,253,43],[253,44,253,46],[253,47,253,51],[253,52,253,54],[253,1,253,13],[253,14,253,15],[253,16,253,18],[253,19,253,22],[253,23,253,27],[253,28,253,30],[252,31,252,35],[252,36,252,38],[252,39,252,43],[252,44,252,46],[252,47,252,51],[252,52,252,54],[252,1,252,13],[252,14,252,15],[252,16,252,18],[252,19,252,22],[252,23,252,27],[252,28,252,30],[251,31,251,35],[251,36,251,38],[251,39,251,43],[251,44,251,46],[251,47,251,51],[251,52,251,54],[251,1,251,13],[251,14,251,15],[251,16,251,18],[251,19,251,22],[251,23,251,27],[251,28,251,30],[250,31,250,35],[250,36,250,38],[250,39,250,43],[250,44,250,46],[250,47,250,51],[250,52,250,54],[250,1,250,13],[250,14,250,15],[250,16,250,18],[250,19,250,22],[250,23,250,27],[250,28,250,30],[249,31,249,35],[249,36,249,38],[249,39,249,43],[249,44,249,46],[249,47,249,51],[249,52,249,54],[249,1,249,13],[249,14,249,15],[249,16,249,18],[249,19,249,22],[249,23,249,27],[249,28,249,30],[248,31,248,35],[248,36,248,38],[248,39,248,43],[248,44,248,46],[248,47,248,51],[248,52,248,54],[248,1,248,13],[248,14,248,15],[248,16,248,18],[248,19,248,22],[248,23,248,27],[248,28,248,30],[247,31,247,35],[247,36,247,38],[247,39,247,43],[247,44,247,46],[247,47,247,51],[247,52,247,54],[247,1,247,13],[247,14,247,15],[247,16,247,18],[247,19,247,22],[247,23,247,27],[247,28,247,30],[246,31,246,35],[246,36,246,38],[246,39,246,43],[246,44,246,46],[246,47,246,51],[246,52,246,54],[246,1,246,13],[246,14,246,15],[246,16,246,18],[246,19,246,22],[246,23,246,27],[246,28,246,30],[245,31,245,35],[245,36,245,38],[245,39,245,43],[245,44,245,46],[245,47,245,51],[245,52,245,54],[245,1,245,13],[245,14,245,15],[245,16,245,18],[245,19,245,22],[245,23,245,27],[245,28,245,30],[244,31,244,35],[244,36,244,38],[244,39,244,43],[244,44,244,46],[244,47,244,51],[244,52,244,54],[244,1,244,13],[244,14,244,15],[244,16,244,18],[244,19,244,22],[244,23,244,27],[244,28,244,30],[243,31,243,35],[243,36,243,38],[243,39,243,43],[243,44,243,46],[243,47,243,51],[243,52,243,54],[243,1,243,13],[243,14,243,15],[243,16,243,18],[243,19,243,22],[243,23,243,27],[243,28,243,30],[242,31,242,35],[242,36,242,38],[242,39,242,43],[242,44,242,46],[242,47,242,51],[242,52,242,54],[242,1,242,13],[242,14,242,15],[242,16,242,18],[242,19,242,22],[242,23,242,27],[242,28,242,30],[239,44,239,46],[239,47,239,51],[241,1,241,13],[238,44,238,51],[238,52,239,54],[239,14,239,15],[239,16,239,18],[239,19,239,22],[239,23,239,27],[239,28,239,30],[239,31,239,35],[239,36,239,38],[239,39,239,43],[234,19,236,22],[234,24,236,29],[238,1,239,13],[238,14,238,27],[238,28,238,35],[238,36,238,43],[221,1,227,17],[221,50,223,50],[231,1,233,5],[231,6,233,13],[231,23,236,23],[231,24,233,29],[234,1,236,5],[234,6,236,13],[234,15,236,16],[234,17,236,18],[216,31,216,35],[216,36,216,38],[216,39,216,43],[216,44,216,46],[216,47,216,51],[216,52,216,54],[216,1,216,13],[216,14,216,15]],"merged_total":1200,"flags":["merged_cut"]}
[null,null,null,null,null,null,null,null,"請 求 書（出来高・分割納入用）",null,null,null,null,null,null,null,null,null,null,null,null,null,null,null,null,null,null,null,null,null,null,null,null,null,null,null,null,null,null,null,null,null,null,null,null,null,null,null,null,null,"No."]
[null,null,null,null,null,null,null,null,null,null,null,null,null,null,null,null,null,null,null,null,null,null,null,null,null,null,null,null,null,null,null,null,null,null,null,null,null,null,null,"日付",null,null,null,null,"年",null,"月",null,"日"]
[]
[]
[null,null,null,null,null,null,null,null,null,null,null,null,null,null,null,null,null,null,null,null,null,null,null,null,null,null,null,null,null,null,null,null,null,null,null,null,null,"請求者住所･氏名･印･電話",null,null,null,null,null,"取引先コード",null,null,null,null,{"$f":"入力フォーム!B3","v":0}]
[]
[null,null,null,null,null,null,null,null,null,null,null,null,null,null,null,null,null,"御中"]
[null,null,null,null,null,null,null,null,null,null,null,null,null,null,null,null,null,null,null,null,null,null,null,null,null,null,null,null,null,null,null,null,null,null,null,null,null,{"$f":"\"登録番号\"&\" \"&入力フォーム!B4","v":"登録番号 "}]
[]
[]
[]
[null,"下記の通り請求いたします。"]
[]
[]
[null,null,null,"月分請求内訳書",null,null,null,null,null,null,null,"枚 (本用紙を含む)"]
[]
[]
[null,"請 求 金 額",null,null,null,null,{"$f":"SUM(G23:P32)","v":0}]
[]
[]
[]
[null,null,null,null,null,null,null,null,null,null,null,null,null,null,null,null,null,null,null,"製造番号",null,null,null,null,{"$f":"見積書!$B$47","v":""}]
[null,"内　訳","税抜金額",null,null,null,{"$f":"AN58+AN109+AN163+AN217+AN257","v":0},null,null,null,null,null,null,null,null,null,null,null,null,null,null,null,null,null,null,null,null,null,null,null,null,null,null,"第",null,10,null,"回請求"]
[]
[null,null,null,null,null,null,null,null,null,null,null,null,null,null,null,null,null,null,null,"注文番号",null,null,null,null,{"$f":"IF('出来高内訳書 (第1回請求)'!Y25=\"\",\"\",'出来高内訳書 (第1回請求)'!Y25)","v":""}]
[]
[null,null,null,null,null,null,null,null,null,null,null,null,null,null,null,null,null,null,null,null,null,null,null,null,null,null,null,null,null,null,null,null,null,null,"※科目"]
[null,null,"消費税額等",null,null,null,{"$f":"IF(AC28=\"10％\",ROUNDDOWN(G23*10%,0),IF(AC28=\"(軽)8%\",ROUNDDOWN(G23*8%,0),0))","v":0},null,null,null,null,null,null,null,null,null,null,null,null,"消費税率",null,null,null,null,null,null,null,null,{"$f":"入力フォーム!B10","v":"10％"}]
[]
[]
[]
[]
[]
[null,"工　種・品　名",null,null,null,null,null,null,null,null,null,null,null,null,"契　約　金　額",null,null,null,null,null,null,null,null,null,null,null,null,null,"前回までの出来高",null,null,null,null,null,null,null,"今回出来高",null,null,null,null,null,null,null,"残高",null,null,null,null,null,null,null,"備　考"]
[null,null,null,null,null,null,null,null,null,null,null,null,null,null,"単位",null,"数量",null,null,"単価",null,null,null,"金額",null,null,null,null,"数量",null,null,"金額",null,null,null,null,"数量",null,null,"金額",null,null,null,null,"数量",null,null,"金額"]
[1,{"$f":"見積書!F61","v":""},null,null,null,null,null,null,null,null,null,null,null,null,{"$f":"見積書!Q61","v":""},null,{"$f":"見積書!R61","v":""},null,null,{"$f":"見積書!S61","v":""},null,null,null,{"$f":"見積書!T61","v":""},null,null,null,null,{"$f":"IF(Q36=\"\",\"\",'出来高内訳書 (第9回請求)'!AC36+'出来高内訳書 (第9回請求)'!AK36)","v":""},null,null,{"$f":"IF(T36=\"\",\"\",ROUND(T36*AC36,0))","v":""},null,null,null,null,null,null,null,{"$f":"IF(T36=\"\",\"\",ROUND(T36*AK36,0))","v":""},null,null,null,null,{"$f":"IF(Q36=\"\",\"\",ROUND(Q36-AC36-AK36,2))","v":""},null,null,{"$f":"IF(T36=\"\",\"\",(IF(AS36<0,\"出来高が契約を超過\",X36-AN36-AF36)))","v":""}]
[null,{"$f":"見積書!F62","v":""}]
[2,{"$f":"見積書!F63","v":""},null,null,null,null,null,null,null,null,null,null,null,null,{"$f":"見積書!Q63","v":""},null,{"$f":"見積書!R63","v":""},null,null,{"$f":"見積書!S63","v":""},null,null,null,{"$f":"見積書!T63","v":""},null,null,null,null,{"$f":"IF(Q38=\"\",\"\",'出来高内訳書 (第9回請求)'!AC38+'出来高内訳書 (第9回請求)'!AK38)","v":""},null,null,{"$f":"IF(T38=\"\",\"\",ROUND(T38*AC38,0))","v":""},null,null,null,null,null,null,null,{"$f":"IF(T38=\"\",\"\",ROUND(T38*AK38,0))","v":""},null,null,null,null,{"$f":"IF(Q38=\"\",\"\",ROUND(Q38-AC38-AK38,2))","v":""},null,null,{"$f":"IF(T38=\"\",\"\",(IF(AS38<0,\"出来高が契約を超過\",X38-AN38-AF38)))","v":""}]
[null,{"$f":"見積書!F64","v":""}]
[3,{"$f":"見積書!F65","v":""},null,null,null,null,null,null,null,null,null,null,null,null,{"$f":"見積書!Q65","v":""},null,{"$f":"見積書!R65","v":""},null,null,{"$f":"見積書!S65","v":""},null,null,null,{"$f":"見積書!T65","v":""},null,null,null,null,{"$f":"IF(Q40=\"\",\"\",'出来高内訳書 (第9回請求)'!AC40+'出来高内訳書 (第9回請求)'!AK40)","v":""},null,null,{"$f":"IF(T40=\"\",\"\",ROUND(T40*AC40,0))","v":""},null,null,null,null,null,null,null,{"$f":"IF(T40=\"\",\"\",ROUND(T40*AK40,0))","v":""},null,null,null,null,{"$f":"IF(Q40=\"\",\"\",ROUND(Q40-AC40-AK40,2))","v":""},null,null,{"$f":"IF(T40=\"\",\"\",(IF(AS40<0,\"出来高が契約を超過\",X40-AN40-AF40)))","v":""}]
[null,{"$f":"見積書!F66","v":""}]
[4,{"$f":"見積書!F67","v":""},null,null,null,null,null,null,null,null,null,null,null,null,{"$f":"見積書!Q67","v":""},null,{"$f":"見積書!R67","v":""},null,null,{"$f":"見積書!S67","v":""},null,null,null,{"$f":"見積書!T67","v":""},null,null,null,null,{"$f":"IF(Q42=\"\",\"\",'出来高内訳書 (第9回請求)'!AC42+'出来高内訳書 (第9回請求)'!AK42)","v":""},null,null,{"$f":"IF(T42=\"\",\"\",ROUND(T42*AC42,0))","v":""},null,null,null,null,null,null,null,{"$f":"IF(T42=\"\",\"\",ROUND(T42*AK42,0))","v":""},null,null,null,null,{"$f":"IF(Q42=\"\",\"\",ROUND(Q42-AC42-AK42,2))","v":""},null,null,{"$f":"IF(T42=\"\",\"\",(IF(AS42<0,\"出来高が契約を超過\",X42-AN42-AF42)))","v":""}]
[null,{"$f":"見積書!F68","v":""}]
[5,{"$f":"見積書!F69","v":""},null,null,null,null,null,null,null,null,null,null,null,null,{"$f":"見積書!Q69","v":""},null,{"$f":"見積書!R69","v":""},null,null,{"$f":"見積書!S69","v":""},null,null,null,{"$f":"見積書!T69","v":""},null,null,null,null,{"$f":"IF(Q44=\"\",\"\",'出来高内訳書 (第9回請求)'!AC44+'出来高内訳書 (第9回請求)'!AK44)","v":""},null,null,{"$f":"IF(T44=\"\",\"\",ROUND(T44*AC44,0))","v":""},null,null,null,null,null,null,null,{"$f":"IF(T44=\"\",\"\",ROUND(T44*AK44,0))","v":""},null,null,null,null,{"$f":"IF(Q44=\"\",\"\",ROUND(Q44-AC44-AK44,2))","v":""},null,null,{"$f":"IF(T44=\"\",\"\",(IF(AS44<0,\"出来高が契約を超過\",X44-AN44-AF44)))","v":""}]
[null,{"$f":"見積書!F70","v":""}]
[6,{"$f":"見積書!F71","v":""},null,null,null,null,null,null,null,null,null,null,null,null,{"$f":"見積書!Q71","v":""},null,{"$f":"見積書!R71","v":""},null,null,{"$f":"見積書!S71","v":""},null,null,null,{"$f":"見積書!T71","v":""},null,null,null,null,{"$f":"IF(Q46=\"\",\"\",'出来高内訳書 (第9回請求)'!AC46+'出来高内訳書 (第9回請求)'!AK46)","v":""},null,null,{"$f":"IF(T46=\"\",\"\",ROUND(T46*AC46,0))","v":""},null,null,null,null,null,null,null,{"$f":"IF(T46=\"\",\"\",ROUND(T46*AK46,0))","v":""},null,null,null,null,{"$f":"IF(Q46=\"\",\"\",ROUND(Q46-AC46-AK46,2))","v":""},null,null,{"$f":"IF(T46=\"\",\"\",(IF(AS46<0,\"出来高が契約を超過\",X46-AN46-AF46)))","v":""}]
[null,{"$f":"見積書!F72","v":""}]
[7,{"$f":"見積書!F73","v":""},null,null,null,null,null,null,null,null,null,null,null,null,{"$f":"見積書!Q73","v":""},null,{"$f":"見積書!R73","v":""},null,null,{"$f":"見積書!S73","v":""},null,null,null,{"$f":"見積書!T73","v":""},null,null,null,null,{"$f":"IF(Q48=\"\",\"\",'出来高内訳書 (第9回請求)'!AC48+'出来高内訳書 (第9回請求)'!AK48)","v":""},null,null,{"$f":"IF(T48=\"\",\"\",ROUND(T48*AC48,0))","v":""},null,null,null,null,null,null,null,{"$f":"IF(T48=\"\",\"\",ROUND(T48*AK48,0))","v":""},null,null,null,null,{"$f":"IF(Q48=\"\",\"\",ROUND(Q48-AC48-AK48,2))","v":""},null,null,{"$f":"IF(T48=\"\",\"\",(IF(AS48<0,\"出来高が契約を超過\",X48-AN48-AF48)))","v":""}]
[null,{"$f":"見積書!F74","v":""}]
[8,{"$f":"見積書!F75","v":""},null,null,null,null,null,null,null,null,null,null,null,null,{"$f":"見積書!Q75","v":""},null,{"$f":"見積書!R75","v":""},null,null,{"$f":"見積書!S75","v":""},null,null,null,{"$f":"見積書!T75","v":""},null,null,null,null,{"$f":"IF(Q50=\"\",\"\",'出来高内訳書 (第9回請求)'!AC50+'出来高内訳書 (第9回請求)'!AK50)","v":""},null,null,{"$f":"IF(T50=\"\",\"\",ROUND(T50*AC50,0))","v":""},null,null,null,null,null,null,null,{"$f":"IF(T50=\"\",\"\",ROUND(T50*AK50,0))","v":""},null,null,null,null,{"$f":"IF(Q50=\"\",\"\",ROUND(Q50-AC50-AK50,2))","v":""},null,null,{"$f":"IF(T50=\"\",\"\",(IF(AS50<0,\"出来高が契約を超過\",X50-AN50-AF50)))","v":""}]
[null,{"$f":"見積書!F76","v":""}]
[9,{"$f":"見積書!F77","v":""},null,null,null,null,null,null,null,null,null,null,null,null,{"$f":"見積書!Q77","v":""},null,{"$f":"見積書!R77","v":""},null,null,{"$f":"見積書!S77","v":""},null,null,null,{"$f":"見積書!T77","v":""},null,null,null,null,{"$f":"IF(Q52=\"\",\"\",'出来高内訳書 (第9回請求)'!AC52+'出来高内訳書 (第9回請求)'!AK52)","v":""},null,null,{"$f":"IF(T52=\"\",\"\",ROUND(T52*AC52,0))","v":""},null,null,null,null,null,null,null,{"$f":"IF(T52=\"\",\"\",ROUND(T52*AK52,0))","v":""},null,null,null,null,{"$f":"IF(Q52=\"\",\"\",ROUND(Q52-AC52-AK52,2))","v":""},null,null,{"$f":"IF(T52=\"\",\"\",(IF(AS52<0,\"出来高が契約を超過\",X52-AN52-AF52)))","v":""}]
[null,{"$f":"見積書!F78","v":""}]
[10,{"$f":"見積書!F79","v":""},null,null,null,null,null,null,null,null,null,null,null,null,{"$f":"見積書!Q79","v":""},null,{"$f":"見積書!R79","v":""},null,null,{"$f":"見積書!S79","v":""},null,null,null,{"$f":"見積書!T79","v":""},null,null,null,null,{"$f":"IF(Q54=\"\",\"\",'出来高内訳書 (第9回請求)'!AC54+'出来高内訳書 (第9回請求)'!AK54)","v":""},null,null,{"$f":"IF(T54=\"\",\"\",ROUND(T54*AC54,0))","v":""},null,null,null,null,null,null,null,{"$f":"IF(T54=\"\",\"\",ROUND(T54*AK54,0))","v":""},null,null,null,null,{"$f":"IF(Q54=\"\",\"\",ROUND(Q54-AC54-AK54,2))","v":""},null,null,{"$f":"IF(T54=\"\",\"\",(IF(AS54<0,\"出来高が契約を超過\",X54-AN54-AF54)))","v":""}]
[null,{"$f":"見積書!F80","v":""}]
[11,{"$f":"見積書!F81","v":""},null,null,null,null,null,null,null,null,null,null,null,null,{"$f":"見積書!Q81","v":""},null,{"$f":"見積書!R81","v":""},null,null,{"$f":"見積書!S81","v":""},null,null,null,{"$f":"見積書!T81","v":""},null,null,null,null,{"$f":"IF(Q56=\"\",\"\",'出来高内訳書 (第9回請求)'!AC56+'出来高内訳書 (第9回請求)'!AK56)","v":""},null,null,{"$f":"IF(T56=\"\",\"\",ROUND(T56*AC56,0))","v":""},null,null,null,null,null,null,null,{"$f":"IF(T56=\"\",\"\",ROUND(T56*AK56,0))","v":""},null,null,null,null,{"$f":"IF(Q56=\"\",\"\",ROUND(Q56-AC56-AK56,2))","v":""},null,null,{"$f":"IF(T56=\"\",\"\",(IF(AS56<0,\"出来高が契約を超過\",X56-AN56-AF56)))","v":""}]
[null,{"$f":"見積書!F82","v":""}]
[null,"小計",null,null,null,null,null,null,null,null,null,null,null,null,null,null,null,null,null,null,null,null,null,{"$f":"SUM(X36:AB57)","v":0},null,null,null,null,null,null,null,{"$f":"SUM(AF36:AJ57)","v":0},null,null,null,null,null,null,null,{"$f":"SUM(AN36:AR57)","v":0},null,null,null,null,null,null,null,{"$f":"X58-AF58-AN58","v":0}]
[]
[null,"請求内訳書（出来高・分割納入用）",null,null,null,null,null,null,null,null,null,null,null,null,null,null,null,null,null,null,null,null,null,null,null,null,null,null,null,null,null,null,null,null,null,null,null,null,null,null,null,null,null,null,null,null,null,null,null,null,"No."]
[]
[]
[]
[]
[]
[]
[]
[]
[]
[null,"製造番号",null,null,null,null,{"$f":"Y22","v":""},null,null,null,null,null,null,null,null,null,null,null,null,null,null,null,null,"※科目"]
[]
[]
[null,"注文番号",null,null,null,null,{"$f":"Y25","v":""},null,null,null,null,null,null,null,null,"第",null,{"$f":"AJ23","v":10},null,"回請求"]
[]
[]
[]
[null,"工　種・品　名",null,null,null,null,null,null,null,null,null,null,null,null,"契　約　金　額",null,null,null,null,null,null,null,null,null,null,null,null,null,"前回までの出来高",null,null,null,null,null,null,null,"今回出来高",null,null,null,null,null,null,null,"残高",null,null,null,null,null,null,null,"備　考"]
[null,null,null,null,null,null,null,null,null,null,null,null,null,null,"単位",null,"数量",null,null,"単価",null,null,null,"金額",null,null,null,null,"数量",null,null,"金額",null,null,null,null,"数量",null,null,"金額",null,null,null,null,"数量",null,null,"金額"]
[12,{"$f":"見積書!F83","v":""},null,null,null,null,null,null,null,null,null,null,null,null,{"$f":"見積書!Q83","v":""},null,{"$f":"見積書!R83","v":""},null,null,{"$f":"見積書!S83","v":""},null,null,null,{"$f":"見積書!T83","v":""},null,null,null,null,{"$f":"IF(Q79=\"\",\"\",'出来高内訳書 (第9回請求)'!AC79+'出来高内訳書 (第9回請求)'!AK79)","v":""},null,null,{"$f":"IF(T79=\"\",\"\",ROUND(T79*AC79,0))","v":""},null,null,null,null,null,null,null,{"$f":"IF(T79=\"\",\"\",ROUND(T79*AK79,0))","v":""},null,null,null,null,{"$f":"IF(Q79=\"\",\"\",ROUND(Q79-AC79-AK79,2))","v":""},null,null,{"$f":"IF(T79=\"\",\"\",(IF(AS79<0,\"出来高が契約を超過\",X79-AN79-AF79)))","v":""}]
[null,{"$f":"見積書!F84","v":""}]
[13,{"$f":"見積書!F85","v":""},null,null,null,null,null,null,null,null,null,null,null,null,{"$f":"見積書!Q85","v":""},null,{"$f":"見積書!R85","v":""},null,null,{"$f":"見積書!S85","v":""},null,null,null,{"$f":"見積書!T85","v":""},null,null,null,null,{"$f":"IF(Q81=\"\",\"\",'出来高内訳書 (第9回請求)'!AC81+'出来高内訳書 (第9回請求)'!AK81)","v":""},null,null,{"$f":"IF(T81=\"\",\"\",ROUND(T81*AC81,0))","v":""},null,null,null,null,null,null,null,{"$f":"IF(T81=\"\",\"\",ROUND(T81*AK81,0))","v":""},null,null,null,null,{"$f":"IF(Q81=\"\",\"\",ROUND(Q81-AC81-AK81,2))","v":""},null,null,{"$f":"IF(T81=\"\",\"\",(IF(AS81<0,\"出来高が契約を超過\",X81-AN81-AF81)))","v":""}]
[null,{"$f":"見積書!F86","v":""}]
[14,{"$f":"'見積書 (2)'!F26","v":""},null,null,null,null,null,null,null,null,null,null,null,null,{"$f":"'見積書 (2)'!Q26","v":""},null,{"$f":"'見積書 (2)'!R26","v":""},null,null,{"$f":"'見積書 (2)'!S26","v":""},null,null,null,{"$f":"'見積書 (2)'!T26","v":""},null,null,null,null,{"$f":"IF(Q83=\"\",\"\",'出来高内訳書 (第9回請求)'!AC83+'出来高内訳書 (第9回請求)'!AK83)","v":""},null,null,{"$f":"IF(T83=\"\",\"\",ROUND(T83*AC83,0))","v":""},null,null,null,null,null,null,null,{"$f":"IF(T83=\"\",\"\",ROUND(T83*AK83,0))","v":""},null,null,null,null,{"$f":"IF(Q83=\"\",\"\",ROUND(Q83-AC83-AK83,2))","v":""},null,null,{"$f":"IF(T83=\"\",\"\",(IF(AS83<0,\"出来高が契約を超過\",X83-AN83-AF83)))","v":""}]
[null,{"$f":"'見積書 (2)'!F27","v":""}]
[15,{"$f":"'見積書 (2)'!F28","v":""},null,null,null,null,null,null,null,null,null,null,null,null,{"$f":"'見積書 (2)'!Q28","v":""},null,{"$f":"'見積書 (2)'!R28","v":""},null,null,{"$f":"'見積書 (2)'!S28","v":""},null,null,null,{"$f":"'見積書 (2)'!T28","v":""},null,null,null,null,{"$f":"IF(Q85=\"\",\"\",'出来高内訳書 (第9回請求)'!AC85+'出来高内訳書 (第9回請求)'!AK85)","v":""},null,null,{"$f":"IF(T85=\"\",\"\",ROUND(T85*AC85,0))","v":""},null,null,null,null,null,null,null,{"$f":"IF(T85=\"\",\"\",ROUND(T85*AK85,0))","v":""},null,null,null,null,{"$f":"IF(Q85=\"\",\"\",ROUND(Q85-AC85-AK85,2))","v":""},null,null,{"$f":"IF(T85=\"\",\"\",(IF(AS85<0,\"出来高が契約を超過\",X85-AN85-AF85)))","v":""}]
[null,{"$f":"'見積書 (2)'!F29","v":""}]
[16,{"$f":"'見積書 (2)'!F30","v":""},null,null,null,null,null,null,null,null,null,null,null,null,{"$f":"'見積書 (2)'!Q30","v":""},null,{"$f":"'見積書 (2)'!R30","v":""},null,null,{"$f":"'見積書 (2)'!S30","v":""},null,null,null,{"$f":"'見積書 (2)'!T30","v":""},null,null,null,null,{"$f":"IF(Q87=\"\",\"\",'出来高内訳書 (第9回請求)'!AC87+'出来高内訳書 (第9回請求)'!AK87)","v":""},null,null,{"$f":"IF(T87=\"\",\"\",ROUND(T87*AC87,0))","v":""},null,null,null,null,null,null,null,{"$f":"IF(T87=\"\",\"\",ROUND(T87*AK87,0))","v":""},null,null,null,null,{"$f":"IF(Q87=\"\",\"\",ROUND(Q87-AC87-AK87,2))","v":""},null,null,{"$f":"IF(T87=\"\",\"\",(IF(AS87<0,\"出来高が契約を超過\",X87-AN87-AF87)))","v":""}]
[null,{"$f":"'見積書 (2)'!F31","v":""}]
[17,{"$f":"'見積書 (2)'!F32","v":""},null,null,null,null,null,null,null,null,null,null,null,null,{"$f":"'見積書 (2)'!Q32","v":""},null,{"$f":"'見積書 (2)'!R32","v":""},null,null,{"$f":"'見積書 (2)'!S32","v":""},null,null,null,{"$f":"'見積書 (2)'!T32","v":""},null,null,null,null,{"$f":"IF(Q89=\"\",\"\",'出来高内訳書 (第9回請求)'!AC89+'出来高内訳書 (第9回請求)'!AK89)","v":""},null,null,{"$f":"IF(T89=\"\",\"\",ROUND(T89*AC89,0))","v":""},null,null,null,null,null,null,null,{"$f":"IF(T89=\"\",\"\",ROUND(T89*AK89,0))","v":""},null,null,null,null,{"$f":"IF(Q89=\"\",\"\",ROUND(Q89-AC89-AK89,2))","v":""},null,null,{"$f":"IF(T89=\"\",\"\",(IF(AS89<0,\"出来高が契約を超過\",X89-AN89-AF89)))","v":""}]
[null,{"$f":"'見積書 (2)'!F33","v":""}]
[18,{"$f":"'見積書 (2)'!F34","v":""},null,null,null,null,null,null,null,null,null,null,null,null,{"$f":"'見積書 (2)'!Q34","v":""},null,{"$f":"'見積書 (2)'!R34","v":""},null,null,{"$f":"'見積書 (2)'!S34","v":""},null,null,null,{"$f":"'見積書 (2)'!T34","v":""},null,null,null,null,{"$f":"IF(Q91=\"\",\"\",'出来高内訳書 (第9回請求)'!AC91+'出来高内訳書 (第9回請求)'!AK91)","v":""},null,null,{"$f":"IF(T91=\"\",\"\",ROUND(T91*AC91,0))","v":""},null,null,null,null,null,null,null,{"$f":"IF(T91=\"\",\"\",ROUND(T91*AK91,0))","v":""},null,null,null,null,{"$f":"IF(Q91=\"\",\"\",ROUND(Q91-AC91-AK91,2))","v":""},null,null,{"$f":"IF(T91=\"\",\"\",(IF(AS91<0,\"出来高が契約を超過\",X91-AN91-AF91)))","v":""}]
[null,{"$f":"'見積書 (2)'!F35","v":""}]
[19,{"$f":"'見積書 (2)'!F36","v":""},null,null,null,null,null,null,null,null,null,null,null,null,{"$f":"'見積書 (2)'!Q36","v":""},null,{"$f":"'見積書 (2)'!R36","v":""},null,null,{"$f":"'見積書 (2)'!S36","v":""},null,null,null,{"$f":"'見積書 (2)'!T36","v":""},null,null,null,null,{"$f":"IF(Q93=\"\",\"\",'出来高内訳書 (第9回請求)'!AC93+'出来高内訳書 (第9回請求)'!AK93)","v":""},null,null,{"$f":"IF(T93=\"\",\"\",ROUND(T93*AC93,0))","v":""},null,null,null,null,null,null,null,{"$f":"IF(T93=\"\",\"\",ROUND(T93*AK93,0))","v":""},null,null,null,null,{"$f":"IF(Q93=\"\",\"\",ROUND(Q93-AC93-AK93,2))","v":""},null,null,{"$f":"IF(T93=\"\",\"\",(IF(AS93<0,\"出来高が契約を超過\",X93-AN93-AF93)))","v":""}]
[null,{"$f":"'見積書 (2)'!F37","v":""}]
[20,{"$f":"'見積書 (2)'!F38","v":""},null,null,null,null,null,null,null,null,null,null,null,null,{"$f":"'見積書 (2)'!Q38","v":""},null,{"$f":"'見積書 (2)'!R38","v":""},null,null,{"$f":"'見積書 (2)'!S38","v":""},null,null,null,{"$f":"'見積書 (2)'!T38","v":""},null,null,null,null,{"$f":"IF(Q95=\"\",\"\",'出来高内訳書 (第9回請求)'!AC95+'出来高内訳書 (第9回請求)'!AK95)","v":""},null,null,{"$f":"IF(T95=\"\",\"\",ROUND(T95*AC95,0))","v":""},null,null,null,null,null,null,null,{"$f":"IF(T95=\"\",\"\",ROUND(T95*AK95,0))","v":""},null,null,null,null,{"$f":"IF(Q95=\"\",\"\",ROUND(Q95-AC95-AK95,2))","v":""},null,null,{"$f":"IF(T95=\"\",\"\",(IF(AS95<0,\"出来高が契約を超過\",X95-AN95-AF95)))","v":""}]
[null,{"$f":"'見積書 (2)'!F39","v":""}]
[21,{"$f":"'見積書 (2)'!F40","v":""},null,null,null,null,null,null,null,null,null,null,null,null,{"$f":"'見積書 (2)'!Q40","v":""},null,{"$f":"'見積書 (2)'!R40","v":""},null,null,{"$f":"'見積書 (2)'!S40","v":""},null,null,null,{"$f":"'見積書 (2)'!T40","v":""},null,null,null,null,{"$f":"IF(Q97=\"\",\"\",'出来高内訳書 (第9回請求)'!AC97+'出来高内訳書 (第9回請求)'!AK97)","v":""},null,null,{"$f":"IF(T97=\"\",\"\",ROUND(T97*AC97,0))","v":""},null,null,null,null,null,null,null,{"$f":"IF(T97=\"\",\"\",ROUND(T97*AK97,0))","v":""},null,null,null,null,{"$f":"IF(Q97=\"\",\"\",ROUND(Q97-AC97-AK97,2))","v":""},null,null,{"$f":"IF(T97=\"\",\"\",(IF(AS97<0,\"出来高が契約を超過\",X97-AN97-AF97)))","v":""}]
[null,{"$f":"'見積書 (2)'!F41","v":""}]
[22,{"$f":"'見積書 (2)'!F42","v":""},null,null,null,null,null,null,null,null,null,null,null,null,{"$f":"'見積書 (2)'!Q42","v":""},null,{"$f":"'見積書 (2)'!R42","v":""},null,null,{"$f":"'見積書 (2)'!S42","v":""},null,null,null,{"$f":"'見積書 (2)'!T42","v":""},null,null,null,null,{"$f":"IF(Q99=\"\",\"\",'出来高内訳書 (第9回請求)'!AC99+'出来高内訳書 (第9回請求)'!AK99)","v":""},null,null,{"$f":"IF(T99=\"\",\"\",ROUND(T99*AC99,0))","v":""},null,null,null,null,null,null,null,{"$f":"IF(T99=\"\",\"\",ROUND(T99*AK99,0))","v":""},null,null,null,null,{"$f":"IF(Q99=\"\",\"\",ROUND(Q99-AC99-AK99,2))","v":""},null,null,{"$f":"IF(T99=\"\",\"\",(IF(AS99<0,\"出来高が契約を超過\",X99-AN99-AF99)))","v":""}]
[null,{"$f":"'見積書 (2)'!F43","v":""}]
[23,{"$f":"'見積書 (2)'!F44","v":""},null,null,null,null,null,null,null,null,null,null,null,null,{"$f":"'見積書 (2)'!Q44","v":""},null,{"$f":"'見積書 (2)'!R44","v":""},null,null,{"$f":"'見積書 (2)'!S44","v":""},null,null,null,{"$f":"'見積書 (2)'!T44","v":""},null,null,null,null,{"$f":"IF(Q101=\"\",\"\",'出来高内訳書 (第9回請求)'!AC101+'出来高内訳書 (第9回請求)'!AK101)","v":""},null,null,{"$f":"IF(T101=\"\",\"\",ROUND(T101*AC101,0))","v":""},null,null,null,null,null,null,null,{"$f":"IF(T101=\"\",\"\",ROUND(T101*AK101,0))","v":""},null,null,null,null,{"$f":"IF(Q101=\"\",\"\",ROUND(Q101-AC101-AK101,2))","v":""},null,null,{"$f":"IF(T101=\"\",\"\",(IF(AS101<0,\"出来高が契約を超過\",X101-AN101-AF101)))","v":""}]
[null,{"$f":"'見積書 (2)'!F45","v":""}]
[24,{"$f":"'見積書 (2)'!F46","v":""},null,null,null,null,null,null,null,null,null,null,null,null,{"$f":"'見積書 (2)'!Q46","v":""},null,{"$f":"'見積書 (2)'!R46","v":""},null,null,{"$f":"'見積書 (2)'!S46","v":""},null,null,null,{"$f":"'見積書 (2)'!T46","v":""},null,null,null,null,{"$f":"IF(Q103=\"\",\"\",'出来高内訳書 (第9回請求)'!AC103+'出来高内訳書 (第9回請求)'!AK103)","v":""},null,null,{"$f":"IF(T103=\"\",\"\",ROUND(T103*AC103,0))","v":""},null,null,null,null,null,null,null,{"$f":"IF(T103=\"\",\"\",ROUND(T103*AK103,0))","v":""},null,null,null,null,{"$f":"IF(Q103=\"\",\"\",ROUND(Q103-AC103-AK103,2))","v":""},null,null,{"$f":"IF(T103=\"\",\"\",(IF(AS103<0,\"出来高が契約を超過\",X103-AN103-AF103)))","v":""}]
[null,{"$f":"'見積書 (2)'!F47","v":""}]
[25,{"$f":"'見積書 (2)'!F48","v":""},null,null,null,null,null,null,null,null,null,null,null,null,{"$f":"'見積書 (2)'!Q48","v":""},null,{"$f":"'見積書 (2)'!R48","v":""},null,null,{"$f":"'見積書 (2)'!S48","v":""},null,null,null,{"$f":"'見積書 (2)'!T48","v":""},null,null,null,null,{"$f":"IF(Q105=\"\",\"\",'出来高内訳書 (第9回請求)'!AC105+'出来高内訳書 (第9回請求)'!AK105)","v":""},null,null,{"$f":"IF(T105=\"\",\"\",ROUND(T105*AC105,0))","v":""},null,null,null,null,null,null,null,{"$f":"IF(T105=\"\",\"\",ROUND(T105*AK105,0))","v":""},null,null,null,null,{"$f":"IF(Q105=\"\",\"\",ROUND(Q105-AC105-AK105,2))","v":""},null,null,{"$f":"IF(T105=\"\",\"\",(IF(AS105<0,\"出来高が契約を超過\",X105-AN105-AF105)))","v":""}]
[null,{"$f":"'見積書 (2)'!F49","v":""}]
[26,{"$f":"'見積書 (2)'!F50","v":""},null,null,null,null,null,null,null,null,null,null,null,null,{"$f":"'見積書 (2)'!Q50","v":""},null,{"$f":"'見積書 (2)'!R50","v":""},null,null,{"$f":"'見積書 (2)'!S50","v":""},null,null,null,{"$f":"'見積書 (2)'!T50","v":""},null,null,null,null,{"$f":"IF(Q107=\"\",\"\",'出来高内訳書 (第9回請求)'!AC107+'出来高内訳書 (第9回請求)'!AK107)","v":""},null,null,{"$f":"IF(T107=\"\",\"\",ROUND(T107*AC107,0))","v":""},null,null,null,null,null,null,null,{"$f":"IF(T107=\"\",\"\",ROUND(T107*AK107,0))","v":""},null,null,null,null,{"$f":"IF(Q107=\"\",\"\",ROUND(Q107-AC107-AK107,2))","v":""},null,null,{"$f":"IF(T107=\"\",\"\",(IF(AS107<0,\"出来高が契約を超過\",X107-AN107-AF107)))","v":""}]
[null,{"$f":"'見積書 (2)'!F51","v":""}]
[null,"小計",null,null,null,null,null,null,null,null,null,null,null,null,null,null,null,null,null,null,null,null,null,{"$f":"SUM(X79:AB108)","v":0},null,null,null,null,null,null,null,{"$f":"SUM(AF79:AJ108)","v":0},null,null,null,null,null,null,null,{"$f":"SUM(AN79:AR108)","v":0},null,null,null,null,null,null,null,{"$f":"X109-AF109-AN109","v":0}]
[]
[]
[]
[]
[null,"請求内訳書（出来高・分割納入用）",null,null,null,null,null,null,null,null,null,null,null,null,null,null,null,null,null,null,null,null,null,null,null,null,null,null,null,null,null,null,null,null,null,null,null,null,null,null,null,null,null,null,null,null,null,null,null,null,"No."]
[]
[]
[]
[]
[]
[]
[]
[]
[]
[null,"製造番号",null,null,null,null,{"$f":"Y22","v":""},null,null,null,null,null,null,null,null,null,null,null,null,null,null,null,null,"※科目"]
[]
[]
[null,"注文番号",null,null,null,null,{"$f":"Y25","v":""},null,null,null,null,null,null,null,null,"第",null,{"$f":"AJ23","v":10},null,"回請求"]
[]
[]
[]
[null,"工　種・品　名",null,null,null,null,null,null,null,null,null,null,null,null,"契　約　金　額",null,null,null,null,null,null,null,null,null,null,null,null,null,"前回までの出来高",null,null,null,null,null,null,null,"今回出来高",null,null,null,null,null,null,null,"残高",null,null,null,null,null,null,null,"備　考"]
[null,null,null,null,null,null,null,null,null,null,null,null,null,null,"単位",null,"数量",null,null,"単価",null,null,null,"金額",null,null,null,null,"数量",null,null,"金額",null,null,null,null,"数量",null,null,"金額",null,null,null,null,"数量",null,null,"金額"]
[27,{"$f":"'見積書 (2)'!F52","v":""},null,null,null,null,null,null,null,null,null,null,null,null,{"$f":"'見積書 (2)'!Q52","v":""},null,{"$f":"'見積書 (2)'!R52","v":""},null,null,{"$f":"'見積書 (2)'!S52","v":""},null,null,null,{"$f":"'見積書 (2)'!T52","v":""},null,null,null,null,{"$f":"IF(Q133=\"\",\"\",'出来高内訳書 (第9回請求)'!AC133+'出来高内訳書 (第9回請求)'!AK133)","v":""},null,null,{"$f":"IF(T133=\"\",\"\",ROUND(T133*AC133,0))","v":""},null,null,null,null,null,null,null,{"$f":"IF(T133=\"\",\"\",ROUND(T133*AK133,0))","v":""},null,null,null,null,{"$f":"IF(Q133=\"\",\"\",ROUND(Q133-AC133-AK133,2))","v":""},null,null,{"$f":"IF(T133=\"\",\"\",(IF(AS133<0,\"出来高が契約を超過\",X133-AN133-AF133)))","v":""}]
[null,{"$f":"'見積書 (2)'!F53","v":""}]
[28,{"$f":"'見積書 (2)'!F54","v":""},null,null,null,null,null,null,null,null,null,null,null,null,{"$f":"'見積書 (2)'!Q54","v":""},null,{"$f":"'見積書 (2)'!R54","v":""},null,null,{"$f":"'見積書 (2)'!S54","v":""},null,null,null,{"$f":"'見積書 (2)'!T54","v":""},null,null,null,null,{"$f":"IF(Q135=\"\",\"\",'出来高内訳書 (第9回請求)'!AC135+'出来高内訳書 (第9回請求)'!AK135)","v":""},null,null,{"$f":"IF(T135=\"\",\"\",ROUND(T135*AC135,0))","v":""},null,null,null,null,null,null,null,{"$f":"IF(T135=\"\",\"\",ROUND(T135*AK135,0))","v":""},null,null,null,null,{"$f":"IF(Q135=\"\",\"\",ROUND(Q135-AC135-AK135,2))","v":""},null,null,{"$f":"IF(T135=\"\",\"\",(IF(AS135<0,\"出来高が契約を超過\",X135-AN135-AF135)))","v":""}]
[null,{"$f":"'見積書 (2)'!F55","v":""}]
[29,{"$f":"'見積書 (2)'!F56","v":""},null,null,null,null,null,null,null,null,null,null,null,null,{"$f":"'見積書 (2)'!Q56","v":""},null,{"$f":"'見積書 (2)'!R56","v":""},null,null,{"$f":"'見積書 (2)'!S56","v":""},null,null,null,{"$f":"'見積書 (2)'!T56","v":""},null,null,null,null,{"$f":"IF(Q137=\"\",\"\",'出来高内訳書 (第9回請求)'!AC137+'出来高内訳書 (第9回請求)'!AK137)","v":""},null,null,{"$f":"IF(T137=\"\",\"\",ROUND(T137*AC137,0))","v":""},null,null,null,null,null,null,null,{"$f":"IF(T137=\"\",\"\",ROUND(T137*AK137,0))","v":""},null,null,null,null,{"$f":"IF(Q137=\"\",\"\",ROUND(Q137-AC137-AK137,2))","v":""},null,null,{"$f":"IF(T137=\"\",\"\",(IF(AS137<0,\"出来高が契約を超過\",X137-AN137-AF137)))","v":""}]
[null,{"$f":"'見積書 (2)'!F57","v":""}]
[30,{"$f":"'見積書 (2)'!F58","v":""},null,null,null,null,null,null,null,null,null,null,null,null,{"$f":"'見積書 (2)'!Q58","v":""},null,{"$f":"'見積書 (2)'!R58","v":""},null,null,{"$f":"'見積書 (2)'!S58","v":""},null,null,null,{"$f":"'見積書 (2)'!T58","v":""},null,null,null,null,{"$f":"IF(Q139=\"\",\"\",'出来高内訳書 (第9回請求)'!AC139+'出来高内訳書 (第9回請求)'!AK139)","v":""},null,null,{"$f":"IF(T139=\"\",\"\",ROUND(T139*AC139,0))","v":""},null,null,null,null,null,null,null,{"$f":"IF(T139=\"\",\"\",ROUND(T139*AK139,0))","v":""},null,null,null,null,{"$f":"IF(Q139=\"\",\"\",ROUND(Q139-AC139-AK139,2))","v":""},null,null,{"$f":"IF(T139=\"\",\"\",(IF(AS139<0,\"出来高が契約を超過\",X139-AN139-AF139)))","v":""}]
[null,{"$f":"'見積書 (2)'!F59","v":""}]
[31,{"$f":"'見積書 (2)'!F60","v":""},null,null,null,null,null,null,null,null,null,null,null,null,{"$f":"'見積書 (2)'!Q60","v":""},null,{"$f":"'見積書 (2)'!R60","v":""},null,null,{"$f":"'見積書 (2)'!S60","v":""},null,null,null,{"$f":"'見積書 (2)'!T60","v":""},null,null,null,null,{"$f":"IF(Q141=\"\",\"\",'出来高内訳書 (第9回請求)'!AC141+'出来高内訳書 (第9回請求)'!AK141)","v":""},null,null,{"$f":"IF(T141=\"\",\"\",ROUND(T141*AC141,0))","v":""},null,null,null,null,null,null,null,{"$f":"IF(T141=\"\",\"\",ROUND(T141*AK141,0))","v":""},null,null,null,null,{"$f":"IF(Q141=\"\",\"\",ROUND(Q141-AC141-AK141,2))","v":""},null,null,{"$f":"IF(T141=\"\",\"\",(IF(AS141<0,\"出来高が契約を超過\",X141-AN141-AF141)))","v":""}]
[null,{"$f":"'見積書 (2)'!F61","v":""}]
[32,{"$f":"'見積書 (2)'!F62","v":""},null,null,null,null,null,null,null,null,null,null,null,null,{"$f":"'見積書 (2)'!Q62","v":""},null,{"$f":"'見積書 (2)'!R62","v":""},null,null,{"$f":"'見積書 (2)'!S62","v":""},null,null,null,{"$f":"'見積書 (2)'!T62","v":""},null,null,null,null,{"$f":"IF(Q143=\"\",\"\",'出来高内訳書 (第9回請求)'!AC143+'出来高内訳書 (第9回請求)'!AK143)","v":""},null,null,{"$f":"IF(T143=\"\",\"\",ROUND(T143*AC143,0))","v":""},null,null,null,null,null,null,null,{"$f":"IF(T143=\"\",\"\",ROUND(T143*AK143,0))","v":""},null,null,null,null,{"$f":"IF(Q143=\"\",\"\",ROUND(Q143-AC143-AK143,2))","v":""},null,null,{"$f":"IF(T143=\"\",\"\",(IF(AS143<0,\"出来高が契約を超過\",X143-AN143-AF143)))","v":""}]
[null,{"$f":"'見積書 (2)'!F63","v":""}]
[33,{"$f":"'見積書 (2)'!F64","v":""},null,null,null,null,null,null,null,null,null,null,null,null,{"$f":"'見積書 (2)'!Q64","v":""},null,{"$f":"'見積書 (2)'!R64","v":""},null,null,{"$f":"'見積書 (2)'!S64","v":""},null,null,null,{"$f":"'見積書 (2)'!T64","v":""},null,null,null,null,{"$f":"IF(Q145=\"\",\"\",'出来高内訳書 (第9回請求)'!AC145+'出来高内訳書 (第9回請求)'!AK145)","v":""},null,null,{"$f":"IF(T145=\"\",\"\",ROUND(T145*AC145,0))","v":""},null,null,null,null,null,null,null,{"$f":"IF(T145=\"\",\"\",ROUND(T145*AK145,0))","v":""},null,null,null,null,{"$f":"IF(Q145=\"\",\"\",ROUND(Q145-AC145-AK145,2))","v":""},null,null,{"$f":"IF(T145=\"\",\"\",(IF(AS145<0,\"出来高が契約を超過\",X145-AN145-AF145)))","v":""}]
[null,{"$f":"'見積書 (2)'!F65","v":""}]
[34,{"$f":"'見積書 (2)'!F66","v":""},null,null,null,null,null,null,null,null,null,null,null,null,{"$f":"'見積書 (2)'!Q66","v":""},null,{"$f":"'見積書 (2)'!R66","v":""},null,null,{"$f":"'見積書 (2)'!S66","v":""},null,null,null,{"$f":"'見積書 (2)'!T66","v":""},null,null,null,null,{"$f":"IF(Q147=\"\",\"\",'出来高内訳書 (第9回請求)'!AC147+'出来高内訳書 (第9回請求)'!AK147)","v":""},null,null,{"$f":"IF(T147=\"\",\"\",ROUND(T147*AC147,0))","v":""},null,null,null,null,null,null,null,{"$f":"IF(T147=\"\",\"\",ROUND(T147*AK147,0))","v":""},null,null,null,null,{"$f":"IF(Q147=\"\",\"\",ROUND(Q147-AC147-AK147,2))","v":""},null,null,{"$f":"IF(T147=\"\",\"\",(IF(AS147<0,\"出来高が契約を超過\",X147-AN147-AF147)))","v":""}]
[null,{"$f":"'見積書 (2)'!F67","v":""}]
[35,{"$f":"'見積書 (2)'!F68","v":""},null,null,null,null,null,null,null,null,null,null,null,null,{"$f":"'見積書 (2)'!Q68","v":""},null,{"$f":"'見積書 (2)'!R68","v":""},null,null,{"$f":"'見積書 (2)'!S68","v":""},null,null,null,{"$f":"'見積書 (2)'!T68","v":""},null,null,null,null,{"$f":"IF(Q149=\"\",\"\",'出来高内訳書 (第9回請求)'!AC149+'出来高内訳書 (第9回請求)'!AK149)","v":""},null,null,{"$f":"IF(T149=\"\",\"\",ROUND(T149*AC149,0))","v":""},null,null,null,null,null,null,null,{"$f":"IF(T149=\"\",\"\",ROUND(T149*AK149,0))","v":""},null,null,null,null,{"$f":"IF(Q149=\"\",\"\",ROUND(Q149-AC149-AK149,2))","v":""},null,null,{"$f":"IF(T149=\"\",\"\",(IF(AS149<0,\"出来高が契約を超過\",X149-AN149-AF149)))","v":""}]
[null,{"$f":"'見積書 (2)'!F69","v":""}]
[36,{"$f":"'見積書 (3)'!F26","v":""},null,null,null,null,null,null,null,null,null,null,null,null,{"$f":"'見積書 (3)'!Q26","v":""},null,{"$f":"'見積書 (3)'!R26","v":""},null,null,{"$f":"'見積書 (3)'!S26","v":""},null,null,null,{"$f":"'見積書 (3)'!T26","v":""},null,null,null,null,{"$f":"IF(Q151=\"\",\"\",'出来高内訳書 (第9回請求)'!AC151+'出来高内訳書 (第9回請求)'!AK151)","v":""},null,null,{"$f":"IF(T151=\"\",\"\",ROUND(T151*AC151,0))","v":""},null,null,null,null,null,null,null,{"$f":"IF(T151=\"\",\"\",ROUND(T151*AK151,0))","v":""},null,null,null,null,{"$f":"IF(Q151=\"\",\"\",ROUND(Q151-AC151-AK151,2))","v":""},null,null,{"$f":"IF(T151=\"\",\"\",(IF(AS151<0,\"出来高が契約を超過\",X151-AN151-AF151)))","v":""}]
[null,{"$f":"'見積書 (3)'!F27","v":""}]
[37,{"$f":"'見積書 (3)'!F28","v":""},null,null,null,null,null,null,null,null,null,null,null,null,{"$f":"'見積書 (3)'!Q28","v":""},null,{"$f":"'見積書 (3)'!R28","v":""},null,null,{"$f":"'見積書 (3)'!S28","v":""},null,null,null,{"$f":"'見積書 (3)'!T28","v":""},null,null,null,null,{"$f":"IF(Q153=\"\",\"\",'出来高内訳書 (第9回請求)'!AC153+'出来高内訳書 (第9回請求)'!AK153)","v":""},null,null,{"$f":"IF(T153=\"\",\"\",ROUND(T153*AC153,0))","v":""},null,null,null,null,null,null,null,{"$f":"IF(T153=\"\",\"\",ROUND(T153*AK153,0))","v":""},null,null,null,null,{"$f":"IF(Q153=\"\",\"\",ROUND(Q153-AC153-AK153,2))","v":""},null,null,{"$f":"IF(T153=\"\",\"\",(IF(AS153<0,\"出来高が契約を超過\",X153-AN153-AF153)))","v":""}]
[null,{"$f":"'見積書 (3)'!F29","v":""}]
[38,{"$f":"'見積書 (3)'!F30","v":""},null,null,null,null,null,null,null,null,null,null,null,null,{"$f":"'見積書 (3)'!Q30","v":""},null,{"$f":"'見積書 (3)'!R30","v":""},null,null,{"$f":"'見積書 (3)'!S30","v":""},null,null,null,{"$f":"'見積書 (3)'!T30","v":""},null,null,null,null,{"$f":"IF(Q155=\"\",\"\",'出来高内訳書 (第9回請求)'!AC155+'出来高内訳書 (第9回請求)'!AK155)","v":""},null,null,{"$f":"IF(T155=\"\",\"\",ROUND(T155*AC155,0))","v":""},null,null,null,null,null,null,null,{"$f":"IF(T155=\"\",\"\",ROUND(T155*AK155,0))","v":""},null,null,null,null,{"$f":"IF(Q155=\"\",\"\",ROUND(Q155-AC155-AK155,2))","v":""},null,null,{"$f":"IF(T155=\"\",\"\",(IF(AS155<0,\"出来高が契約を超過\",X155-AN155-AF155)))","v":""}]
[null,{"$f":"'見積書 (3)'!F31","v":""}]
[39,{"$f":"'見積書 (3)'!F32","v":""},null,null,null,null,null,null,null,null,null,null,null,null,{"$f":"'見積書 (3)'!Q32","v":""},null,{"$f":"'見積書 (3)'!R32","v":""},null,null,{"$f":"'見積書 (3)'!S32","v":""},null,null,null,{"$f":"'見積書 (3)'!T32","v":""},null,null,null,null,{"$f":"IF(Q157=\"\",\"\",'出来高内訳書 (第9回請求)'!AC157+'出来高内訳書 (第9回請求)'!AK157)","v":""},null,null,{"$f":"IF(T157=\"\",\"\",ROUND(T157*AC157,0))","v":""},null,null,null,null,null,null,null,{"$f":"IF(T157=\"\",\"\",ROUND(T157*AK157,0))","v":""},null,null,null,null,{"$f":"IF(Q157=\"\",\"\",ROUND(Q157-AC157-AK157,2))","v":""},null,null,{"$f":"IF(T157=\"\",\"\",(IF(AS157<0,\"出来高が契約を超過\",X157-AN157-AF157)))","v":""}]
[null,{"$f":"'見積書 (3)'!F33","v":""}]
[40,{"$f":"'見積書 (3)'!F34","v":""},null,null,null,null,null,null,null,null,null,null,null,null,{"$f":"'見積書 (3)'!Q34","v":""},null,{"$f":"'見積書 (3)'!R34","v":""},null,null,{"$f":"'見積書 (3)'!S34","v":""},null,null,null,{"$f":"'見積書 (3)'!T34","v":""},null,null,null,null,{"$f":"IF(Q159=\"\",\"\",'出来高内訳書 (第9回請求)'!AC159+'出来高内訳書 (第9回請求)'!AK159)","v":""},null,null,{"$f":"IF(T159=\"\",\"\",ROUND(T159*AC159,0))","v":""},null,null,null,null,null,null,null,{"$f":"IF(T159=\"\",\"\",ROUND(T159*AK159,0))","v":""},null,null,null,null,{"$f":"IF(Q159=\"\",\"\",ROUND(Q159-AC159-AK159,2))","v":""},null,null,{"$f":"IF(T159=\"\",\"\",(IF(AS159<0,\"出来高が契約を超過\",X159-AN159-AF159)))","v":""}]
[null,{"$f":"'見積書 (3)'!F35","v":""}]
[41,{"$f":"'見積書 (3)'!F36","v":""},null,null,null,null,null,null,null,null,null,null,null,null,{"$f":"'見積書 (3)'!Q36","v":""},null,{"$f":"'見積書 (3)'!R36","v":""},null,null,{"$f":"'見積書 (3)'!S36","v":""},null,null,null,{"$f":"'見積書 (3)'!T36","v":""},null,null,null,null,{"$f":"IF(Q161=\"\",\"\",'出来高内訳書 (第9回請求)'!AC161+'出来高内訳書 (第9回請求)'!AK161)","v":""},null,null,{"$f":"IF(T161=\"\",\"\",ROUND(T161*AC161,0))","v":""},null,null,null,null,null,null,null,{"$f":"IF(T161=\"\",\"\",ROUND(T161*AK161,0))","v":""},null,null,null,null,{"$f":"IF(Q161=\"\",\"\",ROUND(Q161-AC161-AK161,2))","v":""},null,null,{"$f":"IF(T161=\"\",\"\",(IF(AS161<0,\"出来高が契約を超過\",X161-AN161-AF161)))","v":""}]
[null,{"$f":"'見積書 (3)'!F37","v":""}]
[null,"小計",null,null,null,null,null,null,null,null,null,null,null,null,null,null,null,null,null,null,null,null,null,{"$f":"SUM(X133:AB162)","v":0},null,null,null,null,null,null,null,{"$f":"SUM(AF133:AJ162)","v":0},null,null,null,null,null,null,null,{"$f":"SUM(AN133:AR162)","v":0},null,null,null,null,null,null,null,{"$f":"X163-AF163-AN163","v":0}]
[]
[]
[]
[]
[null,"請求内訳書（出来高・分割納入用）",null,null,null,null,null,null,null,null,null,null,null,null,null,null,null,null,null,null,null,null,null,null,null,null,null,null,null,null,null,null,null,null,null,null,null,null,null,null,null,null,null,null,null,null,null,null,null,null,"No."]
[]
[]
[]
[]
[]
[]
[]
[]
[]
[null,"製造番号",null,null,null,null,{"$f":"Y22","v":""},null,null,null,null,null,null,null,null,null,null,null,null,null,null,null,null,"※科目"]
[]
[]
[null,"注文番号",null,null,null,null,{"$f":"Y25","v":""},null,null,null,null,null,null,null,null,"第",null,{"$f":"AJ23","v":10},null,"回請求"]
[]
[]
[]
[null,"工　種・品　名",null,null,null,null,null,null,null,null,null,null,null,null,"契　約　金　額",null,null,null,null,null,null,null,null,null,null,null,null,null,"前回までの出来高",null,null,null,null,null,null,null,"今回出来高",null,null,null,null,null,null,null,"残高",null,null,null,null,null,null,null,"備　考"]
[null,null,null,null,null,null,null,null,null,null,null,null,null,null,"単位",null,"数量",null,null,"単価",null,null,null,"金額",null,null,null,null,"数量",null,null,"金額",null,null,null,null,"数量",null,null,"金額",null,null,null,null,"数量",null,null,"金額"]
[42,{"$f":"'見積書 (3)'!F38","v":""},null,null,null,null,null,null,null,null,null,null,null,null,{"$f":"'見積書 (3)'!Q38","v":""},null,{"$f":"'見積書 (3)'!R38","v":""},null,null,{"$f":"'見積書 (3)'!S38","v":""},null,null,null,{"$f":"'見積書 (3)'!T38","v":""},null,null,null,null,{"$f":"IF(Q187=\"\",\"\",'出来高内訳書 (第9回請求)'!AC187+'出来高内訳書 (第9回請求)'!AK187)","v":""},null,null,{"$f":"IF(T187=\"\",\"\",ROUND(T187*AC187,0))","v":""},null,null,null,null,null,null,null,{"$f":"IF(T187=\"\",\"\",ROUND(T187*AK187,0))","v":""},null,null,null,null,{"$f":"IF(Q187=\"\",\"\",ROUND(Q187-AC187-AK187,2))","v":""},null,null,{"$f":"IF(T187=\"\",\"\",(IF(AS187<0,\"出来高が契約を超過\",X187-AN187-AF187)))","v":""}]
[null,{"$f":"'見積書 (3)'!F39","v":""}]
[43,{"$f":"'見積書 (3)'!F40","v":""},null,null,null,null,null,null,null,null,null,null,null,null,{"$f":"'見積書 (3)'!Q40","v":""},null,{"$f":"'見積書 (3)'!R40","v":""},null,null,{"$f":"'見積書 (3)'!S40","v":""},null,null,null,{"$f":"'見積書 (3)'!T40","v":""},null,null,null,null,{"$f":"IF(Q189=\"\",\"\",'出来高内訳書 (第9回請求)'!AC189+'出来高内訳書 (第9回請求)'!AK189)","v":""},null,null,{"$f":"IF(T189=\"\",\"\",ROUND(T189*AC189,0))","v":""},null,null,null,null,null,null,null,{"$f":"IF(T189=\"\",\"\",ROUND(T189*AK189,0))","v":""},null,null,null,null,{"$f":"IF(Q189=\"\",\"\",ROUND(Q189-AC189-AK189,2))","v":""},null,null,{"$f":"IF(T189=\"\",\"\",(IF(AS189<0,\"出来高が契約を超過\",X189-AN189-AF189)))","v":""}]
[null,{"$f":"'見積書 (3)'!F41","v":""}]
[44,{"$f":"'見積書 (3)'!F42","v":""},null,null,null,null,null,null,null,null,null,null,null,null,{"$f":"'見積書 (3)'!Q42","v":""},null,{"$f":"'見積書 (3)'!R42","v":""},null,null,{"$f":"'見積書 (3)'!S42","v":""},null,null,null,{"$f":"'見積書 (3)'!T42","v":""},null,null,null,null,{"$f":"IF(Q191=\"\",\"\",'出来高内訳書 (第9回請求)'!AC191+'出来高内訳書 (第9回請求)'!AK191)","v":""},null,null,{"$f":"IF(T191=\"\",\"\",ROUND(T191*AC191,0))","v":""},null,null,null,null,null,null,null,{"$f":"IF(T191=\"\",\"\",ROUND(T191*AK191,0))","v":""},null,null,null,null,{"$f":"IF(Q191=\"\",\"\",ROUND(Q191-AC191-AK191,2))","v":""},null,null,{"$f":"IF(T191=\"\",\"\",(IF(AS191<0,\"出来高が契約を超過\",X191-AN191-AF191)))","v":""}]
[null,{"$f":"'見積書 (3)'!F43","v":""}]
[45,{"$f":"'見積書 (3)'!F44","v":""},null,null,null,null,null,null,null,null,null,null,null,null,{"$f":"'見積書 (3)'!Q44","v":""},null,{"$f":"'見積書 (3)'!R44","v":""},null,null,{"$f":"'見積書 (3)'!S44","v":""},null,null,null,{"$f":"'見積書 (3)'!T44","v":""},null,null,null,null,{"$f":"IF(Q193=\"\",\"\",'出来高内訳書 (第9回請求)'!AC193+'出来高内訳書 (第9回請求)'!AK193)","v":""},null,null,{"$f":"IF(T193=\"\",\"\",ROUND(T193*AC193,0))","v":""},null,null,null,null,null,null,null,{"$f":"IF(T193=\"\",\"\",ROUND(T193*AK193,0))","v":""},null,null,null,null,{"$f":"IF(Q193=\"\",\"\",ROUND(Q193-AC193-AK193,2))","v":""},null,null,{"$f":"IF(T193=\"\",\"\",(IF(AS193<0,\"出来高が契約を超過\",X193-AN193-AF193)))","v":""}]
[null,{"$f":"'見積書 (3)'!F45","v":""}]
[46,{"$f":"'見積書 (3)'!F46","v":""},null,null,null,null,null,null,null,null,null,null,null,null,{"$f":"'見積書 (3)'!Q46","v":""},null,{"$f":"'見積書 (3)'!R46","v":""},null,null,{"$f":"'見積書 (3)'!S46","v":""},null,null,null,{"$f":"'見積書 (3)'!T46","v":""},null,null,null,null,{"$f":"IF(Q195=\"\",\"\",'出来高内訳書 (第9回請求)'!AC195+'出来高内訳書 (第9回請求)'!AK195)","v":""},null,null,{"$f":"IF(T195=\"\",\"\",ROUND(T195*AC195,0))","v":""},null,null,null,null,null,null,null,{"$f":"IF(T195=\"\",\"\",ROUND(T195*AK195,0))","v":""},null,null,null,null,{"$f":"IF(Q195=\"\",\"\",ROUND(Q195-AC195-AK195,2))","v":""},null,null,{"$f":"IF(T195=\"\",\"\",(IF(AS195<0,\"出来高が契約を超過\",X195-AN195-AF195)))","v":""}]
[null,{"$f":"'見積書 (3)'!F47","v":""}]
[47,{"$f":"'見積書 (3)'!F48","v":""},null,null,null,null,null,null,null,null,null,null,null,null,{"$f":"'見積書 (3)'!Q48","v":""},null,{"$f":"'見積書 (3)'!R48","v":""},null,null,{"$f":"'見積書 (3)'!S48","v":""},null,null,null,{"$f":"'見積書 (3)'!T48","v":""},null,null,null,null,{"$f":"IF(Q197=\"\",\"\",'出来高内訳書 (第9回請求)'!AC197+'出来高内訳書 (第9回請求)'!AK197)","v":""},null,null,{"$f":"IF(T197=\"\",\"\",ROUND(T197*AC197,0))","v":""},null,null,null,null,null,null,null,{"$f":"IF(T197=\"\",\"\",ROUND(T197*AK197,0))","v":""},null,null,null,null,{"$f":"IF(Q197=\"\",\"\",ROUND(Q197-AC197-AK197,2))","v":""},null,null,{"$f":"IF(T197=\"\",\"\",(IF(AS197<0,\"出来高が契約を超過\",X197-AN197-AF197)))","v":""}]
[null,{"$f":"'見積書 (3)'!F49","v":""}]
[48,{"$f":"'見積書 (3)'!F50","v":""},null,null,null,null,null,null,null,null,null,null,null,null,{"$f":"'見積書 (3)'!Q50","v":""},null,{"$f":"'見積書 (3)'!R50","v":""},null,null,{"$f":"'見積書 (3)'!S50","v":""},null,null,null,{"$f":"'見積書 (3)'!T50","v":""},null,null,null,null,{"$f":"IF(Q199=\"\",\"\",'出来高内訳書 (第9回請求)'!AC199+'出来高内訳書 (第9回請求)'!AK199)","v":""},null,null,{"$f":"IF(T199=\"\",\"\",ROUND(T199*AC199,0))","v":""},null,null,null,null,null,null,null,{"$f":"IF(T199=\"\",\"\",ROUND(T199*AK199,0))","v":""},null,null,null,null,{"$f":"IF(Q199=\"\",\"\",ROUND(Q199-AC199-AK199,2))","v":""},null,null,{"$f":"IF(T199=\"\",\"\",(IF(AS199<0,\"出来高が契約を超過\",X199-AN199-AF199)))","v":""}]
[null,{"$f":"'見積書 (3)'!F51","v":""}]
[49,{"$f":"'見積書 (3)'!F52","v":""},null,null,null,null,null,null,null,null,null,null,null,null,{"$f":"'見積書 (3)'!Q52","v":""},null,{"$f":"'見積書 (3)'!R52","v":""},null,null,{"$f":"'見積書 (3)'!S52","v":""},null,null,null,{"$f":"'見積書 (3)'!T52","v":""},null,null,null,null,{"$f":"IF(Q201=\"\",\"\",'出来高内訳書 (第9回請求)'!AC201+'出来高内訳書 (第9回請求)'!AK201)","v":""},null,null,{"$f":"IF(T201=\"\",\"\",ROUND(T201*AC201,0))","v":""},null,null,null,null,null,null,null,{"$f":"IF(T201=\"\",\"\",ROUND(T201*AK201,0))","v":""},null,null,null,null,{"$f":"IF(Q201=\"\",\"\",ROUND(Q201-AC201-AK201,2))","v":""},null,null,{"$f":"IF(T201=\"\",\"\",(IF(AS201<0,\"出来高が契約を超過\",X201-AN201-AF201)))","v":""}]
[null,{"$f":"'見積書 (3)'!F53","v":""}]
[50,{"$f":"'見積書 (3)'!F54","v":""},null,null,null,null,null,null,null,null,null,null,null,null,{"$f":"'見積書 (3)'!Q54","v":""},null,{"$f":"'見積書 (3)'!R54","v":""},null,null,{"$f":"'見積書 (3)'!S54","v":""},null,null,null,{"$f":"'見積書 (3)'!T54","v":""},null,null,null,null,{"$f":"IF(Q203=\"\",\"\",'出来高内訳書 (第9回請求)'!AC203+'出来高内訳書 (第9回請求)'!AK203)","v":""},null,null,{"$f":"IF(T203=\"\",\"\",ROUND(T203*AC203,0))","v":""},null,null,null,null,null,null,null,{"$f":"IF(T203=\"\",\"\",ROUND(T203*AK203,0))","v":""},null,null,null,null,{"$f":"IF(Q203=\"\",\"\",ROUND(Q203-AC203-AK203,2))","v":""},null,null,{"$f":"IF(T203=\"\",\"\",(IF(AS203<0,\"出来高が契約を超過\",X203-AN203-AF203)))","v":""}]
[null,{"$f":"'見積書 (3)'!F55","v":""}]
[51,{"$f":"'見積書 (3)'!F56","v":""},null,null,null,null,null,null,null,null,null,null,null,null,{"$f":"'見積書 (3)'!Q56","v":""},null,{"$f":"'見積書 (3)'!R56","v":""},null,null,{"$f":"'見積書 (3)'!S56","v":""},null,null,null,{"$f":"'見積書 (3)'!T56","v":""},null,null,null,null,{"$f":"IF(Q205=\"\",\"\",'出来高内訳書 (第9回請求)'!AC205+'出来高内訳書 (第9回請求)'!AK205)","v":""},null,null,{"$f":"IF(T205=\"\",\"\",ROUND(T205*AC205,0))","v":""},null,null,null,null,null,null,null,{"$f":"IF(T205=\"\",\"\",ROUND(T205*AK205,0))","v":""},null,null,null,null,{"$f":"IF(Q205=\"\",\"\",ROUND(Q205-AC205-AK205,2))","v":""},null,null,{"$f":"IF(T205=\"\",\"\",(IF(AS205<0,\"出来高が契約を超過\",X205-AN205-AF205)))","v":""}]
[null,{"$f":"'見積書 (3)'!F57","v":""}]
[52,{"$f":"'見積書 (3)'!F58","v":""},null,null,null,null,null,null,null,null,null,null,null,null,{"$f":"'見積書 (3)'!Q58","v":""},null,{"$f":"'見積書 (3)'!R58","v":""},null,null,{"$f":"'見積書 (3)'!S58","v":""},null,null,null,{"$f":"'見積書 (3)'!T58","v":""},null,null,null,null,{"$f":"IF(Q207=\"\",\"\",'出来高内訳書 (第9回請求)'!AC207+'出来高内訳書 (第9回請求)'!AK207)","v":""},null,null,{"$f":"IF(T207=\"\",\"\",ROUND(T207*AC207,0))","v":""},null,null,null,null,null,null,null,{"$f":"IF(T207=\"\",\"\",ROUND(T207*AK207,0))","v":""},null,null,null,null,{"$f":"IF(Q207=\"\",\"\",ROUND(Q207-AC207-AK207,2))","v":""},null,null,{"$f":"IF(T207=\"\",\"\",(IF(AS207<0,\"出来高が契約を超過\",X207-AN207-AF207)))","v":""}]
[null,{"$f":"'見積書 (3)'!F59","v":""}]
[53,{"$f":"'見積書 (3)'!F60","v":""},null,null,null,null,null,null,null,null,null,null,null,null,{"$f":"'見積書 (3)'!Q60","v":""},null,{"$f":"'見積書 (3)'!R60","v":""},null,null,{"$f":"'見積書 (3)'!S60","v":""},null,null,null,{"$f":"'見積書 (3)'!T60","v":""},null,null,null,null,{"$f":"IF(Q209=\"\",\"\",'出来高内訳書 (第9回請求)'!AC209+'出来高内訳書 (第9回請求)'!AK209)","v":""},null,null,{"$f":"IF(T209=\"\",\"\",ROUND(T209*AC209,0))","v":""},null,null,null,null,null,null,null,{"$f":"IF(T209=\"\",\"\",ROUND(T209*AK209,0))","v":""},null,null,null,null,{"$f":"IF(Q209=\"\",\"\",ROUND(Q209-AC209-AK209,2))","v":""},null,null,{"$f":"IF(T209=\"\",\"\",(IF(AS209<0,\"出来高が契約を超過\",X209-AN209-AF209)))","v":""}]
[null,{"$f":"'見積書 (3)'!F61","v":""}]
[54,{"$f":"'見積書 (3)'!F62","v":""},null,null,null,null,null,null,null,null,null,null,null,null,{"$f":"'見積書 (3)'!Q62","v":""},null,{"$f":"'見積書 (3)'!R62","v":""},null,null,{"$f":"'見積書 (3)'!S62","v":""},null,null,null,{"$f":"'見積書 (3)'!T62","v":""},null,null,null,null,{"$f":"IF(Q211=\"\",\"\",'出来高内訳書 (第9回請求)'!AC211+'出来高内訳書 (第9回請求)'!AK211)","v":""},null,null,{"$f":"IF(T211=\"\",\"\",ROUND(T211*AC211,0))","v":""},null,null,null,null,null,null,null,{"$f":"IF(T211=\"\",\"\",ROUND(T211*AK211,0))","v":""},null,null,null,null,{"$f":"IF(Q211=\"\",\"\",ROUND(Q211-AC211-AK211,2))","v":""},null,null,{"$f":"IF(T211=\"\",\"\",(IF(AS211<0,\"出来高が契約を超過\",X211-AN211-AF211)))","v":""}]
[null,{"$f":"'見積書 (3)'!F63","v":""}]
[55,{"$f":"'見積書 (3)'!F64","v":""},null,null,null,null,null,null,null,null,null,null,null,null,{"$f":"'見積書 (3)'!Q64","v":""},null,{"$f":"'見積書 (3)'!R64","v":""},null,null,{"$f":"'見積書 (3)'!S64","v":""},null,null,null,{"$f":"'見積書 (3)'!T64","v":""},null,null,null,null,{"$f":"IF(Q213=\"\",\"\",'出来高内訳書 (第9回請求)'!AC213+'出来高内訳書 (第9回請求)'!AK213)","v":""},null,null,{"$f":"IF(T213=\"\",\"\",ROUND(T213*AC213,0))","v":""},null,null,null,null,null,null,null,{"$f":"IF(T213=\"\",\"\",ROUND(T213*AK213,0))","v":""},null,null,null,null,{"$f":"IF(Q213=\"\",\"\",ROUND(Q213-AC213-AK213,2))","v":""},null,null,{"$f":"IF(T213=\"\",\"\",(IF(AS213<0,\"出来高が契約を超過\",X213-AN213-AF213)))","v":""}]
[null,{"$f":"'見積書 (3)'!F65","v":""}]
[56,{"$f":"'見積書 (3)'!F66","v":""},null,null,null,null,null,null,null,null,null,null,null,null,{"$f":"'見積書 (3)'!Q66","v":""},null,{"$f":"'見積書 (3)'!R66","v":""},null,null,{"$f":"'見積書 (3)'!S66","v":""},null,null,null,{"$f":"'見積書 (3)'!T66","v":""},null,null,null,null,{"$f":"IF(Q215=\"\",\"\",'出来高内訳書 (第9回請求)'!AC215+'出来高内訳書 (第9回請求)'!AK215)","v":""},null,null,{"$f":"IF(T215=\"\",\"\",ROUND(T215*AC215,0))","v":""},null,null,null,null,null,null,null,{"$f":"IF(T215=\"\",\"\",ROUND(T215*AK215,0))","v":""},null,null,null,null,{"$f":"IF(Q215=\"\",\"\",ROUND(Q215-AC215-AK215,2))","v":""},null,null,{"$f":"IF(T215=\"\",\"\",(IF(AS215<0,\"出来高が契約を超過\",X215-AN215-AF215)))","v":""}]
[null,{"$f":"'見積書 (3)'!F67","v":""}]
[null,"小計",null,null,null,null,null,null,null,null,null,null,null,null,null,null,null,null,null,null,null,null,null,{"$f":"SUM(X187:AB216)","v":0},null,null,null,null,null,null,null,{"$f":"SUM(AF187:AJ216)","v":0},null,null,null,null,null,null,null,{"$f":"SUM(AN187:AR216)","v":0},null,null,null,null,null,null,null,{"$f":"X217-AF217-AN217","v":0}]
[]
[]
[]
[]
[null,"請求内訳書（出来高・分割納入用）",null,null,null,null,null,null,null,null,null,null,null,null,null,null,null,null,null,null,null,null,null,null,null,null,null,null,null,null,null,null,null,null,null,null,null,null,null,null,null,null,null,null,null,null,null,null,null,null,"No."]
[]
[]
[]
[]
[]
[]
[]
[]
[]
[null,"製造番号",null,null,null,null,{"$f":"Y22","v":""},null,null,null,null,null,null,null,null,null,null,null,null,null,null,null,null,"※科目"]
[]
[]
[null,"注文番号",null,null,null,null,{"$f":"Y25","v":""},null,null,null,null,null,null,null,null,"第",null,{"$f":"AJ23","v":10},null,"回請求"]
[]
[]
[]
[null,"工　種・品　名",null,null,null,null,null,null,null,null,null,null,null,null,"契　約　金　額",null,null,null,null,null,null,null,null,null,null,null,null,null,"前回までの出来高",null,null,null,null,null,null,null,"今回出来高",null,null,null,null,null,null,null,"残高",null,null,null,null,null,null,null,"備　考"]
[null,null,null,null,null,null,null,null,null,null,null,null,null,null,"単位",null,"数量",null,null,"単価",null,null,null,"金額",null,null,null,null,"数量",null,null,"金額",null,null,null,null,"数量",null,null,"金額",null,null,null,null,"数量",null,null,"金額"]
[57,{"$f":"'見積書 (3)'!F68","v":""},null,null,null,null,null,null,null,null,null,null,null,null,{"$f":"'見積書 (3)'!Q68","v":""},null,{"$f":"'見積書 (3)'!R68","v":""},null,null,{"$f":"'見積書 (3)'!S68","v":""},null,null,null,{"$f":"'見積書 (3)'!T68","v":""},null,null,null,null,{"$f":"IF(Q241=\"\",\"\",'出来高内訳書 (第9回請求)'!AC241+'出来高内訳書 (第9回請求)'!AK241)","v":""},null,null,{"$f":"IF(T241=\"\",\"\",ROUND(T241*AC241,0))","v":""},null,null,null,null,null,null,null,{"$f":"IF(T241=\"\",\"\",ROUND(T241*AK241,0))","v":""},null,null,null,null,{"$f":"IF(Q241=\"\",\"\",ROUND(Q241-AC241-AK241,2))","v":""},null,null,{"$f":"IF(T241=\"\",\"\",(IF(AS241<0,\"出来高が契約を超過\",X241-AN241-AF241)))","v":""}]
[null,{"$f":"'見積書 (3)'!F68","v":""}]
[]
[]
[]
[]
[]
[]
[]
[]
[]
[]
[]
[]
[]
[]
[null,"小計",null,null,null,null,null,null,null,null,null,null,null,null,null,null,null,null,null,null,null,null,null,{"$f":"SUM(X241:AB256)","v":0},null,null,null,null,null,null,null,{"$f":"SUM(AF241:AJ256)","v":0},null,null,null,null,null,null,null,{"$f":"SUM(AN241:AR256)","v":0},null,null,null,null,null,null,null,{"$f":"SUM(AV241:AZ256)","v":0}]

{"sheet":"出来高内訳書 (第11回請求)","index":18,"n_rows":257,"n_cols":53,"rows_kept":257,"cut":false,"hidden":false,"merged":[[240,0,241,0],[240,1,240,13],[240,14,241,15],[240,16,241,18],[240,19,241,22],[240,23,241,27],[240,28,241,30],[240,31,241,35],[240,36,241,38],[240,39,241,43],[240,44,241,46],[240,47,241,51],[240,52,241,54],[212,0,213,0],[212,14,213,15],[212,16,213,18],[212,19,213,22],[212,23,213,27],[212,28,213,30],[212,31,213,35],[212,36,213,38],[212,39,213,43],[212,44,213,46],[212,47,213,51],[212,52,213,54],[214,0,215,0],[214,14,215,15],[214,16,215,18],[214,19,215,22],[214,23,215,27],[214,28,215,30],[214,31,215,35],[214,52,215,54],[208,0,209,0],[208,14,209,15],[208,16,209,18],[208,19,209,22],[208,23,209,27],[208,28,209,30],[208,31,209,35],[208,36,209,38],[208,39,209,43],[208,44,209,46],[208,47,209,51],[208,52,209,54],[210,0,211,0],[210,14,211,15],[210,16,211,18],[210,19,211,22],[210,23,211,27],[210,28,211,30],[210,31,211,35],[210,36,211,38],[210,39,211,43],[210,44,211,46],[210,47,211,51],[210,52,211,54],[204,0,205,0],[204,14,205,15],[204,16,205,18],[204,19,205,22],[204,23,205,27],[204,28,205,30],[204,31,205,35],[204,36,205,38],[204,39,205,43],[204,44,205,46],[204,47,205,51],[204,52,205,54],[206,0,207,0],[206,14,207,15],[206,16,207,18],[206,19,207,22],[206,23,207,27],[206,28,207,30],[206,31,207,35],[206,36,207,38],[206,39,207,43],[206,44,207,46],[206,47,207,51],[206,52,207,54],[200,0,201,0],[200,1,200,13],[200,14,201,15],[200,16,201,18],[200,19,201,22],[200,23,201,27],[200,28,201,30],[200,31,201,35],[200,36,201,38],[200,39,201,43],[200,44,201,46],[200,47,201,51],[200,52,201,54],[202,0,203,0],[202,14,203,15],[202,16,203,18],[202,19,203,22],[202,23,203,27],[202,28,203,30],[202,31,203,35],[202,36,203,38],[202,39,203,43],[202,44,203,46],[202,47,203,51],[202,52,203,54],[196,0,197,0],[196,1,196,13],[196,14,197,15],[196,16,197,18],[196,19,197,22],[196,23,197,27],[196,28,197,30],[196,31,197,35],[196,36,197,38],[196,39,197,43],[196,44,197,46],[196,47,197,51],[196,52,197,54],[197,1,197,13],[198,0,199,0],[198,1,198,13],[198,14,199,15],[198,16,199,18],[198,19,199,22],[198,23,199,27],[198,28,199,30],[198,31,199,35],[198,36,199,38],[198,39,199,43],[198,44,199,46],[198,47,199,51],[198,52,199,54],[199,1,199,13],[192,0,193,0],[192,1,192,13],[192,14,193,15],[192,16,193,18],[192,19,193,22],[192,23,193,27],[192,28,193,30],[192,31,193,35],[192,36,193,38],[192,39,193,43],[192,44,193,46],[192,47,193,51],[192,52,193,54],[193,1,193,13],[194,0,195,0],[194,1,194,13],[194,14,195,15],[194,16,195,18],[194,19,195,22],[194,23,195,27],[194,28,195,30],[194,31,195,35],[194,36,195,38],[194,39,195,43],[194,44,195,46],[194,47,195,51],[194,52,195,54],[195,1,195,13],[188,0,189,0],[188,1,188,13],[188,14,189,15],[188,16,189,18],[188,19,189,22],[188,23,189,27],[188,28,189,30],[188,31,189,35],[188,36,189,38],[188,39,189,43],[188,44,189,46],[188,47,189,51],[188,52,189,54],[189,1,189,13],[190,0,191,0],[190,1,190,13],[190,14,191,15],[190,16,191,18],[190,19,191,22],[190,23,191,27],[190,28,191,30],[190,31,191,35],[190,36,191,38],[190,39,191,43],[190,44,191,46],[190,47,191,51],[190,52,191,54],[191,1,191,13],[160,0,161,0],[160,14,161,15],[160,16,161,18],[160,19,161,22],[160,23,161,27],[160,28,161,30],[160,31,161,35],[160,36,161,38],[160,39,161,43],[160,44,161,46],[160,47,161,51],[160,52,161,54],[186,0,187,0],[186,1,186,13],[186,14,187,15],[186,16,187,18],[186,19,187,22],[186,23,187,27],[186,28,187,30],[186,31,187,35],[186,36,187,38],[186,39,187,43],[186,44,187,46],[186,47,187,51],[186,52,187,54],[187,1,187,13],[160,1,160,13],[162,31,162,35],[162,36,162,38],[162,39,162,43],[162,44,162,46],[162,47,162,51],[156,0,157,0],[156,14,157,15],[156,16,157,18],[156,19,157,22],[156,23,157,27],[156,28,157,30],[156,31,157,35],[156,36,157,38],[156,39,157,43],[156,44,157,46],[156,47,157,51],[156,52,157,54],[158,0,159,0],[158,14,159,15],[158,16,159,18],[158,19,159,22],[158,23,159,27],[158,28,159,30],[158,31,159,35],[158,36,159,38],[158,39,159,43],[158,44,159,46],[158,47,159,51],[158,52,159,54],[156,1,156,13],[158,1,158,13],[157,1,157,13],[159,1,159,13],[152,0,153,0],[152,14,153,15],[152,16,153,18],[152,19,153,22],[152,23,153,27],[152,28,153,30],[152,31,153,35],[152,36,153,38],[152,39,153,43],[152,44,153,46],[152,47,153,51],[152,52,153,54],[154,0,155,0],[154,14,155,15],[154,16,155,18],[154,19,155,22],[154,23,155,27],[154,28,155,30],[154,31,155,35],[154,36,155,38],[154,39,155,43],[154,44,155,46],[154,47,155,51],[154,52,155,54],[155,1,155,13],[148,0,149,0],[148,14,149,15],[148,16,149,18],[148,19,149,22],[148,23,149,27],[148,28,149,30],[148,31,149,35],[148,36,149,38],[148,39,149,43],[148,44,149,46],[148,47,149,51],[148,52,149,54],[150,0,151,0],[150,14,151,15],[150,16,151,18],[150,19,151,22],[150,23,151,27],[150,28,151,30],[150,31,151,35],[150,36,151,38],[150,39,151,43],[150,44,151,46],[150,47,151,51],[150,52,151,54],[144,0,145,0],[144,1,144,13],[144,14,145,15],[144,16,145,18],[144,19,145,22],[144,23,145,27],[144,28,145,30],[144,31,145,35],[144,36,145,38],[144,39,145,43],[144,44,145,46],[144,47,145,51],[144,52,145,54],[145,1,145,13],[146,0,147,0],[146,1,146,13],[146,14,147,15],[146,16,147,18],[146,19,147,22],[146,23,147,27],[146,28,147,30],[146,31,147,35],[146,36,147,38],[146,39,147,43],[146,44,147,46],[146,47,147,51],[146,52,147,54],[140,0,141,0],[140,1,140,13],[140,14,141,15],[140,16,141,18],[140,19,141,22],[140,23,141,27],[140,28,141,30],[140,31,141,35],[140,36,141,38],[140,39,141,43],[140,44,141,46],[140,47,141,51],[140,52,141,54],[141,1,141,13],[142,0,143,0],[142,1,142,13],[142,14,143,15],[142,16,143,18],[142,19,143,22],[142,23,143,27],[142,28,143,30],[142,31,143,35],[142,36,143,38],[142,39,143,43],[142,44,143,46],[142,47,143,51],[142,52,143,54],[143,1,143,13],[136,0,137,0],[136,1,136,13],[136,14,137,15],[136,16,137,18],[136,19,137,22],[136,23,137,27],[136,28,137,30],[136,31,137,35],[136,36,137,38],[136,39,137,43],[136,44,137,46],[136,47,137,51],[136,52,137,54],[137,1,137,13],[138,0,139,0],[138,1,138,13],[138,14,139,15],[138,16,139,18],[138,19,139,22],[138,23,139,27],[138,28,139,30],[138,31,139,35],[138,36,139,38],[138,39,139,43],[138,44,139,46],[138,47,139,51],[138,52,139,54],[139,1,139,13],[132,0,133,0],[132,1,132,13],[132,14,133,15],[132,16,133,18],[132,19,133,22],[132,23,133,27],[132,28,133,30],[132,31,133,35],[132,36,133,38],[132,39,133,43],[132,44,133,46],[132,47,133,51],[132,52,133,54],[133,1,133,13],[134,0,135,0],[134,1,134,13],[134,14,135,15],[134,16,135,18],[134,19,135,22],[134,23,135,27],[134,28,135,30],[134,31,135,35],[134,36,135,38],[134,39,135,43],[134,44,135,46],[134,47,135,51],[134,52,135,54],[135,1,135,13],[104,0,105,0],[104,14,105,15],[104,16,105,18],[104,19,105,22],[104,23,105,27],[104,28,105,30],[104,31,105,35],[104,36,105,38],[104,39,105,43],[104,44,105,46],[104,47,105,51],[104,52,105,54],[106,0,107,0],[106,14,107,15],[106,16,107,18],[106,19,107,22],[106,23,107,27],[106,28,107,30],[106,31,107,35],[106,36,107,38],[106,39,107,43],[106,44,107,46],[106,47,107,51],[106,52,107,54],[100,0,101,0],[100,14,101,15],[100,16,101,18],[100,19,101,22],[100,23,101,27],[100,28,101,30],[100,31,101,35],[100,36,101,38],[100,39,101,43],[100,44,101,46],[100,47,101,51],[100,52,101,54],[102,0,103,0],[102,14,103,15],[102,16,103,18],[102,19,103,22],[102,23,103,27],[102,28,103,30],[102,31,103,35],[102,36,103,38],[102,39,103,43],[102,44,103,46],[102,47,103,51],[102,52,103,54],[96,0,97,0],[96,14,97,15],[96,16,97,18],[96,19,97,22],[96,23,97,27],[96,28,97,30],[96,31,97,35],[96,36,97,38],[96,39,97,43],[96,44,97,46],[96,47,97,51],[96,52,97,54],[98,0,99,0],[98,14,99,15],[98,16,99,18],[98,19,99,22],[98,23,99,27],[98,28,99,30],[98,31,99,35],[98,36,99,38],[98,39,99,43],[98,44,99,46],[98,47,99,51],[98,52,99,54],[92,0,93,0],[92,1,92,13],[92,14,93,15],[92,16,93,18],[92,19,93,22],[92,23,93,27],[92,28,93,30],[92,31,93,35],[92,36,93,38],[92,39,93,43],[92,44,93,46],[92,47,93,51],[92,52,93,54],[94,0,95,0],[94,14,95,15],[94,16,95,18],[94,19,95,22],[94,23,95,27],[94,28,95,30],[94,31,95,35],[94,36,95,38],[94,39,95,43],[94,44,95,46],[94,47,95,51],[94,52,95,54],[88,0,89,0],[88,1,88,13],[88,14,89,15],[88,16,89,18],[88,19,89,22],[88,23,89,27],[88,28,89,30],[88,31,89,35],[88,36,89,38],[88,39,89,43],[88,44,89,46],[88,47,89,51],[88,52,89,54],[89,1,89,13],[90,0,91,0],[90,1,90,13],[90,14,91,15],[90,16,91,18],[90,19,91,22],[90,23,91,27],[90,28,91,30],[90,31,91,35],[90,36,91,38],[90,39,91,43],[90,44,91,46],[90,47,91,51],[90,52,91,54],[91,1,91,13],[84,0,85,0],[84,1,84,13],[84,14,85,15],[84,16,85,18],[84,19,85,22],[84,23,85,27],[84,28,85,30],[84,31,85,35],[84,36,85,38],[84,39,85,43],[84,44,85,46],[84,47,85,51],[84,52,85,54],[85,1,85,13],[86,0,87,0],[86,1,86,13],[86,14,87,15],[86,16,87,18],[86,19,87,22],[86,23,87,27],[86,28,87,30],[86,31,87,35],[86,36,87,38],[86,39,87,43],[86,44,87,46],[86,47,87,51],[86,52,87,54],[87,1,87,13],[80,0,81,0],[80,1,80,13],[80,14,81,15],[80,16,81,18],[80,19,81,22],[80,23,81,27],[80,28,81,30],[80,31,81,35],[80,36,81,38],[80,39,81,43],[80,44,81,46],[80,47,81,51],[80,52,81,54],[81,1,81,13],[82,0,83,0],[82,1,82,13],[82,14,83,15],[82,16,83,18],[82,19,83,22],[82,23,83,27],[82,28,83,30],[82,31,83,35],[82,36,83,38],[82,39,83,43],[82,44,83,46],[82,47,83,51],[82,52,83,54],[83,1,83,13],[55,0,56,0],[55,14,56,15],[55,16,56,18],[55,19,56,22],[55,23,56,27],[55,28,56,30],[55,31,56,35],[55,36,56,38],[55,39,56,43],[55,44,56,46],[55,47,56,51],[55,52,56,54],[78,0,79,0],[78,1,78,13],[78,14,79,15],[78,16,79,18],[78,19,79,22],[78,23,79,27],[78,28,79,30],[78,31,79,35],[78,36,79,38],[78,39,79,43],[78,44,79,46],[78,47,79,51],[78,52,79,54],[79,1,79,13],[55,1,55,13],[57,31,57,35],[57,36,57,38],[57,39,57,43],[57,44,57,46],[57,47,57,51],[51,0,52,0],[51,14,52,15],[51,16,52,18],[51,19,52,22],[51,23,52,27],[51,28,52,30],[51,31,52,35],[51,36,52,38],[51,39,52,43],[51,44,52,46],[51,47,52,51],[51,52,52,54],[53,0,54,0],[53,14,54,15],[53,16,54,18],[53,19,54,22],[53,23,54,27],[53,28,54,30],[53,31,54,35],[53,36,54,38],[53,39,54,43],[53,44,54,46],[53,47,54,51],[53,52,54,54],[51,1,51,13],[53,1,53,13],[52,1,52,13],[54,1,54,13],[47,0,48,0],[47,14,48,15],[47,16,48,18],[47,19,48,22],[47,23,48,27],[47,28,48,30],[47,31,48,35],[47,36,48,38],[47,39,48,43],[47,44,48,46],[47,47,48,51],[47,52,48,54],[49,0,50,0],[49,14,50,15],[49,16,50,18],[49,19,50,22],[49,23,50,27],[49,28,50,30],[49,31,50,35],[49,36,50,38],[49,39,50,43],[49,44,50,46],[49,47,50,51],[49,52,50,54],[47,1,47,13],[49,1,49,13],[48,1,48,13],[50,1,50,13],[43,0,44,0],[43,1,43,13],[43,14,44,15],[43,16,44,18],[43,19,44,22],[43,23,44,27],[43,28,44,30],[43,31,44,35],[43,36,44,38],[43,39,44,43],[43,44,44,46],[43,47,44,51],[43,52,44,54],[44,1,44,13],[45,0,46,0],[45,1,45,13],[45,14,46,15],[45,16,46,18],[45,19,46,22],[45,23,46,27],[45,28,46,30],[45,31,46,35],[45,36,46,38],[45,39,46,43],[45,44,46,46],[45,47,46,51],[45,52,46,54],[46,1,46,13],[39,0,40,0],[39,1,39,13],[39,14,40,15],[39,16,40,18],[39,19,40,22],[39,23,40,27],[39,28,40,30],[39,31,40,35],[39,36,40,38],[39,39,40,43],[39,44,40,46],[39,47,40,51],[39,52,40,54],[40,1,40,13],[41,0,42,0],[41,1,41,13],[41,14,42,15],[41,16,42,18],[41,19,42,22],[41,23,42,27],[41,28,42,30],[41,31,42,35],[41,36,42,38],[41,39,42,43],[41,44,42,46],[41,47,42,51],[41,52,42,54],[42,1,42,13],[35,0,36,0],[35,1,35,13],[35,14,36,15],[35,16,36,18],[35,19,36,22],[35,23,36,27],[35,28,36,30],[35,31,36,35],[35,36,36,38],[35,39,36,43],[35,44,36,46],[35,47,36,51],[35,52,36,54],[36,1,36,13],[37,0,38,0],[37,1,37,13],[37,14,38,15],[37,16,38,18],[37,19,38,22],[37,23,38,27],[37,28,38,30],[37,31,38,35],[37,36,38,38],[37,39,38,43],[37,44,38,46],[37,47,38,51],[37,52,38,54],[38,1,38,13],[4,43,6,47],[4,48,6,54],[6,17,8,19],[11,1,12,14],[14,1,15,2],[14,3,15,8],[14,9,15,10],[14,11,15,17],[0,8,4,33],[0,50,2,50],[1,39,2,41],[1,42,2,43],[1,44,2,44],[1,45,2,45],[1,46,2,46],[1,47,2,47],[1,48,2,48],[4,37,6,42],[7,37,8,54],[9,37,18,54],[0,51,2,55],[22,33,24,34],[22,35,24,36],[22,37,24,40],[24,19,26,23],[24,24,26,31],[26,34,31,34],[26,35,28,40],[27,19,29,27],[27,28,29,31],[29,35,31,40],[17,1,21,5],[17,6,21,15],[21,19,23,23],[21,24,23,31],[22,1,31,1],[22,2,26,5],[22,6,26,15],[27,2,31,5],[27,6,31,15],[30,19,31,23],[33,52,34,54],[34,14,34,15],[34,16,34,18],[34,19,34,22],[34,23,34,27],[34,28,34,30],[34,31,34,35],[34,36,34,38],[34,39,34,43],[34,44,34,46],[30,24,31,27],[33,1,34,13],[33,14,33,27],[33,28,33,35],[33,36,33,43],[33,44,33,51],[34,47,34,51],[57,52,57,54],[57,1,57,13],[57,14,57,15],[57,16,57,18],[57,19,57,22],[57,23,57,27],[57,28,57,30],[56,1,56,13],[76,44,76,51],[76,52,77,54],[77,14,77,15],[77,16,77,18],[77,19,77,22],[77,23,77,27],[77,28,77,30],[77,31,77,35],[77,36,77,38],[77,39,77,43],[72,19,74,22],[72,24,74,29],[76,1,77,13],[76,14,76,27],[76,28,76,35],[76,36,76,43],[59,1,65,17],[59,50,61,50],[69,1,71,5],[69,6,71,13],[69,23,74,23],[69,24,71,29],[72,1,74,5],[72,6,74,13],[72,15,74,16],[72,17,74,18],[94,1,94,13],[77,44,77,46],[77,47,77,51],[93,1,93,13],[96,1,96,13],[95,1,95,13],[98,1,98,13],[97,1,97,13],[100,1,100,13],[99,1,99,13],[102,1,102,13],[101,1,101,13],[104,1,104,13],[103,1,103,13],[106,1,106,13],[105,1,105,13],[108,31,108,35],[108,36,108,38],[108,39,108,43],[108,44,108,46],[108,47,108,51],[108,52,108,54],[108,1,108,13],[108,14,108,15],[108,16,108,18],[108,19,108,22],[108,23,108,27],[108,28,108,30],[107,1,107,13],[130,44,130,51],[130,52,131,54],[131,14,131,15],[131,16,131,18],[131,19,131,22],[131,23,131,27],[131,28,131,30],[131,31,131,35],[131,36,131,38],[131,39,131,43],[126,19,128,22],[126,24,128,29],[130,1,131,13],[130,14,130,27],[130,28,130,35],[130,36,130,43],[113,1,119,17],[113,50,115,50],[123,1,125,5],[123,6,125,13],[123,23,128,23],[123,24,125,29],[126,1,128,5],[126,6,128,13],[126,15,128,16],[126,17,128,18],[148,1,148,13],[131,44,131,46],[131,47,131,51],[147,1,147,13],[150,1,150,13],[149,1,149,13],[152,1,152,13],[151,1,151,13],[154,1,154,13],[153,1,153,13],[162,52,162,54],[162,1,162,13],[162,14,162,15],[162,16,162,18],[162,19,162,22],[162,23,162,27],[162,28,162,30],[161,1,161,13],[184,44,184,51],[184,52,185,54],[185,14,185,15],[185,16,185,18],[185,19,185,22],[185,23,185,27],[185,28,185,30],[185,31,185,35],[185,36,185,38],[185,39,185,43],[180,19,182,22],[180,24,182,29],[184,1,185,13],[184,14,184,27],[184,28,184,35],[184,36,184,43],[167,1,173,17],[167,50,169,50],[177,1,179,5],[177,6,179,13],[177,23,182,23],[177,24,179,29],[180,1,182,5],[180,6,182,13],[180,15,182,16],[180,17,182,18],[202,1,202,13],[185,44,185,46],[185,47,185,51],[201,1,201,13],[204,1,204,13],[203,1,203,13],[206,1,206,13],[205,1,205,13],[208,1,208,13],[207,1,207,13],[210,1,210,13],[209,1,209,13],[212,1,212,13],[211,1,211,13],[214,1,214,13],[213,1,213,13],[214,36,215,38],[214,39,215,43],[214,44,215,46],[214,47,215,51],[216,31,216,35],[216,36,216,38],[216,39,216,43],[216,44,216,46],[216,47,216,51],[216,52,216,54],[216,1,216,13],[216,14,216,15],[216,16,216,18],[216,19,216,22],[216,23,216,27],[216,28,216,30],[215,1,215,13],[238,44,238,51],[238,52,239,54],[239,14,239,15],[239,16,239,18],[239,19,239,22],[239,23,239,27],[239,28,239,30],[239,31,239,35],[239,36,239,38],[239,39,239,43],[234,19,236,22],[234,24,236,29],[238,1,239,13]],"merged_total":1200,"flags":["merged_cut"]}
[null,null,null,null,null,null,null,null,"請 求 書（出来高・分割納入用）",null,null,null,null,null,null,null,null,null,null,null,null,null,null,null,null,null,null,null,null,null,null,null,null,null,null,null,null,null,null,null,null,null,null,null,null,null,null,null,null,null,"No."]
[null,null,null,null,null,null,null,null,null,null,null,null,null,null,null,null,null,null,null,null,null,null,null,null,null,null,null,null,null,null,null,null,null,null,null,null,null,null,null,"日付",null,null,null,null,"年",null,"月",null,"日"]
[]
[]
[null,null,null,null,null,null,null,null,null,null,null,null,null,null,null,null,null,null,null,null,null,null,null,null,null,null,null,null,null,null,null,null,null,null,null,null,null,"請求者住所･氏名･印･電話",null,null,null,null,null,"取引先コード",null,null,null,null,{"$f":"入力フォーム!B3","v":0}]
[]
[null,null,null,null,null,null,null,null,null,null,null,null,null,null,null,null,null,"御中"]
[null,null,null,null,null,null,null,null,null,null,null,null,null,null,null,null,null,null,null,null,null,null,null,null,null,null,null,null,null,null,null,null,null,null,null,null,null,{"$f":"\"登録番号\"&\" \"&入力フォーム!B4","v":"登録番号 "}]
[]
[]
[]
[null,"下記の通り請求いたします。"]
[]
[]
[null,null,null,"月分請求内訳書",null,null,null,null,null,null,null,"枚 (本用紙を含む)"]
[]
[]
[null,"請 求 金 額",null,null,null,null,{"$f":"SUM(G23:P32)","v":0}]
[]
[]
[]
[null,null,null,null,null,null,null,null,null,null,null,null,null,null,null,null,null,null,null,"製造番号",null,null,null,null,{"$f":"見積書!$B$47","v":""}]
[null,"内　訳","税抜金額",null,null,null,{"$f":"AN58+AN109+AN163+AN217+AN257","v":0},null,null,null,null,null,null,null,null,null,null,null,null,null,null,null,null,null,null,null,null,null,null,null,null,null,null,"第",null,11,null,"回請求"]
[]
[null,null,null,null,null,null,null,null,null,null,null,null,null,null,null,null,null,null,null,"注文番号",null,null,null,null,{"$f":"IF('出来高内訳書 (第1回請求)'!Y25=\"\",\"\",'出来高内訳書 (第1回請求)'!Y25)","v":""}]
[]
[null,null,null,null,null,null,null,null,null,null,null,null,null,null,null,null,null,null,null,null,null,null,null,null,null,null,null,null,null,null,null,null,null,null,"※科目"]
[null,null,"消費税額等",null,null,null,{"$f":"IF(AC28=\"10％\",ROUNDDOWN(G23*10%,0),IF(AC28=\"(軽)8%\",ROUNDDOWN(G23*8%,0),0))","v":0},null,null,null,null,null,null,null,null,null,null,null,null,"消費税率",null,null,null,null,null,null,null,null,{"$f":"入力フォーム!B10","v":"10％"}]
[]
[]
[]
[]
[]
[null,"工　種・品　名",null,null,null,null,null,null,null,null,null,null,null,null,"契　約　金　額",null,null,null,null,null,null,null,null,null,null,null,null,null,"前回までの出来高",null,null,null,null,null,null,null,"今回出来高",null,null,null,null,null,null,null,"残高",null,null,null,null,null,null,null,"備　考"]
[null,null,null,null,null,null,null,null,null,null,null,null,null,null,"単位",null,"数量",null,null,"単価",null,null,null,"金額",null,null,null,null,"数量",null,null,"金額",null,null,null,null,"数量",null,null,"金額",null,null,null,null,"数量",null,null,"金額"]
[1,{"$f":"見積書!F61","v":""},null,null,null,null,null,null,null,null,null,null,null,null,{"$f":"見積書!Q61","v":""},null,{"$f":"見積書!R61","v":""},null,null,{"$f":"見積書!S61","v":""},null,null,null,{"$f":"見積書!T61","v":""},null,null,null,null,{"$f":"IF(Q36=\"\",\"\",'出来高内訳書 (第10回請求)'!AC36+'出来高内訳書 (第10回請求)'!AK36)","v":""},null,null,{"$f":"IF(T36=\"\",\"\",ROUND(T36*AC36,0))","v":""},null,null,null,null,null,null,null,{"$f":"IF(T36=\"\",\"\",ROUND(T36*AK36,0))","v":""},null,null,null,null,{"$f":"IF(Q36=\"\",\"\",ROUND(Q36-AC36-AK36,2))","v":""},null,null,{"$f":"IF(T36=\"\",\"\",(IF(AS36<0,\"出来高が契約を超過\",X36-AN36-AF36)))","v":""}]
[null,{"$f":"見積書!F62","v":""}]
[2,{"$f":"見積書!F63","v":""},null,null,null,null,null,null,null,null,null,null,null,null,{"$f":"見積書!Q63","v":""},null,{"$f":"見積書!R63","v":""},null,null,{"$f":"見積書!S63","v":""},null,null,null,{"$f":"見積書!T63","v":""},null,null,null,null,{"$f":"IF(Q38=\"\",\"\",'出来高内訳書 (第10回請求)'!AC38+'出来高内訳書 (第10回請求)'!AK38)","v":""},null,null,{"$f":"IF(T38=\"\",\"\",ROUND(T38*AC38,0))","v":""},null,null,null,null,null,null,null,{"$f":"IF(T38=\"\",\"\",ROUND(T38*AK38,0))","v":""},null,null,null,null,{"$f":"IF(Q38=\"\",\"\",ROUND(Q38-AC38-AK38,2))","v":""},null,null,{"$f":"IF(T38=\"\",\"\",(IF(AS38<0,\"出来高が契約を超過\",X38-AN38-AF38)))","v":""}]
[null,{"$f":"見積書!F64","v":""}]
[3,{"$f":"見積書!F65","v":""},null,null,null,null,null,null,null,null,null,null,null,null,{"$f":"見積書!Q65","v":""},null,{"$f":"見積書!R65","v":""},null,null,{"$f":"見積書!S65","v":""},null,null,null,{"$f":"見積書!T65","v":""},null,null,null,null,{"$f":"IF(Q40=\"\",\"\",'出来高内訳書 (第10回請求)'!AC40+'出来高内訳書 (第10回請求)'!AK40)","v":""},null,null,{"$f":"IF(T40=\"\",\"\",ROUND(T40*AC40,0))","v":""},null,null,null,null,null,null,null,{"$f":"IF(T40=\"\",\"\",ROUND(T40*AK40,0))","v":""},null,null,null,null,{"$f":"IF(Q40=\"\",\"\",ROUND(Q40-AC40-AK40,2))","v":""},null,null,{"$f":"IF(T40=\"\",\"\",(IF(AS40<0,\"出来高が契約を超過\",X40-AN40-AF40)))","v":""}]
[null,{"$f":"見積書!F66","v":""}]
[4,{"$f":"見積書!F67","v":""},null,null,null,null,null,null,null,null,null,null,null,null,{"$f":"見積書!Q67","v":""},null,{"$f":"見積書!R67","v":""},null,null,{"$f":"見積書!S67","v":""},null,null,null,{"$f":"見積書!T67","v":""},null,null,null,null,{"$f":"IF(Q42=\"\",\"\",'出来高内訳書 (第10回請求)'!AC42+'出来高内訳書 (第10回請求)'!AK42)","v":""},null,null,{"$f":"IF(T42=\"\",\"\",ROUND(T42*AC42,0))","v":""},null,null,null,null,null,null,null,{"$f":"IF(T42=\"\",\"\",ROUND(T42*AK42,0))","v":""},null,null,null,null,{"$f":"IF(Q42=\"\",\"\",ROUND(Q42-AC42-AK42,2))","v":""},null,null,{"$f":"IF(T42=\"\",\"\",(IF(AS42<0,\"出来高が契約を超過\",X42-AN42-AF42)))","v":""}]
[null,{"$f":"見積書!F68","v":""}]
[5,{"$f":"見積書!F69","v":""},null,null,null,null,null,null,null,null,null,null,null,null,{"$f":"見積書!Q69","v":""},null,{"$f":"見積書!R69","v":""},null,null,{"$f":"見積書!S69","v":""},null,null,null,{"$f":"見積書!T69","v":""},null,null,null,null,{"$f":"IF(Q44=\"\",\"\",'出来高内訳書 (第10回請求)'!AC44+'出来高内訳書 (第10回請求)'!AK44)","v":""},null,null,{"$f":"IF(T44=\"\",\"\",ROUND(T44*AC44,0))","v":""},null,null,null,null,null,null,null,{"$f":"IF(T44=\"\",\"\",ROUND(T44*AK44,0))","v":""},null,null,null,null,{"$f":"IF(Q44=\"\",\"\",ROUND(Q44-AC44-AK44,2))","v":""},null,null,{"$f":"IF(T44=\"\",\"\",(IF(AS44<0,\"出来高が契約を超過\",X44-AN44-AF44)))","v":""}]
[null,{"$f":"見積書!F70","v":""}]
[6,{"$f":"見積書!F71","v":""},null,null,null,null,null,null,null,null,null,null,null,null,{"$f":"見積書!Q71","v":""},null,{"$f":"見積書!R71","v":""},null,null,{"$f":"見積書!S71","v":""},null,null,null,{"$f":"見積書!T71","v":""},null,null,null,null,{"$f":"IF(Q46=\"\",\"\",'出来高内訳書 (第10回請求)'!AC46+'出来高内訳書 (第10回請求)'!AK46)","v":""},null,null,{"$f":"IF(T46=\"\",\"\",ROUND(T46*AC46,0))","v":""},null,null,null,null,null,null,null,{"$f":"IF(T46=\"\",\"\",ROUND(T46*AK46,0))","v":""},null,null,null,null,{"$f":"IF(Q46=\"\",\"\",ROUND(Q46-AC46-AK46,2))","v":""},null,null,{"$f":"IF(T46=\"\",\"\",(IF(AS46<0,\"出来高が契約を超過\",X46-AN46-AF46)))","v":""}]
[null,{"$f":"見積書!F72","v":""}]
[7,{"$f":"見積書!F73","v":""},null,null,null,null,null,null,null,null,null,null,null,null,{"$f":"見積書!Q73","v":""},null,{"$f":"見積書!R73","v":""},null,null,{"$f":"見積書!S73","v":""},null,null,null,{"$f":"見積書!T73","v":""},null,null,null,null,{"$f":"IF(Q48=\"\",\"\",'出来高内訳書 (第10回請求)'!AC48+'出来高内訳書 (第10回請求)'!AK48)","v":""},null,null,{"$f":"IF(T48=\"\",\"\",ROUND(T48*AC48,0))","v":""},null,null,null,null,null,null,null,{"$f":"IF(T48=\"\",\"\",ROUND(T48*AK48,0))","v":""},null,null,null,null,{"$f":"IF(Q48=\"\",\"\",ROUND(Q48-AC48-AK48,2))","v":""},null,null,{"$f":"IF(T48=\"\",\"\",(IF(AS48<0,\"出来高が契約を超過\",X48-AN48-AF48)))","v":""}]
[null,{"$f":"見積書!F74","v":""}]
[8,{"$f":"見積書!F75","v":""},null,null,null,null,null,null,null,null,null,null,null,null,{"$f":"見積書!Q75","v":""},null,{"$f":"見積書!R75","v":""},null,null,{"$f":"見積書!S75","v":""},null,null,null,{"$f":"見積書!T75","v":""},null,null,null,null,{"$f":"IF(Q50=\"\",\"\",'出来高内訳書 (第10回請求)'!AC50+'出来高内訳書 (第10回請求)'!AK50)","v":""},null,null,{"$f":"IF(T50=\"\",\"\",ROUND(T50*AC50,0))","v":""},null,null,null,null,null,null,null,{"$f":"IF(T50=\"\",\"\",ROUND(T50*AK50,0))","v":""},null,null,null,null,{"$f":"IF(Q50=\"\",\"\",ROUND(Q50-AC50-AK50,2))","v":""},null,null,{"$f":"IF(T50=\"\",\"\",(IF(AS50<0,\"出来高が契約を超過\",X50-AN50-AF50)))","v":""}]
[null,{"$f":"見積書!F76","v":""}]
[9,{"$f":"見積書!F77","v":""},null,null,null,null,null,null,null,null,null,null,null,null,{"$f":"見積書!Q77","v":""},null,{"$f":"見積書!R77","v":""},null,null,{"$f":"見積書!S77","v":""},null,null,null,{"$f":"見積書!T77","v":""},null,null,null,null,{"$f":"IF(Q52=\"\",\"\",'出来高内訳書 (第10回請求)'!AC52+'出来高内訳書 (第10回請求)'!AK52)","v":""},null,null,{"$f":"IF(T52=\"\",\"\",ROUND(T52*AC52,0))","v":""},null,null,null,null,null,null,null,{"$f":"IF(T52=\"\",\"\",ROUND(T52*AK52,0))","v":""},null,null,null,null,{"$f":"IF(Q52=\"\",\"\",ROUND(Q52-AC52-AK52,2))","v":""},null,null,{"$f":"IF(T52=\"\",\"\",(IF(AS52<0,\"出来高が契約を超過\",X52-AN52-AF52)))","v":""}]
[null,{"$f":"見積書!F78","v":""}]
[10,{"$f":"見積書!F79","v":""},null,null,null,null,null,null,null,null,null,null,null,null,{"$f":"見積書!Q79","v":""},null,{"$f":"見積書!R79","v":""},null,null,{"$f":"見積書!S79","v":""},null,null,null,{"$f":"見積書!T79","v":""},null,null,null,null,{"$f":"IF(Q54=\"\",\"\",'出来高内訳書 (第10回請求)'!AC54+'出来高内訳書 (第10回請求)'!AK54)","v":""},null,null,{"$f":"IF(T54=\"\",\"\",ROUND(T54*AC54,0))","v":""},null,null,null,null,null,null,null,{"$f":"IF(T54=\"\",\"\",ROUND(T54*AK54,0))","v":""},null,null,null,null,{"$f":"IF(Q54=\"\",\"\",ROUND(Q54-AC54-AK54,2))","v":""},null,null,{"$f":"IF(T54=\"\",\"\",(IF(AS54<0,\"出来高が契約を超過\",X54-AN54-AF54)))","v":""}]
[null,{"$f":"見積書!F80","v":""}]
[11,{"$f":"見積書!F81","v":""},null,null,null,null,null,null,null,null,null,null,null,null,{"$f":"見積書!Q81","v":""},null,{"$f":"見積書!R81","v":""},null,null,{"$f":"見積書!S81","v":""},null,null,null,{"$f":"見積書!T81","v":""},null,null,null,null,{"$f":"IF(Q56=\"\",\"\",'出来高内訳書 (第10回請求)'!AC56+'出来高内訳書 (第10回請求)'!AK56)","v":""},null,null,{"$f":"IF(T56=\"\",\"\",ROUND(T56*AC56,0))","v":""},null,null,null,null,null,null,null,{"$f":"IF(T56=\"\",\"\",ROUND(T56*AK56,0))","v":""},null,null,null,null,{"$f":"IF(Q56=\"\",\"\",ROUND(Q56-AC56-AK56,2))","v":""},null,null,{"$f":"IF(T56=\"\",\"\",(IF(AS56<0,\"出来高が契約を超過\",X56-AN56-AF56)))","v":""}]
[null,{"$f":"見積書!F82","v":""}]
[null,"小計",null,null,null,null,null,null,null,null,null,null,null,null,null,null,null,null,null,null,null,null,null,{"$f":"SUM(X36:AB57)","v":0},null,null,null,null,null,null,null,{"$f":"SUM(AF36:AJ57)","v":0},null,null,null,null,null,null,null,{"$f":"SUM(AN36:AR57)","v":0},null,null,null,null,null,null,null,{"$f":"X58-AF58-AN58","v":0}]
[]
[null,"請求内訳書（出来高・分割納入用）",null,null,null,null,null,null,null,null,null,null,null,null,null,null,null,null,null,null,null,null,null,null,null,null,null,null,null,null,null,null,null,null,null,null,null,null,null,null,null,null,null,null,null,null,null,null,null,null,"No."]
[]
[]
[]
[]
[]
[]
[]
[]
[]
[null,"製造番号",null,null,null,null,{"$f":"Y22","v":""},null,null,null,null,null,null,null,null,null,null,null,null,null,null,null,null,"※科目"]
[]
[]
[null,"注文番号",null,null,null,null,{"$f":"Y25","v":""},null,null,null,null,null,null,null,null,"第",null,{"$f":"AJ23","v":11},null,"回請求"]
[]
[]
[]
[null,"工　種・品　名",null,null,null,null,null,null,null,null,null,null,null,null,"契　約　金　額",null,null,null,null,null,null,null,null,null,null,null,null,null,"前回までの出来高",null,null,null,null,null,null,null,"今回出来高",null,null,null,null,null,null,null,"残高",null,null,null,null,null,null,null,"備　考"]
[null,null,null,null,null,null,null,null,null,null,null,null,null,null,"単位",null,"数量",null,null,"単価",null,null,null,"金額",null,null,null,null,"数量",null,null,"金額",null,null,null,null,"数量",null,null,"金額",null,null,null,null,"数量",null,null,"金額"]
[12,{"$f":"見積書!F83","v":""},null,null,null,null,null,null,null,null,null,null,null,null,{"$f":"見積書!Q83","v":""},null,{"$f":"見積書!R83","v":""},null,null,{"$f":"見積書!S83","v":""},null,null,null,{"$f":"見積書!T83","v":""},null,null,null,null,{"$f":"IF(Q79=\"\",\"\",'出来高内訳書 (第10回請求)'!AC79+'出来高内訳書 (第10回請求)'!AK79)","v":""},null,null,{"$f":"IF(T79=\"\",\"\",ROUND(T79*AC79,0))","v":""},null,null,null,null,null,null,null,{"$f":"IF(T79=\"\",\"\",ROUND(T79*AK79,0))","v":""},null,null,null,null,{"$f":"IF(Q79=\"\",\"\",ROUND(Q79-AC79-AK79,2))","v":""},null,null,{"$f":"IF(T79=\"\",\"\",(IF(AS79<0,\"出来高が契約を超過\",X79-AN79-AF79)))","v":""}]
[null,{"$f":"見積書!F84","v":""}]
[13,{"$f":"見積書!F85","v":""},null,null,null,null,null,null,null,null,null,null,null,null,{"$f":"見積書!Q85","v":""},null,{"$f":"見積書!R85","v":""},null,null,{"$f":"見積書!S85","v":""},null,null,null,{"$f":"見積書!T85","v":""},null,null,null,null,{"$f":"IF(Q81=\"\",\"\",'出来高内訳書 (第10回請求)'!AC81+'出来高内訳書 (第10回請求)'!AK81)","v":""},null,null,{"$f":"IF(T81=\"\",\"\",ROUND(T81*AC81,0))","v":""},null,null,null,null,null,null,null,{"$f":"IF(T81=\"\",\"\",ROUND(T81*AK81,0))","v":""},null,null,null,null,{"$f":"IF(Q81=\"\",\"\",ROUND(Q81-AC81-AK81,2))","v":""},null,null,{"$f":"IF(T81=\"\",\"\",(IF(AS81<0,\"出来高が契約を超過\",X81-AN81-AF81)))","v":""}]
[null,{"$f":"見積書!F86","v":""}]
[14,{"$f":"'見積書 (2)'!F26","v":""},null,null,null,null,null,null,null,null,null,null,null,null,{"$f":"'見積書 (2)'!Q26","v":""},null,{"$f":"'見積書 (2)'!R26","v":""},null,null,{"$f":"'見積書 (2)'!S26","v":""},null,null,null,{"$f":"'見積書 (2)'!T26","v":""},null,null,null,null,{"$f":"IF(Q83=\"\",\"\",'出来高内訳書 (第10回請求)'!AC83+'出来高内訳書 (第10回請求)'!AK83)","v":""},null,null,{"$f":"IF(T83=\"\",\"\",ROUND(T83*AC83,0))","v":""},null,null,null,null,null,null,null,{"$f":"IF(T83=\"\",\"\",ROUND(T83*AK83,0))","v":""},null,null,null,null,{"$f":"IF(Q83=\"\",\"\",ROUND(Q83-AC83-AK83,2))","v":""},null,null,{"$f":"IF(T83=\"\",\"\",(IF(AS83<0,\"出来高が契約を超過\",X83-AN83-AF83)))","v":""}]
[null,{"$f":"'見積書 (2)'!F27","v":""}]
[15,{"$f":"'見積書 (2)'!F28","v":""},null,null,null,null,null,null,null,null,null,null,null,null,{"$f":"'見積書 (2)'!Q28","v":""},null,{"$f":"'見積書 (2)'!R28","v":""},null,null,{"$f":"'見積書 (2)'!S28","v":""},null,null,null,{"$f":"'見積書 (2)'!T28","v":""},null,null,null,null,{"$f":"IF(Q85=\"\",\"\",'出来高内訳書 (第10回請求)'!AC85+'出来高内訳書 (第10回請求)'!AK85)","v":""},null,null,{"$f":"IF(T85=\"\",\"\",ROUND(T85*AC85,0))","v":""},null,null,null,null,null,null,null,{"$f":"IF(T85=\"\",\"\",ROUND(T85*AK85,0))","v":""},null,null,null,null,{"$f":"IF(Q85=\"\",\"\",ROUND(Q85-AC85-AK85,2))","v":""},null,null,{"$f":"IF(T85=\"\",\"\",(IF(AS85<0,\"出来高が契約を超過\",X85-AN85-AF85)))","v":""}]
[null,{"$f":"'見積書 (2)'!F29","v":""}]
[16,{"$f":"'見積書 (2)'!F30","v":""},null,null,null,null,null,null,null,null,null,null,null,null,{"$f":"'見積書 (2)'!Q30","v":""},null,{"$f":"'見積書 (2)'!R30","v":""},null,null,{"$f":"'見積書 (2)'!S30","v":""},null,null,null,{"$f":"'見積書 (2)'!T30","v":""},null,null,null,null,{"$f":"IF(Q87=\"\",\"\",'出来高内訳書 (第10回請求)'!AC87+'出来高内訳書 (第10回請求)'!AK87)","v":""},null,null,{"$f":"IF(T87=\"\",\"\",ROUND(T87*AC87,0))","v":""},null,null,null,null,null,null,null,{"$f":"IF(T87=\"\",\"\",ROUND(T87*AK87,0))","v":""},null,null,null,null,{"$f":"IF(Q87=\"\",\"\",ROUND(Q87-AC87-AK87,2))","v":""},null,null,{"$f":"IF(T87=\"\",\"\",(IF(AS87<0,\"出来高が契約を超過\",X87-AN87-AF87)))","v":""}]
[null,{"$f":"'見積書 (2)'!F31","v":""}]
[17,{"$f":"'見積書 (2)'!F32","v":""},null,null,null,null,null,null,null,null,null,null,null,null,{"$f":"'見積書 (2)'!Q32","v":""},null,{"$f":"'見積書 (2)'!R32","v":""},null,null,{"$f":"'見積書 (2)'!S32","v":""},null,null,null,{"$f":"'見積書 (2)'!T32","v":""},null,null,null,null,{"$f":"IF(Q89=\"\",\"\",'出来高内訳書 (第10回請求)'!AC89+'出来高内訳書 (第10回請求)'!AK89)","v":""},null,null,{"$f":"IF(T89=\"\",\"\",ROUND(T89*AC89,0))","v":""},null,null,null,null,null,null,null,{"$f":"IF(T89=\"\",\"\",ROUND(T89*AK89,0))","v":""},null,null,null,null,{"$f":"IF(Q89=\"\",\"\",ROUND(Q89-AC89-AK89,2))","v":""},null,null,{"$f":"IF(T89=\"\",\"\",(IF(AS89<0,\"出来高が契約を超過\",X89-AN89-AF89)))","v":""}]
[null,{"$f":"'見積書 (2)'!F33","v":""}]
[18,{"$f":"'見積書 (2)'!F34","v":""},null,null,null,null,null,null,null,null,null,null,null,null,{"$f":"'見積書 (2)'!Q34","v":""},null,{"$f":"'見積書 (2)'!R34","v":""},null,null,{"$f":"'見積書 (2)'!S34","v":""},null,null,null,{"$f":"'見積書 (2)'!T34","v":""},null,null,null,null,{"$f":"IF(Q91=\"\",\"\",'出来高内訳書 (第10回請求)'!AC91+'出来高内訳書 (第10回請求)'!AK91)","v":""},null,null,{"$f":"IF(T91=\"\",\"\",ROUND(T91*AC91,0))","v":""},null,null,null,null,null,null,null,{"$f":"IF(T91=\"\",\"\",ROUND(T91*AK91,0))","v":""},null,null,null,null,{"$f":"IF(Q91=\"\",\"\",ROUND(Q91-AC91-AK91,2))","v":""},null,null,{"$f":"IF(T91=\"\",\"\",(IF(AS91<0,\"出来高が契約を超過\",X91-AN91-AF91)))","v":""}]
[null,{"$f":"'見積書 (2)'!F35","v":""}]
[19,{"$f":"'見積書 (2)'!F36","v":""},null,null,null,null,null,null,null,null,null,null,null,null,{"$f":"'見積書 (2)'!Q36","v":""},null,{"$f":"'見積書 (2)'!R36","v":""},null,null,{"$f":"'見積書 (2)'!S36","v":""},null,null,null,{"$f":"'見積書 (2)'!T36","v":""},null,null,null,null,{"$f":"IF(Q93=\"\",\"\",'出来高内訳書 (第10回請求)'!AC93+'出来高内訳書 (第10回請求)'!AK93)","v":""},null,null,{"$f":"IF(T93=\"\",\"\",ROUND(T93*AC93,0))","v":""},null,null,null,null,null,null,null,{"$f":"IF(T93=\"\",\"\",ROUND(T93*AK93,0))","v":""},null,null,null,null,{"$f":"IF(Q93=\"\",\"\",ROUND(Q93-AC93-AK93,2))","v":""},null,null,{"$f":"IF(T93=\"\",\"\",(IF(AS93<0,\"出来高が契約を超過\",X93-AN93-AF93)))","v":""}]
[null,{"$f":"'見積書 (2)'!F37","v":""}]
[20,{"$f":"'見積書 (2)'!F38","v":""},null,null,null,null,null,null,null,null,null,null,null,null,{"$f":"'見積書 (2)'!Q38","v":""},null,{"$f":"'見積書 (2)'!R38","v":""},null,null,{"$f":"'見積書 (2)'!S38","v":""},null,null,null,{"$f":"'見積書 (2)'!T38","v":""},null,null,null,null,{"$f":"IF(Q95=\"\",\"\",'出来高内訳書 (第10回請求)'!AC95+'出来高内訳書 (第10回請求)'!AK95)","v":""},null,null,{"$f":"IF(T95=\"\",\"\",ROUND(T95*AC95,0))","v":""},null,null,null,null,null,null,null,{"$f":"IF(T95=\"\",\"\",ROUND(T95*AK95,0))","v":""},null,null,null,null,{"$f":"IF(Q95=\"\",\"\",ROUND(Q95-AC95-AK95,2))","v":""},null,null,{"$f":"IF(T95=\"\",\"\",(IF(AS95<0,\"出来高が契約を超過\",X95-AN95-AF95)))","v":""}]
[null,{"$f":"'見積書 (2)'!F39","v":""}]
[21,{"$f":"'見積書 (2)'!F40","v":""},null,null,null,null,null,null,null,null,null,null,null,null,{"$f":"'見積書 (2)'!Q40","v":""},null,{"$f":"'見積書 (2)'!R40","v":""},null,null,{"$f":"'見積書 (2)'!S40","v":""},null,null,null,{"$f":"'見積書 (2)'!T40","v":""},null,null,null,null,{"$f":"IF(Q97=\"\",\"\",'出来高内訳書 (第10回請求)'!AC97+'出来高内訳書 (第10回請求)'!AK97)","v":""},null,null,{"$f":"IF(T97=\"\",\"\",ROUND(T97*AC97,0))","v":""},null,null,null,null,null,null,null,{"$f":"IF(T97=\"\",\"\",ROUND(T97*AK97,0))","v":""},null,null,null,null,{"$f":"IF(Q97=\"\",\"\",ROUND(Q97-AC97-AK97,2))","v":""},null,null,{"$f":"IF(T97=\"\",\"\",(IF(AS97<0,\"出来高が契約を超過\",X97-AN97-AF97)))","v":""}]
[null,{"$f":"'見積書 (2)'!F41","v":""}]
[22,{"$f":"'見積書 (2)'!F42","v":""},null,null,null,null,null,null,null,null,null,null,null,null,{"$f":"'見積書 (2)'!Q42","v":""},null,{"$f":"'見積書 (2)'!R42","v":""},null,null,{"$f":"'見積書 (2)'!S42","v":""},null,null,null,{"$f":"'見積書 (2)'!T42","v":""},null,null,null,null,{"$f":"IF(Q99=\"\",\"\",'出来高内訳書 (第10回請求)'!AC99+'出来高内訳書 (第10回請求)'!AK99)","v":""},null,null,{"$f":"IF(T99=\"\",\"\",ROUND(T99*AC99,0))","v":""},null,null,null,null,null,null,null,{"$f":"IF(T99=\"\",\"\",ROUND(T99*AK99,0))","v":""},null,null,null,null,{"$f":"IF(Q99=\"\",\"\",ROUND(Q99-AC99-AK99,2))","v":""},null,null,{"$f":"IF(T99=\"\",\"\",(IF(AS99<0,\"出来高が契約を超過\",X99-AN99-AF99)))","v":""}]
[null,{"$f":"'見積書 (2)'!F43","v":""}]
[23,{"$f":"'見積書 (2)'!F44","v":""},null,null,null,null,null,null,null,null,null,null,null,null,{"$f":"'見積書 (2)'!Q44","v":""},null,{"$f":"'見積書 (2)'!R44","v":""},null,null,{"$f":"'見積書 (2)'!S44","v":""},null,null,null,{"$f":"'見積書 (2)'!T44","v":""},null,null,null,null,{"$f":"IF(Q101=\"\",\"\",'出来高内訳書 (第10回請求)'!AC101+'出来高内訳書 (第10回請求)'!AK101)","v":""},null,null,{"$f":"IF(T101=\"\",\"\",ROUND(T101*AC101,0))","v":""},null,null,null,null,null,null,null,{"$f":"IF(T101=\"\",\"\",ROUND(T101*AK101,0))","v":""},null,null,null,null,{"$f":"IF(Q101=\"\",\"\",ROUND(Q101-AC101-AK101,2))","v":""},null,null,{"$f":"IF(T101=\"\",\"\",(IF(AS101<0,\"出来高が契約を超過\",X101-AN101-AF101)))","v":""}]
[null,{"$f":"'見積書 (2)'!F45","v":""}]
[24,{"$f":"'見積書 (2)'!F46","v":""},null,null,null,null,null,null,null,null,null,null,null,null,{"$f":"'見積書 (2)'!Q46","v":""},null,{"$f":"'見積書 (2)'!R46","v":""},null,null,{"$f":"'見積書 (2)'!S46","v":""},null,null,null,{"$f":"'見積書 (2)'!T46","v":""},null,null,null,null,{"$f":"IF(Q103=\"\",\"\",'出来高内訳書 (第10回請求)'!AC103+'出来高内訳書 (第10回請求)'!AK103)","v":""},null,null,{"$f":"IF(T103=\"\",\"\",ROUND(T103*AC103,0))","v":""},null,null,null,null,null,null,null,{"$f":"IF(T103=\"\",\"\",ROUND(T103*AK103,0))","v":""},null,null,null,null,{"$f":"IF(Q103=\"\",\"\",ROUND(Q103-AC103-AK103,2))","v":""},null,null,{"$f":"IF(T103=\"\",\"\",(IF(AS103<0,\"出来高が契約を超過\",X103-AN103-AF103)))","v":""}]
[null,{"$f":"'見積書 (2)'!F47","v":""}]
[25,{"$f":"'見積書 (2)'!F48","v":""},null,null,null,null,null,null,null,null,null,null,null,null,{"$f":"'見積書 (2)'!Q48","v":""},null,{"$f":"'見積書 (2)'!R48","v":""},null,null,{"$f":"'見積書 (2)'!S48","v":""},null,null,null,{"$f":"'見積書 (2)'!T48","v":""},null,null,null,null,{"$f":"IF(Q105=\"\",\"\",'出来高内訳書 (第10回請求)'!AC105+'出来高内訳書 (第10回請求)'!AK105)","v":""},null,null,{"$f":"IF(T105=\"\",\"\",ROUND(T105*AC105,0))","v":""},null,null,null,null,null,null,null,{"$f":"IF(T105=\"\",\"\",ROUND(T105*AK105,0))","v":""},null,null,null,null,{"$f":"IF(Q105=\"\",\"\",ROUND(Q105-AC105-AK105,2))","v":""},null,null,{"$f":"IF(T105=\"\",\"\",(IF(AS105<0,\"出来高が契約を超過\",X105-AN105-AF105)))","v":""}]
[null,{"$f":"'見積書 (2)'!F49","v":""}]
[26,{"$f":"'見積書 (2)'!F50","v":""},null,null,null,null,null,null,null,null,null,null,null,null,{"$f":"'見積書 (2)'!Q50","v":""},null,{"$f":"'見積書 (2)'!R50","v":""},null,null,{"$f":"'見積書 (2)'!S50","v":""},null,null,null,{"$f":"'見積書 (2)'!T50","v":""},null,null,null,null,{"$f":"IF(Q107=\"\",\"\",'出来高内訳書 (第10回請求)'!AC107+'出来高内訳書 (第10回請求)'!AK107)","v":""},null,null,{"$f":"IF(T107=\"\",\"\",ROUND(T107*AC107,0))","v":""},null,null,null,null,null,null,null,{"$f":"IF(T107=\"\",\"\",ROUND(T107*AK107,0))","v":""},null,null,null,null,{"$f":"IF(Q107=\"\",\"\",ROUND(Q107-AC107-AK107,2))","v":""},null,null,{"$f":"IF(T107=\"\",\"\",(IF(AS107<0,\"出来高が契約を超過\",X107-AN107-AF107)))","v":""}]
[null,{"$f":"'見積書 (2)'!F51","v":""}]
[null,"小計",null,null,null,null,null,null,null,null,null,null,null,null,null,null,null,null,null,null,null,null,null,{"$f":"SUM(X79:AB108)","v":0},null,null,null,null,null,null,null,{"$f":"SUM(AF79:AJ108)","v":0},null,null,null,null,null,null,null,{"$f":"SUM(AN79:AR108)","v":0},null,null,null,null,null,null,null,{"$f":"X109-AF109-AN109","v":0}]
[]
[]
[]
[]
[null,"請求内訳書（出来高・分割納入用）",null,null,null,null,null,null,null,null,null,null,null,null,null,null,null,null,null,null,null,null,null,null,null,null,null,null,null,null,null,null,null,null,null,null,null,null,null,null,null,null,null,null,null,null,null,null,null,null,"No."]
[]
[]
[]
[]
[]
[]
[]
[]
[]
[null,"製造番号",null,null,null,null,{"$f":"Y22","v":""},null,null,null,null,null,null,null,null,null,null,null,null,null,null,null,null,"※科目"]
[]
[]
[null,"注文番号",null,null,null,null,{"$f":"Y25","v":""},null,null,null,null,null,null,null,null,"第",null,{"$f":"AJ23","v":11},null,"回請求"]
[]
[]
[]
[null,"工　種・品　名",null,null,null,null,null,null,null,null,null,null,null,null,"契　約　金　額",null,null,null,null,null,null,null,null,null,null,null,null,null,"前回までの出来高",null,null,null,null,null,null,null,"今回出来高",null,null,null,null,null,null,null,"残高",null,null,null,null,null,null,null,"備　考"]
[null,null,null,null,null,null,null,null,null,null,null,null,null,null,"単位",null,"数量",null,null,"単価",null,null,null,"金額",null,null,null,null,"数量",null,null,"金額",null,null,null,null,"数量",null,null,"金額",null,null,null,null,"数量",null,null,"金額"]
[27,{"$f":"'見積書 (2)'!F52","v":""},null,null,null,null,null,null,null,null,null,null,null,null,{"$f":"'見積書 (2)'!Q52","v":""},null,{"$f":"'見積書 (2)'!R52","v":""},null,null,{"$f":"'見積書 (2)'!S52","v":""},null,null,null,{"$f":"'見積書 (2)'!T52","v":""},null,null,null,null,{"$f":"IF(Q133=\"\",\"\",'出来高内訳書 (第10回請求)'!AC133+'出来高内訳書 (第10回請求)'!AK133)","v":""},null,null,{"$f":"IF(T133=\"\",\"\",ROUND(T133*AC133,0))","v":""},null,null,null,null,null,null,null,{"$f":"IF(T133=\"\",\"\",ROUND(T133*AK133,0))","v":""},null,null,null,null,{"$f":"IF(Q133=\"\",\"\",ROUND(Q133-AC133-AK133,2))","v":""},null,null,{"$f":"IF(T133=\"\",\"\",(IF(AS133<0,\"出来高が契約を超過\",X133-AN133-AF133)))","v":""}]
[null,{"$f":"'見積書 (2)'!F53","v":""}]
[28,{"$f":"'見積書 (2)'!F54","v":""},null,null,null,null,null,null,null,null,null,null,null,null,{"$f":"'見積書 (2)'!Q54","v":""},null,{"$f":"'見積書 (2)'!R54","v":""},null,null,{"$f":"'見積書 (2)'!S54","v":""},null,null,null,{"$f":"'見積書 (2)'!T54","v":""},null,null,null,null,{"$f":"IF(Q135=\"\",\"\",'出来高内訳書 (第10回請求)'!AC135+'出来高内訳書 (第10回請求)'!AK135)","v":""},null,null,{"$f":"IF(T135=\"\",\"\",ROUND(T135*AC135,0))","v":""},null,null,null,null,null,null,null,{"$f":"IF(T135=\"\",\"\",ROUND(T135*AK135,0))","v":""},null,null,null,null,{"$f":"IF(Q135=\"\",\"\",ROUND(Q135-AC135-AK135,2))","v":""},null,null,{"$f":"IF(T135=\"\",\"\",(IF(AS135<0,\"出来高が契約を超過\",X135-AN135-AF135)))","v":""}]
[null,{"$f":"'見積書 (2)'!F55","v":""}]
[29,{"$f":"'見積書 (2)'!F56","v":""},null,null,null,null,null,null,null,null,null,null,null,null,{"$f":"'見積書 (2)'!Q56","v":""},null,{"$f":"'見積書 (2)'!R56","v":""},null,null,{"$f":"'見積書 (2)'!S56","v":""},null,null,null,{"$f":"'見積書 (2)'!T56","v":""},null,null,null,null,{"$f":"IF(Q137=\"\",\"\",'出来高内訳書 (第10回請求)'!AC137+'出来高内訳書 (第10回請求)'!AK137)","v":""},null,null,{"$f":"IF(T137=\"\",\"\",ROUND(T137*AC137,0))","v":""},null,null,null,null,null,null,null,{"$f":"IF(T137=\"\",\"\",ROUND(T137*AK137,0))","v":""},null,null,null,null,{"$f":"IF(Q137=\"\",\"\",ROUND(Q137-AC137-AK137,2))","v":""},null,null,{"$f":"IF(T137=\"\",\"\",(IF(AS137<0,\"出来高が契約を超過\",X137-AN137-AF137)))","v":""}]
[null,{"$f":"'見積書 (2)'!F57","v":""}]
[30,{"$f":"'見積書 (2)'!F58","v":""},null,null,null,null,null,null,null,null,null,null,null,null,{"$f":"'見積書 (2)'!Q58","v":""},null,{"$f":"'見積書 (2)'!R58","v":""},null,null,{"$f":"'見積書 (2)'!S58","v":""},null,null,null,{"$f":"'見積書 (2)'!T58","v":""},null,null,null,null,{"$f":"IF(Q139=\"\",\"\",'出来高内訳書 (第10回請求)'!AC139+'出来高内訳書 (第10回請求)'!AK139)","v":""},null,null,{"$f":"IF(T139=\"\",\"\",ROUND(T139*AC139,0))","v":""},null,null,null,null,null,null,null,{"$f":"IF(T139=\"\",\"\",ROUND(T139*AK139,0))","v":""},null,null,null,null,{"$f":"IF(Q139=\"\",\"\",ROUND(Q139-AC139-AK139,2))","v":""},null,null,{"$f":"IF(T139=\"\",\"\",(IF(AS139<0,\"出来高が契約を超過\",X139-AN139-AF139)))","v":""}]
[null,{"$f":"'見積書 (2)'!F59","v":""}]
[31,{"$f":"'見積書 (2)'!F60","v":""},null,null,null,null,null,null,null,null,null,null,null,null,{"$f":"'見積書 (2)'!Q60","v":""},null,{"$f":"'見積書 (2)'!R60","v":""},null,null,{"$f":"'見積書 (2)'!S60","v":""},null,null,null,{"$f":"'見積書 (2)'!T60","v":""},null,null,null,null,{"$f":"IF(Q141=\"\",\"\",'出来高内訳書 (第10回請求)'!AC141+'出来高内訳書 (第10回請求)'!AK141)","v":""},null,null,{"$f":"IF(T141=\"\",\"\",ROUND(T141*AC141,0))","v":""},null,null,null,null,null,null,null,{"$f":"IF(T141=\"\",\"\",ROUND(T141*AK141,0))","v":""},null,null,null,null,{"$f":"IF(Q141=\"\",\"\",ROUND(Q141-AC141-AK141,2))","v":""},null,null,{"$f":"IF(T141=\"\",\"\",(IF(AS141<0,\"出来高が契約を超過\",X141-AN141-AF141)))","v":""}]
[null,{"$f":"'見積書 (2)'!F61","v":""}]
[32,{"$f":"'見積書 (2)'!F62","v":""},null,null,null,null,null,null,null,null,null,null,null,null,{"$f":"'見積書 (2)'!Q62","v":""},null,{"$f":"'見積書 (2)'!R62","v":""},null,null,{"$f":"'見積書 (2)'!S62","v":""},null,null,null,{"$f":"'見積書 (2)'!T62","v":""},null,null,null,null,{"$f":"IF(Q143=\"\",\"\",'出来高内訳書 (第10回請求)'!AC143+'出来高内訳書 (第10回請求)'!AK143)","v":""},null,null,{"$f":"IF(T143=\"\",\"\",ROUND(T143*AC143,0))","v":""},null,null,null,null,null,null,null,{"$f":"IF(T143=\"\",\"\",ROUND(T143*AK143,0))","v":""},null,null,null,null,{"$f":"IF(Q143=\"\",\"\",ROUND(Q143-AC143-AK143,2))","v":""},null,null,{"$f":"IF(T143=\"\",\"\",(IF(AS143<0,\"出来高が契約を超過\",X143-AN143-AF143)))","v":""}]
[null,{"$f":"'見積書 (2)'!F63","v":""}]
[33,{"$f":"'見積書 (2)'!F64","v":""},null,null,null,null,null,null,null,null,null,null,null,null,{"$f":"'見積書 (2)'!Q64","v":""},null,{"$f":"'見積書 (2)'!R64","v":""},null,null,{"$f":"'見積書 (2)'!S64","v":""},null,null,null,{"$f":"'見積書 (2)'!T64","v":""},null,null,null,null,{"$f":"IF(Q145=\"\",\"\",'出来高内訳書 (第10回請求)'!AC145+'出来高内訳書 (第10回請求)'!AK145)","v":""},null,null,{"$f":"IF(T145=\"\",\"\",ROUND(T145*AC145,0))","v":""},null,null,null,null,null,null,null,{"$f":"IF(T145=\"\",\"\",ROUND(T145*AK145,0))","v":""},null,null,null,null,{"$f":"IF(Q145=\"\",\"\",ROUND(Q145-AC145-AK145,2))","v":""},null,null,{"$f":"IF(T145=\"\",\"\",(IF(AS145<0,\"出来高が契約を超過\",X145-AN145-AF145)))","v":""}]
[null,{"$f":"'見積書 (2)'!F65","v":""}]
[34,{"$f":"'見積書 (2)'!F66","v":""},null,null,null,null,null,null,null,null,null,null,null,null,{"$f":"'見積書 (2)'!Q66","v":""},null,{"$f":"'見積書 (2)'!R66","v":""},null,null,{"$f":"'見積書 (2)'!S66","v":""},null,null,null,{"$f":"'見積書 (2)'!T66","v":""},null,null,null,null,{"$f":"IF(Q147=\"\",\"\",'出来高内訳書 (第10回請求)'!AC147+'出来高内訳書 (第10回請求)'!AK147)","v":""},null,null,{"$f":"IF(T147=\"\",\"\",ROUND(T147*AC147,0))","v":""},null,null,null,null,null,null,null,{"$f":"IF(T147=\"\",\"\",ROUND(T147*AK147,0))","v":""},null,null,null,null,{"$f":"IF(Q147=\"\",\"\",ROUND(Q147-AC147-AK147,2))","v":""},null,null,{"$f":"IF(T147=\"\",\"\",(IF(AS147<0,\"出来高が契約を超過\",X147-AN147-AF147)))","v":""}]
[null,{"$f":"'見積書 (2)'!F67","v":""}]
[35,{"$f":"'見積書 (2)'!F68","v":""},null,null,null,null,null,null,null,null,null,null,null,null,{"$f":"'見積書 (2)'!Q68","v":""},null,{"$f":"'見積書 (2)'!R68","v":""},null,null,{"$f":"'見積書 (2)'!S68","v":""},null,null,null,{"$f":"'見積書 (2)'!T68","v":""},null,null,null,null,{"$f":"IF(Q149=\"\",\"\",'出来高内訳書 (第10回請求)'!AC149+'出来高内訳書 (第10回請求)'!AK149)","v":""},null,null,{"$f":"IF(T149=\"\",\"\",ROUND(T149*AC149,0))","v":""},null,null,null,null,null,null,null,{"$f":"IF(T149=\"\",\"\",ROUND(T149*AK149,0))","v":""},null,null,null,null,{"$f":"IF(Q149=\"\",\"\",ROUND(Q149-AC149-AK149,2))","v":""},null,null,{"$f":"IF(T149=\"\",\"\",(IF(AS149<0,\"出来高が契約を超過\",X149-AN149-AF149)))","v":""}]
[null,{"$f":"'見積書 (2)'!F69","v":""}]
[36,{"$f":"'見積書 (3)'!F26","v":""},null,null,null,null,null,null,null,null,null,null,null,null,{"$f":"'見積書 (3)'!Q26","v":""},null,{"$f":"'見積書 (3)'!R26","v":""},null,null,{"$f":"'見積書 (3)'!S26","v":""},null,null,null,{"$f":"'見積書 (3)'!T26","v":""},null,null,null,null,{"$f":"IF(Q151=\"\",\"\",'出来高内訳書 (第10回請求)'!AC151+'出来高内訳書 (第10回請求)'!AK151)","v":""},null,null,{"$f":"IF(T151=\"\",\"\",ROUND(T151*AC151,0))","v":""},null,null,null,null,null,null,null,{"$f":"IF(T151=\"\",\"\",ROUND(T151*AK151,0))","v":""},null,null,null,null,{"$f":"IF(Q151=\"\",\"\",ROUND(Q151-AC151-AK151,2))","v":""},null,null,{"$f":"IF(T151=\"\",\"\",(IF(AS151<0,\"出来高が契約を超過\",X151-AN151-AF151)))","v":""}]
[null,{"$f":"'見積書 (3)'!F27","v":""}]
[37,{"$f":"'見積書 (3)'!F28","v":""},null,null,null,null,null,null,null,null,null,null,null,null,{"$f":"'見積書 (3)'!Q28","v":""},null,{"$f":"'見積書 (3)'!R28","v":""},null,null,{"$f":"'見積書 (3)'!S28","v":""},null,null,null,{"$f":"'見積書 (3)'!T28","v":""},null,null,null,null,{"$f":"IF(Q153=\"\",\"\",'出来高内訳書 (第10回請求)'!AC153+'出来高内訳書 (第10回請求)'!AK153)","v":""},null,null,{"$f":"IF(T153=\"\",\"\",ROUND(T153*AC153,0))","v":""},null,null,null,null,null,null,null,{"$f":"IF(T153=\"\",\"\",ROUND(T153*AK153,0))","v":""},null,null,null,null,{"$f":"IF(Q153=\"\",\"\",ROUND(Q153-AC153-AK153,2))","v":""},null,null,{"$f":"IF(T153=\"\",\"\",(IF(AS153<0,\"出来高が契約を超過\",X153-AN153-AF153)))","v":""}]
[null,{"$f":"'見積書 (3)'!F29","v":""}]
[38,{"$f":"'見積書 (3)'!F30","v":""},null,null,null,null,null,null,null,null,null,null,null,null,{"$f":"'見積書 (3)'!Q30","v":""},null,{"$f":"'見積書 (3)'!R30","v":""},null,null,{"$f":"'見積書 (3)'!S30","v":""},null,null,null,{"$f":"'見積書 (3)'!T30","v":""},null,null,null,null,{"$f":"IF(Q155=\"\",\"\",'出来高内訳書 (第10回請求)'!AC155+'出来高内訳書 (第10回請求)'!AK155)","v":""},null,null,{"$f":"IF(T155=\"\",\"\",ROUND(T155*AC155,0))","v":""},null,null,null,null,null,null,null,{"$f":"IF(T155=\"\",\"\",ROUND(T155*AK155,0))","v":""},null,null,null,null,{"$f":"IF(Q155=\"\",\"\",ROUND(Q155-AC155-AK155,2))","v":""},null,null,{"$f":"IF(T155=\"\",\"\",(IF(AS155<0,\"出来高が契約を超過\",X155-AN155-AF155)))","v":""}]
[null,{"$f":"'見積書 (3)'!F31","v":""}]
[39,{"$f":"'見積書 (3)'!F32","v":""},null,null,null,null,null,null,null,null,null,null,null,null,{"$f":"'見積書 (3)'!Q32","v":""},null,{"$f":"'見積書 (3)'!R32","v":""},null,null,{"$f":"'見積書 (3)'!S32","v":""},null,null,null,{"$f":"'見積書 (3)'!T32","v":""},null,null,null,null,{"$f":"IF(Q157=\"\",\"\",'出来高内訳書 (第10回請求)'!AC157+'出来高内訳書 (第10回請求)'!AK157)","v":""},null,null,{"$f":"IF(T157=\"\",\"\",ROUND(T157*AC157,0))","v":""},null,null,null,null,null,null,null,{"$f":"IF(T157=\"\",\"\",ROUND(T157*AK157,0))","v":""},null,null,null,null,{"$f":"IF(Q157=\"\",\"\",ROUND(Q157-AC157-AK157,2))","v":""},null,null,{"$f":"IF(T157=\"\",\"\",(IF(AS157<0,\"出来高が契約を超過\",X157-AN157-AF157)))","v":""}]
[null,{"$f":"'見積書 (3)'!F33","v":""}]
[40,{"$f":"'見積書 (3)'!F34","v":""},null,null,null,null,null,null,null,null,null,null,null,null,{"$f":"'見積書 (3)'!Q34","v":""},null,{"$f":"'見積書 (3)'!R34","v":""},null,null,{"$f":"'見積書 (3)'!S34","v":""},null,null,null,{"$f":"'見積書 (3)'!T34","v":""},null,null,null,null,{"$f":"IF(Q159=\"\",\"\",'出来高内訳書 (第10回請求)'!AC159+'出来高内訳書 (第10回請求)'!AK159)","v":""},null,null,{"$f":"IF(T159=\"\",\"\",ROUND(T159*AC159,0))","v":""},null,null,null,null,null,null,null,{"$f":"IF(T159=\"\",\"\",ROUND(T159*AK159,0))","v":""},null,null,null,null,{"$f":"IF(Q159=\"\",\"\",ROUND(Q159-AC159-AK159,2))","v":""},null,null,{"$f":"IF(T159=\"\",\"\",(IF(AS159<0,\"出来高が契約を超過\",X159-AN159-AF159)))","v":""}]
[null,{"$f":"'見積書 (3)'!F35","v":""}]
[41,{"$f":"'見積書 (3)'!F36","v":""},null,null,null,null,null,null,null,null,null,null,null,null,{"$f":"'見積書 (3)'!Q36","v":""},null,{"$f":"'見積書 (3)'!R36","v":""},null,null,{"$f":"'見積書 (3)'!S36","v":""},null,null,null,{"$f":"'見積書 (3)'!T36","v":""},null,null,null,null,{"$f":"IF(Q161=\"\",\"\",'出来高内訳書 (第10回請求)'!AC161+'出来高内訳書 (第10回請求)'!AK161)","v":""},null,null,{"$f":"IF(T161=\"\",\"\",ROUND(T161*AC161,0))","v":""},null,null,null,null,null,null,null,{"$f":"IF(T161=\"\",\"\",ROUND(T161*AK161,0))","v":""},null,null,null,null,{"$f":"IF(Q161=\"\",\"\",ROUND(Q161-AC161-AK161,2))","v":""},null,null,{"$f":"IF(T161=\"\",\"\",(IF(AS161<0,\"出来高が契約を超過\",X161-AN161-AF161)))","v":""}]
[null,{"$f":"'見積書 (3)'!F37","v":""}]
[null,"小計",null,null,null,null,null,null,null,null,null,null,null,null,null,null,null,null,null,null,null,null,null,{"$f":"SUM(X133:AB162)","v":0},null,null,null,null,null,null,null,{"$f":"SUM(AF133:AJ162)","v":0},null,null,null,null,null,null,null,{"$f":"SUM(AN133:AR162)","v":0},null,null,null,null,null,null,null,{"$f":"X163-AF163-AN163","v":0}]
[]
[]
[]
[]
[null,"請求内訳書（出来高・分割納入用）",null,null,null,null,null,null,null,null,null,null,null,null,null,null,null,null,null,null,null,null,null,null,null,null,null,null,null,null,null,null,null,null,null,null,null,null,null,null,null,null,null,null,null,null,null,null,null,null,"No."]
[]
[]
[]
[]
[]
[]
[]
[]
[]
[null,"製造番号",null,null,null,null,{"$f":"Y22","v":""},null,null,null,null,null,null,null,null,null,null,null,null,null,null,null,null,"※科目"]
[]
[]
[null,"注文番号",null,null,null,null,{"$f":"Y25","v":""},null,null,null,null,null,null,null,null,"第",null,{"$f":"AJ23","v":11},null,"回請求"]
[]
[]
[]
[null,"工　種・品　名",null,null,null,null,null,null,null,null,null,null,null,null,"契　約　金　額",null,null,null,null,null,null,null,null,null,null,null,null,null,"前回までの出来高",null,null,null,null,null,null,null,"今回出来高",null,null,null,null,null,null,null,"残高",null,null,null,null,null,null,null,"備　考"]
[null,null,null,null,null,null,null,null,null,null,null,null,null,null,"単位",null,"数量",null,null,"単価",null,null,null,"金額",null,null,null,null,"数量",null,null,"金額",null,null,null,null,"数量",null,null,"金額",null,null,null,null,"数量",null,null,"金額"]
[42,{"$f":"'見積書 (3)'!F38","v":""},null,null,null,null,null,null,null,null,null,null,null,null,{"$f":"'見積書 (3)'!Q38","v":""},null,{"$f":"'見積書 (3)'!R38","v":""},null,null,{"$f":"'見積書 (3)'!S38","v":""},null,null,null,{"$f":"'見積書 (3)'!T38","v":""},null,null,null,null,{"$f":"IF(Q187=\"\",\"\",'出来高内訳書 (第10回請求)'!AC187+'出来高内訳書 (第10回請求)'!AK187)","v":""},null,null,{"$f":"IF(T187=\"\",\"\",ROUND(T187*AC187,0))","v":""},null,null,null,null,null,null,null,{"$f":"IF(T187=\"\",\"\",ROUND(T187*AK187,0))","v":""},null,null,null,null,{"$f":"IF(Q187=\"\",\"\",ROUND(Q187-AC187-AK187,2))","v":""},null,null,{"$f":"IF(T187=\"\",\"\",(IF(AS187<0,\"出来高が契約を超過\",X187-AN187-AF187)))","v":""}]
[null,{"$f":"'見積書 (3)'!F39","v":""}]
[43,{"$f":"'見積書 (3)'!F40","v":""},null,null,null,null,null,null,null,null,null,null,null,null,{"$f":"'見積書 (3)'!Q40","v":""},null,{"$f":"'見積書 (3)'!R40","v":""},null,null,{"$f":"'見積書 (3)'!S40","v":""},null,null,null,{"$f":"'見積書 (3)'!T40","v":""},null,null,null,null,{"$f":"IF(Q189=\"\",\"\",'出来高内訳書 (第10回請求)'!AC189+'出来高内訳書 (第10回請求)'!AK189)","v":""},null,null,{"$f":"IF(T189=\"\",\"\",ROUND(T189*AC189,0))","v":""},null,null,null,null,null,null,null,{"$f":"IF(T189=\"\",\"\",ROUND(T189*AK189,0))","v":""},null,null,null,null,{"$f":"IF(Q189=\"\",\"\",ROUND(Q189-AC189-AK189,2))","v":""},null,null,{"$f":"IF(T189=\"\",\"\",(IF(AS189<0,\"出来高が契約を超過\",X189-AN189-AF189)))","v":""}]
[null,{"$f":"'見積書 (3)'!F41","v":""}]
[44,{"$f":"'見積書 (3)'!F42","v":""},null,null,null,null,null,null,null,null,null,null,null,null,{"$f":"'見積書 (3)'!Q42","v":""},null,{"$f":"'見積書 (3)'!R42","v":""},null,null,{"$f":"'見積書 (3)'!S42","v":""},null,null,null,{"$f":"'見積書 (3)'!T42","v":""},null,null,null,null,{"$f":"IF(Q191=\"\",\"\",'出来高内訳書 (第10回請求)'!AC191+'出来高内訳書 (第10回請求)'!AK191)","v":""},null,null,{"$f":"IF(T191=\"\",\"\",ROUND(T191*AC191,0))","v":""},null,null,null,null,null,null,null,{"$f":"IF(T191=\"\",\"\",ROUND(T191*AK191,0))","v":""},null,null,null,null,{"$f":"IF(Q191=\"\",\"\",ROUND(Q191-AC191-AK191,2))","v":""},null,null,{"$f":"IF(T191=\"\",\"\",(IF(AS191<0,\"出来高が契約を超過\",X191-AN191-AF191)))","v":""}]
[null,{"$f":"'見積書 (3)'!F43","v":""}]
[45,{"$f":"'見積書 (3)'!F44","v":""},null,null,null,null,null,null,null,null,null,null,null,null,{"$f":"'見積書 (3)'!Q44","v":""},null,{"$f":"'見積書 (3)'!R44","v":""},null,null,{"$f":"'見積書 (3)'!S44","v":""},null,null,null,{"$f":"'見積書 (3)'!T44","v":""},null,null,null,null,{"$f":"IF(Q193=\"\",\"\",'出来高内訳書 (第10回請求)'!AC193+'出来高内訳書 (第10回請求)'!AK193)","v":""},null,null,{"$f":"IF(T193=\"\",\"\",ROUND(T193*AC193,0))","v":""},null,null,null,null,null,null,null,{"$f":"IF(T193=\"\",\"\",ROUND(T193*AK193,0))","v":""},null,null,null,null,{"$f":"IF(Q193=\"\",\"\",ROUND(Q193-AC193-AK193,2))","v":""},null,null,{"$f":"IF(T193=\"\",\"\",(IF(AS193<0,\"出来高が契約を超過\",X193-AN193-AF193)))","v":""}]
[null,{"$f":"'見積書 (3)'!F45","v":""}]
[46,{"$f":"'見積書 (3)'!F46","v":""},null,null,null,null,null,null,null,null,null,null,null,null,{"$f":"'見積書 (3)'!Q46","v":""},null,{"$f":"'見積書 (3)'!R46","v":""},null,null,{"$f":"'見積書 (3)'!S46","v":""},null,null,null,{"$f":"'見積書 (3)'!T46","v":""},null,null,null,null,{"$f":"IF(Q195=\"\",\"\",'出来高内訳書 (第10回請求)'!AC195+'出来高内訳書 (第10回請求)'!AK195)","v":""},null,null,{"$f":"IF(T195=\"\",\"\",ROUND(T195*AC195,0))","v":""},null,null,null,null,null,null,null,{"$f":"IF(T195=\"\",\"\",ROUND(T195*AK195,0))","v":""},null,null,null,null,{"$f":"IF(Q195=\"\",\"\",ROUND(Q195-AC195-AK195,2))","v":""},null,null,{"$f":"IF(T195=\"\",\"\",(IF(AS195<0,\"出来高が契約を超過\",X195-AN195-AF195)))","v":""}]
[null,{"$f":"'見積書 (3)'!F47","v":""}]
[47,{"$f":"'見積書 (3)'!F48","v":""},null,null,null,null,null,null,null,null,null,null,null,null,{"$f":"'見積書 (3)'!Q48","v":""},null,{"$f":"'見積書 (3)'!R48","v":""},null,null,{"$f":"'見積書 (3)'!S48","v":""},null,null,null,{"$f":"'見積書 (3)'!T48","v":""},null,null,null,null,{"$f":"IF(Q197=\"\",\"\",'出来高内訳書 (第10回請求)'!AC197+'出来高内訳書 (第10回請求)'!AK197)","v":""},null,null,{"$f":"IF(T197=\"\",\"\",ROUND(T197*AC197,0))","v":""},null,null,null,null,null,null,null,{"$f":"IF(T197=\"\",\"\",ROUND(T197*AK197,0))","v":""},null,null,null,null,{"$f":"IF(Q197=\"\",\"\",ROUND(Q197-AC197-AK197,2))","v":""},null,null,{"$f":"IF(T197=\"\",\"\",(IF(AS197<0,\"出来高が契約を超過\",X197-AN197-AF197)))","v":""}]
[null,{"$f":"'見積書 (3)'!F49","v":""}]
[48,{"$f":"'見積書 (3)'!F50","v":""},null,null,null,null,null,null,null,null,null,null,null,null,{"$f":"'見積書 (3)'!Q50","v":""},null,{"$f":"'見積書 (3)'!R50","v":""},null,null,{"$f":"'見積書 (3)'!S50","v":""},null,null,null,{"$f":"'見積書 (3)'!T50","v":""},null,null,null,null,{"$f":"IF(Q199=\"\",\"\",'出来高内訳書 (第10回請求)'!AC199+'出来高内訳書 (第10回請求)'!AK199)","v":""},null,null,{"$f":"IF(T199=\"\",\"\",ROUND(T199*AC199,0))","v":""},null,null,null,null,null,null,null,{"$f":"IF(T199=\"\",\"\",ROUND(T199*AK199,0))","v":""},null,null,null,null,{"$f":"IF(Q199=\"\",\"\",ROUND(Q199-AC199-AK199,2))","v":""},null,null,{"$f":"IF(T199=\"\",\"\",(IF(AS199<0,\"出来高が契約を超過\",X199-AN199-AF199)))","v":""}]
[null,{"$f":"'見積書 (3)'!F51","v":""}]
[49,{"$f":"'見積書 (3)'!F52","v":""},null,null,null,null,null,null,null,null,null,null,null,null,{"$f":"'見積書 (3)'!Q52","v":""},null,{"$f":"'見積書 (3)'!R52","v":""},null,null,{"$f":"'見積書 (3)'!S52","v":""},null,null,null,{"$f":"'見積書 (3)'!T52","v":""},null,null,null,null,{"$f":"IF(Q201=\"\",\"\",'出来高内訳書 (第10回請求)'!AC201+'出来高内訳書 (第10回請求)'!AK201)","v":""},null,null,{"$f":"IF(T201=\"\",\"\",ROUND(T201*AC201,0))","v":""},null,null,null,null,null,null,null,{"$f":"IF(T201=\"\",\"\",ROUND(T201*AK201,0))","v":""},null,null,null,null,{"$f":"IF(Q201=\"\",\"\",ROUND(Q201-AC201-AK201,2))","v":""},null,null,{"$f":"IF(T201=\"\",\"\",(IF(AS201<0,\"出来高が契約を超過\",X201-AN201-AF201)))","v":""}]
[null,{"$f":"'見積書 (3)'!F53","v":""}]
[50,{"$f":"'見積書 (3)'!F54","v":""},null,null,null,null,null,null,null,null,null,null,null,null,{"$f":"'見積書 (3)'!Q54","v":""},null,{"$f":"'見積書 (3)'!R54","v":""},null,null,{"$f":"'見積書 (3)'!S54","v":""},null,null,null,{"$f":"'見積書 (3)'!T54","v":""},null,null,null,null,{"$f":"IF(Q203=\"\",\"\",'出来高内訳書 (第10回請求)'!AC203+'出来高内訳書 (第10回請求)'!AK203)","v":""},null,null,{"$f":"IF(T203=\"\",\"\",ROUND(T203*AC203,0))","v":""},null,null,null,null,null,null,null,{"$f":"IF(T203=\"\",\"\",ROUND(T203*AK203,0))","v":""},null,null,null,null,{"$f":"IF(Q203=\"\",\"\",ROUND(Q203-AC203-AK203,2))","v":""},null,null,{"$f":"IF(T203=\"\",\"\",(IF(AS203<0,\"出来高が契約を超過\",X203-AN203-AF203)))","v":""}]
[null,{"$f":"'見積書 (3)'!F55","v":""}]
[51,{"$f":"'見積書 (3)'!F56","v":""},null,null,null,null,null,null,null,null,null,null,null,null,{"$f":"'見積書 (3)'!Q56","v":""},null,{"$f":"'見積書 (3)'!R56","v":""},null,null,{"$f":"'見積書 (3)'!S56","v":""},null,null,null,{"$f":"'見積書 (3)'!T56","v":""},null,null,null,null,{"$f":"IF(Q205=\"\",\"\",'出来高内訳書 (第10回請求)'!AC205+'出来高内訳書 (第10回請求)'!AK205)","v":""},null,null,{"$f":"IF(T205=\"\",\"\",ROUND(T205*AC205,0))","v":""},null,null,null,null,null,null,null,{"$f":"IF(T205=\"\",\"\",ROUND(T205*AK205,0))","v":""},null,null,null,null,{"$f":"IF(Q205=\"\",\"\",ROUND(Q205-AC205-AK205,2))","v":""},null,null,{"$f":"IF(T205=\"\",\"\",(IF(AS205<0,\"出来高が契約を超過\",X205-AN205-AF205)))","v":""}]
[null,{"$f":"'見積書 (3)'!F57","v":""}]
[52,{"$f":"'見積書 (3)'!F58","v":""},null,null,null,null,null,null,null,null,null,null,null,null,{"$f":"'見積書 (3)'!Q58","v":""},null,{"$f":"'見積書 (3)'!R58","v":""},null,null,{"$f":"'見積書 (3)'!S58","v":""},null,null,null,{"$f":"'見積書 (3)'!T58","v":""},null,null,null,null,{"$f":"IF(Q207=\"\",\"\",'出来高内訳書 (第10回請求)'!AC207+'出来高内訳書 (第10回請求)'!AK207)","v":""},null,null,{"$f":"IF(T207=\"\",\"\",ROUND(T207*AC207,0))","v":""},null,null,null,null,null,null,null,{"$f":"IF(T207=\"\",\"\",ROUND(T207*AK207,0))","v":""},null,null,null,null,{"$f":"IF(Q207=\"\",\"\",ROUND(Q207-AC207-AK207,2))","v":""},null,null,{"$f":"IF(T207=\"\",\"\",(IF(AS207<0,\"出来高が契約を超過\",X207-AN207-AF207)))","v":""}]
[null,{"$f":"'見積書 (3)'!F59","v":""}]
[53,{"$f":"'見積書 (3)'!F60","v":""},null,null,null,null,null,null,null,null,null,null,null,null,{"$f":"'見積書 (3)'!Q60","v":""},null,{"$f":"'見積書 (3)'!R60","v":""},null,null,{"$f":"'見積書 (3)'!S60","v":""},null,null,null,{"$f":"'見積書 (3)'!T60","v":""},null,null,null,null,{"$f":"IF(Q209=\"\",\"\",'出来高内訳書 (第10回請求)'!AC209+'出来高内訳書 (第10回請求)'!AK209)","v":""},null,null,{"$f":"IF(T209=\"\",\"\",ROUND(T209*AC209,0))","v":""},null,null,null,null,null,null,null,{"$f":"IF(T209=\"\",\"\",ROUND(T209*AK209,0))","v":""},null,null,null,null,{"$f":"IF(Q209=\"\",\"\",ROUND(Q209-AC209-AK209,2))","v":""},null,null,{"$f":"IF(T209=\"\",\"\",(IF(AS209<0,\"出来高が契約を超過\",X209-AN209-AF209)))","v":""}]
[null,{"$f":"'見積書 (3)'!F61","v":""}]
[54,{"$f":"'見積書 (3)'!F62","v":""},null,null,null,null,null,null,null,null,null,null,null,null,{"$f":"'見積書 (3)'!Q62","v":""},null,{"$f":"'見積書 (3)'!R62","v":""},null,null,{"$f":"'見積書 (3)'!S62","v":""},null,null,null,{"$f":"'見積書 (3)'!T62","v":""},null,null,null,null,{"$f":"IF(Q211=\"\",\"\",'出来高内訳書 (第10回請求)'!AC211+'出来高内訳書 (第10回請求)'!AK211)","v":""},null,null,{"$f":"IF(T211=\"\",\"\",ROUND(T211*AC211,0))","v":""},null,null,null,null,null,null,null,{"$f":"IF(T211=\"\",\"\",ROUND(T211*AK211,0))","v":""},null,null,null,null,{"$f":"IF(Q211=\"\",\"\",ROUND(Q211-AC211-AK211,2))","v":""},null,null,{"$f":"IF(T211=\"\",\"\",(IF(AS211<0,\"出来高が契約を超過\",X211-AN211-AF211)))","v":""}]
[null,{"$f":"'見積書 (3)'!F63","v":""}]
[55,{"$f":"'見積書 (3)'!F64","v":""},null,null,null,null,null,null,null,null,null,null,null,null,{"$f":"'見積書 (3)'!Q64","v":""},null,{"$f":"'見積書 (3)'!R64","v":""},null,null,{"$f":"'見積書 (3)'!S64","v":""},null,null,null,{"$f":"'見積書 (3)'!T64","v":""},null,null,null,null,{"$f":"IF(Q213=\"\",\"\",'出来高内訳書 (第10回請求)'!AC213+'出来高内訳書 (第10回請求)'!AK213)","v":""},null,null,{"$f":"IF(T213=\"\",\"\",ROUND(T213*AC213,0))","v":""},null,null,null,null,null,null,null,{"$f":"IF(T213=\"\",\"\",ROUND(T213*AK213,0))","v":""},null,null,null,null,{"$f":"IF(Q213=\"\",\"\",ROUND(Q213-AC213-AK213,2))","v":""},null,null,{"$f":"IF(T213=\"\",\"\",(IF(AS213<0,\"出来高が契約を超過\",X213-AN213-AF213)))","v":""}]
[null,{"$f":"'見積書 (3)'!F65","v":""}]
[56,{"$f":"'見積書 (3)'!F66","v":""},null,null,null,null,null,null,null,null,null,null,null,null,{"$f":"'見積書 (3)'!Q66","v":""},null,{"$f":"'見積書 (3)'!R66","v":""},null,null,{"$f":"'見積書 (3)'!S66","v":""},null,null,null,{"$f":"'見積書 (3)'!T66","v":""},null,null,null,null,{"$f":"IF(Q215=\"\",\"\",'出来高内訳書 (第10回請求)'!AC215+'出来高内訳書 (第10回請求)'!AK215)","v":""},null,null,{"$f":"IF(T215=\"\",\"\",ROUND(T215*AC215,0))","v":""},null,null,null,null,null,null,null,{"$f":"IF(T215=\"\",\"\",ROUND(T215*AK215,0))","v":""},null,null,null,null,{"$f":"IF(Q215=\"\",\"\",ROUND(Q215-AC215-AK215,2))","v":""},null,null,{"$f":"IF(T215=\"\",\"\",(IF(AS215<0,\"出来高が契約を超過\",X215-AN215-AF215)))","v":""}]
[null,{"$f":"'見積書 (3)'!F67","v":""}]
[null,"小計",null,null,null,null,null,null,null,null,null,null,null,null,null,null,null,null,null,null,null,null,null,{"$f":"SUM(X187:AB216)","v":0},null,null,null,null,null,null,null,{"$f":"SUM(AF187:AJ216)","v":0},null,null,null,null,null,null,null,{"$f":"SUM(AN187:AR216)","v":0},null,null,null,null,null,null,null,{"$f":"X217-AF217-AN217","v":0}]
[]
[]
[]
[]
[null,"請求内訳書（出来高・分割納入用）",null,null,null,null,null,null,null,null,null,null,null,null,null,null,null,null,null,null,null,null,null,null,null,null,null,null,null,null,null,null,null,null,null,null,null,null,null,null,null,null,null,null,null,null,null,null,null,null,"No."]
[]
[]
[]
[]
[]
[]
[]
[]
[]
[null,"製造番号",null,null,null,null,{"$f":"Y22","v":""},null,null,null,null,null,null,null,null,null,null,null,null,null,null,null,null,"※科目"]
[]
[]
[null,"注文番号",null,null,null,null,{"$f":"Y25","v":""},null,null,null,null,null,null,null,null,"第",null,{"$f":"AJ23","v":11},null,"回請求"]
[]
[]
[]
[null,"工　種・品　名",null,null,null,null,null,null,null,null,null,null,null,null,"契　約　金　額",null,null,null,null,null,null,null,null,null,null,null,null,null,"前回までの出来高",null,null,null,null,null,null,null,"今回出来高",null,null,null,null,null,null,null,"残高",null,null,null,null,null,null,null,"備　考"]
[null,null,null,null,null,null,null,null,null,null,null,null,null,null,"単位",null,"数量",null,null,"単価",null,null,null,"金額",null,null,null,null,"数量",null,null,"金額",null,null,null,null,"数量",null,null,"金額",null,null,null,null,"数量",null,null,"金額"]
[57,{"$f":"'見積書 (3)'!F68","v":""},null,null,null,null,null,null,null,null,null,null,null,null,{"$f":"'見積書 (3)'!Q68","v":""},null,{"$f":"'見積書 (3)'!R68","v":""},null,null,{"$f":"'見積書 (3)'!S68","v":""},null,null,null,{"$f":"'見積書 (3)'!T68","v":""},null,null,null,null,{"$f":"IF(Q241=\"\",\"\",'出来高内訳書 (第10回請求)'!AC241+'出来高内訳書 (第10回請求)'!AK241)","v":""},null,null,{"$f":"IF(T241=\"\",\"\",ROUND(T241*AC241,0))","v":""},null,null,null,null,null,null,null,{"$f":"IF(T241=\"\",\"\",ROUND(T241*AK241,0))","v":""},null,null,null,null,{"$f":"IF(Q241=\"\",\"\",ROUND(Q241-AC241-AK241,2))","v":""},null,null,{"$f":"IF(T241=\"\",\"\",(IF(AS241<0,\"出来高が契約を超過\",X241-AN241-AF241)))","v":""}]
[null,{"$f":"'見積書 (3)'!F68","v":""}]
[]
[]
[]
[]
[]
[]
[]
[]
[]
[]
[]
[]
[]
[]
[null,"小計",null,null,null,null,null,null,null,null,null,null,null,null,null,null,null,null,null,null,null,null,null,{"$f":"SUM(X241:AB256)","v":0},null,null,null,null,null,null,null,{"$f":"SUM(AF241:AJ256)","v":0},null,null,null,null,null,null,null,{"$f":"SUM(AN241:AR256)","v":0},null,null,null,null,null,null,null,{"$f":"SUM(AV241:AZ256)","v":0}]

{"sheet":"出来高内訳書 (第12回請求)","index":19,"n_rows":257,"n_cols":53,"rows_kept":257,"cut":false,"hidden":false,"merged":[[240,0,241,0],[240,1,240,13],[240,14,241,15],[240,16,241,18],[240,19,241,22],[240,23,241,27],[240,28,241,30],[240,31,241,35],[240,36,241,38],[240,39,241,43],[240,44,241,46],[240,47,241,51],[240,52,241,54],[212,0,213,0],[212,14,213,15],[212,16,213,18],[212,19,213,22],[212,23,213,27],[212,28,213,30],[212,31,213,35],[212,36,213,38],[212,39,213,43],[212,44,213,46],[212,47,213,51],[212,52,213,54],[214,0,215,0],[214,14,215,15],[214,16,215,18],[214,19,215,22],[214,23,215,27],[214,28,215,30],[214,31,215,35],[214,52,215,54],[208,0,209,0],[208,14,209,15],[208,16,209,18],[208,19,209,22],[208,23,209,27],[208,28,209,30],[208,31,209,35],[208,36,209,38],[208,39,209,43],[208,44,209,46],[208,47,209,51],[208,52,209,54],[210,0,211,0],[210,14,211,15],[210,16,211,18],[210,19,211,22],[210,23,211,27],[210,28,211,30],[210,31,211,35],[210,36,211,38],[210,39,211,43],[210,44,211,46],[210,47,211,51],[210,52,211,54],[204,0,205,0],[204,14,205,15],[204,16,205,18],[204,19,205,22],[204,23,205,27],[204,28,205,30],[204,31,205,35],[204,36,205,38],[204,39,205,43],[204,44,205,46],[204,47,205,51],[204,52,205,54],[206,0,207,0],[206,14,207,15],[206,16,207,18],[206,19,207,22],[206,23,207,27],[206,28,207,30],[206,31,207,35],[206,36,207,38],[206,39,207,43],[206,44,207,46],[206,47,207,51],[206,52,207,54],[200,0,201,0],[200,1,200,13],[200,14,201,15],[200,16,201,18],[200,19,201,22],[200,23,201,27],[200,28,201,30],[200,31,201,35],[200,36,201,38],[200,39,201,43],[200,44,201,46],[200,47,201,51],[200,52,201,54],[202,0,203,0],[202,14,203,15],[202,16,203,18],[202,19,203,22],[202,23,203,27],[202,28,203,30],[202,31,203,35],[202,36,203,38],[202,39,203,43],[202,44,203,46],[202,47,203,51],[202,52,203,54],[196,0,197,0],[196,1,196,13],[196,14,197,15],[196,16,197,18],[196,19,197,22],[196,23,197,27],[196,28,197,30],[196,31,197,35],[196,36,197,38],[196,39,197,43],[196,44,197,46],[196,47,197,51],[196,52,197,54],[197,1,197,13],[198,0,199,0],[198,1,198,13],[198,14,199,15],[198,16,199,18],[198,19,199,22],[198,23,199,27],[198,28,199,30],[198,31,199,35],[198,36,199,38],[198,39,199,43],[198,44,199,46],[198,47,199,51],[198,52,199,54],[199,1,199,13],[192,0,193,0],[192,1,192,13],[192,14,193,15],[192,16,193,18],[192,19,193,22],[192,23,193,27],[192,28,193,30],[192,31,193,35],[192,36,193,38],[192,39,193,43],[192,44,193,46],[192,47,193,51],[192,52,193,54],[193,1,193,13],[194,0,195,0],[194,1,194,13],[194,14,195,15],[194,16,195,18],[194,19,195,22],[194,23,195,27],[194,28,195,30],[194,31,195,35],[194,36,195,38],[194,39,195,43],[194,44,195,46],[194,47,195,51],[194,52,195,54],[195,1,195,13],[188,0,189,0],[188,1,188,13],[188,14,189,15],[188,16,189,18],[188,19,189,22],[188,23,189,27],[188,28,189,30],[188,31,189,35],[188,36,189,38],[188,39,189,43],[188,44,189,46],[188,47,189,51],[188,52,189,54],[189,1,189,13],[190,0,191,0],[190,1,190,13],[190,14,191,15],[190,16,191,18],[190,19,191,22],[190,23,191,27],[190,28,191,30],[190,31,191,35],[190,36,191,38],[190,39,191,43],[190,44,191,46],[190,47,191,51],[190,52,191,54],[191,1,191,13],[160,0,161,0],[160,14,161,15],[160,16,161,18],[160,19,161,22],[160,23,161,27],[160,28,161,30],[160,31,161,35],[160,36,161,38],[160,39,161,43],[160,44,161,46],[160,47,161,51],[160,52,161,54],[186,0,187,0],[186,1,186,13],[186,14,187,15],[186,16,187,18],[186,19,187,22],[186,23,187,27],[186,28,187,30],[186,31,187,35],[186,36,187,38],[186,39,187,43],[186,44,187,46],[186,47,187,51],[186,52,187,54],[187,1,187,13],[160,1,160,13],[162,31,162,35],[162,36,162,38],[162,39,162,43],[162,44,162,46],[162,47,162,51],[156,0,157,0],[156,14,157,15],[156,16,157,18],[156,19,157,22],[156,23,157,27],[156,28,157,30],[156,31,157,35],[156,36,157,38],[156,39,157,43],[156,44,157,46],[156,47,157,51],[156,52,157,54],[158,0,159,0],[158,14,159,15],[158,16,159,18],[158,19,159,22],[158,23,159,27],[158,28,159,30],[158,31,159,35],[158,36,159,38],[158,39,159,43],[158,44,159,46],[158,47,159,51],[158,52,159,54],[156,1,156,13],[158,1,158,13],[157,1,157,13],[159,1,159,13],[152,0,153,0],[152,14,153,15],[152,16,153,18],[152,19,153,22],[152,23,153,27],[152,28,153,30],[152,31,153,35],[152,36,153,38],[152,39,153,43],[152,44,153,46],[152,47,153,51],[152,52,153,54],[154,0,155,0],[154,14,155,15],[154,16,155,18],[154,19,155,22],[154,23,155,27],[154,28,155,30],[154,31,155,35],[154,36,155,38],[154,39,155,43],[154,44,155,46],[154,47,155,51],[154,52,155,54],[155,1,155,13],[148,0,149,0],[148,14,149,15],[148,16,149,18],[148,19,149,22],[148,23,149,27],[148,28,149,30],[148,31,149,35],[148,36,149,38],[148,39,149,43],[148,44,149,46],[148,47,149,51],[148,52,149,54],[150,0,151,0],[150,14,151,15],[150,16,151,18],[150,19,151,22],[150,23,151,27],[150,28,151,30],[150,31,151,35],[150,36,151,38],[150,39,151,43],[150,44,151,46],[150,47,151,51],[150,52,151,54],[144,0,145,0],[144,1,144,13],[144,14,145,15],[144,16,145,18],[144,19,145,22],[144,23,145,27],[144,28,145,30],[144,31,145,35],[144,36,145,38],[144,39,145,43],[144,44,145,46],[144,47,145,51],[144,52,145,54],[145,1,145,13],[146,0,147,0],[146,1,146,13],[146,14,147,15],[146,16,147,18],[146,19,147,22],[146,23,147,27],[146,28,147,30],[146,31,147,35],[146,36,147,38],[146,39,147,43],[146,44,147,46],[146,47,147,51],[146,52,147,54],[140,0,141,0],[140,1,140,13],[140,14,141,15],[140,16,141,18],[140,19,141,22],[140,23,141,27],[140,28,141,30],[140,31,141,35],[140,36,141,38],[140,39,141,43],[140,44,141,46],[140,47,141,51],[140,52,141,54],[141,1,141,13],[142,0,143,0],[142,1,142,13],[142,14,143,15],[142,16,143,18],[142,19,143,22],[142,23,143,27],[142,28,143,30],[142,31,143,35],[142,36,143,38],[142,39,143,43],[142,44,143,46],[142,47,143,51],[142,52,143,54],[143,1,143,13],[136,0,137,0],[136,1,136,13],[136,14,137,15],[136,16,137,18],[136,19,137,22],[136,23,137,27],[136,28,137,30],[136,31,137,35],[136,36,137,38],[136,39,137,43],[136,44,137,46],[136,47,137,51],[136,52,137,54],[137,1,137,13],[138,0,139,0],[138,1,138,13],[138,14,139,15],[138,16,139,18],[138,19,139,22],[138,23,139,27],[138,28,139,30],[138,31,139,35],[138,36,139,38],[138,39,139,43],[138,44,139,46],[138,47,139,51],[138,52,139,54],[139,1,139,13],[132,0,133,0],[132,1,132,13],[132,14,133,15],[132,16,133,18],[132,19,133,22],[132,23,133,27],[132,28,133,30],[132,31,133,35],[132,36,133,38],[132,39,133,43],[132,44,133,46],[132,47,133,51],[132,52,133,54],[133,1,133,13],[134,0,135,0],[134,1,134,13],[134,14,135,15],[134,16,135,18],[134,19,135,22],[134,23,135,27],[134,28,135,30],[134,31,135,35],[134,36,135,38],[134,39,135,43],[134,44,135,46],[134,47,135,51],[134,52,135,54],[135,1,135,13],[104,0,105,0],[104,14,105,15],[104,16,105,18],[104,19,105,22],[104,23,105,27],[104,28,105,30],[104,31,105,35],[104,36,105,38],[104,39,105,43],[104,44,105,46],[104,47,105,51],[104,52,105,54],[106,0,107,0],[106,14,107,15],[106,16,107,18],[106,19,107,22],[106,23,107,27],[106,28,107,30],[106,31,107,35],[106,36,107,38],[106,39,107,43],[106,44,107,46],[106,47,107,51],[106,52,107,54],[100,0,101,0],[100,14,101,15],[100,16,101,18],[100,19,101,22],[100,23,101,27],[100,28,101,30],[100,31,101,35],[100,36,101,38],[100,39,101,43],[100,44,101,46],[100,47,101,51],[100,52,101,54],[102,0,103,0],[102,14,103,15],[102,16,103,18],[102,19,103,22],[102,23,103,27],[102,28,103,30],[102,31,103,35],[102,36,103,38],[102,39,103,43],[102,44,103,46],[102,47,103,51],[102,52,103,54],[96,0,97,0],[96,14,97,15],[96,16,97,18],[96,19,97,22],[96,23,97,27],[96,28,97,30],[96,31,97,35],[96,36,97,38],[96,39,97,43],[96,44,97,46],[96,47,97,51],[96,52,97,54],[98,0,99,0],[98,14,99,15],[98,16,99,18],[98,19,99,22],[98,23,99,27],[98,28,99,30],[98,31,99,35],[98,36,99,38],[98,39,99,43],[98,44,99,46],[98,47,99,51],[98,52,99,54],[92,0,93,0],[92,1,92,13],[92,14,93,15],[92,16,93,18],[92,19,93,22],[92,23,93,27],[92,28,93,30],[92,31,93,35],[92,36,93,38],[92,39,93,43],[92,44,93,46],[92,47,93,51],[92,52,93,54],[94,0,95,0],[94,14,95,15],[94,16,95,18],[94,19,95,22],[94,23,95,27],[94,28,95,30],[94,31,95,35],[94,36,95,38],[94,39,95,43],[94,44,95,46],[94,47,95,51],[94,52,95,54],[88,0,89,0],[88,1,88,13],[88,14,89,15],[88,16,89,18],[88,19,89,22],[88,23,89,27],[88,28,89,30],[88,31,89,35],[88,36,89,38],[88,39,89,43],[88,44,89,46],[88,47,89,51],[88,52,89,54],[89,1,89,13],[90,0,91,0],[90,1,90,13],[90,14,91,15],[90,16,91,18],[90,19,91,22],[90,23,91,27],[90,28,91,30],[90,31,91,35],[90,36,91,38],[90,39,91,43],[90,44,91,46],[90,47,91,51],[90,52,91,54],[91,1,91,13],[84,0,85,0],[84,1,84,13],[84,14,85,15],[84,16,85,18],[84,19,85,22],[84,23,85,27],[84,28,85,30],[84,31,85,35],[84,36,85,38],[84,39,85,43],[84,44,85,46],[84,47,85,51],[84,52,85,54],[85,1,85,13],[86,0,87,0],[86,1,86,13],[86,14,87,15],[86,16,87,18],[86,19,87,22],[86,23,87,27],[86,28,87,30],[86,31,87,35],[86,36,87,38],[86,39,87,43],[86,44,87,46],[86,47,87,51],[86,52,87,54],[87,1,87,13],[80,0,81,0],[80,1,80,13],[80,14,81,15],[80,16,81,18],[80,19,81,22],[80,23,81,27],[80,28,81,30],[80,31,81,35],[80,36,81,38],[80,39,81,43],[80,44,81,46],[80,47,81,51],[80,52,81,54],[81,1,81,13],[82,0,83,0],[82,1,82,13],[82,14,83,15],[82,16,83,18],[82,19,83,22],[82,23,83,27],[82,28,83,30],[82,31,83,35],[82,36,83,38],[82,39,83,43],[82,44,83,46],[82,47,83,51],[82,52,83,54],[83,1,83,13],[55,0,56,0],[55,14,56,15],[55,16,56,18],[55,19,56,22],[55,23,56,27],[55,28,56,30],[55,31,56,35],[55,36,56,38],[55,39,56,43],[55,44,56,46],[55,47,56,51],[55,52,56,54],[78,0,79,0],[78,1,78,13],[78,14,79,15],[78,16,79,18],[78,19,79,22],[78,23,79,27],[78,28,79,30],[78,31,79,35],[78,36,79,38],[78,39,79,43],[78,44,79,46],[78,47,79,51],[78,52,79,54],[79,1,79,13],[55,1,55,13],[57,31,57,35],[57,36,57,38],[57,39,57,43],[57,44,57,46],[57,47,57,51],[51,0,52,0],[51,14,52,15],[51,16,52,18],[51,19,52,22],[51,23,52,27],[51,28,52,30],[51,31,52,35],[51,36,52,38],[51,39,52,43],[51,44,52,46],[51,47,52,51],[51,52,52,54],[53,0,54,0],[53,14,54,15],[53,16,54,18],[53,19,54,22],[53,23,54,27],[53,28,54,30],[53,31,54,35],[53,36,54,38],[53,39,54,43],[53,44,54,46],[53,47,54,51],[53,52,54,54],[51,1,51,13],[53,1,53,13],[52,1,52,13],[54,1,54,13],[47,0,48,0],[47,14,48,15],[47,16,48,18],[47,19,48,22],[47,23,48,27],[47,28,48,30],[47,31,48,35],[47,36,48,38],[47,39,48,43],[47,44,48,46],[47,47,48,51],[47,52,48,54],[49,0,50,0],[49,14,50,15],[49,16,50,18],[49,19,50,22],[49,23,50,27],[49,28,50,30],[49,31,50,35],[49,36,50,38],[49,39,50,43],[49,44,50,46],[49,47,50,51],[49,52,50,54],[47,1,47,13],[49,1,49,13],[48,1,48,13],[50,1,50,13],[43,0,44,0],[43,1,43,13],[43,14,44,15],[43,16,44,18],[43,19,44,22],[43,23,44,27],[43,28,44,30],[43,31,44,35],[43,36,44,38],[43,39,44,43],[43,44,44,46],[43,47,44,51],[43,52,44,54],[44,1,44,13],[45,0,46,0],[45,1,45,13],[45,14,46,15],[45,16,46,18],[45,19,46,22],[45,23,46,27],[45,28,46,30],[45,31,46,35],[45,36,46,38],[45,39,46,43],[45,44,46,46],[45,47,46,51],[45,52,46,54],[46,1,46,13],[39,0,40,0],[39,1,39,13],[39,14,40,15],[39,16,40,18],[39,19,40,22],[39,23,40,27],[39,28,40,30],[39,31,40,35],[39,36,40,38],[39,39,40,43],[39,44,40,46],[39,47,40,51],[39,52,40,54],[40,1,40,13],[41,0,42,0],[41,1,41,13],[41,14,42,15],[41,16,42,18],[41,19,42,22],[41,23,42,27],[41,28,42,30],[41,31,42,35],[41,36,42,38],[41,39,42,43],[41,44,42,46],[41,47,42,51],[41,52,42,54],[42,1,42,13],[35,0,36,0],[35,1,35,13],[35,14,36,15],[35,16,36,18],[35,19,36,22],[35,23,36,27],[35,28,36,30],[35,31,36,35],[35,36,36,38],[35,39,36,43],[35,44,36,46],[35,47,36,51],[35,52,36,54],[36,1,36,13],[37,0,38,0],[37,1,37,13],[37,14,38,15],[37,16,38,18],[37,19,38,22],[37,23,38,27],[37,28,38,30],[37,31,38,35],[37,36,38,38],[37,39,38,43],[37,44,38,46],[37,47,38,51],[37,52,38,54],[38,1,38,13],[4,43,6,47],[4,48,6,54],[6,17,8,19],[11,1,12,14],[14,1,15,2],[14,3,15,8],[14,9,15,10],[14,11,15,17],[0,8,4,33],[0,50,2,50],[1,39,2,41],[1,42,2,43],[1,44,2,44],[1,45,2,45],[1,46,2,46],[1,47,2,47],[1,48,2,48],[4,37,6,42],[7,37,8,54],[9,37,18,54],[0,51,2,55],[22,33,24,34],[22,35,24,36],[22,37,24,40],[24,19,26,23],[24,24,26,31],[26,34,31,34],[26,35,28,40],[27,19,29,27],[27,28,29,31],[29,35,31,40],[17,1,21,5],[17,6,21,15],[21,19,23,23],[21,24,23,31],[22,1,31,1],[22,2,26,5],[22,6,26,15],[27,2,31,5],[27,6,31,15],[30,19,31,23],[33,52,34,54],[34,14,34,15],[34,16,34,18],[34,19,34,22],[34,23,34,27],[34,28,34,30],[34,31,34,35],[34,36,34,38],[34,39,34,43],[34,44,34,46],[30,24,31,27],[33,1,34,13],[33,14,33,27],[33,28,33,35],[33,36,33,43],[33,44,33,51],[34,47,34,51],[57,52,57,54],[57,1,57,13],[57,14,57,15],[57,16,57,18],[57,19,57,22],[57,23,57,27],[57,28,57,30],[56,1,56,13],[76,44,76,51],[76,52,77,54],[77,14,77,15],[77,16,77,18],[77,19,77,22],[77,23,77,27],[77,28,77,30],[77,31,77,35],[77,36,77,38],[77,39,77,43],[72,19,74,22],[72,24,74,29],[76,1,77,13],[76,14,76,27],[76,28,76,35],[76,36,76,43],[59,1,65,17],[59,50,61,50],[69,1,71,5],[69,6,71,13],[69,23,74,23],[69,24,71,29],[72,1,74,5],[72,6,74,13],[72,15,74,16],[72,17,74,18],[94,1,94,13],[77,44,77,46],[77,47,77,51],[93,1,93,13],[96,1,96,13],[95,1,95,13],[98,1,98,13],[97,1,97,13],[100,1,100,13],[99,1,99,13],[102,1,102,13],[101,1,101,13],[104,1,104,13],[103,1,103,13],[106,1,106,13],[105,1,105,13],[108,31,108,35],[108,36,108,38],[108,39,108,43],[108,44,108,46],[108,47,108,51],[108,52,108,54],[108,1,108,13],[108,14,108,15],[108,16,108,18],[108,19,108,22],[108,23,108,27],[108,28,108,30],[107,1,107,13],[130,44,130,51],[130,52,131,54],[131,14,131,15],[131,16,131,18],[131,19,131,22],[131,23,131,27],[131,28,131,30],[131,31,131,35],[131,36,131,38],[131,39,131,43],[126,19,128,22],[126,24,128,29],[130,1,131,13],[130,14,130,27],[130,28,130,35],[130,36,130,43],[113,1,119,17],[113,50,115,50],[123,1,125,5],[123,6,125,13],[123,23,128,23],[123,24,125,29],[126,1,128,5],[126,6,128,13],[126,15,128,16],[126,17,128,18],[148,1,148,13],[131,44,131,46],[131,47,131,51],[147,1,147,13],[150,1,150,13],[149,1,149,13],[152,1,152,13],[151,1,151,13],[154,1,154,13],[153,1,153,13],[162,52,162,54],[162,1,162,13],[162,14,162,15],[162,16,162,18],[162,19,162,22],[162,23,162,27],[162,28,162,30],[161,1,161,13],[184,44,184,51],[184,52,185,54],[185,14,185,15],[185,16,185,18],[185,19,185,22],[185,23,185,27],[185,28,185,30],[185,31,185,35],[185,36,185,38],[185,39,185,43],[180,19,182,22],[180,24,182,29],[184,1,185,13],[184,14,184,27],[184,28,184,35],[184,36,184,43],[167,1,173,17],[167,50,169,50],[177,1,179,5],[177,6,179,13],[177,23,182,23],[177,24,179,29],[180,1,182,5],[180,6,182,13],[180,15,182,16],[180,17,182,18],[202,1,202,13],[185,44,185,46],[185,47,185,51],[201,1,201,13],[204,1,204,13],[203,1,203,13],[206,1,206,13],[205,1,205,13],[208,1,208,13],[207,1,207,13],[210,1,210,13],[209,1,209,13],[212,1,212,13],[211,1,211,13],[214,1,214,13],[213,1,213,13],[214,36,215,38],[214,39,215,43],[214,44,215,46],[214,47,215,51],[216,31,216,35],[216,36,216,38],[216,39,216,43],[216,44,216,46],[216,47,216,51],[216,52,216,54],[216,1,216,13],[216,14,216,15],[216,16,216,18],[216,19,216,22],[216,23,216,27],[216,28,216,30],[215,1,215,13],[238,44,238,51],[238,52,239,54],[239,14,239,15],[239,16,239,18],[239,19,239,22],[239,23,239,27],[239,28,239,30],[239,31,239,35],[239,36,239,38],[239,39,239,43],[234,19,236,22],[234,24,236,29],[238,1,239,13]],"merged_total":1200,"flags":["merged_cut"]}
[null,null,null,null,null,null,null,null,"請 求 書（出来高・分割納入用）",null,null,null,null,null,null,null,null,null,null,null,null,null,null,null,null,null,null,null,null,null,null,null,null,null,null,null,null,null,null,null,null,null,null,null,null,null,null,null,null,null,"No."]
[null,null,null,null,null,null,null,null,null,null,null,null,null,null,null,null,null,null,null,null,null,null,null,null,null,null,null,null,null,null,null,null,null,null,null,null,null,null,null,"日付",null,null,null,null,"年",null,"月",null,"日"]
[]
[]
[null,null,null,null,null,null,null,null,null,null,null,null,null,null,null,null,null,null,null,null,null,null,null,null,null,null,null,null,null,null,null,null,null,null,null,null,null,"請求者住所･氏名･印･電話",null,null,null,null,null,"取引先コード",null,null,null,null,{"$f":"入力フォーム!B3","v":0}]
[]
[null,null,null,null,null,null,null,null,null,null,null,null,null,null,null,null,null,"御中"]
[null,null,null,null,null,null,null,null,null,null,null,null,null,null,null,null,null,null,null,null,null,null,null,null,null,null,null,null,null,null,null,null,null,null,null,null,null,{"$f":"\"登録番号\"&\" \"&入力フォーム!B4","v":"登録番号 "}]
[]
[]
[]
[null,"下記の通り請求いたします。"]
[]
[]
[null,null,null,"月分請求内訳書",null,null,null,null,null,null,null,"枚 (本用紙を含む)"]
[]
[]
[null,"請 求 金 額",null,null,null,null,{"$f":"SUM(G23:P32)","v":0}]
[]
[]
[]
[null,null,null,null,null,null,null,null,null,null,null,null,null,null,null,null,null,null,null,"製造番号",null,null,null,null,{"$f":"見積書!$B$47","v":""}]
[null,"内　訳","税抜金額",null,null,null,{"$f":"AN58+AN109+AN163+AN217+AN257","v":0},null,null,null,null,null,null,null,null,null,null,null,null,null,null,null,null,null,null,null,null,null,null,null,null,null,null,"第",null,12,null,"回請求"]
[]
[null,null,null,null,null,null,null,null,null,null,null,null,null,null,null,null,null,null,null,"注文番号",null,null,null,null,{"$f":"IF('出来高内訳書 (第1回請求)'!Y25=\"\",\"\",'出来高内訳書 (第1回請求)'!Y25)","v":""}]
[]
[null,null,null,null,null,null,null,null,null,null,null,null,null,null,null,null,null,null,null,null,null,null,null,null,null,null,null,null,null,null,null,null,null,null,"※科目"]
[null,null,"消費税額等",null,null,null,{"$f":"IF(AC28=\"10％\",ROUNDDOWN(G23*10%,0),IF(AC28=\"(軽)8%\",ROUNDDOWN(G23*8%,0),0))","v":0},null,null,null,null,null,null,null,null,null,null,null,null,"消費税率",null,null,null,null,null,null,null,null,{"$f":"入力フォーム!B10","v":"10％"}]
[]
[]
[]
[]
[]
[null,"工　種・品　名",null,null,null,null,null,null,null,null,null,null,null,null,"契　約　金　額",null,null,null,null,null,null,null,null,null,null,null,null,null,"前回までの出来高",null,null,null,null,null,null,null,"今回出来高",null,null,null,null,null,null,null,"残高",null,null,null,null,null,null,null,"備　考"]
[null,null,null,null,null,null,null,null,null,null,null,null,null,null,"単位",null,"数量",null,null,"単価",null,null,null,"金額",null,null,null,null,"数量",null,null,"金額",null,null,null,null,"数量",null,null,"金額",null,null,null,null,"数量",null,null,"金額"]
[1,{"$f":"見積書!F61","v":""},null,null,null,null,null,null,null,null,null,null,null,null,{"$f":"見積書!Q61","v":""},null,{"$f":"見積書!R61","v":""},null,null,{"$f":"見積書!S61","v":""},null,null,null,{"$f":"見積書!T61","v":""},null,null,null,null,{"$f":"IF(Q36=\"\",\"\",'出来高内訳書 (第11回請求)'!AC36+'出来高内訳書 (第11回請求)'!AK36)","v":""},null,null,{"$f":"IF(T36=\"\",\"\",ROUND(T36*AC36,0))","v":""},null,null,null,null,null,null,null,{"$f":"IF(T36=\"\",\"\",ROUND(T36*AK36,0))","v":""},null,null,null,null,{"$f":"IF(Q36=\"\",\"\",ROUND(Q36-AC36-AK36,2))","v":""},null,null,{"$f":"IF(T36=\"\",\"\",(IF(AS36<0,\"出来高が契約を超過\",X36-AN36-AF36)))","v":""}]
[null,{"$f":"見積書!F62","v":""}]
[2,{"$f":"見積書!F63","v":""},null,null,null,null,null,null,null,null,null,null,null,null,{"$f":"見積書!Q63","v":""},null,{"$f":"見積書!R63","v":""},null,null,{"$f":"見積書!S63","v":""},null,null,null,{"$f":"見積書!T63","v":""},null,null,null,null,{"$f":"IF(Q38=\"\",\"\",'出来高内訳書 (第11回請求)'!AC38+'出来高内訳書 (第11回請求)'!AK38)","v":""},null,null,{"$f":"IF(T38=\"\",\"\",ROUND(T38*AC38,0))","v":""},null,null,null,null,null,null,null,{"$f":"IF(T38=\"\",\"\",ROUND(T38*AK38,0))","v":""},null,null,null,null,{"$f":"IF(Q38=\"\",\"\",ROUND(Q38-AC38-AK38,2))","v":""},null,null,{"$f":"IF(T38=\"\",\"\",(IF(AS38<0,\"出来高が契約を超過\",X38-AN38-AF38)))","v":""}]
[null,{"$f":"見積書!F64","v":""}]
[3,{"$f":"見積書!F65","v":""},null,null,null,null,null,null,null,null,null,null,null,null,{"$f":"見積書!Q65","v":""},null,{"$f":"見積書!R65","v":""},null,null,{"$f":"見積書!S65","v":""},null,null,null,{"$f":"見積書!T65","v":""},null,null,null,null,{"$f":"IF(Q40=\"\",\"\",'出来高内訳書 (第11回請求)'!AC40+'出来高内訳書 (第11回請求)'!AK40)","v":""},null,null,{"$f":"IF(T40=\"\",\"\",ROUND(T40*AC40,0))","v":""},null,null,null,null,null,null,null,{"$f":"IF(T40=\"\",\"\",ROUND(T40*AK40,0))","v":""},null,null,null,null,{"$f":"IF(Q40=\"\",\"\",ROUND(Q40-AC40-AK40,2))","v":""},null,null,{"$f":"IF(T40=\"\",\"\",(IF(AS40<0,\"出来高が契約を超過\",X40-AN40-AF40)))","v":""}]
[null,{"$f":"見積書!F66","v":""}]
[4,{"$f":"見積書!F67","v":""},null,null,null,null,null,null,null,null,null,null,null,null,{"$f":"見積書!Q67","v":""},null,{"$f":"見積書!R67","v":""},null,null,{"$f":"見積書!S67","v":""},null,null,null,{"$f":"見積書!T67","v":""},null,null,null,null,{"$f":"IF(Q42=\"\",\"\",'出来高内訳書 (第11回請求)'!AC42+'出来高内訳書 (第11回請求)'!AK42)","v":""},null,null,{"$f":"IF(T42=\"\",\"\",ROUND(T42*AC42,0))","v":""},null,null,null,null,null,null,null,{"$f":"IF(T42=\"\",\"\",ROUND(T42*AK42,0))","v":""},null,null,null,null,{"$f":"IF(Q42=\"\",\"\",ROUND(Q42-AC42-AK42,2))","v":""},null,null,{"$f":"IF(T42=\"\",\"\",(IF(AS42<0,\"出来高が契約を超過\",X42-AN42-AF42)))","v":""}]
[null,{"$f":"見積書!F68","v":""}]
[5,{"$f":"見積書!F69","v":""},null,null,null,null,null,null,null,null,null,null,null,null,{"$f":"見積書!Q69","v":""},null,{"$f":"見積書!R69","v":""},null,null,{"$f":"見積書!S69","v":""},null,null,null,{"$f":"見積書!T69","v":""},null,null,null,null,{"$f":"IF(Q44=\"\",\"\",'出来高内訳書 (第11回請求)'!AC44+'出来高内訳書 (第11回請求)'!AK44)","v":""},null,null,{"$f":"IF(T44=\"\",\"\",ROUND(T44*AC44,0))","v":""},null,null,null,null,null,null,null,{"$f":"IF(T44=\"\",\"\",ROUND(T44*AK44,0))","v":""},null,null,null,null,{"$f":"IF(Q44=\"\",\"\",ROUND(Q44-AC44-AK44,2))","v":""},null,null,{"$f":"IF(T44=\"\",\"\",(IF(AS44<0,\"出来高が契約を超過\",X44-AN44-AF44)))","v":""}]
[null,{"$f":"見積書!F70","v":""}]
[6,{"$f":"見積書!F71","v":""},null,null,null,null,null,null,null,null,null,null,null,null,{"$f":"見積書!Q71","v":""},null,{"$f":"見積書!R71","v":""},null,null,{"$f":"見積書!S71","v":""},null,null,null,{"$f":"見積書!T71","v":""},null,null,null,null,{"$f":"IF(Q46=\"\",\"\",'出来高内訳書 (第11回請求)'!AC46+'出来高内訳書 (第11回請求)'!AK46)","v":""},null,null,{"$f":"IF(T46=\"\",\"\",ROUND(T46*AC46,0))","v":""},null,null,null,null,null,null,null,{"$f":"IF(T46=\"\",\"\",ROUND(T46*AK46,0))","v":""},null,null,null,null,{"$f":"IF(Q46=\"\",\"\",ROUND(Q46-AC46-AK46,2))","v":""},null,null,{"$f":"IF(T46=\"\",\"\",(IF(AS46<0,\"出来高が契約を超過\",X46-AN46-AF46)))","v":""}]
[null,{"$f":"見積書!F72","v":""}]
[7,{"$f":"見積書!F73","v":""},null,null,null,null,null,null,null,null,null,null,null,null,{"$f":"見積書!Q73","v":""},null,{"$f":"見積書!R73","v":""},null,null,{"$f":"見積書!S73","v":""},null,null,null,{"$f":"見積書!T73","v":""},null,null,null,null,{"$f":"IF(Q48=\"\",\"\",'出来高内訳書 (第11回請求)'!AC48+'出来高内訳書 (第11回請求)'!AK48)","v":""},null,null,{"$f":"IF(T48=\"\",\"\",ROUND(T48*AC48,0))","v":""},null,null,null,null,null,null,null,{"$f":"IF(T48=\"\",\"\",ROUND(T48*AK48,0))","v":""},null,null,null,null,{"$f":"IF(Q48=\"\",\"\",ROUND(Q48-AC48-AK48,2))","v":""},null,null,{"$f":"IF(T48=\"\",\"\",(IF(AS48<0,\"出来高が契約を超過\",X48-AN48-AF48)))","v":""}]
[null,{"$f":"見積書!F74","v":""}]
[8,{"$f":"見積書!F75","v":""},null,null,null,null,null,null,null,null,null,null,null,null,{"$f":"見積書!Q75","v":""},null,{"$f":"見積書!R75","v":""},null,null,{"$f":"見積書!S75","v":""},null,null,null,{"$f":"見積書!T75","v":""},null,null,null,null,{"$f":"IF(Q50=\"\",\"\",'出来高内訳書 (第11回請求)'!AC50+'出来高内訳書 (第11回請求)'!AK50)","v":""},null,null,{"$f":"IF(T50=\"\",\"\",ROUND(T50*AC50,0))","v":""},null,null,null,null,null,null,null,{"$f":"IF(T50=\"\",\"\",ROUND(T50*AK50,0))","v":""},null,null,null,null,{"$f":"IF(Q50=\"\",\"\",ROUND(Q50-AC50-AK50,2))","v":""},null,null,{"$f":"IF(T50=\"\",\"\",(IF(AS50<0,\"出来高が契約を超過\",X50-AN50-AF50)))","v":""}]
[null,{"$f":"見積書!F76","v":""}]
[9,{"$f":"見積書!F77","v":""},null,null,null,null,null,null,null,null,null,null,null,null,{"$f":"見積書!Q77","v":""},null,{"$f":"見積書!R77","v":""},null,null,{"$f":"見積書!S77","v":""},null,null,null,{"$f":"見積書!T77","v":""},null,null,null,null,{"$f":"IF(Q52=\"\",\"\",'出来高内訳書 (第11回請求)'!AC52+'出来高内訳書 (第11回請求)'!AK52)","v":""},null,null,{"$f":"IF(T52=\"\",\"\",ROUND(T52*AC52,0))","v":""},null,null,null,null,null,null,null,{"$f":"IF(T52=\"\",\"\",ROUND(T52*AK52,0))","v":""},null,null,null,null,{"$f":"IF(Q52=\"\",\"\",ROUND(Q52-AC52-AK52,2))","v":""},null,null,{"$f":"IF(T52=\"\",\"\",(IF(AS52<0,\"出来高が契約を超過\",X52-AN52-AF52)))","v":""}]
[null,{"$f":"見積書!F78","v":""}]
[10,{"$f":"見積書!F79","v":""},null,null,null,null,null,null,null,null,null,null,null,null,{"$f":"見積書!Q79","v":""},null,{"$f":"見積書!R79","v":""},null,null,{"$f":"見積書!S79","v":""},null,null,null,{"$f":"見積書!T79","v":""},null,null,null,null,{"$f":"IF(Q54=\"\",\"\",'出来高内訳書 (第11回請求)'!AC54+'出来高内訳書 (第11回請求)'!AK54)","v":""},null,null,{"$f":"IF(T54=\"\",\"\",ROUND(T54*AC54,0))","v":""},null,null,null,null,null,null,null,{"$f":"IF(T54=\"\",\"\",ROUND(T54*AK54,0))","v":""},null,null,null,null,{"$f":"IF(Q54=\"\",\"\",ROUND(Q54-AC54-AK54,2))","v":""},null,null,{"$f":"IF(T54=\"\",\"\",(IF(AS54<0,\"出来高が契約を超過\",X54-AN54-AF54)))","v":""}]
[null,{"$f":"見積書!F80","v":""}]
[11,{"$f":"見積書!F81","v":""},null,null,null,null,null,null,null,null,null,null,null,null,{"$f":"見積書!Q81","v":""},null,{"$f":"見積書!R81","v":""},null,null,{"$f":"見積書!S81","v":""},null,null,null,{"$f":"見積書!T81","v":""},null,null,null,null,{"$f":"IF(Q56=\"\",\"\",'出来高内訳書 (第11回請求)'!AC56+'出来高内訳書 (第11回請求)'!AK56)","v":""},null,null,{"$f":"IF(T56=\"\",\"\",ROUND(T56*AC56,0))","v":""},null,null,null,null,null,null,null,{"$f":"IF(T56=\"\",\"\",ROUND(T56*AK56,0))","v":""},null,null,null,null,{"$f":"IF(Q56=\"\",\"\",ROUND(Q56-AC56-AK56,2))","v":""},null,null,{"$f":"IF(T56=\"\",\"\",(IF(AS56<0,\"出来高が契約を超過\",X56-AN56-AF56)))","v":""}]
[null,{"$f":"見積書!F82","v":""}]
[null,"小計",null,null,null,null,null,null,null,null,null,null,null,null,null,null,null,null,null,null,null,null,null,{"$f":"SUM(X36:AB57)","v":0},null,null,null,null,null,null,null,{"$f":"SUM(AF36:AJ57)","v":0},null,null,null,null,null,null,null,{"$f":"SUM(AN36:AR57)","v":0},null,null,null,null,null,null,null,{"$f":"X58-AF58-AN58","v":0}]
[]
[null,"請求内訳書（出来高・分割納入用）",null,null,null,null,null,null,null,null,null,null,null,null,null,null,null,null,null,null,null,null,null,null,null,null,null,null,null,null,null,null,null,null,null,null,null,null,null,null,null,null,null,null,null,null,null,null,null,null,"No."]
[]
[]
[]
[]
[]
[]
[]
[]
[]
[null,"製造番号",null,null,null,null,{"$f":"Y22","v":""},null,null,null,null,null,null,null,null,null,null,null,null,null,null,null,null,"※科目"]
[]
[]
[null,"注文番号",null,null,null,null,{"$f":"Y25","v":""},null,null,null,null,null,null,null,null,"第",null,{"$f":"AJ23","v":12},null,"回請求"]
[]
[]
[]
[null,"工　種・品　名",null,null,null,null,null,null,null,null,null,null,null,null,"契　約　金　額",null,null,null,null,null,null,null,null,null,null,null,null,null,"前回までの出来高",null,null,null,null,null,null,null,"今回出来高",null,null,null,null,null,null,null,"残高",null,null,null,null,null,null,null,"備　考"]
[null,null,null,null,null,null,null,null,null,null,null,null,null,null,"単位",null,"数量",null,null,"単価",null,null,null,"金額",null,null,null,null,"数量",null,null,"金額",null,null,null,null,"数量",null,null,"金額",null,null,null,null,"数量",null,null,"金額"]
[12,{"$f":"見積書!F83","v":""},null,null,null,null,null,null,null,null,null,null,null,null,{"$f":"見積書!Q83","v":""},null,{"$f":"見積書!R83","v":""},null,null,{"$f":"見積書!S83","v":""},null,null,null,{"$f":"見積書!T83","v":""},null,null,null,null,{"$f":"IF(Q79=\"\",\"\",'出来高内訳書 (第11回請求)'!AC79+'出来高内訳書 (第11回請求)'!AK79)","v":""},null,null,{"$f":"IF(T79=\"\",\"\",ROUND(T79*AC79,0))","v":""},null,null,null,null,null,null,null,{"$f":"IF(T79=\"\",\"\",ROUND(T79*AK79,0))","v":""},null,null,null,null,{"$f":"IF(Q79=\"\",\"\",ROUND(Q79-AC79-AK79,2))","v":""},null,null,{"$f":"IF(T79=\"\",\"\",(IF(AS79<0,\"出来高が契約を超過\",X79-AN79-AF79)))","v":""}]
[null,{"$f":"見積書!F84","v":""}]
[13,{"$f":"見積書!F85","v":""},null,null,null,null,null,null,null,null,null,null,null,null,{"$f":"見積書!Q85","v":""},null,{"$f":"見積書!R85","v":""},null,null,{"$f":"見積書!S85","v":""},null,null,null,{"$f":"見積書!T85","v":""},null,null,null,null,{"$f":"IF(Q81=\"\",\"\",'出来高内訳書 (第11回請求)'!AC81+'出来高内訳書 (第11回請求)'!AK81)","v":""},null,null,{"$f":"IF(T81=\"\",\"\",ROUND(T81*AC81,0))","v":""},null,null,null,null,null,null,null,{"$f":"IF(T81=\"\",\"\",ROUND(T81*AK81,0))","v":""},null,null,null,null,{"$f":"IF(Q81=\"\",\"\",ROUND(Q81-AC81-AK81,2))","v":""},null,null,{"$f":"IF(T81=\"\",\"\",(IF(AS81<0,\"出来高が契約を超過\",X81-AN81-AF81)))","v":""}]
[null,{"$f":"見積書!F86","v":""}]
[14,{"$f":"'見積書 (2)'!F26","v":""},null,null,null,null,null,null,null,null,null,null,null,null,{"$f":"'見積書 (2)'!Q26","v":""},null,{"$f":"'見積書 (2)'!R26","v":""},null,null,{"$f":"'見積書 (2)'!S26","v":""},null,null,null,{"$f":"'見積書 (2)'!T26","v":""},null,null,null,null,{"$f":"IF(Q83=\"\",\"\",'出来高内訳書 (第11回請求)'!AC83+'出来高内訳書 (第11回請求)'!AK83)","v":""},null,null,{"$f":"IF(T83=\"\",\"\",ROUND(T83*AC83,0))","v":""},null,null,null,null,null,null,null,{"$f":"IF(T83=\"\",\"\",ROUND(T83*AK83,0))","v":""},null,null,null,null,{"$f":"IF(Q83=\"\",\"\",ROUND(Q83-AC83-AK83,2))","v":""},null,null,{"$f":"IF(T83=\"\",\"\",(IF(AS83<0,\"出来高が契約を超過\",X83-AN83-AF83)))","v":""}]
[null,{"$f":"'見積書 (2)'!F27","v":""}]
[15,{"$f":"'見積書 (2)'!F28","v":""},null,null,null,null,null,null,null,null,null,null,null,null,{"$f":"'見積書 (2)'!Q28","v":""},null,{"$f":"'見積書 (2)'!R28","v":""},null,null,{"$f":"'見積書 (2)'!S28","v":""},null,null,null,{"$f":"'見積書 (2)'!T28","v":""},null,null,null,null,{"$f":"IF(Q85=\"\",\"\",'出来高内訳書 (第11回請求)'!AC85+'出来高内訳書 (第11回請求)'!AK85)","v":""},null,null,{"$f":"IF(T85=\"\",\"\",ROUND(T85*AC85,0))","v":""},null,null,null,null,null,null,null,{"$f":"IF(T85=\"\",\"\",ROUND(T85*AK85,0))","v":""},null,null,null,null,{"$f":"IF(Q85=\"\",\"\",ROUND(Q85-AC85-AK85,2))","v":""},null,null,{"$f":"IF(T85=\"\",\"\",(IF(AS85<0,\"出来高が契約を超過\",X85-AN85-AF85)))","v":""}]
[null,{"$f":"'見積書 (2)'!F29","v":""}]
[16,{"$f":"'見積書 (2)'!F30","v":""},null,null,null,null,null,null,null,null,null,null,null,null,{"$f":"'見積書 (2)'!Q30","v":""},null,{"$f":"'見積書 (2)'!R30","v":""},null,null,{"$f":"'見積書 (2)'!S30","v":""},null,null,null,{"$f":"'見積書 (2)'!T30","v":""},null,null,null,null,{"$f":"IF(Q87=\"\",\"\",'出来高内訳書 (第11回請求)'!AC87+'出来高内訳書 (第11回請求)'!AK87)","v":""},null,null,{"$f":"IF(T87=\"\",\"\",ROUND(T87*AC87,0))","v":""},null,null,null,null,null,null,null,{"$f":"IF(T87=\"\",\"\",ROUND(T87*AK87,0))","v":""},null,null,null,null,{"$f":"IF(Q87=\"\",\"\",ROUND(Q87-AC87-AK87,2))","v":""},null,null,{"$f":"IF(T87=\"\",\"\",(IF(AS87<0,\"出来高が契約を超過\",X87-AN87-AF87)))","v":""}]
[null,{"$f":"'見積書 (2)'!F31","v":""}]
[17,{"$f":"'見積書 (2)'!F32","v":""},null,null,null,null,null,null,null,null,null,null,null,null,{"$f":"'見積書 (2)'!Q32","v":""},null,{"$f":"'見積書 (2)'!R32","v":""},null,null,{"$f":"'見積書 (2)'!S32","v":""},null,null,null,{"$f":"'見積書 (2)'!T32","v":""},null,null,null,null,{"$f":"IF(Q89=\"\",\"\",'出来高内訳書 (第11回請求)'!AC89+'出来高内訳書 (第11回請求)'!AK89)","v":""},null,null,{"$f":"IF(T89=\"\",\"\",ROUND(T89*AC89,0))","v":""},null,null,null,null,null,null,null,{"$f":"IF(T89=\"\",\"\",ROUND(T89*AK89,0))","v":""},null,null,null,null,{"$f":"IF(Q89=\"\",\"\",ROUND(Q89-AC89-AK89,2))","v":""},null,null,{"$f":"IF(T89=\"\",\"\",(IF(AS89<0,\"出来高が契約を超過\",X89-AN89-AF89)))","v":""}]
[null,{"$f":"'見積書 (2)'!F33","v":""}]
[18,{"$f":"'見積書 (2)'!F34","v":""},null,null,null,null,null,null,null,null,null,null,null,null,{"$f":"'見積書 (2)'!Q34","v":""},null,{"$f":"'見積書 (2)'!R34","v":""},null,null,{"$f":"'見積書 (2)'!S34","v":""},null,null,null,{"$f":"'見積書 (2)'!T34","v":""},null,null,null,null,{"$f":"IF(Q91=\"\",\"\",'出来高内訳書 (第11回請求)'!AC91+'出来高内訳書 (第11回請求)'!AK91)","v":""},null,null,{"$f":"IF(T91=\"\",\"\",ROUND(T91*AC91,0))","v":""},null,null,null,null,null,null,null,{"$f":"IF(T91=\"\",\"\",ROUND(T91*AK91,0))","v":""},null,null,null,null,{"$f":"IF(Q91=\"\",\"\",ROUND(Q91-AC91-AK91,2))","v":""},null,null,{"$f":"IF(T91=\"\",\"\",(IF(AS91<0,\"出来高が契約を超過\",X91-AN91-AF91)))","v":""}]
[null,{"$f":"'見積書 (2)'!F35","v":""}]
[19,{"$f":"'見積書 (2)'!F36","v":""},null,null,null,null,null,null,null,null,null,null,null,null,{"$f":"'見積書 (2)'!Q36","v":""},null,{"$f":"'見積書 (2)'!R36","v":""},null,null,{"$f":"'見積書 (2)'!S36","v":""},null,null,null,{"$f":"'見積書 (2)'!T36","v":""},null,null,null,null,{"$f":"IF(Q93=\"\",\"\",'出来高内訳書 (第11回請求)'!AC93+'出来高内訳書 (第11回請求)'!AK93)","v":""},null,null,{"$f":"IF(T93=\"\",\"\",ROUND(T93*AC93,0))","v":""},null,null,null,null,null,null,null,{"$f":"IF(T93=\"\",\"\",ROUND(T93*AK93,0))","v":""},null,null,null,null,{"$f":"IF(Q93=\"\",\"\",ROUND(Q93-AC93-AK93,2))","v":""},null,null,{"$f":"IF(T93=\"\",\"\",(IF(AS93<0,\"出来高が契約を超過\",X93-AN93-AF93)))","v":""}]
[null,{"$f":"'見積書 (2)'!F37","v":""}]
[20,{"$f":"'見積書 (2)'!F38","v":""},null,null,null,null,null,null,null,null,null,null,null,null,{"$f":"'見積書 (2)'!Q38","v":""},null,{"$f":"'見積書 (2)'!R38","v":""},null,null,{"$f":"'見積書 (2)'!S38","v":""},null,null,null,{"$f":"'見積書 (2)'!T38","v":""},null,null,null,null,{"$f":"IF(Q95=\"\",\"\",'出来高内訳書 (第11回請求)'!AC95+'出来高内訳書 (第11回請求)'!AK95)","v":""},null,null,{"$f":"IF(T95=\"\",\"\",ROUND(T95*AC95,0))","v":""},null,null,null,null,null,null,null,{"$f":"IF(T95=\"\",\"\",ROUND(T95*AK95,0))","v":""},null,null,null,null,{"$f":"IF(Q95=\"\",\"\",ROUND(Q95-AC95-AK95,2))","v":""},null,null,{"$f":"IF(T95=\"\",\"\",(IF(AS95<0,\"出来高が契約を超過\",X95-AN95-AF95)))","v":""}]
[null,{"$f":"'見積書 (2)'!F39","v":""}]
[21,{"$f":"'見積書 (2)'!F40","v":""},null,null,null,null,null,null,null,null,null,null,null,null,{"$f":"'見積書 (2)'!Q40","v":""},null,{"$f":"'見積書 (2)'!R40","v":""},null,null,{"$f":"'見積書 (2)'!S40","v":""},null,null,null,{"$f":"'見積書 (2)'!T40","v":""},null,null,null,null,{"$f":"IF(Q97=\"\",\"\",'出来高内訳書 (第11回請求)'!AC97+'出来高内訳書 (第11回請求)'!AK97)","v":""},null,null,{"$f":"IF(T97=\"\",\"\",ROUND(T97*AC97,0))","v":""},null,null,null,null,null,null,null,{"$f":"IF(T97=\"\",\"\",ROUND(T97*AK97,0))","v":""},null,null,null,null,{"$f":"IF(Q97=\"\",\"\",ROUND(Q97-AC97-AK97,2))","v":""},null,null,{"$f":"IF(T97=\"\",\"\",(IF(AS97<0,\"出来高が契約を超過\",X97-AN97-AF97)))","v":""}]
[null,{"$f":"'見積書 (2)'!F41","v":""}]
[22,{"$f":"'見積書 (2)'!F42","v":""},null,null,null,null,null,null,null,null,null,null,null,null,{"$f":"'見積書 (2)'!Q42","v":""},null,{"$f":"'見積書 (2)'!R42","v":""},null,null,{"$f":"'見積書 (2)'!S42","v":""},null,null,null,{"$f":"'見積書 (2)'!T42","v":""},null,null,null,null,{"$f":"IF(Q99=\"\",\"\",'出来高内訳書 (第11回請求)'!AC99+'出来高内訳書 (第11回請求)'!AK99)","v":""},null,null,{"$f":"IF(T99=\"\",\"\",ROUND(T99*AC99,0))","v":""},null,null,null,null,null,null,null,{"$f":"IF(T99=\"\",\"\",ROUND(T99*AK99,0))","v":""},null,null,null,null,{"$f":"IF(Q99=\"\",\"\",ROUND(Q99-AC99-AK99,2))","v":""},null,null,{"$f":"IF(T99=\"\",\"\",(IF(AS99<0,\"出来高が契約を超過\",X99-AN99-AF99)))","v":""}]
[null,{"$f":"'見積書 (2)'!F43","v":""}]
[23,{"$f":"'見積書 (2)'!F44","v":""},null,null,null,null,null,null,null,null,null,null,null,null,{"$f":"'見積書 (2)'!Q44","v":""},null,{"$f":"'見積書 (2)'!R44","v":""},null,null,{"$f":"'見積書 (2)'!S44","v":""},null,null,null,{"$f":"'見積書 (2)'!T44","v":""},null,null,null,null,{"$f":"IF(Q101=\"\",\"\",'出来高内訳書 (第11回請求)'!AC101+'出来高内訳書 (第11回請求)'!AK101)","v":""},null,null,{"$f":"IF(T101=\"\",\"\",ROUND(T101*AC101,0))","v":""},null,null,null,null,null,null,null,{"$f":"IF(T101=\"\",\"\",ROUND(T101*AK101,0))","v":""},null,null,null,null,{"$f":"IF(Q101=\"\",\"\",ROUND(Q101-AC101-AK101,2))","v":""},null,null,{"$f":"IF(T101=\"\",\"\",(IF(AS101<0,\"出来高が契約を超過\",X101-AN101-AF101)))","v":""}]
[null,{"$f":"'見積書 (2)'!F45","v":""}]
[24,{"$f":"'見積書 (2)'!F46","v":""},null,null,null,null,null,null,null,null,null,null,null,null,{"$f":"'見積書 (2)'!Q46","v":""},null,{"$f":"'見積書 (2)'!R46","v":""},null,null,{"$f":"'見積書 (2)'!S46","v":""},null,null,null,{"$f":"'見積書 (2)'!T46","v":""},null,null,null,null,{"$f":"IF(Q103=\"\",\"\",'出来高内訳書 (第11回請求)'!AC103+'出来高内訳書 (第11回請求)'!AK103)","v":""},null,null,{"$f":"IF(T103=\"\",\"\",ROUND(T103*AC103,0))","v":""},null,null,null,null,null,null,null,{"$f":"IF(T103=\"\",\"\",ROUND(T103*AK103,0))","v":""},null,null,null,null,{"$f":"IF(Q103=\"\",\"\",ROUND(Q103-AC103-AK103,2))","v":""},null,null,{"$f":"IF(T103=\"\",\"\",(IF(AS103<0,\"出来高が契約を超過\",X103-AN103-AF103)))","v":""}]
[null,{"$f":"'見積書 (2)'!F47","v":""}]
[25,{"$f":"'見積書 (2)'!F48","v":""},null,null,null,null,null,null,null,null,null,null,null,null,{"$f":"'見積書 (2)'!Q48","v":""},null,{"$f":"'見積書 (2)'!R48","v":""},null,null,{"$f":"'見積書 (2)'!S48","v":""},null,null,null,{"$f":"'見積書 (2)'!T48","v":""},null,null,null,null,{"$f":"IF(Q105=\"\",\"\",'出来高内訳書 (第11回請求)'!AC105+'出来高内訳書 (第11回請求)'!AK105)","v":""},null,null,{"$f":"IF(T105=\"\",\"\",ROUND(T105*AC105,0))","v":""},null,null,null,null,null,null,null,{"$f":"IF(T105=\"\",\"\",ROUND(T105*AK105,0))","v":""},null,null,null,null,{"$f":"IF(Q105=\"\",\"\",ROUND(Q105-AC105-AK105,2))","v":""},null,null,{"$f":"IF(T105=\"\",\"\",(IF(AS105<0,\"出来高が契約を超過\",X105-AN105-AF105)))","v":""}]
[null,{"$f":"'見積書 (2)'!F49","v":""}]
[26,{"$f":"'見積書 (2)'!F50","v":""},null,null,null,null,null,null,null,null,null,null,null,null,{"$f":"'見積書 (2)'!Q50","v":""},null,{"$f":"'見積書 (2)'!R50","v":""},null,null,{"$f":"'見積書 (2)'!S50","v":""},null,null,null,{"$f":"'見積書 (2)'!T50","v":""},null,null,null,null,{"$f":"IF(Q107=\"\",\"\",'出来高内訳書 (第11回請求)'!AC107+'出来高内訳書 (第11回請求)'!AK107)","v":""},null,null,{"$f":"IF(T107=\"\",\"\",ROUND(T107*AC107,0))","v":""},null,null,null,null,null,null,null,{"$f":"IF(T107=\"\",\"\",ROUND(T107*AK107,0))","v":""},null,null,null,null,{"$f":"IF(Q107=\"\",\"\",ROUND(Q107-AC107-AK107,2))","v":""},null,null,{"$f":"IF(T107=\"\",\"\",(IF(AS107<0,\"出来高が契約を超過\",X107-AN107-AF107)))","v":""}]
[null,{"$f":"'見積書 (2)'!F51","v":""}]
[null,"小計",null,null,null,null,null,null,null,null,null,null,null,null,null,null,null,null,null,null,null,null,null,{"$f":"SUM(X79:AB108)","v":0},null,null,null,null,null,null,null,{"$f":"SUM(AF79:AJ108)","v":0},null,null,null,null,null,null,null,{"$f":"SUM(AN79:AR108)","v":0},null,null,null,null,null,null,null,{"$f":"X109-AF109-AN109","v":0}]
[]
[]
[]
[]
[null,"請求内訳書（出来高・分割納入用）",null,null,null,null,null,null,null,null,null,null,null,null,null,null,null,null,null,null,null,null,null,null,null,null,null,null,null,null,null,null,null,null,null,null,null,null,null,null,null,null,null,null,null,null,null,null,null,null,"No."]
[]
[]
[]
[]
[]
[]
[]
[]
[]
[null,"製造番号",null,null,null,null,{"$f":"Y22","v":""},null,null,null,null,null,null,null,null,null,null,null,null,null,null,null,null,"※科目"]
[]
[]
[null,"注文番号",null,null,null,null,{"$f":"Y25","v":""},null,null,null,null,null,null,null,null,"第",null,{"$f":"AJ23","v":12},null,"回請求"]
[]
[]
[]
[null,"工　種・品　名",null,null,null,null,null,null,null,null,null,null,null,null,"契　約　金　額",null,null,null,null,null,null,null,null,null,null,null,null,null,"前回までの出来高",null,null,null,null,null,null,null,"今回出来高",null,null,null,null,null,null,null,"残高",null,null,null,null,null,null,null,"備　考"]
[null,null,null,null,null,null,null,null,null,null,null,null,null,null,"単位",null,"数量",null,null,"単価",null,null,null,"金額",null,null,null,null,"数量",null,null,"金額",null,null,null,null,"数量",null,null,"金額",null,null,null,null,"数量",null,null,"金額"]
[27,{"$f":"'見積書 (2)'!F52","v":""},null,null,null,null,null,null,null,null,null,null,null,null,{"$f":"'見積書 (2)'!Q52","v":""},null,{"$f":"'見積書 (2)'!R52","v":""},null,null,{"$f":"'見積書 (2)'!S52","v":""},null,null,null,{"$f":"'見積書 (2)'!T52","v":""},null,null,null,null,{"$f":"IF(Q133=\"\",\"\",'出来高内訳書 (第11回請求)'!AC133+'出来高内訳書 (第11回請求)'!AK133)","v":""},null,null,{"$f":"IF(T133=\"\",\"\",ROUND(T133*AC133,0))","v":""},null,null,null,null,null,null,null,{"$f":"IF(T133=\"\",\"\",ROUND(T133*AK133,0))","v":""},null,null,null,null,{"$f":"IF(Q133=\"\",\"\",ROUND(Q133-AC133-AK133,2))","v":""},null,null,{"$f":"IF(T133=\"\",\"\",(IF(AS133<0,\"出来高が契約を超過\",X133-AN133-AF133)))","v":""}]
[null,{"$f":"'見積書 (2)'!F53","v":""}]
[28,{"$f":"'見積書 (2)'!F54","v":""},null,null,null,null,null,null,null,null,null,null,null,null,{"$f":"'見積書 (2)'!Q54","v":""},null,{"$f":"'見積書 (2)'!R54","v":""},null,null,{"$f":"'見積書 (2)'!S54","v":""},null,null,null,{"$f":"'見積書 (2)'!T54","v":""},null,null,null,null,{"$f":"IF(Q135=\"\",\"\",'出来高内訳書 (第11回請求)'!AC135+'出来高内訳書 (第11回請求)'!AK135)","v":""},null,null,{"$f":"IF(T135=\"\",\"\",ROUND(T135*AC135,0))","v":""},null,null,null,null,null,null,null,{"$f":"IF(T135=\"\",\"\",ROUND(T135*AK135,0))","v":""},null,null,null,null,{"$f":"IF(Q135=\"\",\"\",ROUND(Q135-AC135-AK135,2))","v":""},null,null,{"$f":"IF(T135=\"\",\"\",(IF(AS135<0,\"出来高が契約を超過\",X135-AN135-AF135)))","v":""}]
[null,{"$f":"'見積書 (2)'!F55","v":""}]
[29,{"$f":"'見積書 (2)'!F56","v":""},null,null,null,null,null,null,null,null,null,null,null,null,{"$f":"'見積書 (2)'!Q56","v":""},null,{"$f":"'見積書 (2)'!R56","v":""},null,null,{"$f":"'見積書 (2)'!S56","v":""},null,null,null,{"$f":"'見積書 (2)'!T56","v":""},null,null,null,null,{"$f":"IF(Q137=\"\",\"\",'出来高内訳書 (第11回請求)'!AC137+'出来高内訳書 (第11回請求)'!AK137)","v":""},null,null,{"$f":"IF(T137=\"\",\"\",ROUND(T137*AC137,0))","v":""},null,null,null,null,null,null,null,{"$f":"IF(T137=\"\",\"\",ROUND(T137*AK137,0))","v":""},null,null,null,null,{"$f":"IF(Q137=\"\",\"\",ROUND(Q137-AC137-AK137,2))","v":""},null,null,{"$f":"IF(T137=\"\",\"\",(IF(AS137<0,\"出来高が契約を超過\",X137-AN137-AF137)))","v":""}]
[null,{"$f":"'見積書 (2)'!F57","v":""}]
[30,{"$f":"'見積書 (2)'!F58","v":""},null,null,null,null,null,null,null,null,null,null,null,null,{"$f":"'見積書 (2)'!Q58","v":""},null,{"$f":"'見積書 (2)'!R58","v":""},null,null,{"$f":"'見積書 (2)'!S58","v":""},null,null,null,{"$f":"'見積書 (2)'!T58","v":""},null,null,null,null,{"$f":"IF(Q139=\"\",\"\",'出来高内訳書 (第11回請求)'!AC139+'出来高内訳書 (第11回請求)'!AK139)","v":""},null,null,{"$f":"IF(T139=\"\",\"\",ROUND(T139*AC139,0))","v":""},null,null,null,null,null,null,null,{"$f":"IF(T139=\"\",\"\",ROUND(T139*AK139,0))","v":""},null,null,null,null,{"$f":"IF(Q139=\"\",\"\",ROUND(Q139-AC139-AK139,2))","v":""},null,null,{"$f":"IF(T139=\"\",\"\",(IF(AS139<0,\"出来高が契約を超過\",X139-AN139-AF139)))","v":""}]
[null,{"$f":"'見積書 (2)'!F59","v":""}]
[31,{"$f":"'見積書 (2)'!F60","v":""},null,null,null,null,null,null,null,null,null,null,null,null,{"$f":"'見積書 (2)'!Q60","v":""},null,{"$f":"'見積書 (2)'!R60","v":""},null,null,{"$f":"'見積書 (2)'!S60","v":""},null,null,null,{"$f":"'見積書 (2)'!T60","v":""},null,null,null,null,{"$f":"IF(Q141=\"\",\"\",'出来高内訳書 (第11回請求)'!AC141+'出来高内訳書 (第11回請求)'!AK141)","v":""},null,null,{"$f":"IF(T141=\"\",\"\",ROUND(T141*AC141,0))","v":""},null,null,null,null,null,null,null,{"$f":"IF(T141=\"\",\"\",ROUND(T141*AK141,0))","v":""},null,null,null,null,{"$f":"IF(Q141=\"\",\"\",ROUND(Q141-AC141-AK141,2))","v":""},null,null,{"$f":"IF(T141=\"\",\"\",(IF(AS141<0,\"出来高が契約を超過\",X141-AN141-AF141)))","v":""}]
[null,{"$f":"'見積書 (2)'!F61","v":""}]
[32,{"$f":"'見積書 (2)'!F62","v":""},null,null,null,null,null,null,null,null,null,null,null,null,{"$f":"'見積書 (2)'!Q62","v":""},null,{"$f":"'見積書 (2)'!R62","v":""},null,null,{"$f":"'見積書 (2)'!S62","v":""},null,null,null,{"$f":"'見積書 (2)'!T62","v":""},null,null,null,null,{"$f":"IF(Q143=\"\",\"\",'出来高内訳書 (第11回請求)'!AC143+'出来高内訳書 (第11回請求)'!AK143)","v":""},null,null,{"$f":"IF(T143=\"\",\"\",ROUND(T143*AC143,0))","v":""},null,null,null,null,null,null,null,{"$f":"IF(T143=\"\",\"\",ROUND(T143*AK143,0))","v":""},null,null,null,null,{"$f":"IF(Q143=\"\",\"\",ROUND(Q143-AC143-AK143,2))","v":""},null,null,{"$f":"IF(T143=\"\",\"\",(IF(AS143<0,\"出来高が契約を超過\",X143-AN143-AF143)))","v":""}]
[null,{"$f":"'見積書 (2)'!F63","v":""}]
[33,{"$f":"'見積書 (2)'!F64","v":""},null,null,null,null,null,null,null,null,null,null,null,null,{"$f":"'見積書 (2)'!Q64","v":""},null,{"$f":"'見積書 (2)'!R64","v":""},null,null,{"$f":"'見積書 (2)'!S64","v":""},null,null,null,{"$f":"'見積書 (2)'!T64","v":""},null,null,null,null,{"$f":"IF(Q145=\"\",\"\",'出来高内訳書 (第11回請求)'!AC145+'出来高内訳書 (第11回請求)'!AK145)","v":""},null,null,{"$f":"IF(T145=\"\",\"\",ROUND(T145*AC145,0))","v":""},null,null,null,null,null,null,null,{"$f":"IF(T145=\"\",\"\",ROUND(T145*AK145,0))","v":""},null,null,null,null,{"$f":"IF(Q145=\"\",\"\",ROUND(Q145-AC145-AK145,2))","v":""},null,null,{"$f":"IF(T145=\"\",\"\",(IF(AS145<0,\"出来高が契約を超過\",X145-AN145-AF145)))","v":""}]
[null,{"$f":"'見積書 (2)'!F65","v":""}]
[34,{"$f":"'見積書 (2)'!F66","v":""},null,null,null,null,null,null,null,null,null,null,null,null,{"$f":"'見積書 (2)'!Q66","v":""},null,{"$f":"'見積書 (2)'!R66","v":""},null,null,{"$f":"'見積書 (2)'!S66","v":""},null,null,null,{"$f":"'見積書 (2)'!T66","v":""},null,null,null,null,{"$f":"IF(Q147=\"\",\"\",'出来高内訳書 (第11回請求)'!AC147+'出来高内訳書 (第11回請求)'!AK147)","v":""},null,null,{"$f":"IF(T147=\"\",\"\",ROUND(T147*AC147,0))","v":""},null,null,null,null,null,null,null,{"$f":"IF(T147=\"\",\"\",ROUND(T147*AK147,0))","v":""},null,null,null,null,{"$f":"IF(Q147=\"\",\"\",ROUND(Q147-AC147-AK147,2))","v":""},null,null,{"$f":"IF(T147=\"\",\"\",(IF(AS147<0,\"出来高が契約を超過\",X147-AN147-AF147)))","v":""}]
[null,{"$f":"'見積書 (2)'!F67","v":""}]
[35,{"$f":"'見積書 (2)'!F68","v":""},null,null,null,null,null,null,null,null,null,null,null,null,{"$f":"'見積書 (2)'!Q68","v":""},null,{"$f":"'見積書 (2)'!R68","v":""},null,null,{"$f":"'見積書 (2)'!S68","v":""},null,null,null,{"$f":"'見積書 (2)'!T68","v":""},null,null,null,null,{"$f":"IF(Q149=\"\",\"\",'出来高内訳書 (第11回請求)'!AC149+'出来高内訳書 (第11回請求)'!AK149)","v":""},null,null,{"$f":"IF(T149=\"\",\"\",ROUND(T149*AC149,0))","v":""},null,null,null,null,null,null,null,{"$f":"IF(T149=\"\",\"\",ROUND(T149*AK149,0))","v":""},null,null,null,null,{"$f":"IF(Q149=\"\",\"\",ROUND(Q149-AC149-AK149,2))","v":""},null,null,{"$f":"IF(T149=\"\",\"\",(IF(AS149<0,\"出来高が契約を超過\",X149-AN149-AF149)))","v":""}]
[null,{"$f":"'見積書 (2)'!F69","v":""}]
[36,{"$f":"'見積書 (3)'!F26","v":""},null,null,null,null,null,null,null,null,null,null,null,null,{"$f":"'見積書 (3)'!Q26","v":""},null,{"$f":"'見積書 (3)'!R26","v":""},null,null,{"$f":"'見積書 (3)'!S26","v":""},null,null,null,{"$f":"'見積書 (3)'!T26","v":""},null,null,null,null,{"$f":"IF(Q151=\"\",\"\",'出来高内訳書 (第11回請求)'!AC151+'出来高内訳書 (第11回請求)'!AK151)","v":""},null,null,{"$f":"IF(T151=\"\",\"\",ROUND(T151*AC151,0))","v":""},null,null,null,null,null,null,null,{"$f":"IF(T151=\"\",\"\",ROUND(T151*AK151,0))","v":""},null,null,null,null,{"$f":"IF(Q151=\"\",\"\",ROUND(Q151-AC151-AK151,2))","v":""},null,null,{"$f":"IF(T151=\"\",\"\",(IF(AS151<0,\"出来高が契約を超過\",X151-AN151-AF151)))","v":""}]
[null,{"$f":"'見積書 (3)'!F27","v":""}]
[37,{"$f":"'見積書 (3)'!F28","v":""},null,null,null,null,null,null,null,null,null,null,null,null,{"$f":"'見積書 (3)'!Q28","v":""},null,{"$f":"'見積書 (3)'!R28","v":""},null,null,{"$f":"'見積書 (3)'!S28","v":""},null,null,null,{"$f":"'見積書 (3)'!T28","v":""},null,null,null,null,{"$f":"IF(Q153=\"\",\"\",'出来高内訳書 (第11回請求)'!AC153+'出来高内訳書 (第11回請求)'!AK153)","v":""},null,null,{"$f":"IF(T153=\"\",\"\",ROUND(T153*AC153,0))","v":""},null,null,null,null,null,null,null,{"$f":"IF(T153=\"\",\"\",ROUND(T153*AK153,0))","v":""},null,null,null,null,{"$f":"IF(Q153=\"\",\"\",ROUND(Q153-AC153-AK153,2))","v":""},null,null,{"$f":"IF(T153=\"\",\"\",(IF(AS153<0,\"出来高が契約を超過\",X153-AN153-AF153)))","v":""}]
[null,{"$f":"'見積書 (3)'!F29","v":""}]
[38,{"$f":"'見積書 (3)'!F30","v":""},null,null,null,null,null,null,null,null,null,null,null,null,{"$f":"'見積書 (3)'!Q30","v":""},null,{"$f":"'見積書 (3)'!R30","v":""},null,null,{"$f":"'見積書 (3)'!S30","v":""},null,null,null,{"$f":"'見積書 (3)'!T30","v":""},null,null,null,null,{"$f":"IF(Q155=\"\",\"\",'出来高内訳書 (第11回請求)'!AC155+'出来高内訳書 (第11回請求)'!AK155)","v":""},null,null,{"$f":"IF(T155=\"\",\"\",ROUND(T155*AC155,0))","v":""},null,null,null,null,null,null,null,{"$f":"IF(T155=\"\",\"\",ROUND(T155*AK155,0))","v":""},null,null,null,null,{"$f":"IF(Q155=\"\",\"\",ROUND(Q155-AC155-AK155,2))","v":""},null,null,{"$f":"IF(T155=\"\",\"\",(IF(AS155<0,\"出来高が契約を超過\",X155-AN155-AF155)))","v":""}]
[null,{"$f":"'見積書 (3)'!F31","v":""}]
[39,{"$f":"'見積書 (3)'!F32","v":""},null,null,null,null,null,null,null,null,null,null,null,null,{"$f":"'見積書 (3)'!Q32","v":""},null,{"$f":"'見積書 (3)'!R32","v":""},null,null,{"$f":"'見積書 (3)'!S32","v":""},null,null,null,{"$f":"'見積書 (3)'!T32","v":""},null,null,null,null,{"$f":"IF(Q157=\"\",\"\",'出来高内訳書 (第11回請求)'!AC157+'出来高内訳書 (第11回請求)'!AK157)","v":""},null,null,{"$f":"IF(T157=\"\",\"\",ROUND(T157*AC157,0))","v":""},null,null,null,null,null,null,null,{"$f":"IF(T157=\"\",\"\",ROUND(T157*AK157,0))","v":""},null,null,null,null,{"$f":"IF(Q157=\"\",\"\",ROUND(Q157-AC157-AK157,2))","v":""},null,null,{"$f":"IF(T157=\"\",\"\",(IF(AS157<0,\"出来高が契約を超過\",X157-AN157-AF157)))","v":""}]
[null,{"$f":"'見積書 (3)'!F33","v":""}]
[40,{"$f":"'見積書 (3)'!F34","v":""},null,null,null,null,null,null,null,null,null,null,null,null,{"$f":"'見積書 (3)'!Q34","v":""},null,{"$f":"'見積書 (3)'!R34","v":""},null,null,{"$f":"'見積書 (3)'!S34","v":""},null,null,null,{"$f":"'見積書 (3)'!T34","v":""},null,null,null,null,{"$f":"IF(Q159=\"\",\"\",'出来高内訳書 (第11回請求)'!AC159+'出来高内訳書 (第11回請求)'!AK159)","v":""},null,null,{"$f":"IF(T159=\"\",\"\",ROUND(T159*AC159,0))","v":""},null,null,null,null,null,null,null,{"$f":"IF(T159=\"\",\"\",ROUND(T159*AK159,0))","v":""},null,null,null,null,{"$f":"IF(Q159=\"\",\"\",ROUND(Q159-AC159-AK159,2))","v":""},null,null,{"$f":"IF(T159=\"\",\"\",(IF(AS159<0,\"出来高が契約を超過\",X159-AN159-AF159)))","v":""}]
[null,{"$f":"'見積書 (3)'!F35","v":""}]
[41,{"$f":"'見積書 (3)'!F36","v":""},null,null,null,null,null,null,null,null,null,null,null,null,{"$f":"'見積書 (3)'!Q36","v":""},null,{"$f":"'見積書 (3)'!R36","v":""},null,null,{"$f":"'見積書 (3)'!S36","v":""},null,null,null,{"$f":"'見積書 (3)'!T36","v":""},null,null,null,null,{"$f":"IF(Q161=\"\",\"\",'出来高内訳書 (第11回請求)'!AC161+'出来高内訳書 (第11回請求)'!AK161)","v":""},null,null,{"$f":"IF(T161=\"\",\"\",ROUND(T161*AC161,0))","v":""},null,null,null,null,null,null,null,{"$f":"IF(T161=\"\",\"\",ROUND(T161*AK161,0))","v":""},null,null,null,null,{"$f":"IF(Q161=\"\",\"\",ROUND(Q161-AC161-AK161,2))","v":""},null,null,{"$f":"IF(T161=\"\",\"\",(IF(AS161<0,\"出来高が契約を超過\",X161-AN161-AF161)))","v":""}]
[null,{"$f":"'見積書 (3)'!F37","v":""}]
[null,"小計",null,null,null,null,null,null,null,null,null,null,null,null,null,null,null,null,null,null,null,null,null,{"$f":"SUM(X133:AB162)","v":0},null,null,null,null,null,null,null,{"$f":"SUM(AF133:AJ162)","v":0},null,null,null,null,null,null,null,{"$f":"SUM(AN133:AR162)","v":0},null,null,null,null,null,null,null,{"$f":"X163-AF163-AN163","v":0}]
[]
[]
[]
[]
[null,"請求内訳書（出来高・分割納入用）",null,null,null,null,null,null,null,null,null,null,null,null,null,null,null,null,null,null,null,null,null,null,null,null,null,null,null,null,null,null,null,null,null,null,null,null,null,null,null,null,null,null,null,null,null,null,null,null,"No."]
[]
[]
[]
[]
[]
[]
[]
[]
[]
[null,"製造番号",null,null,null,null,{"$f":"Y22","v":""},null,null,null,null,null,null,null,null,null,null,null,null,null,null,null,null,"※科目"]
[]
[]
[null,"注文番号",null,null,null,null,{"$f":"Y25","v":""},null,null,null,null,null,null,null,null,"第",null,{"$f":"AJ23","v":12},null,"回請求"]
[]
[]
[]
[null,"工　種・品　名",null,null,null,null,null,null,null,null,null,null,null,null,"契　約　金　額",null,null,null,null,null,null,null,null,null,null,null,null,null,"前回までの出来高",null,null,null,null,null,null,null,"今回出来高",null,null,null,null,null,null,null,"残高",null,null,null,null,null,null,null,"備　考"]
[null,null,null,null,null,null,null,null,null,null,null,null,null,null,"単位",null,"数量",null,null,"単価",null,null,null,"金額",null,null,null,null,"数量",null,null,"金額",null,null,null,null,"数量",null,null,"金額",null,null,null,null,"数量",null,null,"金額"]
[42,{"$f":"'見積書 (3)'!F38","v":""},null,null,null,null,null,null,null,null,null,null,null,null,{"$f":"'見積書 (3)'!Q38","v":""},null,{"$f":"'見積書 (3)'!R38","v":""},null,null,{"$f":"'見積書 (3)'!S38","v":""},null,null,null,{"$f":"'見積書 (3)'!T38","v":""},null,null,null,null,{"$f":"IF(Q187=\"\",\"\",'出来高内訳書 (第11回請求)'!AC187+'出来高内訳書 (第11回請求)'!AK187)","v":""},null,null,{"$f":"IF(T187=\"\",\"\",ROUND(T187*AC187,0))","v":""},null,null,null,null,null,null,null,{"$f":"IF(T187=\"\",\"\",ROUND(T187*AK187,0))","v":""},null,null,null,null,{"$f":"IF(Q187=\"\",\"\",ROUND(Q187-AC187-AK187,2))","v":""},null,null,{"$f":"IF(T187=\"\",\"\",(IF(AS187<0,\"出来高が契約を超過\",X187-AN187-AF187)))","v":""}]
[null,{"$f":"'見積書 (3)'!F39","v":""}]
[43,{"$f":"'見積書 (3)'!F40","v":""},null,null,null,null,null,null,null,null,null,null,null,null,{"$f":"'見積書 (3)'!Q40","v":""},null,{"$f":"'見積書 (3)'!R40","v":""},null,null,{"$f":"'見積書 (3)'!S40","v":""},null,null,null,{"$f":"'見積書 (3)'!T40","v":""},null,null,null,null,{"$f":"IF(Q189=\"\",\"\",'出来高内訳書 (第11回請求)'!AC189+'出来高内訳書 (第11回請求)'!AK189)","v":""},null,null,{"$f":"IF(T189=\"\",\"\",ROUND(T189*AC189,0))","v":""},null,null,null,null,null,null,null,{"$f":"IF(T189=\"\",\"\",ROUND(T189*AK189,0))","v":""},null,null,null,null,{"$f":"IF(Q189=\"\",\"\",ROUND(Q189-AC189-AK189,2))","v":""},null,null,{"$f":"IF(T189=\"\",\"\",(IF(AS189<0,\"出来高が契約を超過\",X189-AN189-AF189)))","v":""}]
[null,{"$f":"'見積書 (3)'!F41","v":""}]
[44,{"$f":"'見積書 (3)'!F42","v":""},null,null,null,null,null,null,null,null,null,null,null,null,{"$f":"'見積書 (3)'!Q42","v":""},null,{"$f":"'見積書 (3)'!R42","v":""},null,null,{"$f":"'見積書 (3)'!S42","v":""},null,null,null,{"$f":"'見積書 (3)'!T42","v":""},null,null,null,null,{"$f":"IF(Q191=\"\",\"\",'出来高内訳書 (第11回請求)'!AC191+'出来高内訳書 (第11回請求)'!AK191)","v":""},null,null,{"$f":"IF(T191=\"\",\"\",ROUND(T191*AC191,0))","v":""},null,null,null,null,null,null,null,{"$f":"IF(T191=\"\",\"\",ROUND(T191*AK191,0))","v":""},null,null,null,null,{"$f":"IF(Q191=\"\",\"\",ROUND(Q191-AC191-AK191,2))","v":""},null,null,{"$f":"IF(T191=\"\",\"\",(IF(AS191<0,\"出来高が契約を超過\",X191-AN191-AF191)))","v":""}]
[null,{"$f":"'見積書 (3)'!F43","v":""}]
[45,{"$f":"'見積書 (3)'!F44","v":""},null,null,null,null,null,null,null,null,null,null,null,null,{"$f":"'見積書 (3)'!Q44","v":""},null,{"$f":"'見積書 (3)'!R44","v":""},null,null,{"$f":"'見積書 (3)'!S44","v":""},null,null,null,{"$f":"'見積書 (3)'!T44","v":""},null,null,null,null,{"$f":"IF(Q193=\"\",\"\",'出来高内訳書 (第11回請求)'!AC193+'出来高内訳書 (第11回請求)'!AK193)","v":""},null,null,{"$f":"IF(T193=\"\",\"\",ROUND(T193*AC193,0))","v":""},null,null,null,null,null,null,null,{"$f":"IF(T193=\"\",\"\",ROUND(T193*AK193,0))","v":""},null,null,null,null,{"$f":"IF(Q193=\"\",\"\",ROUND(Q193-AC193-AK193,2))","v":""},null,null,{"$f":"IF(T193=\"\",\"\",(IF(AS193<0,\"出来高が契約を超過\",X193-AN193-AF193)))","v":""}]
[null,{"$f":"'見積書 (3)'!F45","v":""}]
[46,{"$f":"'見積書 (3)'!F46","v":""},null,null,null,null,null,null,null,null,null,null,null,null,{"$f":"'見積書 (3)'!Q46","v":""},null,{"$f":"'見積書 (3)'!R46","v":""},null,null,{"$f":"'見積書 (3)'!S46","v":""},null,null,null,{"$f":"'見積書 (3)'!T46","v":""},null,null,null,null,{"$f":"IF(Q195=\"\",\"\",'出来高内訳書 (第11回請求)'!AC195+'出来高内訳書 (第11回請求)'!AK195)","v":""},null,null,{"$f":"IF(T195=\"\",\"\",ROUND(T195*AC195,0))","v":""},null,null,null,null,null,null,null,{"$f":"IF(T195=\"\",\"\",ROUND(T195*AK195,0))","v":""},null,null,null,null,{"$f":"IF(Q195=\"\",\"\",ROUND(Q195-AC195-AK195,2))","v":""},null,null,{"$f":"IF(T195=\"\",\"\",(IF(AS195<0,\"出来高が契約を超過\",X195-AN195-AF195)))","v":""}]
[null,{"$f":"'見積書 (3)'!F47","v":""}]
[47,{"$f":"'見積書 (3)'!F48","v":""},null,null,null,null,null,null,null,null,null,null,null,null,{"$f":"'見積書 (3)'!Q48","v":""},null,{"$f":"'見積書 (3)'!R48","v":""},null,null,{"$f":"'見積書 (3)'!S48","v":""},null,null,null,{"$f":"'見積書 (3)'!T48","v":""},null,null,null,null,{"$f":"IF(Q197=\"\",\"\",'出来高内訳書 (第11回請求)'!AC197+'出来高内訳書 (第11回請求)'!AK197)","v":""},null,null,{"$f":"IF(T197=\"\",\"\",ROUND(T197*AC197,0))","v":""},null,null,null,null,null,null,null,{"$f":"IF(T197=\"\",\"\",ROUND(T197*AK197,0))","v":""},null,null,null,null,{"$f":"IF(Q197=\"\",\"\",ROUND(Q197-AC197-AK197,2))","v":""},null,null,{"$f":"IF(T197=\"\",\"\",(IF(AS197<0,\"出来高が契約を超過\",X197-AN197-AF197)))","v":""}]
[null,{"$f":"'見積書 (3)'!F49","v":""}]
[48,{"$f":"'見積書 (3)'!F50","v":""},null,null,null,null,null,null,null,null,null,null,null,null,{"$f":"'見積書 (3)'!Q50","v":""},null,{"$f":"'見積書 (3)'!R50","v":""},null,null,{"$f":"'見積書 (3)'!S50","v":""},null,null,null,{"$f":"'見積書 (3)'!T50","v":""},null,null,null,null,{"$f":"IF(Q199=\"\",\"\",'出来高内訳書 (第11回請求)'!AC199+'出来高内訳書 (第11回請求)'!AK199)","v":""},null,null,{"$f":"IF(T199=\"\",\"\",ROUND(T199*AC199,0))","v":""},null,null,null,null,null,null,null,{"$f":"IF(T199=\"\",\"\",ROUND(T199*AK199,0))","v":""},null,null,null,null,{"$f":"IF(Q199=\"\",\"\",ROUND(Q199-AC199-AK199,2))","v":""},null,null,{"$f":"IF(T199=\"\",\"\",(IF(AS199<0,\"出来高が契約を超過\",X199-AN199-AF199)))","v":""}]
[null,{"$f":"'見積書 (3)'!F51","v":""}]
[49,{"$f":"'見積書 (3)'!F52","v":""},null,null,null,null,null,null,null,null,null,null,null,null,{"$f":"'見積書 (3)'!Q52","v":""},null,{"$f":"'見積書 (3)'!R52","v":""},null,null,{"$f":"'見積書 (3)'!S52","v":""},null,null,null,{"$f":"'見積書 (3)'!T52","v":""},null,null,null,null,{"$f":"IF(Q201=\"\",\"\",'出来高内訳書 (第11回請求)'!AC201+'出来高内訳書 (第11回請求)'!AK201)","v":""},null,null,{"$f":"IF(T201=\"\",\"\",ROUND(T201*AC201,0))","v":""},null,null,null,null,null,null,null,{"$f":"IF(T201=\"\",\"\",ROUND(T201*AK201,0))","v":""},null,null,null,null,{"$f":"IF(Q201=\"\",\"\",ROUND(Q201-AC201-AK201,2))","v":""},null,null,{"$f":"IF(T201=\"\",\"\",(IF(AS201<0,\"出来高が契約を超過\",X201-AN201-AF201)))","v":""}]
[null,{"$f":"'見積書 (3)'!F53","v":""}]
[50,{"$f":"'見積書 (3)'!F54","v":""},null,null,null,null,null,null,null,null,null,null,null,null,{"$f":"'見積書 (3)'!Q54","v":""},null,{"$f":"'見積書 (3)'!R54","v":""},null,null,{"$f":"'見積書 (3)'!S54","v":""},null,null,null,{"$f":"'見積書 (3)'!T54","v":""},null,null,null,null,{"$f":"IF(Q203=\"\",\"\",'出来高内訳書 (第11回請求)'!AC203+'出来高内訳書 (第11回請求)'!AK203)","v":""},null,null,{"$f":"IF(T203=\"\",\"\",ROUND(T203*AC203,0))","v":""},null,null,null,null,null,null,null,{"$f":"IF(T203=\"\",\"\",ROUND(T203*AK203,0))","v":""},null,null,null,null,{"$f":"IF(Q203=\"\",\"\",ROUND(Q203-AC203-AK203,2))","v":""},null,null,{"$f":"IF(T203=\"\",\"\",(IF(AS203<0,\"出来高が契約を超過\",X203-AN203-AF203)))","v":""}]
[null,{"$f":"'見積書 (3)'!F55","v":""}]
[51,{"$f":"'見積書 (3)'!F56","v":""},null,null,null,null,null,null,null,null,null,null,null,null,{"$f":"'見積書 (3)'!Q56","v":""},null,{"$f":"'見積書 (3)'!R56","v":""},null,null,{"$f":"'見積書 (3)'!S56","v":""},null,null,null,{"$f":"'見積書 (3)'!T56","v":""},null,null,null,null,{"$f":"IF(Q205=\"\",\"\",'出来高内訳書 (第11回請求)'!AC205+'出来高内訳書 (第11回請求)'!AK205)","v":""},null,null,{"$f":"IF(T205=\"\",\"\",ROUND(T205*AC205,0))","v":""},null,null,null,null,null,null,null,{"$f":"IF(T205=\"\",\"\",ROUND(T205*AK205,0))","v":""},null,null,null,null,{"$f":"IF(Q205=\"\",\"\",ROUND(Q205-AC205-AK205,2))","v":""},null,null,{"$f":"IF(T205=\"\",\"\",(IF(AS205<0,\"出来高が契約を超過\",X205-AN205-AF205)))","v":""}]
[null,{"$f":"'見積書 (3)'!F57","v":""}]
[52,{"$f":"'見積書 (3)'!F58","v":""},null,null,null,null,null,null,null,null,null,null,null,null,{"$f":"'見積書 (3)'!Q58","v":""},null,{"$f":"'見積書 (3)'!R58","v":""},null,null,{"$f":"'見積書 (3)'!S58","v":""},null,null,null,{"$f":"'見積書 (3)'!T58","v":""},null,null,null,null,{"$f":"IF(Q207=\"\",\"\",'出来高内訳書 (第11回請求)'!AC207+'出来高内訳書 (第11回請求)'!AK207)","v":""},null,null,{"$f":"IF(T207=\"\",\"\",ROUND(T207*AC207,0))","v":""},null,null,null,null,null,null,null,{"$f":"IF(T207=\"\",\"\",ROUND(T207*AK207,0))","v":""},null,null,null,null,{"$f":"IF(Q207=\"\",\"\",ROUND(Q207-AC207-AK207,2))","v":""},null,null,{"$f":"IF(T207=\"\",\"\",(IF(AS207<0,\"出来高が契約を超過\",X207-AN207-AF207)))","v":""}]
[null,{"$f":"'見積書 (3)'!F59","v":""}]
[53,{"$f":"'見積書 (3)'!F60","v":""},null,null,null,null,null,null,null,null,null,null,null,null,{"$f":"'見積書 (3)'!Q60","v":""},null,{"$f":"'見積書 (3)'!R60","v":""},null,null,{"$f":"'見積書 (3)'!S60","v":""},null,null,null,{"$f":"'見積書 (3)'!T60","v":""},null,null,null,null,{"$f":"IF(Q209=\"\",\"\",'出来高内訳書 (第11回請求)'!AC209+'出来高内訳書 (第11回請求)'!AK209)","v":""},null,null,{"$f":"IF(T209=\"\",\"\",ROUND(T209*AC209,0))","v":""},null,null,null,null,null,null,null,{"$f":"IF(T209=\"\",\"\",ROUND(T209*AK209,0))","v":""},null,null,null,null,{"$f":"IF(Q209=\"\",\"\",ROUND(Q209-AC209-AK209,2))","v":""},null,null,{"$f":"IF(T209=\"\",\"\",(IF(AS209<0,\"出来高が契約を超過\",X209-AN209-AF209)))","v":""}]
[null,{"$f":"'見積書 (3)'!F61","v":""}]
[54,{"$f":"'見積書 (3)'!F62","v":""},null,null,null,null,null,null,null,null,null,null,null,null,{"$f":"'見積書 (3)'!Q62","v":""},null,{"$f":"'見積書 (3)'!R62","v":""},null,null,{"$f":"'見積書 (3)'!S62","v":""},null,null,null,{"$f":"'見積書 (3)'!T62","v":""},null,null,null,null,{"$f":"IF(Q211=\"\",\"\",'出来高内訳書 (第11回請求)'!AC211+'出来高内訳書 (第11回請求)'!AK211)","v":""},null,null,{"$f":"IF(T211=\"\",\"\",ROUND(T211*AC211,0))","v":""},null,null,null,null,null,null,null,{"$f":"IF(T211=\"\",\"\",ROUND(T211*AK211,0))","v":""},null,null,null,null,{"$f":"IF(Q211=\"\",\"\",ROUND(Q211-AC211-AK211,2))","v":""},null,null,{"$f":"IF(T211=\"\",\"\",(IF(AS211<0,\"出来高が契約を超過\",X211-AN211-AF211)))","v":""}]
[null,{"$f":"'見積書 (3)'!F63","v":""}]
[55,{"$f":"'見積書 (3)'!F64","v":""},null,null,null,null,null,null,null,null,null,null,null,null,{"$f":"'見積書 (3)'!Q64","v":""},null,{"$f":"'見積書 (3)'!R64","v":""},null,null,{"$f":"'見積書 (3)'!S64","v":""},null,null,null,{"$f":"'見積書 (3)'!T64","v":""},null,null,null,null,{"$f":"IF(Q213=\"\",\"\",'出来高内訳書 (第11回請求)'!AC213+'出来高内訳書 (第11回請求)'!AK213)","v":""},null,null,{"$f":"IF(T213=\"\",\"\",ROUND(T213*AC213,0))","v":""},null,null,null,null,null,null,null,{"$f":"IF(T213=\"\",\"\",ROUND(T213*AK213,0))","v":""},null,null,null,null,{"$f":"IF(Q213=\"\",\"\",ROUND(Q213-AC213-AK213,2))","v":""},null,null,{"$f":"IF(T213=\"\",\"\",(IF(AS213<0,\"出来高が契約を超過\",X213-AN213-AF213)))","v":""}]
[null,{"$f":"'見積書 (3)'!F65","v":""}]
[56,{"$f":"'見積書 (3)'!F66","v":""},null,null,null,null,null,null,null,null,null,null,null,null,{"$f":"'見積書 (3)'!Q66","v":""},null,{"$f":"'見積書 (3)'!R66","v":""},null,null,{"$f":"'見積書 (3)'!S66","v":""},null,null,null,{"$f":"'見積書 (3)'!T66","v":""},null,null,null,null,{"$f":"IF(Q215=\"\",\"\",'出来高内訳書 (第11回請求)'!AC215+'出来高内訳書 (第11回請求)'!AK215)","v":""},null,null,{"$f":"IF(T215=\"\",\"\",ROUND(T215*AC215,0))","v":""},null,null,null,null,null,null,null,{"$f":"IF(T215=\"\",\"\",ROUND(T215*AK215,0))","v":""},null,null,null,null,{"$f":"IF(Q215=\"\",\"\",ROUND(Q215-AC215-AK215,2))","v":""},null,null,{"$f":"IF(T215=\"\",\"\",(IF(AS215<0,\"出来高が契約を超過\",X215-AN215-AF215)))","v":""}]
[null,{"$f":"'見積書 (3)'!F67","v":""}]
[null,"小計",null,null,null,null,null,null,null,null,null,null,null,null,null,null,null,null,null,null,null,null,null,{"$f":"SUM(X187:AB216)","v":0},null,null,null,null,null,null,null,{"$f":"SUM(AF187:AJ216)","v":0},null,null,null,null,null,null,null,{"$f":"SUM(AN187:AR216)","v":0},null,null,null,null,null,null,null,{"$f":"X217-AF217-AN217","v":0}]
[]
[]
[]
[]
[null,"請求内訳書（出来高・分割納入用）",null,null,null,null,null,null,null,null,null,null,null,null,null,null,null,null,null,null,null,null,null,null,null,null,null,null,null,null,null,null,null,null,null,null,null,null,null,null,null,null,null,null,null,null,null,null,null,null,"No."]
[]
[]
[]
[]
[]
[]
[]
[]
[]
[null,"製造番号",null,null,null,null,{"$f":"Y22","v":""},null,null,null,null,null,null,null,null,null,null,null,null,null,null,null,null,"※科目"]
[]
[]
[null,"注文番号",null,null,null,null,{"$f":"Y25","v":""},null,null,null,null,null,null,null,null,"第",null,{"$f":"AJ23","v":12},null,"回請求"]
[]
[]
[]
[null,"工　種・品　名",null,null,null,null,null,null,null,null,null,null,null,null,"契　約　金　額",null,null,null,null,null,null,null,null,null,null,null,null,null,"前回までの出来高",null,null,null,null,null,null,null,"今回出来高",null,null,null,null,null,null,null,"残高",null,null,null,null,null,null,null,"備　考"]
[null,null,null,null,null,null,null,null,null,null,null,null,null,null,"単位",null,"数量",null,null,"単価",null,null,null,"金額",null,null,null,null,"数量",null,null,"金額",null,null,null,null,"数量",null,null,"金額",null,null,null,null,"数量",null,null,"金額"]
[57,{"$f":"'見積書 (3)'!F68","v":""},null,null,null,null,null,null,null,null,null,null,null,null,{"$f":"'見積書 (3)'!Q68","v":""},null,{"$f":"'見積書 (3)'!R68","v":""},null,null,{"$f":"'見積書 (3)'!S68","v":""},null,null,null,{"$f":"'見積書 (3)'!T68","v":""},null,null,null,null,{"$f":"IF(Q241=\"\",\"\",'出来高内訳書 (第11回請求)'!AC241+'出来高内訳書 (第11回請求)'!AK241)","v":""},null,null,{"$f":"IF(T241=\"\",\"\",ROUND(T241*AC241,0))","v":""},null,null,null,null,null,null,null,{"$f":"IF(T241=\"\",\"\",ROUND(T241*AK241,0))","v":""},null,null,null,null,{"$f":"IF(Q241=\"\",\"\",ROUND(Q241-AC241-AK241,2))","v":""},null,null,{"$f":"IF(T241=\"\",\"\",(IF(AS241<0,\"出来高が契約を超過\",X241-AN241-AF241)))","v":""}]
[null,{"$f":"'見積書 (3)'!F68","v":""}]
[]
[]
[]
[]
[]
[]
[]
[]
[]
[]
[]
[]
[]
[]
[null,"小計",null,null,null,null,null,null,null,null,null,null,null,null,null,null,null,null,null,null,null,null,null,{"$f":"SUM(X241:AB256)","v":0},null,null,null,null,null,null,null,{"$f":"SUM(AF241:AJ256)","v":0},null,null,null,null,null,null,null,{"$f":"SUM(AN241:AR256)","v":0},null,null,null,null,null,null,null,{"$f":"SUM(AV241:AZ256)","v":0}]

{"sheet":"出来高内訳書 (第13回請求)","index":20,"n_rows":257,"n_cols":53,"rows_kept":257,"cut":false,"hidden":false,"merged":[[240,0,241,0],[240,1,240,13],[240,14,241,15],[240,16,241,18],[240,19,241,22],[240,23,241,27],[240,28,241,30],[240,31,241,35],[240,36,241,38],[240,39,241,43],[240,44,241,46],[240,47,241,51],[240,52,241,54],[212,0,213,0],[212,14,213,15],[212,16,213,18],[212,19,213,22],[212,23,213,27],[212,28,213,30],[212,31,213,35],[212,36,213,38],[212,39,213,43],[212,44,213,46],[212,47,213,51],[212,52,213,54],[214,0,215,0],[214,14,215,15],[214,16,215,18],[214,19,215,22],[214,23,215,27],[214,28,215,30],[214,31,215,35],[214,52,215,54],[208,0,209,0],[208,14,209,15],[208,16,209,18],[208,19,209,22],[208,23,209,27],[208,28,209,30],[208,31,209,35],[208,36,209,38],[208,39,209,43],[208,44,209,46],[208,47,209,51],[208,52,209,54],[210,0,211,0],[210,14,211,15],[210,16,211,18],[210,19,211,22],[210,23,211,27],[210,28,211,30],[210,31,211,35],[210,36,211,38],[210,39,211,43],[210,44,211,46],[210,47,211,51],[210,52,211,54],[204,0,205,0],[204,14,205,15],[204,16,205,18],[204,19,205,22],[204,23,205,27],[204,28,205,30],[204,31,205,35],[204,36,205,38],[204,39,205,43],[204,44,205,46],[204,47,205,51],[204,52,205,54],[206,0,207,0],[206,14,207,15],[206,16,207,18],[206,19,207,22],[206,23,207,27],[206,28,207,30],[206,31,207,35],[206,36,207,38],[206,39,207,43],[206,44,207,46],[206,47,207,51],[206,52,207,54],[200,0,201,0],[200,1,200,13],[200,14,201,15],[200,16,201,18],[200,19,201,22],[200,23,201,27],[200,28,201,30],[200,31,201,35],[200,36,201,38],[200,39,201,43],[200,44,201,46],[200,47,201,51],[200,52,201,54],[202,0,203,0],[202,14,203,15],[202,16,203,18],[202,19,203,22],[202,23,203,27],[202,28,203,30],[202,31,203,35],[202,36,203,38],[202,39,203,43],[202,44,203,46],[202,47,203,51],[202,52,203,54],[196,0,197,0],[196,1,196,13],[196,14,197,15],[196,16,197,18],[196,19,197,22],[196,23,197,27],[196,28,197,30],[196,31,197,35],[196,36,197,38],[196,39,197,43],[196,44,197,46],[196,47,197,51],[196,52,197,54],[197,1,197,13],[198,0,199,0],[198,1,198,13],[198,14,199,15],[198,16,199,18],[198,19,199,22],[198,23,199,27],[198,28,199,30],[198,31,199,35],[198,36,199,38],[198,39,199,43],[198,44,199,46],[198,47,199,51],[198,52,199,54],[199,1,199,13],[192,0,193,0],[192,1,192,13],[192,14,193,15],[192,16,193,18],[192,19,193,22],[192,23,193,27],[192,28,193,30],[192,31,193,35],[192,36,193,38],[192,39,193,43],[192,44,193,46],[192,47,193,51],[192,52,193,54],[193,1,193,13],[194,0,195,0],[194,1,194,13],[194,14,195,15],[194,16,195,18],[194,19,195,22],[194,23,195,27],[194,28,195,30],[194,31,195,35],[194,36,195,38],[194,39,195,43],[194,44,195,46],[194,47,195,51],[194,52,195,54],[195,1,195,13],[188,0,189,0],[188,1,188,13],[188,14,189,15],[188,16,189,18],[188,19,189,22],[188,23,189,27],[188,28,189,30],[188,31,189,35],[188,36,189,38],[188,39,189,43],[188,44,189,46],[188,47,189,51],[188,52,189,54],[189,1,189,13],[190,0,191,0],[190,1,190,13],[190,14,191,15],[190,16,191,18],[190,19,191,22],[190,23,191,27],[190,28,191,30],[190,31,191,35],[190,36,191,38],[190,39,191,43],[190,44,191,46],[190,47,191,51],[190,52,191,54],[191,1,191,13],[160,0,161,0],[160,14,161,15],[160,16,161,18],[160,19,161,22],[160,23,161,27],[160,28,161,30],[160,31,161,35],[160,36,161,38],[160,39,161,43],[160,44,161,46],[160,47,161,51],[160,52,161,54],[186,0,187,0],[186,1,186,13],[186,14,187,15],[186,16,187,18],[186,19,187,22],[186,23,187,27],[186,28,187,30],[186,31,187,35],[186,36,187,38],[186,39,187,43],[186,44,187,46],[186,47,187,51],[186,52,187,54],[187,1,187,13],[160,1,160,13],[162,31,162,35],[162,36,162,38],[162,39,162,43],[162,44,162,46],[162,47,162,51],[156,0,157,0],[156,14,157,15],[156,16,157,18],[156,19,157,22],[156,23,157,27],[156,28,157,30],[156,31,157,35],[156,36,157,38],[156,39,157,43],[156,44,157,46],[156,47,157,51],[156,52,157,54],[158,0,159,0],[158,14,159,15],[158,16,159,18],[158,19,159,22],[158,23,159,27],[158,28,159,30],[158,31,159,35],[158,36,159,38],[158,39,159,43],[158,44,159,46],[158,47,159,51],[158,52,159,54],[156,1,156,13],[158,1,158,13],[157,1,157,13],[159,1,159,13],[152,0,153,0],[152,14,153,15],[152,16,153,18],[152,19,153,22],[152,23,153,27],[152,28,153,30],[152,31,153,35],[152,36,153,38],[152,39,153,43],[152,44,153,46],[152,47,153,51],[152,52,153,54],[154,0,155,0],[154,14,155,15],[154,16,155,18],[154,19,155,22],[154,23,155,27],[154,28,155,30],[154,31,155,35],[154,36,155,38],[154,39,155,43],[154,44,155,46],[154,47,155,51],[154,52,155,54],[155,1,155,13],[148,0,149,0],[148,14,149,15],[148,16,149,18],[148,19,149,22],[148,23,149,27],[148,28,149,30],[148,31,149,35],[148,36,149,38],[148,39,149,43],[148,44,149,46],[148,47,149,51],[148,52,149,54],[150,0,151,0],[150,14,151,15],[150,16,151,18],[150,19,151,22],[150,23,151,27],[150,28,151,30],[150,31,151,35],[150,36,151,38],[150,39,151,43],[150,44,151,46],[150,47,151,51],[150,52,151,54],[144,0,145,0],[144,1,144,13],[144,14,145,15],[144,16,145,18],[144,19,145,22],[144,23,145,27],[144,28,145,30],[144,31,145,35],[144,36,145,38],[144,39,145,43],[144,44,145,46],[144,47,145,51],[144,52,145,54],[145,1,145,13],[146,0,147,0],[146,1,146,13],[146,14,147,15],[146,16,147,18],[146,19,147,22],[146,23,147,27],[146,28,147,30],[146,31,147,35],[146,36,147,38],[146,39,147,43],[146,44,147,46],[146,47,147,51],[146,52,147,54],[140,0,141,0],[140,1,140,13],[140,14,141,15],[140,16,141,18],[140,19,141,22],[140,23,141,27],[140,28,141,30],[140,31,141,35],[140,36,141,38],[140,39,141,43],[140,44,141,46],[140,47,141,51],[140,52,141,54],[141,1,141,13],[142,0,143,0],[142,1,142,13],[142,14,143,15],[142,16,143,18],[142,19,143,22],[142,23,143,27],[142,28,143,30],[142,31,143,35],[142,36,143,38],[142,39,143,43],[142,44,143,46],[142,47,143,51],[142,52,143,54],[143,1,143,13],[136,0,137,0],[136,1,136,13],[136,14,137,15],[136,16,137,18],[136,19,137,22],[136,23,137,27],[136,28,137,30],[136,31,137,35],[136,36,137,38],[136,39,137,43],[136,44,137,46],[136,47,137,51],[136,52,137,54],[137,1,137,13],[138,0,139,0],[138,1,138,13],[138,14,139,15],[138,16,139,18],[138,19,139,22],[138,23,139,27],[138,28,139,30],[138,31,139,35],[138,36,139,38],[138,39,139,43],[138,44,139,46],[138,47,139,51],[138,52,139,54],[139,1,139,13],[132,0,133,0],[132,1,132,13],[132,14,133,15],[132,16,133,18],[132,19,133,22],[132,23,133,27],[132,28,133,30],[132,31,133,35],[132,36,133,38],[132,39,133,43],[132,44,133,46],[132,47,133,51],[132,52,133,54],[133,1,133,13],[134,0,135,0],[134,1,134,13],[134,14,135,15],[134,16,135,18],[134,19,135,22],[134,23,135,27],[134,28,135,30],[134,31,135,35],[134,36,135,38],[134,39,135,43],[134,44,135,46],[134,47,135,51],[134,52,135,54],[135,1,135,13],[104,0,105,0],[104,14,105,15],[104,16,105,18],[104,19,105,22],[104,23,105,27],[104,28,105,30],[104,31,105,35],[104,36,105,38],[104,39,105,43],[104,44,105,46],[104,47,105,51],[104,52,105,54],[106,0,107,0],[106,14,107,15],[106,16,107,18],[106,19,107,22],[106,23,107,27],[106,28,107,30],[106,31,107,35],[106,36,107,38],[106,39,107,43],[106,44,107,46],[106,47,107,51],[106,52,107,54],[100,0,101,0],[100,14,101,15],[100,16,101,18],[100,19,101,22],[100,23,101,27],[100,28,101,30],[100,31,101,35],[100,36,101,38],[100,39,101,43],[100,44,101,46],[100,47,101,51],[100,52,101,54],[102,0,103,0],[102,14,103,15],[102,16,103,18],[102,19,103,22],[102,23,103,27],[102,28,103,30],[102,31,103,35],[102,36,103,38],[102,39,103,43],[102,44,103,46],[102,47,103,51],[102,52,103,54],[96,0,97,0],[96,14,97,15],[96,16,97,18],[96,19,97,22],[96,23,97,27],[96,28,97,30],[96,31,97,35],[96,36,97,38],[96,39,97,43],[96,44,97,46],[96,47,97,51],[96,52,97,54],[98,0,99,0],[98,14,99,15],[98,16,99,18],[98,19,99,22],[98,23,99,27],[98,28,99,30],[98,31,99,35],[98,36,99,38],[98,39,99,43],[98,44,99,46],[98,47,99,51],[98,52,99,54],[92,0,93,0],[92,1,92,13],[92,14,93,15],[92,16,93,18],[92,19,93,22],[92,23,93,27],[92,28,93,30],[92,31,93,35],[92,36,93,38],[92,39,93,43],[92,44,93,46],[92,47,93,51],[92,52,93,54],[94,0,95,0],[94,14,95,15],[94,16,95,18],[94,19,95,22],[94,23,95,27],[94,28,95,30],[94,31,95,35],[94,36,95,38],[94,39,95,43],[94,44,95,46],[94,47,95,51],[94,52,95,54],[88,0,89,0],[88,1,88,13],[88,14,89,15],[88,16,89,18],[88,19,89,22],[88,23,89,27],[88,28,89,30],[88,31,89,35],[88,36,89,38],[88,39,89,43],[88,44,89,46],[88,47,89,51],[88,52,89,54],[89,1,89,13],[90,0,91,0],[90,1,90,13],[90,14,91,15],[90,16,91,18],[90,19,91,22],[90,23,91,27],[90,28,91,30],[90,31,91,35],[90,36,91,38],[90,39,91,43],[90,44,91,46],[90,47,91,51],[90,52,91,54],[91,1,91,13],[84,0,85,0],[84,1,84,13],[84,14,85,15],[84,16,85,18],[84,19,85,22],[84,23,85,27],[84,28,85,30],[84,31,85,35],[84,36,85,38],[84,39,85,43],[84,44,85,46],[84,47,85,51],[84,52,85,54],[85,1,85,13],[86,0,87,0],[86,1,86,13],[86,14,87,15],[86,16,87,18],[86,19,87,22],[86,23,87,27],[86,28,87,30],[86,31,87,35],[86,36,87,38],[86,39,87,43],[86,44,87,46],[86,47,87,51],[86,52,87,54],[87,1,87,13],[80,0,81,0],[80,1,80,13],[80,14,81,15],[80,16,81,18],[80,19,81,22],[80,23,81,27],[80,28,81,30],[80,31,81,35],[80,36,81,38],[80,39,81,43],[80,44,81,46],[80,47,81,51],[80,52,81,54],[81,1,81,13],[82,0,83,0],[82,1,82,13],[82,14,83,15],[82,16,83,18],[82,19,83,22],[82,23,83,27],[82,28,83,30],[82,31,83,35],[82,36,83,38],[82,39,83,43],[82,44,83,46],[82,47,83,51],[82,52,83,54],[83,1,83,13],[55,0,56,0],[55,14,56,15],[55,16,56,18],[55,19,56,22],[55,23,56,27],[55,28,56,30],[55,31,56,35],[55,36,56,38],[55,39,56,43],[55,44,56,46],[55,47,56,51],[55,52,56,54],[78,0,79,0],[78,1,78,13],[78,14,79,15],[78,16,79,18],[78,19,79,22],[78,23,79,27],[78,28,79,30],[78,31,79,35],[78,36,79,38],[78,39,79,43],[78,44,79,46],[78,47,79,51],[78,52,79,54],[79,1,79,13],[55,1,55,13],[57,31,57,35],[57,36,57,38],[57,39,57,43],[57,44,57,46],[57,47,57,51],[51,0,52,0],[51,14,52,15],[51,16,52,18],[51,19,52,22],[51,23,52,27],[51,28,52,30],[51,31,52,35],[51,36,52,38],[51,39,52,43],[51,44,52,46],[51,47,52,51],[51,52,52,54],[53,0,54,0],[53,14,54,15],[53,16,54,18],[53,19,54,22],[53,23,54,27],[53,28,54,30],[53,31,54,35],[53,36,54,38],[53,39,54,43],[53,44,54,46],[53,47,54,51],[53,52,54,54],[51,1,51,13],[53,1,53,13],[52,1,52,13],[54,1,54,13],[47,0,48,0],[47,14,48,15],[47,16,48,18],[47,19,48,22],[47,23,48,27],[47,28,48,30],[47,31,48,35],[47,36,48,38],[47,39,48,43],[47,44,48,46],[47,47,48,51],[47,52,48,54],[49,0,50,0],[49,14,50,15],[49,16,50,18],[49,19,50,22],[49,23,50,27],[49,28,50,30],[49,31,50,35],[49,36,50,38],[49,39,50,43],[49,44,50,46],[49,47,50,51],[49,52,50,54],[47,1,47,13],[49,1,49,13],[48,1,48,13],[50,1,50,13],[43,0,44,0],[43,1,43,13],[43,14,44,15],[43,16,44,18],[43,19,44,22],[43,23,44,27],[43,28,44,30],[43,31,44,35],[43,36,44,38],[43,39,44,43],[43,44,44,46],[43,47,44,51],[43,52,44,54],[44,1,44,13],[45,0,46,0],[45,1,45,13],[45,14,46,15],[45,16,46,18],[45,19,46,22],[45,23,46,27],[45,28,46,30],[45,31,46,35],[45,36,46,38],[45,39,46,43],[45,44,46,46],[45,47,46,51],[45,52,46,54],[46,1,46,13],[39,0,40,0],[39,1,39,13],[39,14,40,15],[39,16,40,18],[39,19,40,22],[39,23,40,27],[39,28,40,30],[39,31,40,35],[39,36,40,38],[39,39,40,43],[39,44,40,46],[39,47,40,51],[39,52,40,54],[40,1,40,13],[41,0,42,0],[41,1,41,13],[41,14,42,15],[41,16,42,18],[41,19,42,22],[41,23,42,27],[41,28,42,30],[41,31,42,35],[41,36,42,38],[41,39,42,43],[41,44,42,46],[41,47,42,51],[41,52,42,54],[42,1,42,13],[35,0,36,0],[35,1,35,13],[35,14,36,15],[35,16,36,18],[35,19,36,22],[35,23,36,27],[35,28,36,30],[35,31,36,35],[35,36,36,38],[35,39,36,43],[35,44,36,46],[35,47,36,51],[35,52,36,54],[36,1,36,13],[37,0,38,0],[37,1,37,13],[37,14,38,15],[37,16,38,18],[37,19,38,22],[37,23,38,27],[37,28,38,30],[37,31,38,35],[37,36,38,38],[37,39,38,43],[37,44,38,46],[37,47,38,51],[37,52,38,54],[38,1,38,13],[4,43,6,47],[4,48,6,54],[6,17,8,19],[11,1,12,14],[14,1,15,2],[14,3,15,8],[14,9,15,10],[14,11,15,17],[0,8,4,33],[0,50,2,50],[1,39,2,41],[1,42,2,43],[1,44,2,44],[1,45,2,45],[1,46,2,46],[1,47,2,47],[1,48,2,48],[4,37,6,42],[7,37,8,54],[9,37,18,54],[0,51,2,55],[22,33,24,34],[22,35,24,36],[22,37,24,40],[24,19,26,23],[24,24,26,31],[26,34,31,34],[26,35,28,40],[27,19,29,27],[27,28,29,31],[29,35,31,40],[17,1,21,5],[17,6,21,15],[21,19,23,23],[21,24,23,31],[22,1,31,1],[22,2,26,5],[22,6,26,15],[27,2,31,5],[27,6,31,15],[30,19,31,23],[33,52,34,54],[34,14,34,15],[34,16,34,18],[34,19,34,22],[34,23,34,27],[34,28,34,30],[34,31,34,35],[34,36,34,38],[34,39,34,43],[34,44,34,46],[30,24,31,27],[33,1,34,13],[33,14,33,27],[33,28,33,35],[33,36,33,43],[33,44,33,51],[34,47,34,51],[57,52,57,54],[57,1,57,13],[57,14,57,15],[57,16,57,18],[57,19,57,22],[57,23,57,27],[57,28,57,30],[56,1,56,13],[76,44,76,51],[76,52,77,54],[77,14,77,15],[77,16,77,18],[77,19,77,22],[77,23,77,27],[77,28,77,30],[77,31,77,35],[77,36,77,38],[77,39,77,43],[72,19,74,22],[72,24,74,29],[76,1,77,13],[76,14,76,27],[76,28,76,35],[76,36,76,43],[59,1,65,17],[59,50,61,50],[69,1,71,5],[69,6,71,13],[69,23,74,23],[69,24,71,29],[72,1,74,5],[72,6,74,13],[72,15,74,16],[72,17,74,18],[94,1,94,13],[77,44,77,46],[77,47,77,51],[93,1,93,13],[96,1,96,13],[95,1,95,13],[98,1,98,13],[97,1,97,13],[100,1,100,13],[99,1,99,13],[102,1,102,13],[101,1,101,13],[104,1,104,13],[103,1,103,13],[106,1,106,13],[105,1,105,13],[108,31,108,35],[108,36,108,38],[108,39,108,43],[108,44,108,46],[108,47,108,51],[108,52,108,54],[108,1,108,13],[108,14,108,15],[108,16,108,18],[108,19,108,22],[108,23,108,27],[108,28,108,30],[107,1,107,13],[130,44,130,51],[130,52,131,54],[131,14,131,15],[131,16,131,18],[131,19,131,22],[131,23,131,27],[131,28,131,30],[131,31,131,35],[131,36,131,38],[131,39,131,43],[126,19,128,22],[126,24,128,29],[130,1,131,13],[130,14,130,27],[130,28,130,35],[130,36,130,43],[113,1,119,17],[113,50,115,50],[123,1,125,5],[123,6,125,13],[123,23,128,23],[123,24,125,29],[126,1,128,5],[126,6,128,13],[126,15,128,16],[126,17,128,18],[148,1,148,13],[131,44,131,46],[131,47,131,51],[147,1,147,13],[150,1,150,13],[149,1,149,13],[152,1,152,13],[151,1,151,13],[154,1,154,13],[153,1,153,13],[162,52,162,54],[162,1,162,13],[162,14,162,15],[162,16,162,18],[162,19,162,22],[162,23,162,27],[162,28,162,30],[161,1,161,13],[184,44,184,51],[184,52,185,54],[185,14,185,15],[185,16,185,18],[185,19,185,22],[185,23,185,27],[185,28,185,30],[185,31,185,35],[185,36,185,38],[185,39,185,43],[180,19,182,22],[180,24,182,29],[184,1,185,13],[184,14,184,27],[184,28,184,35],[184,36,184,43],[167,1,173,17],[167,50,169,50],[177,1,179,5],[177,6,179,13],[177,23,182,23],[177,24,179,29],[180,1,182,5],[180,6,182,13],[180,15,182,16],[180,17,182,18],[202,1,202,13],[185,44,185,46],[185,47,185,51],[201,1,201,13],[204,1,204,13],[203,1,203,13],[206,1,206,13],[205,1,205,13],[208,1,208,13],[207,1,207,13],[210,1,210,13],[209,1,209,13],[212,1,212,13],[211,1,211,13],[214,1,214,13],[213,1,213,13],[214,36,215,38],[214,39,215,43],[214,44,215,46],[214,47,215,51],[216,31,216,35],[216,36,216,38],[216,39,216,43],[216,44,216,46],[216,47,216,51],[216,52,216,54],[216,1,216,13],[216,14,216,15],[216,16,216,18],[216,19,216,22],[216,23,216,27],[216,28,216,30],[215,1,215,13],[238,44,238,51],[238,52,239,54],[239,14,239,15],[239,16,239,18],[239,19,239,22],[239,23,239,27],[239,28,239,30],[239,31,239,35],[239,36,239,38],[239,39,239,43],[234,19,236,22],[234,24,236,29],[238,1,239,13]],"merged_total":1200,"flags":["merged_cut"]}
[null,null,null,null,null,null,null,null,"請 求 書（出来高・分割納入用）",null,null,null,null,null,null,null,null,null,null,null,null,null,null,null,null,null,null,null,null,null,null,null,null,null,null,null,null,null,null,null,null,null,null,null,null,null,null,null,null,null,"No."]
[null,null,null,null,null,null,null,null,null,null,null,null,null,null,null,null,null,null,null,null,null,null,null,null,null,null,null,null,null,null,null,null,null,null,null,null,null,null,null,"日付",null,null,null,null,"年",null,"月",null,"日"]
[]
[]
[null,null,null,null,null,null,null,null,null,null,null,null,null,null,null,null,null,null,null,null,null,null,null,null,null,null,null,null,null,null,null,null,null,null,null,null,null,"請求者住所･氏名･印･電話",null,null,null,null,null,"取引先コード",null,null,null,null,{"$f":"入力フォーム!B3","v":0}]
[]
[null,null,null,null,null,null,null,null,null,null,null,null,null,null,null,null,null,"御中"]
[null,null,null,null,null,null,null,null,null,null,null,null,null,null,null,null,null,null,null,null,null,null,null,null,null,null,null,null,null,null,null,null,null,null,null,null,null,{"$f":"\"登録番号\"&\" \"&入力フォーム!B4","v":"登録番号 "}]
[]
[]
[]
[null,"下記の通り請求いたします。"]
[]
[]
[null,null,null,"月分請求内訳書",null,null,null,null,null,null,null,"枚 (本用紙を含む)"]
[]
[]
[null,"請 求 金 額",null,null,null,null,{"$f":"SUM(G23:P32)","v":0}]
[]
[]
[]
[null,null,null,null,null,null,null,null,null,null,null,null,null,null,null,null,null,null,null,"製造番号",null,null,null,null,{"$f":"見積書!$B$47","v":""}]
[null,"内　訳","税抜金額",null,null,null,{"$f":"AN58+AN109+AN163+AN217+AN257","v":0},null,null,null,null,null,null,null,null,null,null,null,null,null,null,null,null,null,null,null,null,null,null,null,null,null,null,"第",null,13,null,"回請求"]
[]
[null,null,null,null,null,null,null,null,null,null,null,null,null,null,null,null,null,null,null,"注文番号",null,null,null,null,{"$f":"IF('出来高内訳書 (第1回請求)'!Y25=\"\",\"\",'出来高内訳書 (第1回請求)'!Y25)","v":""}]
[]
[null,null,null,null,null,null,null,null,null,null,null,null,null,null,null,null,null,null,null,null,null,null,null,null,null,null,null,null,null,null,null,null,null,null,"※科目"]
[null,null,"消費税額等",null,null,null,{"$f":"IF(AC28=\"10％\",ROUNDDOWN(G23*10%,0),IF(AC28=\"(軽)8%\",ROUNDDOWN(G23*8%,0),0))","v":0},null,null,null,null,null,null,null,null,null,null,null,null,"消費税率",null,null,null,null,null,null,null,null,{"$f":"入力フォーム!B10","v":"10％"}]
[]
[]
[]
[]
[]
[null,"工　種・品　名",null,null,null,null,null,null,null,null,null,null,null,null,"契　約　金　額",null,null,null,null,null,null,null,null,null,null,null,null,null,"前回までの出来高",null,null,null,null,null,null,null,"今回出来高",null,null,null,null,null,null,null,"残高",null,null,null,null,null,null,null,"備　考"]
[null,null,null,null,null,null,null,null,null,null,null,null,null,null,"単位",null,"数量",null,null,"単価",null,null,null,"金額",null,null,null,null,"数量",null,null,"金額",null,null,null,null,"数量",null,null,"金額",null,null,null,null,"数量",null,null,"金額"]
[1,{"$f":"見積書!F61","v":""},null,null,null,null,null,null,null,null,null,null,null,null,{"$f":"見積書!Q61","v":""},null,{"$f":"見積書!R61","v":""},null,null,{"$f":"見積書!S61","v":""},null,null,null,{"$f":"見積書!T61","v":""},null,null,null,null,{"$f":"IF(Q36=\"\",\"\",'出来高内訳書 (第12回請求)'!AC36+'出来高内訳書 (第12回請求)'!AK36)","v":""},null,null,{"$f":"IF(T36=\"\",\"\",ROUND(T36*AC36,0))","v":""},null,null,null,null,null,null,null,{"$f":"IF(T36=\"\",\"\",ROUND(T36*AK36,0))","v":""},null,null,null,null,{"$f":"IF(Q36=\"\",\"\",ROUND(Q36-AC36-AK36,2))","v":""},null,null,{"$f":"IF(T36=\"\",\"\",(IF(AS36<0,\"出来高が契約を超過\",X36-AN36-AF36)))","v":""}]
[null,{"$f":"見積書!F62","v":""}]
[2,{"$f":"見積書!F63","v":""},null,null,null,null,null,null,null,null,null,null,null,null,{"$f":"見積書!Q63","v":""},null,{"$f":"見積書!R63","v":""},null,null,{"$f":"見積書!S63","v":""},null,null,null,{"$f":"見積書!T63","v":""},null,null,null,null,{"$f":"IF(Q38=\"\",\"\",'出来高内訳書 (第12回請求)'!AC38+'出来高内訳書 (第12回請求)'!AK38)","v":""},null,null,{"$f":"IF(T38=\"\",\"\",ROUND(T38*AC38,0))","v":""},null,null,null,null,null,null,null,{"$f":"IF(T38=\"\",\"\",ROUND(T38*AK38,0))","v":""},null,null,null,null,{"$f":"IF(Q38=\"\",\"\",ROUND(Q38-AC38-AK38,2))","v":""},null,null,{"$f":"IF(T38=\"\",\"\",(IF(AS38<0,\"出来高が契約を超過\",X38-AN38-AF38)))","v":""}]
[null,{"$f":"見積書!F64","v":""}]
[3,{"$f":"見積書!F65","v":""},null,null,null,null,null,null,null,null,null,null,null,null,{"$f":"見積書!Q65","v":""},null,{"$f":"見積書!R65","v":""},null,null,{"$f":"見積書!S65","v":""},null,null,null,{"$f":"見積書!T65","v":""},null,null,null,null,{"$f":"IF(Q40=\"\",\"\",'出来高内訳書 (第12回請求)'!AC40+'出来高内訳書 (第12回請求)'!AK40)","v":""},null,null,{"$f":"IF(T40=\"\",\"\",ROUND(T40*AC40,0))","v":""},null,null,null,null,null,null,null,{"$f":"IF(T40=\"\",\"\",ROUND(T40*AK40,0))","v":""},null,null,null,null,{"$f":"IF(Q40=\"\",\"\",ROUND(Q40-AC40-AK40,2))","v":""},null,null,{"$f":"IF(T40=\"\",\"\",(IF(AS40<0,\"出来高が契約を超過\",X40-AN40-AF40)))","v":""}]
[null,{"$f":"見積書!F66","v":""}]
[4,{"$f":"見積書!F67","v":""},null,null,null,null,null,null,null,null,null,null,null,null,{"$f":"見積書!Q67","v":""},null,{"$f":"見積書!R67","v":""},null,null,{"$f":"見積書!S67","v":""},null,null,null,{"$f":"見積書!T67","v":""},null,null,null,null,{"$f":"IF(Q42=\"\",\"\",'出来高内訳書 (第12回請求)'!AC42+'出来高内訳書 (第12回請求)'!AK42)","v":""},null,null,{"$f":"IF(T42=\"\",\"\",ROUND(T42*AC42,0))","v":""},null,null,null,null,null,null,null,{"$f":"IF(T42=\"\",\"\",ROUND(T42*AK42,0))","v":""},null,null,null,null,{"$f":"IF(Q42=\"\",\"\",ROUND(Q42-AC42-AK42,2))","v":""},null,null,{"$f":"IF(T42=\"\",\"\",(IF(AS42<0,\"出来高が契約を超過\",X42-AN42-AF42)))","v":""}]
[null,{"$f":"見積書!F68","v":""}]
[5,{"$f":"見積書!F69","v":""},null,null,null,null,null,null,null,null,null,null,null,null,{"$f":"見積書!Q69","v":""},null,{"$f":"見積書!R69","v":""},null,null,{"$f":"見積書!S69","v":""},null,null,null,{"$f":"見積書!T69","v":""},null,null,null,null,{"$f":"IF(Q44=\"\",\"\",'出来高内訳書 (第12回請求)'!AC44+'出来高内訳書 (第12回請求)'!AK44)","v":""},null,null,{"$f":"IF(T44=\"\",\"\",ROUND(T44*AC44,0))","v":""},null,null,null,null,null,null,null,{"$f":"IF(T44=\"\",\"\",ROUND(T44*AK44,0))","v":""},null,null,null,null,{"$f":"IF(Q44=\"\",\"\",ROUND(Q44-AC44-AK44,2))","v":""},null,null,{"$f":"IF(T44=\"\",\"\",(IF(AS44<0,\"出来高が契約を超過\",X44-AN44-AF44)))","v":""}]
[null,{"$f":"見積書!F70","v":""}]
[6,{"$f":"見積書!F71","v":""},null,null,null,null,null,null,null,null,null,null,null,null,{"$f":"見積書!Q71","v":""},null,{"$f":"見積書!R71","v":""},null,null,{"$f":"見積書!S71","v":""},null,null,null,{"$f":"見積書!T71","v":""},null,null,null,null,{"$f":"IF(Q46=\"\",\"\",'出来高内訳書 (第12回請求)'!AC46+'出来高内訳書 (第12回請求)'!AK46)","v":""},null,null,{"$f":"IF(T46=\"\",\"\",ROUND(T46*AC46,0))","v":""},null,null,null,null,null,null,null,{"$f":"IF(T46=\"\",\"\",ROUND(T46*AK46,0))","v":""},null,null,null,null,{"$f":"IF(Q46=\"\",\"\",ROUND(Q46-AC46-AK46,2))","v":""},null,null,{"$f":"IF(T46=\"\",\"\",(IF(AS46<0,\"出来高が契約を超過\",X46-AN46-AF46)))","v":""}]
[null,{"$f":"見積書!F72","v":""}]
[7,{"$f":"見積書!F73","v":""},null,null,null,null,null,null,null,null,null,null,null,null,{"$f":"見積書!Q73","v":""},null,{"$f":"見積書!R73","v":""},null,null,{"$f":"見積書!S73","v":""},null,null,null,{"$f":"見積書!T73","v":""},null,null,null,null,{"$f":"IF(Q48=\"\",\"\",'出来高内訳書 (第12回請求)'!AC48+'出来高内訳書 (第12回請求)'!AK48)","v":""},null,null,{"$f":"IF(T48=\"\",\"\",ROUND(T48*AC48,0))","v":""},null,null,null,null,null,null,null,{"$f":"IF(T48=\"\",\"\",ROUND(T48*AK48,0))","v":""},null,null,null,null,{"$f":"IF(Q48=\"\",\"\",ROUND(Q48-AC48-AK48,2))","v":""},null,null,{"$f":"IF(T48=\"\",\"\",(IF(AS48<0,\"出来高が契約を超過\",X48-AN48-AF48)))","v":""}]
[null,{"$f":"見積書!F74","v":""}]
[8,{"$f":"見積書!F75","v":""},null,null,null,null,null,null,null,null,null,null,null,null,{"$f":"見積書!Q75","v":""},null,{"$f":"見積書!R75","v":""},null,null,{"$f":"見積書!S75","v":""},null,null,null,{"$f":"見積書!T75","v":""},null,null,null,null,{"$f":"IF(Q50=\"\",\"\",'出来高内訳書 (第12回請求)'!AC50+'出来高内訳書 (第12回請求)'!AK50)","v":""},null,null,{"$f":"IF(T50=\"\",\"\",ROUND(T50*AC50,0))","v":""},null,null,null,null,null,null,null,{"$f":"IF(T50=\"\",\"\",ROUND(T50*AK50,0))","v":""},null,null,null,null,{"$f":"IF(Q50=\"\",\"\",ROUND(Q50-AC50-AK50,2))","v":""},null,null,{"$f":"IF(T50=\"\",\"\",(IF(AS50<0,\"出来高が契約を超過\",X50-AN50-AF50)))","v":""}]
[null,{"$f":"見積書!F76","v":""}]
[9,{"$f":"見積書!F77","v":""},null,null,null,null,null,null,null,null,null,null,null,null,{"$f":"見積書!Q77","v":""},null,{"$f":"見積書!R77","v":""},null,null,{"$f":"見積書!S77","v":""},null,null,null,{"$f":"見積書!T77","v":""},null,null,null,null,{"$f":"IF(Q52=\"\",\"\",'出来高内訳書 (第12回請求)'!AC52+'出来高内訳書 (第12回請求)'!AK52)","v":""},null,null,{"$f":"IF(T52=\"\",\"\",ROUND(T52*AC52,0))","v":""},null,null,null,null,null,null,null,{"$f":"IF(T52=\"\",\"\",ROUND(T52*AK52,0))","v":""},null,null,null,null,{"$f":"IF(Q52=\"\",\"\",ROUND(Q52-AC52-AK52,2))","v":""},null,null,{"$f":"IF(T52=\"\",\"\",(IF(AS52<0,\"出来高が契約を超過\",X52-AN52-AF52)))","v":""}]
[null,{"$f":"見積書!F78","v":""}]
[10,{"$f":"見積書!F79","v":""},null,null,null,null,null,null,null,null,null,null,null,null,{"$f":"見積書!Q79","v":""},null,{"$f":"見積書!R79","v":""},null,null,{"$f":"見積書!S79","v":""},null,null,null,{"$f":"見積書!T79","v":""},null,null,null,null,{"$f":"IF(Q54=\"\",\"\",'出来高内訳書 (第12回請求)'!AC54+'出来高内訳書 (第12回請求)'!AK54)","v":""},null,null,{"$f":"IF(T54=\"\",\"\",ROUND(T54*AC54,0))","v":""},null,null,null,null,null,null,null,{"$f":"IF(T54=\"\",\"\",ROUND(T54*AK54,0))","v":""},null,null,null,null,{"$f":"IF(Q54=\"\",\"\",ROUND(Q54-AC54-AK54,2))","v":""},null,null,{"$f":"IF(T54=\"\",\"\",(IF(AS54<0,\"出来高が契約を超過\",X54-AN54-AF54)))","v":""}]
[null,{"$f":"見積書!F80","v":""}]
[11,{"$f":"見積書!F81","v":""},null,null,null,null,null,null,null,null,null,null,null,null,{"$f":"見積書!Q81","v":""},null,{"$f":"見積書!R81","v":""},null,null,{"$f":"見積書!S81","v":""},null,null,null,{"$f":"見積書!T81","v":""},null,null,null,null,{"$f":"IF(Q56=\"\",\"\",'出来高内訳書 (第12回請求)'!AC56+'出来高内訳書 (第12回請求)'!AK56)","v":""},null,null,{"$f":"IF(T56=\"\",\"\",ROUND(T56*AC56,0))","v":""},null,null,null,null,null,null,null,{"$f":"IF(T56=\"\",\"\",ROUND(T56*AK56,0))","v":""},null,null,null,null,{"$f":"IF(Q56=\"\",\"\",ROUND(Q56-AC56-AK56,2))","v":""},null,null,{"$f":"IF(T56=\"\",\"\",(IF(AS56<0,\"出来高が契約を超過\",X56-AN56-AF56)))","v":""}]
[null,{"$f":"見積書!F82","v":""}]
[null,"小計",null,null,null,null,null,null,null,null,null,null,null,null,null,null,null,null,null,null,null,null,null,{"$f":"SUM(X36:AB57)","v":0},null,null,null,null,null,null,null,{"$f":"SUM(AF36:AJ57)","v":0},null,null,null,null,null,null,null,{"$f":"SUM(AN36:AR57)","v":0},null,null,null,null,null,null,null,{"$f":"X58-AF58-AN58","v":0}]
[]
[null,"請求内訳書（出来高・分割納入用）",null,null,null,null,null,null,null,null,null,null,null,null,null,null,null,null,null,null,null,null,null,null,null,null,null,null,null,null,null,null,null,null,null,null,null,null,null,null,null,null,null,null,null,null,null,null,null,null,"No."]
[]
[]
[]
[]
[]
[]
[]
[]
[]
[null,"製造番号",null,null,null,null,{"$f":"Y22","v":""},null,null,null,null,null,null,null,null,null,null,null,null,null,null,null,null,"※科目"]
[]
[]
[null,"注文番号",null,null,null,null,{"$f":"Y25","v":""},null,null,null,null,null,null,null,null,"第",null,{"$f":"AJ23","v":13},null,"回請求"]
[]
[]
[]
[null,"工　種・品　名",null,null,null,null,null,null,null,null,null,null,null,null,"契　約　金　額",null,null,null,null,null,null,null,null,null,null,null,null,null,"前回までの出来高",null,null,null,null,null,null,null,"今回出来高",null,null,null,null,null,null,null,"残高",null,null,null,null,null,null,null,"備　考"]
[null,null,null,null,null,null,null,null,null,null,null,null,null,null,"単位",null,"数量",null,null,"単価",null,null,null,"金額",null,null,null,null,"数量",null,null,"金額",null,null,null,null,"数量",null,null,"金額",null,null,null,null,"数量",null,null,"金額"]
[12,{"$f":"見積書!F83","v":""},null,null,null,null,null,null,null,null,null,null,null,null,{"$f":"見積書!Q83","v":""},null,{"$f":"見積書!R83","v":""},null,null,{"$f":"見積書!S83","v":""},null,null,null,{"$f":"見積書!T83","v":""},null,null,null,null,{"$f":"IF(Q79=\"\",\"\",'出来高内訳書 (第12回請求)'!AC79+'出来高内訳書 (第12回請求)'!AK79)","v":""},null,null,{"$f":"IF(T79=\"\",\"\",ROUND(T79*AC79,0))","v":""},null,null,null,null,null,null,null,{"$f":"IF(T79=\"\",\"\",ROUND(T79*AK79,0))","v":""},null,null,null,null,{"$f":"IF(Q79=\"\",\"\",ROUND(Q79-AC79-AK79,2))","v":""},null,null,{"$f":"IF(T79=\"\",\"\",(IF(X79-AF79-AN79>=0,X79-AF79-AN79,\"出来高が契約を超過\")))","v":""}]
[null,{"$f":"見積書!F84","v":""}]
[13,{"$f":"見積書!F85","v":""},null,null,null,null,null,null,null,null,null,null,null,null,{"$f":"見積書!Q85","v":""},null,{"$f":"見積書!R85","v":""},null,null,{"$f":"見積書!S85","v":""},null,null,null,{"$f":"見積書!T85","v":""},null,null,null,null,{"$f":"IF(Q81=\"\",\"\",'出来高内訳書 (第12回請求)'!AC81+'出来高内訳書 (第12回請求)'!AK81)","v":""},null,null,{"$f":"IF(T81=\"\",\"\",ROUND(T81*AC81,0))","v":""},null,null,null,null,null,null,null,{"$f":"IF(T81=\"\",\"\",ROUND(T81*AK81,0))","v":""},null,null,null,null,{"$f":"IF(Q81=\"\",\"\",ROUND(Q81-AC81-AK81,2))","v":""},null,null,{"$f":"IF(T81=\"\",\"\",(IF(X81-AF81-AN81>=0,X81-AF81-AN81,\"出来高が契約を超過\")))","v":""}]
[null,{"$f":"見積書!F86","v":""}]
[14,{"$f":"'見積書 (2)'!F26","v":""},null,null,null,null,null,null,null,null,null,null,null,null,{"$f":"'見積書 (2)'!Q26","v":""},null,{"$f":"'見積書 (2)'!R26","v":""},null,null,{"$f":"'見積書 (2)'!S26","v":""},null,null,null,{"$f":"'見積書 (2)'!T26","v":""},null,null,null,null,{"$f":"IF(Q83=\"\",\"\",'出来高内訳書 (第12回請求)'!AC83+'出来高内訳書 (第12回請求)'!AK83)","v":""},null,null,{"$f":"IF(T83=\"\",\"\",ROUND(T83*AC83,0))","v":""},null,null,null,null,null,null,null,{"$f":"IF(T83=\"\",\"\",ROUND(T83*AK83,0))","v":""},null,null,null,null,{"$f":"IF(Q83=\"\",\"\",ROUND(Q83-AC83-AK83,2))","v":""},null,null,{"$f":"IF(T83=\"\",\"\",(IF(X83-AF83-AN83>=0,X83-AF83-AN83,\"出来高が契約を超過\")))","v":""}]
[null,{"$f":"'見積書 (2)'!F27","v":""}]
[15,{"$f":"'見積書 (2)'!F28","v":""},null,null,null,null,null,null,null,null,null,null,null,null,{"$f":"'見積書 (2)'!Q28","v":""},null,{"$f":"'見積書 (2)'!R28","v":""},null,null,{"$f":"'見積書 (2)'!S28","v":""},null,null,null,{"$f":"'見積書 (2)'!T28","v":""},null,null,null,null,{"$f":"IF(Q85=\"\",\"\",'出来高内訳書 (第12回請求)'!AC85+'出来高内訳書 (第12回請求)'!AK85)","v":""},null,null,{"$f":"IF(T85=\"\",\"\",ROUND(T85*AC85,0))","v":""},null,null,null,null,null,null,null,{"$f":"IF(T85=\"\",\"\",ROUND(T85*AK85,0))","v":""},null,null,null,null,{"$f":"IF(Q85=\"\",\"\",ROUND(Q85-AC85-AK85,2))","v":""},null,null,{"$f":"IF(T85=\"\",\"\",(IF(X85-AF85-AN85>=0,X85-AF85-AN85,\"出来高が契約を超過\")))","v":""}]
[null,{"$f":"'見積書 (2)'!F29","v":""}]
[16,{"$f":"'見積書 (2)'!F30","v":""},null,null,null,null,null,null,null,null,null,null,null,null,{"$f":"'見積書 (2)'!Q30","v":""},null,{"$f":"'見積書 (2)'!R30","v":""},null,null,{"$f":"'見積書 (2)'!S30","v":""},null,null,null,{"$f":"'見積書 (2)'!T30","v":""},null,null,null,null,{"$f":"IF(Q87=\"\",\"\",'出来高内訳書 (第12回請求)'!AC87+'出来高内訳書 (第12回請求)'!AK87)","v":""},null,null,{"$f":"IF(T87=\"\",\"\",ROUND(T87*AC87,0))","v":""},null,null,null,null,null,null,null,{"$f":"IF(T87=\"\",\"\",ROUND(T87*AK87,0))","v":""},null,null,null,null,{"$f":"IF(Q87=\"\",\"\",ROUND(Q87-AC87-AK87,2))","v":""},null,null,{"$f":"IF(T87=\"\",\"\",(IF(X87-AF87-AN87>=0,X87-AF87-AN87,\"出来高が契約を超過\")))","v":""}]
[null,{"$f":"'見積書 (2)'!F31","v":""}]
[17,{"$f":"'見積書 (2)'!F32","v":""},null,null,null,null,null,null,null,null,null,null,null,null,{"$f":"'見積書 (2)'!Q32","v":""},null,{"$f":"'見積書 (2)'!R32","v":""},null,null,{"$f":"'見積書 (2)'!S32","v":""},null,null,null,{"$f":"'見積書 (2)'!T32","v":""},null,null,null,null,{"$f":"IF(Q89=\"\",\"\",'出来高内訳書 (第12回請求)'!AC89+'出来高内訳書 (第12回請求)'!AK89)","v":""},null,null,{"$f":"IF(T89=\"\",\"\",ROUND(T89*AC89,0))","v":""},null,null,null,null,null,null,null,{"$f":"IF(T89=\"\",\"\",ROUND(T89*AK89,0))","v":""},null,null,null,null,{"$f":"IF(Q89=\"\",\"\",ROUND(Q89-AC89-AK89,2))","v":""},null,null,{"$f":"IF(T89=\"\",\"\",(IF(X89-AF89-AN89>=0,X89-AF89-AN89,\"出来高が契約を超過\")))","v":""}]
[null,{"$f":"'見積書 (2)'!F33","v":""}]
[18,{"$f":"'見積書 (2)'!F34","v":""},null,null,null,null,null,null,null,null,null,null,null,null,{"$f":"'見積書 (2)'!Q34","v":""},null,{"$f":"'見積書 (2)'!R34","v":""},null,null,{"$f":"'見積書 (2)'!S34","v":""},null,null,null,{"$f":"'見積書 (2)'!T34","v":""},null,null,null,null,{"$f":"IF(Q91=\"\",\"\",'出来高内訳書 (第12回請求)'!AC91+'出来高内訳書 (第12回請求)'!AK91)","v":""},null,null,{"$f":"IF(T91=\"\",\"\",ROUND(T91*AC91,0))","v":""},null,null,null,null,null,null,null,{"$f":"IF(T91=\"\",\"\",ROUND(T91*AK91,0))","v":""},null,null,null,null,{"$f":"IF(Q91=\"\",\"\",ROUND(Q91-AC91-AK91,2))","v":""},null,null,{"$f":"IF(T91=\"\",\"\",(IF(X91-AF91-AN91>=0,X91-AF91-AN91,\"出来高が契約を超過\")))","v":""}]
[null,{"$f":"'見積書 (2)'!F35","v":""}]
[19,{"$f":"'見積書 (2)'!F36","v":""},null,null,null,null,null,null,null,null,null,null,null,null,{"$f":"'見積書 (2)'!Q36","v":""},null,{"$f":"'見積書 (2)'!R36","v":""},null,null,{"$f":"'見積書 (2)'!S36","v":""},null,null,null,{"$f":"'見積書 (2)'!T36","v":""},null,null,null,null,{"$f":"IF(Q93=\"\",\"\",'出来高内訳書 (第12回請求)'!AC93+'出来高内訳書 (第12回請求)'!AK93)","v":""},null,null,{"$f":"IF(T93=\"\",\"\",ROUND(T93*AC93,0))","v":""},null,null,null,null,null,null,null,{"$f":"IF(T93=\"\",\"\",ROUND(T93*AK93,0))","v":""},null,null,null,null,{"$f":"IF(Q93=\"\",\"\",ROUND(Q93-AC93-AK93,2))","v":""},null,null,{"$f":"IF(T93=\"\",\"\",(IF(X93-AF93-AN93>=0,X93-AF93-AN93,\"出来高が契約を超過\")))","v":""}]
[null,{"$f":"'見積書 (2)'!F37","v":""}]
[20,{"$f":"'見積書 (2)'!F38","v":""},null,null,null,null,null,null,null,null,null,null,null,null,{"$f":"'見積書 (2)'!Q38","v":""},null,{"$f":"'見積書 (2)'!R38","v":""},null,null,{"$f":"'見積書 (2)'!S38","v":""},null,null,null,{"$f":"'見積書 (2)'!T38","v":""},null,null,null,null,{"$f":"IF(Q95=\"\",\"\",'出来高内訳書 (第12回請求)'!AC95+'出来高内訳書 (第12回請求)'!AK95)","v":""},null,null,{"$f":"IF(T95=\"\",\"\",ROUND(T95*AC95,0))","v":""},null,null,null,null,null,null,null,{"$f":"IF(T95=\"\",\"\",ROUND(T95*AK95,0))","v":""},null,null,null,null,{"$f":"IF(Q95=\"\",\"\",ROUND(Q95-AC95-AK95,2))","v":""},null,null,{"$f":"IF(T95=\"\",\"\",(IF(X95-AF95-AN95>=0,X95-AF95-AN95,\"出来高が契約を超過\")))","v":""}]
[null,{"$f":"'見積書 (2)'!F39","v":""}]
[21,{"$f":"'見積書 (2)'!F40","v":""},null,null,null,null,null,null,null,null,null,null,null,null,{"$f":"'見積書 (2)'!Q40","v":""},null,{"$f":"'見積書 (2)'!R40","v":""},null,null,{"$f":"'見積書 (2)'!S40","v":""},null,null,null,{"$f":"'見積書 (2)'!T40","v":""},null,null,null,null,{"$f":"IF(Q97=\"\",\"\",'出来高内訳書 (第12回請求)'!AC97+'出来高内訳書 (第12回請求)'!AK97)","v":""},null,null,{"$f":"IF(T97=\"\",\"\",ROUND(T97*AC97,0))","v":""},null,null,null,null,null,null,null,{"$f":"IF(T97=\"\",\"\",ROUND(T97*AK97,0))","v":""},null,null,null,null,{"$f":"IF(Q97=\"\",\"\",ROUND(Q97-AC97-AK97,2))","v":""},null,null,{"$f":"IF(T97=\"\",\"\",(IF(X97-AF97-AN97>=0,X97-AF97-AN97,\"出来高が契約を超過\")))","v":""}]
[null,{"$f":"'見積書 (2)'!F41","v":""}]
[22,{"$f":"'見積書 (2)'!F42","v":""},null,null,null,null,null,null,null,null,null,null,null,null,{"$f":"'見積書 (2)'!Q42","v":""},null,{"$f":"'見積書 (2)'!R42","v":""},null,null,{"$f":"'見積書 (2)'!S42","v":""},null,null,null,{"$f":"'見積書 (2)'!T42","v":""},null,null,null,null,{"$f":"IF(Q99=\"\",\"\",'出来高内訳書 (第12回請求)'!AC99+'出来高内訳書 (第12回請求)'!AK99)","v":""},null,null,{"$f":"IF(T99=\"\",\"\",ROUND(T99*AC99,0))","v":""},null,null,null,null,null,null,null,{"$f":"IF(T99=\"\",\"\",ROUND(T99*AK99,0))","v":""},null,null,null,null,{"$f":"IF(Q99=\"\",\"\",ROUND(Q99-AC99-AK99,2))","v":""},null,null,{"$f":"IF(T99=\"\",\"\",(IF(X99-AF99-AN99>=0,X99-AF99-AN99,\"出来高が契約を超過\")))","v":""}]
[null,{"$f":"'見積書 (2)'!F43","v":""}]
[23,{"$f":"'見積書 (2)'!F44","v":""},null,null,null,null,null,null,null,null,null,null,null,null,{"$f":"'見積書 (2)'!Q44","v":""},null,{"$f":"'見積書 (2)'!R44","v":""},null,null,{"$f":"'見積書 (2)'!S44","v":""},null,null,null,{"$f":"'見積書 (2)'!T44","v":""},null,null,null,null,{"$f":"IF(Q101=\"\",\"\",'出来高内訳書 (第12回請求)'!AC101+'出来高内訳書 (第12回請求)'!AK101)","v":""},null,null,{"$f":"IF(T101=\"\",\"\",ROUND(T101*AC101,0))","v":""},null,null,null,null,null,null,null,{"$f":"IF(T101=\"\",\"\",ROUND(T101*AK101,0))","v":""},null,null,null,null,{"$f":"IF(Q101=\"\",\"\",ROUND(Q101-AC101-AK101,2))","v":""},null,null,{"$f":"IF(T101=\"\",\"\",(IF(X101-AF101-AN101>=0,X101-AF101-AN101,\"出来高が契約を超過\")))","v":""}]
[null,{"$f":"'見積書 (2)'!F45","v":""}]
[24,{"$f":"'見積書 (2)'!F46","v":""},null,null,null,null,null,null,null,null,null,null,null,null,{"$f":"'見積書 (2)'!Q46","v":""},null,{"$f":"'見積書 (2)'!R46","v":""},null,null,{"$f":"'見積書 (2)'!S46","v":""},null,null,null,{"$f":"'見積書 (2)'!T46","v":""},null,null,null,null,{"$f":"IF(Q103=\"\",\"\",'出来高内訳書 (第12回請求)'!AC103+'出来高内訳書 (第12回請求)'!AK103)","v":""},null,null,{"$f":"IF(T103=\"\",\"\",ROUND(T103*AC103,0))","v":""},null,null,null,null,null,null,null,{"$f":"IF(T103=\"\",\"\",ROUND(T103*AK103,0))","v":""},null,null,null,null,{"$f":"IF(Q103=\"\",\"\",ROUND(Q103-AC103-AK103,2))","v":""},null,null,{"$f":"IF(T103=\"\",\"\",(IF(X103-AF103-AN103>=0,X103-AF103-AN103,\"出来高が契約を超過\")))","v":""}]
[null,{"$f":"'見積書 (2)'!F47","v":""}]
[25,{"$f":"'見積書 (2)'!F48","v":""},null,null,null,null,null,null,null,null,null,null,null,null,{"$f":"'見積書 (2)'!Q48","v":""},null,{"$f":"'見積書 (2)'!R48","v":""},null,null,{"$f":"'見積書 (2)'!S48","v":""},null,null,null,{"$f":"'見積書 (2)'!T48","v":""},null,null,null,null,{"$f":"IF(Q105=\"\",\"\",'出来高内訳書 (第12回請求)'!AC105+'出来高内訳書 (第12回請求)'!AK105)","v":""},null,null,{"$f":"IF(T105=\"\",\"\",ROUND(T105*AC105,0))","v":""},null,null,null,null,null,null,null,{"$f":"IF(T105=\"\",\"\",ROUND(T105*AK105,0))","v":""},null,null,null,null,{"$f":"IF(Q105=\"\",\"\",ROUND(Q105-AC105-AK105,2))","v":""},null,null,{"$f":"IF(T105=\"\",\"\",(IF(X105-AF105-AN105>=0,X105-AF105-AN105,\"出来高が契約を超過\")))","v":""}]
[null,{"$f":"'見積書 (2)'!F49","v":""}]
[26,{"$f":"'見積書 (2)'!F50","v":""},null,null,null,null,null,null,null,null,null,null,null,null,{"$f":"'見積書 (2)'!Q50","v":""},null,{"$f":"'見積書 (2)'!R50","v":""},null,null,{"$f":"'見積書 (2)'!S50","v":""},null,null,null,{"$f":"'見積書 (2)'!T50","v":""},null,null,null,null,{"$f":"IF(Q107=\"\",\"\",'出来高内訳書 (第12回請求)'!AC107+'出来高内訳書 (第12回請求)'!AK107)","v":""},null,null,{"$f":"IF(T107=\"\",\"\",ROUND(T107*AC107,0))","v":""},null,null,null,null,null,null,null,{"$f":"IF(T107=\"\",\"\",ROUND(T107*AK107,0))","v":""},null,null,null,null,{"$f":"IF(Q107=\"\",\"\",ROUND(Q107-AC107-AK107,2))","v":""},null,null,{"$f":"IF(T107=\"\",\"\",(IF(X107-AF107-AN107>=0,X107-AF107-AN107,\"出来高が契約を超過\")))","v":""}]
[null,{"$f":"'見積書 (2)'!F51","v":""}]
[null,"小計",null,null,null,null,null,null,null,null,null,null,null,null,null,null,null,null,null,null,null,null,null,{"$f":"SUM(X79:AB108)","v":0},null,null,null,null,null,null,null,{"$f":"SUM(AF79:AJ108)","v":0},null,null,null,null,null,null,null,{"$f":"SUM(AN79:AR108)","v":0},null,null,null,null,null,null,null,{"$f":"X109-AF109-AN109","v":0}]
[]
[]
[]
[]
[null,"請求内訳書（出来高・分割納入用）",null,null,null,null,null,null,null,null,null,null,null,null,null,null,null,null,null,null,null,null,null,null,null,null,null,null,null,null,null,null,null,null,null,null,null,null,null,null,null,null,null,null,null,null,null,null,null,null,"No."]
[]
[]
[]
[]
[]
[]
[]
[]
[]
[null,"製造番号",null,null,null,null,{"$f":"Y22","v":""},null,null,null,null,null,null,null,null,null,null,null,null,null,null,null,null,"※科目"]
[]
[]
[null,"注文番号",null,null,null,null,{"$f":"Y25","v":""},null,null,null,null,null,null,null,null,"第",null,{"$f":"AJ23","v":13},null,"回請求"]
[]
[]
[]
[null,"工　種・品　名",null,null,null,null,null,null,null,null,null,null,null,null,"契　約　金　額",null,null,null,null,null,null,null,null,null,null,null,null,null,"前回までの出来高",null,null,null,null,null,null,null,"今回出来高",null,null,null,null,null,null,null,"残高",null,null,null,null,null,null,null,"備　考"]
[null,null,null,null,null,null,null,null,null,null,null,null,null,null,"単位",null,"数量",null,null,"単価",null,null,null,"金額",null,null,null,null,"数量",null,null,"金額",null,null,null,null,"数量",null,null,"金額",null,null,null,null,"数量",null,null,"金額"]
[27,{"$f":"'見積書 (2)'!F52","v":""},null,null,null,null,null,null,null,null,null,null,null,null,{"$f":"'見積書 (2)'!Q52","v":""},null,{"$f":"'見積書 (2)'!R52","v":""},null,null,{"$f":"'見積書 (2)'!S52","v":""},null,null,null,{"$f":"'見積書 (2)'!T52","v":""},null,null,null,null,{"$f":"IF(Q133=\"\",\"\",'出来高内訳書 (第12回請求)'!AC133+'出来高内訳書 (第12回請求)'!AK133)","v":""},null,null,{"$f":"IF(T133=\"\",\"\",ROUND(T133*AC133,0))","v":""},null,null,null,null,null,null,null,{"$f":"IF(T133=\"\",\"\",ROUND(T133*AK133,0))","v":""},null,null,null,null,{"$f":"IF(Q133=\"\",\"\",ROUND(Q133-AC133-AK133,2))","v":""},null,null,{"$f":"IF(T133=\"\",\"\",(IF(X133-AF133-AN133>=0,X133-AF133-AN133,\"出来高が契約を超過\")))","v":""}]
[null,{"$f":"'見積書 (2)'!F53","v":""}]
[28,{"$f":"'見積書 (2)'!F54","v":""},null,null,null,null,null,null,null,null,null,null,null,null,{"$f":"'見積書 (2)'!Q54","v":""},null,{"$f":"'見積書 (2)'!R54","v":""},null,null,{"$f":"'見積書 (2)'!S54","v":""},null,null,null,{"$f":"'見積書 (2)'!T54","v":""},null,null,null,null,{"$f":"IF(Q135=\"\",\"\",'出来高内訳書 (第12回請求)'!AC135+'出来高内訳書 (第12回請求)'!AK135)","v":""},null,null,{"$f":"IF(T135=\"\",\"\",ROUND(T135*AC135,0))","v":""},null,null,null,null,null,null,null,{"$f":"IF(T135=\"\",\"\",ROUND(T135*AK135,0))","v":""},null,null,null,null,{"$f":"IF(Q135=\"\",\"\",ROUND(Q135-AC135-AK135,2))","v":""},null,null,{"$f":"IF(T135=\"\",\"\",(IF(X135-AF135-AN135>=0,X135-AF135-AN135,\"出来高が契約を超過\")))","v":""}]
[null,{"$f":"'見積書 (2)'!F55","v":""}]
[29,{"$f":"'見積書 (2)'!F56","v":""},null,null,null,null,null,null,null,null,null,null,null,null,{"$f":"'見積書 (2)'!Q56","v":""},null,{"$f":"'見積書 (2)'!R56","v":""},null,null,{"$f":"'見積書 (2)'!S56","v":""},null,null,null,{"$f":"'見積書 (2)'!T56","v":""},null,null,null,null,{"$f":"IF(Q137=\"\",\"\",'出来高内訳書 (第12回請求)'!AC137+'出来高内訳書 (第12回請求)'!AK137)","v":""},null,null,{"$f":"IF(T137=\"\",\"\",ROUND(T137*AC137,0))","v":""},null,null,null,null,null,null,null,{"$f":"IF(T137=\"\",\"\",ROUND(T137*AK137,0))","v":""},null,null,null,null,{"$f":"IF(Q137=\"\",\"\",ROUND(Q137-AC137-AK137,2))","v":""},null,null,{"$f":"IF(T137=\"\",\"\",(IF(X137-AF137-AN137>=0,X137-AF137-AN137,\"出来高が契約を超過\")))","v":""}]
[null,{"$f":"'見積書 (2)'!F57","v":""}]
[30,{"$f":"'見積書 (2)'!F58","v":""},null,null,null,null,null,null,null,null,null,null,null,null,{"$f":"'見積書 (2)'!Q58","v":""},null,{"$f":"'見積書 (2)'!R58","v":""},null,null,{"$f":"'見積書 (2)'!S58","v":""},null,null,null,{"$f":"'見積書 (2)'!T58","v":""},null,null,null,null,{"$f":"IF(Q139=\"\",\"\",'出来高内訳書 (第12回請求)'!AC139+'出来高内訳書 (第12回請求)'!AK139)","v":""},null,null,{"$f":"IF(T139=\"\",\"\",ROUND(T139*AC139,0))","v":""},null,null,null,null,null,null,null,{"$f":"IF(T139=\"\",\"\",ROUND(T139*AK139,0))","v":""},null,null,null,null,{"$f":"IF(Q139=\"\",\"\",ROUND(Q139-AC139-AK139,2))","v":""},null,null,{"$f":"IF(T139=\"\",\"\",(IF(X139-AF139-AN139>=0,X139-AF139-AN139,\"出来高が契約を超過\")))","v":""}]
[null,{"$f":"'見積書 (2)'!F59","v":""}]
[31,{"$f":"'見積書 (2)'!F60","v":""},null,null,null,null,null,null,null,null,null,null,null,null,{"$f":"'見積書 (2)'!Q60","v":""},null,{"$f":"'見積書 (2)'!R60","v":""},null,null,{"$f":"'見積書 (2)'!S60","v":""},null,null,null,{"$f":"'見積書 (2)'!T60","v":""},null,null,null,null,{"$f":"IF(Q141=\"\",\"\",'出来高内訳書 (第12回請求)'!AC141+'出来高内訳書 (第12回請求)'!AK141)","v":""},null,null,{"$f":"IF(T141=\"\",\"\",ROUND(T141*AC141,0))","v":""},null,null,null,null,null,null,null,{"$f":"IF(T141=\"\",\"\",ROUND(T141*AK141,0))","v":""},null,null,null,null,{"$f":"IF(Q141=\"\",\"\",ROUND(Q141-AC141-AK141,2))","v":""},null,null,{"$f":"IF(T141=\"\",\"\",(IF(X141-AF141-AN141>=0,X141-AF141-AN141,\"出来高が契約を超過\")))","v":""}]
[null,{"$f":"'見積書 (2)'!F61","v":""}]
[32,{"$f":"'見積書 (2)'!F62","v":""},null,null,null,null,null,null,null,null,null,null,null,null,{"$f":"'見積書 (2)'!Q62","v":""},null,{"$f":"'見積書 (2)'!R62","v":""},null,null,{"$f":"'見積書 (2)'!S62","v":""},null,null,null,{"$f":"'見積書 (2)'!T62","v":""},null,null,null,null,{"$f":"IF(Q143=\"\",\"\",'出来高内訳書 (第12回請求)'!AC143+'出来高内訳書 (第12回請求)'!AK143)","v":""},null,null,{"$f":"IF(T143=\"\",\"\",ROUND(T143*AC143,0))","v":""},null,null,null,null,null,null,null,{"$f":"IF(T143=\"\",\"\",ROUND(T143*AK143,0))","v":""},null,null,null,null,{"$f":"IF(Q143=\"\",\"\",ROUND(Q143-AC143-AK143,2))","v":""},null,null,{"$f":"IF(T143=\"\",\"\",(IF(X143-AF143-AN143>=0,X143-AF143-AN143,\"出来高が契約を超過\")))","v":""}]
[null,{"$f":"'見積書 (2)'!F63","v":""}]
[33,{"$f":"'見積書 (2)'!F64","v":""},null,null,null,null,null,null,null,null,null,null,null,null,{"$f":"'見積書 (2)'!Q64","v":""},null,{"$f":"'見積書 (2)'!R64","v":""},null,null,{"$f":"'見積書 (2)'!S64","v":""},null,null,null,{"$f":"'見積書 (2)'!T64","v":""},null,null,null,null,{"$f":"IF(Q145=\"\",\"\",'出来高内訳書 (第12回請求)'!AC145+'出来高内訳書 (第12回請求)'!AK145)","v":""},null,null,{"$f":"IF(T145=\"\",\"\",ROUND(T145*AC145,0))","v":""},null,null,null,null,null,null,null,{"$f":"IF(T145=\"\",\"\",ROUND(T145*AK145,0))","v":""},null,null,null,null,{"$f":"IF(Q145=\"\",\"\",ROUND(Q145-AC145-AK145,2))","v":""},null,null,{"$f":"IF(T145=\"\",\"\",(IF(X145-AF145-AN145>=0,X145-AF145-AN145,\"出来高が契約を超過\")))","v":""}]
[null,{"$f":"'見積書 (2)'!F65","v":""}]
[34,{"$f":"'見積書 (2)'!F66","v":""},null,null,null,null,null,null,null,null,null,null,null,null,{"$f":"'見積書 (2)'!Q66","v":""},null,{"$f":"'見積書 (2)'!R66","v":""},null,null,{"$f":"'見積書 (2)'!S66","v":""},null,null,null,{"$f":"'見積書 (2)'!T66","v":""},null,null,null,null,{"$f":"IF(Q147=\"\",\"\",'出来高内訳書 (第12回請求)'!AC147+'出来高内訳書 (第12回請求)'!AK147)","v":""},null,null,{"$f":"IF(T147=\"\",\"\",ROUND(T147*AC147,0))","v":""},null,null,null,null,null,null,null,{"$f":"IF(T147=\"\",\"\",ROUND(T147*AK147,0))","v":""},null,null,null,null,{"$f":"IF(Q147=\"\",\"\",ROUND(Q147-AC147-AK147,2))","v":""},null,null,{"$f":"IF(T147=\"\",\"\",(IF(X147-AF147-AN147>=0,X147-AF147-AN147,\"出来高が契約を超過\")))","v":""}]
[null,{"$f":"'見積書 (2)'!F67","v":""}]
[35,{"$f":"'見積書 (2)'!F68","v":""},null,null,null,null,null,null,null,null,null,null,null,null,{"$f":"'見積書 (2)'!Q68","v":""},null,{"$f":"'見積書 (2)'!R68","v":""},null,null,{"$f":"'見積書 (2)'!S68","v":""},null,null,null,{"$f":"'見積書 (2)'!T68","v":""},null,null,null,null,{"$f":"IF(Q149=\"\",\"\",'出来高内訳書 (第12回請求)'!AC149+'出来高内訳書 (第12回請求)'!AK149)","v":""},null,null,{"$f":"IF(T149=\"\",\"\",ROUND(T149*AC149,0))","v":""},null,null,null,null,null,null,null,{"$f":"IF(T149=\"\",\"\",ROUND(T149*AK149,0))","v":""},null,null,null,null,{"$f":"IF(Q149=\"\",\"\",ROUND(Q149-AC149-AK149,2))","v":""},null,null,{"$f":"IF(T149=\"\",\"\",(IF(X149-AF149-AN149>=0,X149-AF149-AN149,\"出来高が契約を超過\")))","v":""}]
[null,{"$f":"'見積書 (2)'!F69","v":""}]
[36,{"$f":"'見積書 (3)'!F26","v":""},null,null,null,null,null,null,null,null,null,null,null,null,{"$f":"'見積書 (3)'!Q26","v":""},null,{"$f":"'見積書 (3)'!R26","v":""},null,null,{"$f":"'見積書 (3)'!S26","v":""},null,null,null,{"$f":"'見積書 (3)'!T26","v":""},null,null,null,null,{"$f":"IF(Q151=\"\",\"\",'出来高内訳書 (第12回請求)'!AC151+'出来高内訳書 (第12回請求)'!AK151)","v":""},null,null,{"$f":"IF(T151=\"\",\"\",ROUND(T151*AC151,0))","v":""},null,null,null,null,null,null,null,{"$f":"IF(T151=\"\",\"\",ROUND(T151*AK151,0))","v":""},null,null,null,null,{"$f":"IF(Q151=\"\",\"\",ROUND(Q151-AC151-AK151,2))","v":""},null,null,{"$f":"IF(T151=\"\",\"\",(IF(X151-AF151-AN151>=0,X151-AF151-AN151,\"出来高が契約を超過\")))","v":""}]
[null,{"$f":"'見積書 (3)'!F27","v":""}]
[37,{"$f":"'見積書 (3)'!F28","v":""},null,null,null,null,null,null,null,null,null,null,null,null,{"$f":"'見積書 (3)'!Q28","v":""},null,{"$f":"'見積書 (3)'!R28","v":""},null,null,{"$f":"'見積書 (3)'!S28","v":""},null,null,null,{"$f":"'見積書 (3)'!T28","v":""},null,null,null,null,{"$f":"IF(Q153=\"\",\"\",'出来高内訳書 (第12回請求)'!AC153+'出来高内訳書 (第12回請求)'!AK153)","v":""},null,null,{"$f":"IF(T153=\"\",\"\",ROUND(T153*AC153,0))","v":""},null,null,null,null,null,null,null,{"$f":"IF(T153=\"\",\"\",ROUND(T153*AK153,0))","v":""},null,null,null,null,{"$f":"IF(Q153=\"\",\"\",ROUND(Q153-AC153-AK153,2))","v":""},null,null,{"$f":"IF(T153=\"\",\"\",(IF(X153-AF153-AN153>=0,X153-AF153-AN153,\"出来高が契約を超過\")))","v":""}]
[null,{"$f":"'見積書 (3)'!F29","v":""}]
[38,{"$f":"'見積書 (3)'!F30","v":""},null,null,null,null,null,null,null,null,null,null,null,null,{"$f":"'見積書 (3)'!Q30","v":""},null,{"$f":"'見積書 (3)'!R30","v":""},null,null,{"$f":"'見積書 (3)'!S30","v":""},null,null,null,{"$f":"'見積書 (3)'!T30","v":""},null,null,null,null,{"$f":"IF(Q155=\"\",\"\",'出来高内訳書 (第12回請求)'!AC155+'出来高内訳書 (第12回請求)'!AK155)","v":""},null,null,{"$f":"IF(T155=\"\",\"\",ROUND(T155*AC155,0))","v":""},null,null,null,null,null,null,null,{"$f":"IF(T155=\"\",\"\",ROUND(T155*AK155,0))","v":""},null,null,null,null,{"$f":"IF(Q155=\"\",\"\",ROUND(Q155-AC155-AK155,2))","v":""},null,null,{"$f":"IF(T155=\"\",\"\",(IF(X155-AF155-AN155>=0,X155-AF155-AN155,\"出来高が契約を超過\")))","v":""}]
[null,{"$f":"'見積書 (3)'!F31","v":""}]
[39,{"$f":"'見積書 (3)'!F32","v":""},null,null,null,null,null,null,null,null,null,null,null,null,{"$f":"'見積書 (3)'!Q32","v":""},null,{"$f":"'見積書 (3)'!R32","v":""},null,null,{"$f":"'見積書 (3)'!S32","v":""},null,null,null,{"$f":"'見積書 (3)'!T32","v":""},null,null,null,null,{"$f":"IF(Q157=\"\",\"\",'出来高内訳書 (第12回請求)'!AC157+'出来高内訳書 (第12回請求)'!AK157)","v":""},null,null,{"$f":"IF(T157=\"\",\"\",ROUND(T157*AC157,0))","v":""},null,null,null,null,null,null,null,{"$f":"IF(T157=\"\",\"\",ROUND(T157*AK157,0))","v":""},null,null,null,null,{"$f":"IF(Q157=\"\",\"\",ROUND(Q157-AC157-AK157,2))","v":""},null,null,{"$f":"IF(T157=\"\",\"\",(IF(X157-AF157-AN157>=0,X157-AF157-AN157,\"出来高が契約を超過\")))","v":""}]
[null,{"$f":"'見積書 (3)'!F33","v":""}]
[40,{"$f":"'見積書 (3)'!F34","v":""},null,null,null,null,null,null,null,null,null,null,null,null,{"$f":"'見積書 (3)'!Q34","v":""},null,{"$f":"'見積書 (3)'!R34","v":""},null,null,{"$f":"'見積書 (3)'!S34","v":""},null,null,null,{"$f":"'見積書 (3)'!T34","v":""},null,null,null,null,{"$f":"IF(Q159=\"\",\"\",'出来高内訳書 (第12回請求)'!AC159+'出来高内訳書 (第12回請求)'!AK159)","v":""},null,null,{"$f":"IF(T159=\"\",\"\",ROUND(T159*AC159,0))","v":""},null,null,null,null,null,null,null,{"$f":"IF(T159=\"\",\"\",ROUND(T159*AK159,0))","v":""},null,null,null,null,{"$f":"IF(Q159=\"\",\"\",ROUND(Q159-AC159-AK159,2))","v":""},null,null,{"$f":"IF(T159=\"\",\"\",(IF(X159-AF159-AN159>=0,X159-AF159-AN159,\"出来高が契約を超過\")))","v":""}]
[null,{"$f":"'見積書 (3)'!F35","v":""}]
[41,{"$f":"'見積書 (3)'!F36","v":""},null,null,null,null,null,null,null,null,null,null,null,null,{"$f":"'見積書 (3)'!Q36","v":""},null,{"$f":"'見積書 (3)'!R36","v":""},null,null,{"$f":"'見積書 (3)'!S36","v":""},null,null,null,{"$f":"'見積書 (3)'!T36","v":""},null,null,null,null,{"$f":"IF(Q161=\"\",\"\",'出来高内訳書 (第12回請求)'!AC161+'出来高内訳書 (第12回請求)'!AK161)","v":""},null,null,{"$f":"IF(T161=\"\",\"\",ROUND(T161*AC161,0))","v":""},null,null,null,null,null,null,null,{"$f":"IF(T161=\"\",\"\",ROUND(T161*AK161,0))","v":""},null,null,null,null,{"$f":"IF(Q161=\"\",\"\",ROUND(Q161-AC161-AK161,2))","v":""},null,null,{"$f":"IF(T161=\"\",\"\",(IF(X161-AF161-AN161>=0,X161-AF161-AN161,\"出来高が契約を超過\")))","v":""}]
[null,{"$f":"'見積書 (3)'!F37","v":""}]
[null,"小計",null,null,null,null,null,null,null,null,null,null,null,null,null,null,null,null,null,null,null,null,null,{"$f":"SUM(X133:AB162)","v":0},null,null,null,null,null,null,null,{"$f":"SUM(AF133:AJ162)","v":0},null,null,null,null,null,null,null,{"$f":"SUM(AN133:AR162)","v":0},null,null,null,null,null,null,null,{"$f":"X163-AF163-AN163","v":0}]
[]
[]
[]
[]
[null,"請求内訳書（出来高・分割納入用）",null,null,null,null,null,null,null,null,null,null,null,null,null,null,null,null,null,null,null,null,null,null,null,null,null,null,null,null,null,null,null,null,null,null,null,null,null,null,null,null,null,null,null,null,null,null,null,null,"No."]
[]
[]
[]
[]
[]
[]
[]
[]
[]
[null,"製造番号",null,null,null,null,{"$f":"Y22","v":""},null,null,null,null,null,null,null,null,null,null,null,null,null,null,null,null,"※科目"]
[]
[]
[null,"注文番号",null,null,null,null,{"$f":"Y25","v":""},null,null,null,null,null,null,null,null,"第",null,{"$f":"AJ23","v":13},null,"回請求"]
[]
[]
[]
[null,"工　種・品　名",null,null,null,null,null,null,null,null,null,null,null,null,"契　約　金　額",null,null,null,null,null,null,null,null,null,null,null,null,null,"前回までの出来高",null,null,null,null,null,null,null,"今回出来高",null,null,null,null,null,null,null,"残高",null,null,null,null,null,null,null,"備　考"]
[null,null,null,null,null,null,null,null,null,null,null,null,null,null,"単位",null,"数量",null,null,"単価",null,null,null,"金額",null,null,null,null,"数量",null,null,"金額",null,null,null,null,"数量",null,null,"金額",null,null,null,null,"数量",null,null,"金額"]
[42,{"$f":"'見積書 (3)'!F38","v":""},null,null,null,null,null,null,null,null,null,null,null,null,{"$f":"'見積書 (3)'!Q38","v":""},null,{"$f":"'見積書 (3)'!R38","v":""},null,null,{"$f":"'見積書 (3)'!S38","v":""},null,null,null,{"$f":"'見積書 (3)'!T38","v":""},null,null,null,null,{"$f":"IF(Q187=\"\",\"\",'出来高内訳書 (第12回請求)'!AC187+'出来高内訳書 (第12回請求)'!AK187)","v":""},null,null,{"$f":"IF(T187=\"\",\"\",ROUND(T187*AC187,0))","v":""},null,null,null,null,null,null,null,{"$f":"IF(T187=\"\",\"\",ROUND(T187*AK187,0))","v":""},null,null,null,null,{"$f":"IF(Q187=\"\",\"\",ROUND(Q187-AC187-AK187,2))","v":""},null,null,{"$f":"IF(T187=\"\",\"\",(IF(X187-AF187-AN187>=0,X187-AF187-AN187,\"出来高が契約を超過\")))","v":""}]
[null,{"$f":"'見積書 (3)'!F39","v":""}]
[43,{"$f":"'見積書 (3)'!F40","v":""},null,null,null,null,null,null,null,null,null,null,null,null,{"$f":"'見積書 (3)'!Q40","v":""},null,{"$f":"'見積書 (3)'!R40","v":""},null,null,{"$f":"'見積書 (3)'!S40","v":""},null,null,null,{"$f":"'見積書 (3)'!T40","v":""},null,null,null,null,{"$f":"IF(Q189=\"\",\"\",'出来高内訳書 (第12回請求)'!AC189+'出来高内訳書 (第12回請求)'!AK189)","v":""},null,null,{"$f":"IF(T189=\"\",\"\",ROUND(T189*AC189,0))","v":""},null,null,null,null,null,null,null,{"$f":"IF(T189=\"\",\"\",ROUND(T189*AK189,0))","v":""},null,null,null,null,{"$f":"IF(Q189=\"\",\"\",ROUND(Q189-AC189-AK189,2))","v":""},null,null,{"$f":"IF(T189=\"\",\"\",(IF(X189-AF189-AN189>=0,X189-AF189-AN189,\"出来高が契約を超過\")))","v":""}]
[null,{"$f":"'見積書 (3)'!F41","v":""}]
[44,{"$f":"'見積書 (3)'!F42","v":""},null,null,null,null,null,null,null,null,null,null,null,null,{"$f":"'見積書 (3)'!Q42","v":""},null,{"$f":"'見積書 (3)'!R42","v":""},null,null,{"$f":"'見積書 (3)'!S42","v":""},null,null,null,{"$f":"'見積書 (3)'!T42","v":""},null,null,null,null,{"$f":"IF(Q191=\"\",\"\",'出来高内訳書 (第12回請求)'!AC191+'出来高内訳書 (第12回請求)'!AK191)","v":""},null,null,{"$f":"IF(T191=\"\",\"\",ROUND(T191*AC191,0))","v":""},null,null,null,null,null,null,null,{"$f":"IF(T191=\"\",\"\",ROUND(T191*AK191,0))","v":""},null,null,null,null,{"$f":"IF(Q191=\"\",\"\",ROUND(Q191-AC191-AK191,2))","v":""},null,null,{"$f":"IF(T191=\"\",\"\",(IF(X191-AF191-AN191>=0,X191-AF191-AN191,\"出来高が契約を超過\")))","v":""}]
[null,{"$f":"'見積書 (3)'!F43","v":""}]
[45,{"$f":"'見積書 (3)'!F44","v":""},null,null,null,null,null,null,null,null,null,null,null,null,{"$f":"'見積書 (3)'!Q44","v":""},null,{"$f":"'見積書 (3)'!R44","v":""},null,null,{"$f":"'見積書 (3)'!S44","v":""},null,null,null,{"$f":"'見積書 (3)'!T44","v":""},null,null,null,null,{"$f":"IF(Q193=\"\",\"\",'出来高内訳書 (第12回請求)'!AC193+'出来高内訳書 (第12回請求)'!AK193)","v":""},null,null,{"$f":"IF(T193=\"\",\"\",ROUND(T193*AC193,0))","v":""},null,null,null,null,null,null,null,{"$f":"IF(T193=\"\",\"\",ROUND(T193*AK193,0))","v":""},null,null,null,null,{"$f":"IF(Q193=\"\",\"\",ROUND(Q193-AC193-AK193,2))","v":""},null,null,{"$f":"IF(T193=\"\",\"\",(IF(X193-AF193-AN193>=0,X193-AF193-AN193,\"出来高が契約を超過\")))","v":""}]
[null,{"$f":"'見積書 (3)'!F45","v":""}]
[46,{"$f":"'見積書 (3)'!F46","v":""},null,null,null,null,null,null,null,null,null,null,null,null,{"$f":"'見積書 (3)'!Q46","v":""},null,{"$f":"'見積書 (3)'!R46","v":""},null,null,{"$f":"'見積書 (3)'!S46","v":""},null,null,null,{"$f":"'見積書 (3)'!T46","v":""},null,null,null,null,{"$f":"IF(Q195=\"\",\"\",'出来高内訳書 (第12回請求)'!AC195+'出来高内訳書 (第12回請求)'!AK195)","v":""},null,null,{"$f":"IF(T195=\"\",\"\",ROUND(T195*AC195,0))","v":""},null,null,null,null,null,null,null,{"$f":"IF(T195=\"\",\"\",ROUND(T195*AK195,0))","v":""},null,null,null,null,{"$f":"IF(Q195=\"\",\"\",ROUND(Q195-AC195-AK195,2))","v":""},null,null,{"$f":"IF(T195=\"\",\"\",(IF(X195-AF195-AN195>=0,X195-AF195-AN195,\"出来高が契約を超過\")))","v":""}]
[null,{"$f":"'見積書 (3)'!F47","v":""}]
[47,{"$f":"'見積書 (3)'!F48","v":""},null,null,null,null,null,null,null,null,null,null,null,null,{"$f":"'見積書 (3)'!Q48","v":""},null,{"$f":"'見積書 (3)'!R48","v":""},null,null,{"$f":"'見積書 (3)'!S48","v":""},null,null,null,{"$f":"'見積書 (3)'!T48","v":""},null,null,null,null,{"$f":"IF(Q197=\"\",\"\",'出来高内訳書 (第12回請求)'!AC197+'出来高内訳書 (第12回請求)'!AK197)","v":""},null,null,{"$f":"IF(T197=\"\",\"\",ROUND(T197*AC197,0))","v":""},null,null,null,null,null,null,null,{"$f":"IF(T197=\"\",\"\",ROUND(T197*AK197,0))","v":""},null,null,null,null,{"$f":"IF(Q197=\"\",\"\",ROUND(Q197-AC197-AK197,2))","v":""},null,null,{"$f":"IF(T197=\"\",\"\",(IF(X197-AF197-AN197>=0,X197-AF197-AN197,\"出来高が契約を超過\")))","v":""}]
[null,{"$f":"'見積書 (3)'!F49","v":""}]
[48,{"$f":"'見積書 (3)'!F50","v":""},null,null,null,null,null,null,null,null,null,null,null,null,{"$f":"'見積書 (3)'!Q50","v":""},null,{"$f":"'見積書 (3)'!R50","v":""},null,null,{"$f":"'見積書 (3)'!S50","v":""},null,null,null,{"$f":"'見積書 (3)'!T50","v":""},null,null,null,null,{"$f":"IF(Q199=\"\",\"\",'出来高内訳書 (第12回請求)'!AC199+'出来高内訳書 (第12回請求)'!AK199)","v":""},null,null,{"$f":"IF(T199=\"\",\"\",ROUND(T199*AC199,0))","v":""},null,null,null,null,null,null,null,{"$f":"IF(T199=\"\",\"\",ROUND(T199*AK199,0))","v":""},null,null,null,null,{"$f":"IF(Q199=\"\",\"\",ROUND(Q199-AC199-AK199,2))","v":""},null,null,{"$f":"IF(T199=\"\",\"\",(IF(X199-AF199-AN199>=0,X199-AF199-AN199,\"出来高が契約を超過\")))","v":""}]
[null,{"$f":"'見積書 (3)'!F51","v":""}]
[49,{"$f":"'見積書 (3)'!F52","v":""},null,null,null,null,null,null,null,null,null,null,null,null,{"$f":"'見積書 (3)'!Q52","v":""},null,{"$f":"'見積書 (3)'!R52","v":""},null,null,{"$f":"'見積書 (3)'!S52","v":""},null,null,null,{"$f":"'見積書 (3)'!T52","v":""},null,null,null,null,{"$f":"IF(Q201=\"\",\"\",'出来高内訳書 (第12回請求)'!AC201+'出来高内訳書 (第12回請求)'!AK201)","v":""},null,null,{"$f":"IF(T201=\"\",\"\",ROUND(T201*AC201,0))","v":""},null,null,null,null,null,null,null,{"$f":"IF(T201=\"\",\"\",ROUND(T201*AK201,0))","v":""},null,null,null,null,{"$f":"IF(Q201=\"\",\"\",ROUND(Q201-AC201-AK201,2))","v":""},null,null,{"$f":"IF(T201=\"\",\"\",(IF(X201-AF201-AN201>=0,X201-AF201-AN201,\"出来高が契約を超過\")))","v":""}]
[null,{"$f":"'見積書 (3)'!F53","v":""}]
[50,{"$f":"'見積書 (3)'!F54","v":""},null,null,null,null,null,null,null,null,null,null,null,null,{"$f":"'見積書 (3)'!Q54","v":""},null,{"$f":"'見積書 (3)'!R54","v":""},null,null,{"$f":"'見積書 (3)'!S54","v":""},null,null,null,{"$f":"'見積書 (3)'!T54","v":""},null,null,null,null,{"$f":"IF(Q203=\"\",\"\",'出来高内訳書 (第12回請求)'!AC203+'出来高内訳書 (第12回請求)'!AK203)","v":""},null,null,{"$f":"IF(T203=\"\",\"\",ROUND(T203*AC203,0))","v":""},null,null,null,null,null,null,null,{"$f":"IF(T203=\"\",\"\",ROUND(T203*AK203,0))","v":""},null,null,null,null,{"$f":"IF(Q203=\"\",\"\",ROUND(Q203-AC203-AK203,2))","v":""},null,null,{"$f":"IF(T203=\"\",\"\",(IF(X203-AF203-AN203>=0,X203-AF203-AN203,\"出来高が契約を超過\")))","v":""}]
[null,{"$f":"'見積書 (3)'!F55","v":""}]
[51,{"$f":"'見積書 (3)'!F56","v":""},null,null,null,null,null,null,null,null,null,null,null,null,{"$f":"'見積書 (3)'!Q56","v":""},null,{"$f":"'見積書 (3)'!R56","v":""},null,null,{"$f":"'見積書 (3)'!S56","v":""},null,null,null,{"$f":"'見積書 (3)'!T56","v":""},null,null,null,null,{"$f":"IF(Q205=\"\",\"\",'出来高内訳書 (第12回請求)'!AC205+'出来高内訳書 (第12回請求)'!AK205)","v":""},null,null,{"$f":"IF(T205=\"\",\"\",ROUND(T205*AC205,0))","v":""},null,null,null,null,null,null,null,{"$f":"IF(T205=\"\",\"\",ROUND(T205*AK205,0))","v":""},null,null,null,null,{"$f":"IF(Q205=\"\",\"\",ROUND(Q205-AC205-AK205,2))","v":""},null,null,{"$f":"IF(T205=\"\",\"\",(IF(X205-AF205-AN205>=0,X205-AF205-AN205,\"出来高が契約を超過\")))","v":""}]
[null,{"$f":"'見積書 (3)'!F57","v":""}]
[52,{"$f":"'見積書 (3)'!F58","v":""},null,null,null,null,null,null,null,null,null,null,null,null,{"$f":"'見積書 (3)'!Q58","v":""},null,{"$f":"'見積書 (3)'!R58","v":""},null,null,{"$f":"'見積書 (3)'!S58","v":""},null,null,null,{"$f":"'見積書 (3)'!T58","v":""},null,null,null,null,{"$f":"IF(Q207=\"\",\"\",'出来高内訳書 (第12回請求)'!AC207+'出来高内訳書 (第12回請求)'!AK207)","v":""},null,null,{"$f":"IF(T207=\"\",\"\",ROUND(T207*AC207,0))","v":""},null,null,null,null,null,null,null,{"$f":"IF(T207=\"\",\"\",ROUND(T207*AK207,0))","v":""},null,null,null,null,{"$f":"IF(Q207=\"\",\"\",ROUND(Q207-AC207-AK207,2))","v":""},null,null,{"$f":"IF(T207=\"\",\"\",(IF(X207-AF207-AN207>=0,X207-AF207-AN207,\"出来高が契約を超過\")))","v":""}]
[null,{"$f":"'見積書 (3)'!F59","v":""}]
[53,{"$f":"'見積書 (3)'!F60","v":""},null,null,null,null,null,null,null,null,null,null,null,null,{"$f":"'見積書 (3)'!Q60","v":""},null,{"$f":"'見積書 (3)'!R60","v":""},null,null,{"$f":"'見積書 (3)'!S60","v":""},null,null,null,{"$f":"'見積書 (3)'!T60","v":""},null,null,null,null,{"$f":"IF(Q209=\"\",\"\",'出来高内訳書 (第12回請求)'!AC209+'出来高内訳書 (第12回請求)'!AK209)","v":""},null,null,{"$f":"IF(T209=\"\",\"\",ROUND(T209*AC209,0))","v":""},null,null,null,null,null,null,null,{"$f":"IF(T209=\"\",\"\",ROUND(T209*AK209,0))","v":""},null,null,null,null,{"$f":"IF(Q209=\"\",\"\",ROUND(Q209-AC209-AK209,2))","v":""},null,null,{"$f":"IF(T209=\"\",\"\",(IF(X209-AF209-AN209>=0,X209-AF209-AN209,\"出来高が契約を超過\")))","v":""}]
[null,{"$f":"'見積書 (3)'!F61","v":""}]
[54,{"$f":"'見積書 (3)'!F62","v":""},null,null,null,null,null,null,null,null,null,null,null,null,{"$f":"'見積書 (3)'!Q62","v":""},null,{"$f":"'見積書 (3)'!R62","v":""},null,null,{"$f":"'見積書 (3)'!S62","v":""},null,null,null,{"$f":"'見積書 (3)'!T62","v":""},null,null,null,null,{"$f":"IF(Q211=\"\",\"\",'出来高内訳書 (第12回請求)'!AC211+'出来高内訳書 (第12回請求)'!AK211)","v":""},null,null,{"$f":"IF(T211=\"\",\"\",ROUND(T211*AC211,0))","v":""},null,null,null,null,null,null,null,{"$f":"IF(T211=\"\",\"\",ROUND(T211*AK211,0))","v":""},null,null,null,null,{"$f":"IF(Q211=\"\",\"\",ROUND(Q211-AC211-AK211,2))","v":""},null,null,{"$f":"IF(T211=\"\",\"\",(IF(X211-AF211-AN211>=0,X211-AF211-AN211,\"出来高が契約を超過\")))","v":""}]
[null,{"$f":"'見積書 (3)'!F63","v":""}]
[55,{"$f":"'見積書 (3)'!F64","v":""},null,null,null,null,null,null,null,null,null,null,null,null,{"$f":"'見積書 (3)'!Q64","v":""},null,{"$f":"'見積書 (3)'!R64","v":""},null,null,{"$f":"'見積書 (3)'!S64","v":""},null,null,null,{"$f":"'見積書 (3)'!T64","v":""},null,null,null,null,{"$f":"IF(Q213=\"\",\"\",'出来高内訳書 (第12回請求)'!AC213+'出来高内訳書 (第12回請求)'!AK213)","v":""},null,null,{"$f":"IF(T213=\"\",\"\",ROUND(T213*AC213,0))","v":""},null,null,null,null,null,null,null,{"$f":"IF(T213=\"\",\"\",ROUND(T213*AK213,0))","v":""},null,null,null,null,{"$f":"IF(Q213=\"\",\"\",ROUND(Q213-AC213-AK213,2))","v":""},null,null,{"$f":"IF(T213=\"\",\"\",(IF(X213-AF213-AN213>=0,X213-AF213-AN213,\"出来高が契約を超過\")))","v":""}]
[null,{"$f":"'見積書 (3)'!F65","v":""}]
[56,{"$f":"'見積書 (3)'!F66","v":""},null,null,null,null,null,null,null,null,null,null,null,null,{"$f":"'見積書 (3)'!Q66","v":""},null,{"$f":"'見積書 (3)'!R66","v":""},null,null,{"$f":"'見積書 (3)'!S66","v":""},null,null,null,{"$f":"'見積書 (3)'!T66","v":""},null,null,null,null,{"$f":"IF(Q215=\"\",\"\",'出来高内訳書 (第12回請求)'!AC215+'出来高内訳書 (第12回請求)'!AK215)","v":""},null,null,{"$f":"IF(T215=\"\",\"\",ROUND(T215*AC215,0))","v":""},null,null,null,null,null,null,null,{"$f":"IF(T215=\"\",\"\",ROUND(T215*AK215,0))","v":""},null,null,null,null,{"$f":"IF(Q215=\"\",\"\",ROUND(Q215-AC215-AK215,2))","v":""},null,null,{"$f":"IF(T215=\"\",\"\",(IF(X215-AF215-AN215>=0,X215-AF215-AN215,\"出来高が契約を超過\")))","v":""}]
[null,{"$f":"'見積書 (3)'!F67","v":""}]
[null,"小計",null,null,null,null,null,null,null,null,null,null,null,null,null,null,null,null,null,null,null,null,null,{"$f":"SUM(X187:AB216)","v":0},null,null,null,null,null,null,null,{"$f":"SUM(AF187:AJ216)","v":0},null,null,null,null,null,null,null,{"$f":"SUM(AN187:AR216)","v":0},null,null,null,null,null,null,null,{"$f":"X217-AF217-AN217","v":0}]
[]
[]
[]
[]
[null,"請求内訳書（出来高・分割納入用）",null,null,null,null,null,null,null,null,null,null,null,null,null,null,null,null,null,null,null,null,null,null,null,null,null,null,null,null,null,null,null,null,null,null,null,null,null,null,null,null,null,null,null,null,null,null,null,null,"No."]
[]
[]
[]
[]
[]
[]
[]
[]
[]
[null,"製造番号",null,null,null,null,{"$f":"Y22","v":""},null,null,null,null,null,null,null,null,null,null,null,null,null,null,null,null,"※科目"]
[]
[]
[null,"注文番号",null,null,null,null,{"$f":"Y25","v":""},null,null,null,null,null,null,null,null,"第",null,{"$f":"AJ23","v":13},null,"回請求"]
[]
[]
[]
[null,"工　種・品　名",null,null,null,null,null,null,null,null,null,null,null,null,"契　約　金　額",null,null,null,null,null,null,null,null,null,null,null,null,null,"前回までの出来高",null,null,null,null,null,null,null,"今回出来高",null,null,null,null,null,null,null,"残高",null,null,null,null,null,null,null,"備　考"]
[null,null,null,null,null,null,null,null,null,null,null,null,null,null,"単位",null,"数量",null,null,"単価",null,null,null,"金額",null,null,null,null,"数量",null,null,"金額",null,null,null,null,"数量",null,null,"金額",null,null,null,null,"数量",null,null,"金額"]
[57,{"$f":"'見積書 (3)'!F68","v":""},null,null,null,null,null,null,null,null,null,null,null,null,{"$f":"'見積書 (3)'!Q68","v":""},null,{"$f":"'見積書 (3)'!R68","v":""},null,null,{"$f":"'見積書 (3)'!S68","v":""},null,null,null,{"$f":"'見積書 (3)'!T68","v":""},null,null,null,null,{"$f":"IF(Q241=\"\",\"\",'出来高内訳書 (第12回請求)'!AC241+'出来高内訳書 (第12回請求)'!AK241)","v":""},null,null,{"$f":"IF(T241=\"\",\"\",ROUND(T241*AC241,0))","v":""},null,null,null,null,null,null,null,{"$f":"IF(T241=\"\",\"\",ROUND(T241*AK241,0))","v":""},null,null,null,null,{"$f":"IF(Q241=\"\",\"\",ROUND(Q241-AC241-AK241,2))","v":""},null,null,{"$f":"IF(T241=\"\",\"\",(IF(X241-AF241-AN241>=0,X241-AF241-AN241,\"出来高が契約を超過\")))","v":""}]
[null,{"$f":"'見積書 (3)'!F68","v":""}]
[]
[]
[]
[]
[]
[]
[]
[]
[]
[]
[]
[]
[]
[]
[null,"小計",null,null,null,null,null,null,null,null,null,null,null,null,null,null,null,null,null,null,null,null,null,{"$f":"SUM(X241:AB256)","v":0},null,null,null,null,null,null,null,{"$f":"SUM(AF241:AJ256)","v":0},null,null,null,null,null,null,null,{"$f":"SUM(AN241:AR256)","v":0},null,null,null,null,null,null,null,{"$f":"SUM(AV241:AZ256)","v":0}]

{"sheet":"出来高内訳書 (第14回請求)","index":21,"n_rows":257,"n_cols":53,"rows_kept":257,"cut":false,"hidden":false,"merged":[[240,0,241,0],[240,1,240,13],[240,14,241,15],[240,16,241,18],[240,19,241,22],[240,23,241,27],[240,28,241,30],[240,31,241,35],[240,36,241,38],[240,39,241,43],[240,44,241,46],[240,47,241,51],[240,52,241,54],[212,0,213,0],[212,14,213,15],[212,16,213,18],[212,19,213,22],[212,23,213,27],[212,28,213,30],[212,31,213,35],[212,36,213,38],[212,39,213,43],[212,44,213,46],[212,47,213,51],[212,52,213,54],[214,0,215,0],[214,14,215,15],[214,16,215,18],[214,19,215,22],[214,23,215,27],[214,28,215,30],[214,31,215,35],[214,52,215,54],[208,0,209,0],[208,14,209,15],[208,16,209,18],[208,19,209,22],[208,23,209,27],[208,28,209,30],[208,31,209,35],[208,36,209,38],[208,39,209,43],[208,44,209,46],[208,47,209,51],[208,52,209,54],[210,0,211,0],[210,14,211,15],[210,16,211,18],[210,19,211,22],[210,23,211,27],[210,28,211,30],[210,31,211,35],[210,36,211,38],[210,39,211,43],[210,44,211,46],[210,47,211,51],[210,52,211,54],[204,0,205,0],[204,14,205,15],[204,16,205,18],[204,19,205,22],[204,23,205,27],[204,28,205,30],[204,31,205,35],[204,36,205,38],[204,39,205,43],[204,44,205,46],[204,47,205,51],[204,52,205,54],[206,0,207,0],[206,14,207,15],[206,16,207,18],[206,19,207,22],[206,23,207,27],[206,28,207,30],[206,31,207,35],[206,36,207,38],[206,39,207,43],[206,44,207,46],[206,47,207,51],[206,52,207,54],[200,0,201,0],[200,1,200,13],[200,14,201,15],[200,16,201,18],[200,19,201,22],[200,23,201,27],[200,28,201,30],[200,31,201,35],[200,36,201,38],[200,39,201,43],[200,44,201,46],[200,47,201,51],[200,52,201,54],[202,0,203,0],[202,14,203,15],[202,16,203,18],[202,19,203,22],[202,23,203,27],[202,28,203,30],[202,31,203,35],[202,36,203,38],[202,39,203,43],[202,44,203,46],[202,47,203,51],[202,52,203,54],[196,0,197,0],[196,1,196,13],[196,14,197,15],[196,16,197,18],[196,19,197,22],[196,23,197,27],[196,28,197,30],[196,31,197,35],[196,36,197,38],[196,39,197,43],[196,44,197,46],[196,47,197,51],[196,52,197,54],[197,1,197,13],[198,0,199,0],[198,1,198,13],[198,14,199,15],[198,16,199,18],[198,19,199,22],[198,23,199,27],[198,28,199,30],[198,31,199,35],[198,36,199,38],[198,39,199,43],[198,44,199,46],[198,47,199,51],[198,52,199,54],[199,1,199,13],[192,0,193,0],[192,1,192,13],[192,14,193,15],[192,16,193,18],[192,19,193,22],[192,23,193,27],[192,28,193,30],[192,31,193,35],[192,36,193,38],[192,39,193,43],[192,44,193,46],[192,47,193,51],[192,52,193,54],[193,1,193,13],[194,0,195,0],[194,1,194,13],[194,14,195,15],[194,16,195,18],[194,19,195,22],[194,23,195,27],[194,28,195,30],[194,31,195,35],[194,36,195,38],[194,39,195,43],[194,44,195,46],[194,47,195,51],[194,52,195,54],[195,1,195,13],[188,0,189,0],[188,1,188,13],[188,14,189,15],[188,16,189,18],[188,19,189,22],[188,23,189,27],[188,28,189,30],[188,31,189,35],[188,36,189,38],[188,39,189,43],[188,44,189,46],[188,47,189,51],[188,52,189,54],[189,1,189,13],[190,0,191,0],[190,1,190,13],[190,14,191,15],[190,16,191,18],[190,19,191,22],[190,23,191,27],[190,28,191,30],[190,31,191,35],[190,36,191,38],[190,39,191,43],[190,44,191,46],[190,47,191,51],[190,52,191,54],[191,1,191,13],[160,0,161,0],[160,14,161,15],[160,16,161,18],[160,19,161,22],[160,23,161,27],[160,28,161,30],[160,31,161,35],[160,36,161,38],[160,39,161,43],[160,44,161,46],[160,47,161,51],[160,52,161,54],[186,0,187,0],[186,1,186,13],[186,14,187,15],[186,16,187,18],[186,19,187,22],[186,23,187,27],[186,28,187,30],[186,31,187,35],[186,36,187,38],[186,39,187,43],[186,44,187,46],[186,47,187,51],[186,52,187,54],[187,1,187,13],[160,1,160,13],[162,31,162,35],[162,36,162,38],[162,39,162,43],[162,44,162,46],[162,47,162,51],[156,0,157,0],[156,14,157,15],[156,16,157,18],[156,19,157,22],[156,23,157,27],[156,28,157,30],[156,31,157,35],[156,36,157,38],[156,39,157,43],[156,44,157,46],[156,47,157,51],[156,52,157,54],[158,0,159,0],[158,14,159,15],[158,16,159,18],[158,19,159,22],[158,23,159,27],[158,28,159,30],[158,31,159,35],[158,36,159,38],[158,39,159,43],[158,44,159,46],[158,47,159,51],[158,52,159,54],[156,1,156,13],[158,1,158,13],[157,1,157,13],[159,1,159,13],[152,0,153,0],[152,14,153,15],[152,16,153,18],[152,19,153,22],[152,23,153,27],[152,28,153,30],[152,31,153,35],[152,36,153,38],[152,39,153,43],[152,44,153,46],[152,47,153,51],[152,52,153,54],[154,0,155,0],[154,14,155,15],[154,16,155,18],[154,19,155,22],[154,23,155,27],[154,28,155,30],[154,31,155,35],[154,36,155,38],[154,39,155,43],[154,44,155,46],[154,47,155,51],[154,52,155,54],[155,1,155,13],[148,0,149,0],[148,14,149,15],[148,16,149,18],[148,19,149,22],[148,23,149,27],[148,28,149,30],[148,31,149,35],[148,36,149,38],[148,39,149,43],[148,44,149,46],[148,47,149,51],[148,52,149,54],[150,0,151,0],[150,14,151,15],[150,16,151,18],[150,19,151,22],[150,23,151,27],[150,28,151,30],[150,31,151,35],[150,36,151,38],[150,39,151,43],[150,44,151,46],[150,47,151,51],[150,52,151,54],[144,0,145,0],[144,1,144,13],[144,14,145,15],[144,16,145,18],[144,19,145,22],[144,23,145,27],[144,28,145,30],[144,31,145,35],[144,36,145,38],[144,39,145,43],[144,44,145,46],[144,47,145,51],[144,52,145,54],[145,1,145,13],[146,0,147,0],[146,1,146,13],[146,14,147,15],[146,16,147,18],[146,19,147,22],[146,23,147,27],[146,28,147,30],[146,31,147,35],[146,36,147,38],[146,39,147,43],[146,44,147,46],[146,47,147,51],[146,52,147,54],[140,0,141,0],[140,1,140,13],[140,14,141,15],[140,16,141,18],[140,19,141,22],[140,23,141,27],[140,28,141,30],[140,31,141,35],[140,36,141,38],[140,39,141,43],[140,44,141,46],[140,47,141,51],[140,52,141,54],[141,1,141,13],[142,0,143,0],[142,1,142,13],[142,14,143,15],[142,16,143,18],[142,19,143,22],[142,23,143,27],[142,28,143,30],[142,31,143,35],[142,36,143,38],[142,39,143,43],[142,44,143,46],[142,47,143,51],[142,52,143,54],[143,1,143,13],[136,0,137,0],[136,1,136,13],[136,14,137,15],[136,16,137,18],[136,19,137,22],[136,23,137,27],[136,28,137,30],[136,31,137,35],[136,36,137,38],[136,39,137,43],[136,44,137,46],[136,47,137,51],[136,52,137,54],[137,1,137,13],[138,0,139,0],[138,1,138,13],[138,14,139,15],[138,16,139,18],[138,19,139,22],[138,23,139,27],[138,28,139,30],[138,31,139,35],[138,36,139,38],[138,39,139,43],[138,44,139,46],[138,47,139,51],[138,52,139,54],[139,1,139,13],[132,0,133,0],[132,1,132,13],[132,14,133,15],[132,16,133,18],[132,19,133,22],[132,23,133,27],[132,28,133,30],[132,31,133,35],[132,36,133,38],[132,39,133,43],[132,44,133,46],[132,47,133,51],[132,52,133,54],[133,1,133,13],[134,0,135,0],[134,1,134,13],[134,14,135,15],[134,16,135,18],[134,19,135,22],[134,23,135,27],[134,28,135,30],[134,31,135,35],[134,36,135,38],[134,39,135,43],[134,44,135,46],[134,47,135,51],[134,52,135,54],[135,1,135,13],[104,0,105,0],[104,14,105,15],[104,16,105,18],[104,19,105,22],[104,23,105,27],[104,28,105,30],[104,31,105,35],[104,36,105,38],[104,39,105,43],[104,44,105,46],[104,47,105,51],[104,52,105,54],[106,0,107,0],[106,14,107,15],[106,16,107,18],[106,19,107,22],[106,23,107,27],[106,28,107,30],[106,31,107,35],[106,36,107,38],[106,39,107,43],[106,44,107,46],[106,47,107,51],[106,52,107,54],[100,0,101,0],[100,14,101,15],[100,16,101,18],[100,19,101,22],[100,23,101,27],[100,28,101,30],[100,31,101,35],[100,36,101,38],[100,39,101,43],[100,44,101,46],[100,47,101,51],[100,52,101,54],[102,0,103,0],[102,14,103,15],[102,16,103,18],[102,19,103,22],[102,23,103,27],[102,28,103,30],[102,31,103,35],[102,36,103,38],[102,39,103,43],[102,44,103,46],[102,47,103,51],[102,52,103,54],[96,0,97,0],[96,14,97,15],[96,16,97,18],[96,19,97,22],[96,23,97,27],[96,28,97,30],[96,31,97,35],[96,36,97,38],[96,39,97,43],[96,44,97,46],[96,47,97,51],[96,52,97,54],[98,0,99,0],[98,14,99,15],[98,16,99,18],[98,19,99,22],[98,23,99,27],[98,28,99,30],[98,31,99,35],[98,36,99,38],[98,39,99,43],[98,44,99,46],[98,47,99,51],[98,52,99,54],[92,0,93,0],[92,1,92,13],[92,14,93,15],[92,16,93,18],[92,19,93,22],[92,23,93,27],[92,28,93,30],[92,31,93,35],[92,36,93,38],[92,39,93,43],[92,44,93,46],[92,47,93,51],[92,52,93,54],[94,0,95,0],[94,14,95,15],[94,16,95,18],[94,19,95,22],[94,23,95,27],[94,28,95,30],[94,31,95,35],[94,36,95,38],[94,39,95,43],[94,44,95,46],[94,47,95,51],[94,52,95,54],[88,0,89,0],[88,1,88,13],[88,14,89,15],[88,16,89,18],[88,19,89,22],[88,23,89,27],[88,28,89,30],[88,31,89,35],[88,36,89,38],[88,39,89,43],[88,44,89,46],[88,47,89,51],[88,52,89,54],[89,1,89,13],[90,0,91,0],[90,1,90,13],[90,14,91,15],[90,16,91,18],[90,19,91,22],[90,23,91,27],[90,28,91,30],[90,31,91,35],[90,36,91,38],[90,39,91,43],[90,44,91,46],[90,47,91,51],[90,52,91,54],[91,1,91,13],[84,0,85,0],[84,1,84,13],[84,14,85,15],[84,16,85,18],[84,19,85,22],[84,23,85,27],[84,28,85,30],[84,31,85,35],[84,36,85,38],[84,39,85,43],[84,44,85,46],[84,47,85,51],[84,52,85,54],[85,1,85,13],[86,0,87,0],[86,1,86,13],[86,14,87,15],[86,16,87,18],[86,19,87,22],[86,23,87,27],[86,28,87,30],[86,31,87,35],[86,36,87,38],[86,39,87,43],[86,44,87,46],[86,47,87,51],[86,52,87,54],[87,1,87,13],[80,0,81,0],[80,1,80,13],[80,14,81,15],[80,16,81,18],[80,19,81,22],[80,23,81,27],[80,28,81,30],[80,31,81,35],[80,36,81,38],[80,39,81,43],[80,44,81,46],[80,47,81,51],[80,52,81,54],[81,1,81,13],[82,0,83,0],[82,1,82,13],[82,14,83,15],[82,16,83,18],[82,19,83,22],[82,23,83,27],[82,28,83,30],[82,31,83,35],[82,36,83,38],[82,39,83,43],[82,44,83,46],[82,47,83,51],[82,52,83,54],[83,1,83,13],[55,0,56,0],[55,14,56,15],[55,16,56,18],[55,19,56,22],[55,23,56,27],[55,28,56,30],[55,31,56,35],[55,36,56,38],[55,39,56,43],[55,44,56,46],[55,47,56,51],[55,52,56,54],[78,0,79,0],[78,1,78,13],[78,14,79,15],[78,16,79,18],[78,19,79,22],[78,23,79,27],[78,28,79,30],[78,31,79,35],[78,36,79,38],[78,39,79,43],[78,44,79,46],[78,47,79,51],[78,52,79,54],[79,1,79,13],[55,1,55,13],[57,31,57,35],[57,36,57,38],[57,39,57,43],[57,44,57,46],[57,47,57,51],[51,0,52,0],[51,14,52,15],[51,16,52,18],[51,19,52,22],[51,23,52,27],[51,28,52,30],[51,31,52,35],[51,36,52,38],[51,39,52,43],[51,44,52,46],[51,47,52,51],[51,52,52,54],[53,0,54,0],[53,14,54,15],[53,16,54,18],[53,19,54,22],[53,23,54,27],[53,28,54,30],[53,31,54,35],[53,36,54,38],[53,39,54,43],[53,44,54,46],[53,47,54,51],[53,52,54,54],[51,1,51,13],[53,1,53,13],[52,1,52,13],[54,1,54,13],[47,0,48,0],[47,14,48,15],[47,16,48,18],[47,19,48,22],[47,23,48,27],[47,28,48,30],[47,31,48,35],[47,36,48,38],[47,39,48,43],[47,44,48,46],[47,47,48,51],[47,52,48,54],[49,0,50,0],[49,14,50,15],[49,16,50,18],[49,19,50,22],[49,23,50,27],[49,28,50,30],[49,31,50,35],[49,36,50,38],[49,39,50,43],[49,44,50,46],[49,47,50,51],[49,52,50,54],[47,1,47,13],[49,1,49,13],[48,1,48,13],[50,1,50,13],[43,0,44,0],[43,1,43,13],[43,14,44,15],[43,16,44,18],[43,19,44,22],[43,23,44,27],[43,28,44,30],[43,31,44,35],[43,36,44,38],[43,39,44,43],[43,44,44,46],[43,47,44,51],[43,52,44,54],[44,1,44,13],[45,0,46,0],[45,1,45,13],[45,14,46,15],[45,16,46,18],[45,19,46,22],[45,23,46,27],[45,28,46,30],[45,31,46,35],[45,36,46,38],[45,39,46,43],[45,44,46,46],[45,47,46,51],[45,52,46,54],[46,1,46,13],[39,0,40,0],[39,1,39,13],[39,14,40,15],[39,16,40,18],[39,19,40,22],[39,23,40,27],[39,28,40,30],[39,31,40,35],[39,36,40,38],[39,39,40,43],[39,44,40,46],[39,47,40,51],[39,52,40,54],[40,1,40,13],[41,0,42,0],[41,1,41,13],[41,14,42,15],[41,16,42,18],[41,19,42,22],[41,23,42,27],[41,28,42,30],[41,31,42,35],[41,36,42,38],[41,39,42,43],[41,44,42,46],[41,47,42,51],[41,52,42,54],[42,1,42,13],[35,0,36,0],[35,1,35,13],[35,14,36,15],[35,16,36,18],[35,19,36,22],[35,23,36,27],[35,28,36,30],[35,31,36,35],[35,36,36,38],[35,39,36,43],[35,44,36,46],[35,47,36,51],[35,52,36,54],[36,1,36,13],[37,0,38,0],[37,1,37,13],[37,14,38,15],[37,16,38,18],[37,19,38,22],[37,23,38,27],[37,28,38,30],[37,31,38,35],[37,36,38,38],[37,39,38,43],[37,44,38,46],[37,47,38,51],[37,52,38,54],[38,1,38,13],[4,43,6,47],[4,48,6,54],[6,17,8,19],[11,1,12,14],[14,1,15,2],[14,3,15,8],[14,9,15,10],[14,11,15,17],[0,8,4,33],[0,50,2,50],[1,39,2,41],[1,42,2,43],[1,44,2,44],[1,45,2,45],[1,46,2,46],[1,47,2,47],[1,48,2,48],[4,37,6,42],[7,37,8,54],[9,37,18,54],[0,51,2,55],[22,33,24,34],[22,35,24,36],[22,37,24,40],[24,19,26,23],[24,24,26,31],[26,34,31,34],[26,35,28,40],[27,19,29,27],[27,28,29,31],[29,35,31,40],[17,1,21,5],[17,6,21,15],[21,19,23,23],[21,24,23,31],[22,1,31,1],[22,2,26,5],[22,6,26,15],[27,2,31,5],[27,6,31,15],[30,19,31,23],[33,52,34,54],[34,14,34,15],[34,16,34,18],[34,19,34,22],[34,23,34,27],[34,28,34,30],[34,31,34,35],[34,36,34,38],[34,39,34,43],[34,44,34,46],[30,24,31,27],[33,1,34,13],[33,14,33,27],[33,28,33,35],[33,36,33,43],[33,44,33,51],[34,47,34,51],[57,52,57,54],[57,1,57,13],[57,14,57,15],[57,16,57,18],[57,19,57,22],[57,23,57,27],[57,28,57,30],[56,1,56,13],[76,44,76,51],[76,52,77,54],[77,14,77,15],[77,16,77,18],[77,19,77,22],[77,23,77,27],[77,28,77,30],[77,31,77,35],[77,36,77,38],[77,39,77,43],[72,19,74,22],[72,24,74,29],[76,1,77,13],[76,14,76,27],[76,28,76,35],[76,36,76,43],[59,1,65,17],[59,50,61,50],[69,1,71,5],[69,6,71,13],[69,23,74,23],[69,24,71,29],[72,1,74,5],[72,6,74,13],[72,15,74,16],[72,17,74,18],[94,1,94,13],[77,44,77,46],[77,47,77,51],[93,1,93,13],[96,1,96,13],[95,1,95,13],[98,1,98,13],[97,1,97,13],[100,1,100,13],[99,1,99,13],[102,1,102,13],[101,1,101,13],[104,1,104,13],[103,1,103,13],[106,1,106,13],[105,1,105,13],[108,31,108,35],[108,36,108,38],[108,39,108,43],[108,44,108,46],[108,47,108,51],[108,52,108,54],[108,1,108,13],[108,14,108,15],[108,16,108,18],[108,19,108,22],[108,23,108,27],[108,28,108,30],[107,1,107,13],[130,44,130,51],[130,52,131,54],[131,14,131,15],[131,16,131,18],[131,19,131,22],[131,23,131,27],[131,28,131,30],[131,31,131,35],[131,36,131,38],[131,39,131,43],[126,19,128,22],[126,24,128,29],[130,1,131,13],[130,14,130,27],[130,28,130,35],[130,36,130,43],[113,1,119,17],[113,50,115,50],[123,1,125,5],[123,6,125,13],[123,23,128,23],[123,24,125,29],[126,1,128,5],[126,6,128,13],[126,15,128,16],[126,17,128,18],[148,1,148,13],[131,44,131,46],[131,47,131,51],[147,1,147,13],[150,1,150,13],[149,1,149,13],[152,1,152,13],[151,1,151,13],[154,1,154,13],[153,1,153,13],[162,52,162,54],[162,1,162,13],[162,14,162,15],[162,16,162,18],[162,19,162,22],[162,23,162,27],[162,28,162,30],[161,1,161,13],[184,44,184,51],[184,52,185,54],[185,14,185,15],[185,16,185,18],[185,19,185,22],[185,23,185,27],[185,28,185,30],[185,31,185,35],[185,36,185,38],[185,39,185,43],[180,19,182,22],[180,24,182,29],[184,1,185,13],[184,14,184,27],[184,28,184,35],[184,36,184,43],[167,1,173,17],[167,50,169,50],[177,1,179,5],[177,6,179,13],[177,23,182,23],[177,24,179,29],[180,1,182,5],[180,6,182,13],[180,15,182,16],[180,17,182,18],[202,1,202,13],[185,44,185,46],[185,47,185,51],[201,1,201,13],[204,1,204,13],[203,1,203,13],[206,1,206,13],[205,1,205,13],[208,1,208,13],[207,1,207,13],[210,1,210,13],[209,1,209,13],[212,1,212,13],[211,1,211,13],[214,1,214,13],[213,1,213,13],[214,36,215,38],[214,39,215,43],[214,44,215,46],[214,47,215,51],[216,31,216,35],[216,36,216,38],[216,39,216,43],[216,44,216,46],[216,47,216,51],[216,52,216,54],[216,1,216,13],[216,14,216,15],[216,16,216,18],[216,19,216,22],[216,23,216,27],[216,28,216,30],[215,1,215,13],[238,44,238,51],[238,52,239,54],[239,14,239,15],[239,16,239,18],[239,19,239,22],[239,23,239,27],[239,28,239,30],[239,31,239,35],[239,36,239,38],[239,39,239,43],[234,19,236,22],[234,24,236,29],[238,1,239,13]],"merged_total":1200,"flags":["merged_cut"]}
[null,null,null,null,null,null,null,null,"請 求 書（出来高・分割納入用）",null,null,null,null,null,null,null,null,null,null,null,null,null,null,null,null,null,null,null,null,null,null,null,null,null,null,null,null,null,null,null,null,null,null,null,null,null,null,null,null,null,"No."]
[null,null,null,null,null,null,null,null,null,null,null,null,null,null,null,null,null,null,null,null,null,null,null,null,null,null,null,null,null,null,null,null,null,null,null,null,null,null,null,"日付",null,null,null,null,"年",null,"月",null,"日"]
[]
[]
[null,null,null,null,null,null,null,null,null,null,null,null,null,null,null,null,null,null,null,null,null,null,null,null,null,null,null,null,null,null,null,null,null,null,null,null,null,"請求者住所･氏名･印･電話",null,null,null,null,null,"取引先コード",null,null,null,null,{"$f":"入力フォーム!B3","v":0}]
[]
[null,null,null,null,null,null,null,null,null,null,null,null,null,null,null,null,null,"御中"]
[null,null,null,null,null,null,null,null,null,null,null,null,null,null,null,null,null,null,null,null,null,null,null,null,null,null,null,null,null,null,null,null,null,null,null,null,null,{"$f":"\"登録番号\"&\" \"&入力フォーム!B4","v":"登録番号 "}]
[]
[]
[]
[null,"下記の通り請求いたします。"]
[]
[]
[null,null,null,"月分請求内訳書",null,null,null,null,null,null,null,"枚 (本用紙を含む)"]
[]
[]
[null,"請 求 金 額",null,null,null,null,{"$f":"SUM(G23:P32)","v":0}]
[]
[]
[]
[null,null,null,null,null,null,null,null,null,null,null,null,null,null,null,null,null,null,null,"製造番号",null,null,null,null,{"$f":"見積書!$B$47","v":""}]
[null,"内　訳","税抜金額",null,null,null,{"$f":"AN58+AN109+AN163+AN217+AN257","v":0},null,null,null,null,null,null,null,null,null,null,null,null,null,null,null,null,null,null,null,null,null,null,null,null,null,null,"第",null,14,null,"回請求"]
[]
[null,null,null,null,null,null,null,null,null,null,null,null,null,null,null,null,null,null,null,"注文番号",null,null,null,null,{"$f":"IF('出来高内訳書 (第1回請求)'!Y25=\"\",\"\",'出来高内訳書 (第1回請求)'!Y25)","v":""}]
[]
[null,null,null,null,null,null,null,null,null,null,null,null,null,null,null,null,null,null,null,null,null,null,null,null,null,null,null,null,null,null,null,null,null,null,"※科目"]
[null,null,"消費税額等",null,null,null,{"$f":"IF(AC28=\"10％\",ROUNDDOWN(G23*10%,0),IF(AC28=\"(軽)8%\",ROUNDDOWN(G23*8%,0),0))","v":0},null,null,null,null,null,null,null,null,null,null,null,null,"消費税率",null,null,null,null,null,null,null,null,{"$f":"入力フォーム!B10","v":"10％"}]
[]
[]
[]
[]
[]
[null,"工　種・品　名",null,null,null,null,null,null,null,null,null,null,null,null,"契　約　金　額",null,null,null,null,null,null,null,null,null,null,null,null,null,"前回までの出来高",null,null,null,null,null,null,null,"今回出来高",null,null,null,null,null,null,null,"残高",null,null,null,null,null,null,null,"備　考"]
[null,null,null,null,null,null,null,null,null,null,null,null,null,null,"単位",null,"数量",null,null,"単価",null,null,null,"金額",null,null,null,null,"数量",null,null,"金額",null,null,null,null,"数量",null,null,"金額",null,null,null,null,"数量",null,null,"金額"]
[1,{"$f":"見積書!F61","v":""},null,null,null,null,null,null,null,null,null,null,null,null,{"$f":"見積書!Q61","v":""},null,{"$f":"見積書!R61","v":""},null,null,{"$f":"見積書!S61","v":""},null,null,null,{"$f":"見積書!T61","v":""},null,null,null,null,{"$f":"IF(Q36=\"\",\"\",'出来高内訳書 (第13回請求)'!AC36+'出来高内訳書 (第13回請求)'!AK36)","v":""},null,null,{"$f":"IF(T36=\"\",\"\",ROUND(T36*AC36,0))","v":""},null,null,null,null,null,null,null,{"$f":"IF(T36=\"\",\"\",ROUND(T36*AK36,0))","v":""},null,null,null,null,{"$f":"IF(Q36=\"\",\"\",ROUND(Q36-AC36-AK36,2))","v":""},null,null,{"$f":"IF(T36=\"\",\"\",(IF(AS36<0,\"出来高が契約を超過\",X36-AN36-AF36)))","v":""}]
[null,{"$f":"見積書!F62","v":""}]
[2,{"$f":"見積書!F63","v":""},null,null,null,null,null,null,null,null,null,null,null,null,{"$f":"見積書!Q63","v":""},null,{"$f":"見積書!R63","v":""},null,null,{"$f":"見積書!S63","v":""},null,null,null,{"$f":"見積書!T63","v":""},null,null,null,null,{"$f":"IF(Q38=\"\",\"\",'出来高内訳書 (第13回請求)'!AC38+'出来高内訳書 (第13回請求)'!AK38)","v":""},null,null,{"$f":"IF(T38=\"\",\"\",ROUND(T38*AC38,0))","v":""},null,null,null,null,null,null,null,{"$f":"IF(T38=\"\",\"\",ROUND(T38*AK38,0))","v":""},null,null,null,null,{"$f":"IF(Q38=\"\",\"\",ROUND(Q38-AC38-AK38,2))","v":""},null,null,{"$f":"IF(T38=\"\",\"\",(IF(AS38<0,\"出来高が契約を超過\",X38-AN38-AF38)))","v":""}]
[null,{"$f":"見積書!F64","v":""}]
[3,{"$f":"見積書!F65","v":""},null,null,null,null,null,null,null,null,null,null,null,null,{"$f":"見積書!Q65","v":""},null,{"$f":"見積書!R65","v":""},null,null,{"$f":"見積書!S65","v":""},null,null,null,{"$f":"見積書!T65","v":""},null,null,null,null,{"$f":"IF(Q40=\"\",\"\",'出来高内訳書 (第13回請求)'!AC40+'出来高内訳書 (第13回請求)'!AK40)","v":""},null,null,{"$f":"IF(T40=\"\",\"\",ROUND(T40*AC40,0))","v":""},null,null,null,null,null,null,null,{"$f":"IF(T40=\"\",\"\",ROUND(T40*AK40,0))","v":""},null,null,null,null,{"$f":"IF(Q40=\"\",\"\",ROUND(Q40-AC40-AK40,2))","v":""},null,null,{"$f":"IF(T40=\"\",\"\",(IF(AS40<0,\"出来高が契約を超過\",X40-AN40-AF40)))","v":""}]
[null,{"$f":"見積書!F66","v":""}]
[4,{"$f":"見積書!F67","v":""},null,null,null,null,null,null,null,null,null,null,null,null,{"$f":"見積書!Q67","v":""},null,{"$f":"見積書!R67","v":""},null,null,{"$f":"見積書!S67","v":""},null,null,null,{"$f":"見積書!T67","v":""},null,null,null,null,{"$f":"IF(Q42=\"\",\"\",'出来高内訳書 (第13回請求)'!AC42+'出来高内訳書 (第13回請求)'!AK42)","v":""},null,null,{"$f":"IF(T42=\"\",\"\",ROUND(T42*AC42,0))","v":""},null,null,null,null,null,null,null,{"$f":"IF(T42=\"\",\"\",ROUND(T42*AK42,0))","v":""},null,null,null,null,{"$f":"IF(Q42=\"\",\"\",ROUND(Q42-AC42-AK42,2))","v":""},null,null,{"$f":"IF(T42=\"\",\"\",(IF(AS42<0,\"出来高が契約を超過\",X42-AN42-AF42)))","v":""}]
[null,{"$f":"見積書!F68","v":""}]
[5,{"$f":"見積書!F69","v":""},null,null,null,null,null,null,null,null,null,null,null,null,{"$f":"見積書!Q69","v":""},null,{"$f":"見積書!R69","v":""},null,null,{"$f":"見積書!S69","v":""},null,null,null,{"$f":"見積書!T69","v":""},null,null,null,null,{"$f":"IF(Q44=\"\",\"\",'出来高内訳書 (第13回請求)'!AC44+'出来高内訳書 (第13回請求)'!AK44)","v":""},null,null,{"$f":"IF(T44=\"\",\"\",ROUND(T44*AC44,0))","v":""},null,null,null,null,null,null,null,{"$f":"IF(T44=\"\",\"\",ROUND(T44*AK44,0))","v":""},null,null,null,null,{"$f":"IF(Q44=\"\",\"\",ROUND(Q44-AC44-AK44,2))","v":""},null,null,{"$f":"IF(T44=\"\",\"\",(IF(AS44<0,\"出来高が契約を超過\",X44-AN44-AF44)))","v":""}]
[null,{"$f":"見積書!F70","v":""}]
[6,{"$f":"見積書!F71","v":""},null,null,null,null,null,null,null,null,null,null,null,null,{"$f":"見積書!Q71","v":""},null,{"$f":"見積書!R71","v":""},null,null,{"$f":"見積書!S71","v":""},null,null,null,{"$f":"見積書!T71","v":""},null,null,null,null,{"$f":"IF(Q46=\"\",\"\",'出来高内訳書 (第13回請求)'!AC46+'出来高内訳書 (第13回請求)'!AK46)","v":""},null,null,{"$f":"IF(T46=\"\",\"\",ROUND(T46*AC46,0))","v":""},null,null,null,null,null,null,null,{"$f":"IF(T46=\"\",\"\",ROUND(T46*AK46,0))","v":""},null,null,null,null,{"$f":"IF(Q46=\"\",\"\",ROUND(Q46-AC46-AK46,2))","v":""},null,null,{"$f":"IF(T46=\"\",\"\",(IF(AS46<0,\"出来高が契約を超過\",X46-AN46-AF46)))","v":""}]
[null,{"$f":"見積書!F72","v":""}]
[7,{"$f":"見積書!F73","v":""},null,null,null,null,null,null,null,null,null,null,null,null,{"$f":"見積書!Q73","v":""},null,{"$f":"見積書!R73","v":""},null,null,{"$f":"見積書!S73","v":""},null,null,null,{"$f":"見積書!T73","v":""},null,null,null,null,{"$f":"IF(Q48=\"\",\"\",'出来高内訳書 (第13回請求)'!AC48+'出来高内訳書 (第13回請求)'!AK48)","v":""},null,null,{"$f":"IF(T48=\"\",\"\",ROUND(T48*AC48,0))","v":""},null,null,null,null,null,null,null,{"$f":"IF(T48=\"\",\"\",ROUND(T48*AK48,0))","v":""},null,null,null,null,{"$f":"IF(Q48=\"\",\"\",ROUND(Q48-AC48-AK48,2))","v":""},null,null,{"$f":"IF(T48=\"\",\"\",(IF(AS48<0,\"出来高が契約を超過\",X48-AN48-AF48)))","v":""}]
[null,{"$f":"見積書!F74","v":""}]
[8,{"$f":"見積書!F75","v":""},null,null,null,null,null,null,null,null,null,null,null,null,{"$f":"見積書!Q75","v":""},null,{"$f":"見積書!R75","v":""},null,null,{"$f":"見積書!S75","v":""},null,null,null,{"$f":"見積書!T75","v":""},null,null,null,null,{"$f":"IF(Q50=\"\",\"\",'出来高内訳書 (第13回請求)'!AC50+'出来高内訳書 (第13回請求)'!AK50)","v":""},null,null,{"$f":"IF(T50=\"\",\"\",ROUND(T50*AC50,0))","v":""},null,null,null,null,null,null,null,{"$f":"IF(T50=\"\",\"\",ROUND(T50*AK50,0))","v":""},null,null,null,null,{"$f":"IF(Q50=\"\",\"\",ROUND(Q50-AC50-AK50,2))","v":""},null,null,{"$f":"IF(T50=\"\",\"\",(IF(AS50<0,\"出来高が契約を超過\",X50-AN50-AF50)))","v":""}]
[null,{"$f":"見積書!F76","v":""}]
[9,{"$f":"見積書!F77","v":""},null,null,null,null,null,null,null,null,null,null,null,null,{"$f":"見積書!Q77","v":""},null,{"$f":"見積書!R77","v":""},null,null,{"$f":"見積書!S77","v":""},null,null,null,{"$f":"見積書!T77","v":""},null,null,null,null,{"$f":"IF(Q52=\"\",\"\",'出来高内訳書 (第13回請求)'!AC52+'出来高内訳書 (第13回請求)'!AK52)","v":""},null,null,{"$f":"IF(T52=\"\",\"\",ROUND(T52*AC52,0))","v":""},null,null,null,null,null,null,null,{"$f":"IF(T52=\"\",\"\",ROUND(T52*AK52,0))","v":""},null,null,null,null,{"$f":"IF(Q52=\"\",\"\",ROUND(Q52-AC52-AK52,2))","v":""},null,null,{"$f":"IF(T52=\"\",\"\",(IF(AS52<0,\"出来高が契約を超過\",X52-AN52-AF52)))","v":""}]
[null,{"$f":"見積書!F78","v":""}]
[10,{"$f":"見積書!F79","v":""},null,null,null,null,null,null,null,null,null,null,null,null,{"$f":"見積書!Q79","v":""},null,{"$f":"見積書!R79","v":""},null,null,{"$f":"見積書!S79","v":""},null,null,null,{"$f":"見積書!T79","v":""},null,null,null,null,{"$f":"IF(Q54=\"\",\"\",'出来高内訳書 (第13回請求)'!AC54+'出来高内訳書 (第13回請求)'!AK54)","v":""},null,null,{"$f":"IF(T54=\"\",\"\",ROUND(T54*AC54,0))","v":""},null,null,null,null,null,null,null,{"$f":"IF(T54=\"\",\"\",ROUND(T54*AK54,0))","v":""},null,null,null,null,{"$f":"IF(Q54=\"\",\"\",ROUND(Q54-AC54-AK54,2))","v":""},null,null,{"$f":"IF(T54=\"\",\"\",(IF(AS54<0,\"出来高が契約を超過\",X54-AN54-AF54)))","v":""}]
[null,{"$f":"見積書!F80","v":""}]
[11,{"$f":"見積書!F81","v":""},null,null,null,null,null,null,null,null,null,null,null,null,{"$f":"見積書!Q81","v":""},null,{"$f":"見積書!R81","v":""},null,null,{"$f":"見積書!S81","v":""},null,null,null,{"$f":"見積書!T81","v":""},null,null,null,null,{"$f":"IF(Q56=\"\",\"\",'出来高内訳書 (第13回請求)'!AC56+'出来高内訳書 (第13回請求)'!AK56)","v":""},null,null,{"$f":"IF(T56=\"\",\"\",ROUND(T56*AC56,0))","v":""},null,null,null,null,null,null,null,{"$f":"IF(T56=\"\",\"\",ROUND(T56*AK56,0))","v":""},null,null,null,null,{"$f":"IF(Q56=\"\",\"\",ROUND(Q56-AC56-AK56,2))","v":""},null,null,{"$f":"IF(T56=\"\",\"\",(IF(AS56<0,\"出来高が契約を超過\",X56-AN56-AF56)))","v":""}]
[null,{"$f":"見積書!F82","v":""}]
[null,"小計",null,null,null,null,null,null,null,null,null,null,null,null,null,null,null,null,null,null,null,null,null,{"$f":"SUM(X36:AB57)","v":0},null,null,null,null,null,null,null,{"$f":"SUM(AF36:AJ57)","v":0},null,null,null,null,null,null,null,{"$f":"SUM(AN36:AR57)","v":0},null,null,null,null,null,null,null,{"$f":"X58-AF58-AN58","v":0}]
[]
[null,"請求内訳書（出来高・分割納入用）",null,null,null,null,null,null,null,null,null,null,null,null,null,null,null,null,null,null,null,null,null,null,null,null,null,null,null,null,null,null,null,null,null,null,null,null,null,null,null,null,null,null,null,null,null,null,null,null,"No."]
[]
[]
[]
[]
[]
[]
[]
[]
[]
[null,"製造番号",null,null,null,null,{"$f":"Y22","v":""},null,null,null,null,null,null,null,null,null,null,null,null,null,null,null,null,"※科目"]
[]
[]
[null,"注文番号",null,null,null,null,{"$f":"Y25","v":""},null,null,null,null,null,null,null,null,"第",null,{"$f":"AJ23","v":14},null,"回請求"]
[]
[]
[]
[null,"工　種・品　名",null,null,null,null,null,null,null,null,null,null,null,null,"契　約　金　額",null,null,null,null,null,null,null,null,null,null,null,null,null,"前回までの出来高",null,null,null,null,null,null,null,"今回出来高",null,null,null,null,null,null,null,"残高",null,null,null,null,null,null,null,"備　考"]
[null,null,null,null,null,null,null,null,null,null,null,null,null,null,"単位",null,"数量",null,null,"単価",null,null,null,"金額",null,null,null,null,"数量",null,null,"金額",null,null,null,null,"数量",null,null,"金額",null,null,null,null,"数量",null,null,"金額"]
[12,{"$f":"見積書!F83","v":""},null,null,null,null,null,null,null,null,null,null,null,null,{"$f":"見積書!Q83","v":""},null,{"$f":"見積書!R83","v":""},null,null,{"$f":"見積書!S83","v":""},null,null,null,{"$f":"見積書!T83","v":""},null,null,null,null,{"$f":"IF(Q79=\"\",\"\",'出来高内訳書 (第13回請求)'!AC79+'出来高内訳書 (第13回請求)'!AK79)","v":""},null,null,{"$f":"IF(T79=\"\",\"\",ROUND(T79*AC79,0))","v":""},null,null,null,null,null,null,null,{"$f":"IF(T79=\"\",\"\",ROUND(T79*AK79,0))","v":""},null,null,null,null,{"$f":"IF(Q79=\"\",\"\",ROUND(Q79-AC79-AK79,2))","v":""},null,null,{"$f":"IF(T79=\"\",\"\",(IF(AS79<0,\"出来高が契約を超過\",X79-AN79-AF79)))","v":""}]
[null,{"$f":"見積書!F84","v":""}]
[13,{"$f":"見積書!F85","v":""},null,null,null,null,null,null,null,null,null,null,null,null,{"$f":"見積書!Q85","v":""},null,{"$f":"見積書!R85","v":""},null,null,{"$f":"見積書!S85","v":""},null,null,null,{"$f":"見積書!T85","v":""},null,null,null,null,{"$f":"IF(Q81=\"\",\"\",'出来高内訳書 (第13回請求)'!AC81+'出来高内訳書 (第13回請求)'!AK81)","v":""},null,null,{"$f":"IF(T81=\"\",\"\",ROUND(T81*AC81,0))","v":""},null,null,null,null,null,null,null,{"$f":"IF(T81=\"\",\"\",ROUND(T81*AK81,0))","v":""},null,null,null,null,{"$f":"IF(Q81=\"\",\"\",ROUND(Q81-AC81-AK81,2))","v":""},null,null,{"$f":"IF(T81=\"\",\"\",(IF(AS81<0,\"出来高が契約を超過\",X81-AN81-AF81)))","v":""}]
[null,{"$f":"見積書!F86","v":""}]
[14,{"$f":"'見積書 (2)'!F26","v":""},null,null,null,null,null,null,null,null,null,null,null,null,{"$f":"'見積書 (2)'!Q26","v":""},null,{"$f":"'見積書 (2)'!R26","v":""},null,null,{"$f":"'見積書 (2)'!S26","v":""},null,null,null,{"$f":"'見積書 (2)'!T26","v":""},null,null,null,null,{"$f":"IF(Q83=\"\",\"\",'出来高内訳書 (第13回請求)'!AC83+'出来高内訳書 (第13回請求)'!AK83)","v":""},null,null,{"$f":"IF(T83=\"\",\"\",ROUND(T83*AC83,0))","v":""},null,null,null,null,null,null,null,{"$f":"IF(T83=\"\",\"\",ROUND(T83*AK83,0))","v":""},null,null,null,null,{"$f":"IF(Q83=\"\",\"\",ROUND(Q83-AC83-AK83,2))","v":""},null,null,{"$f":"IF(T83=\"\",\"\",(IF(AS83<0,\"出来高が契約を超過\",X83-AN83-AF83)))","v":""}]
[null,{"$f":"'見積書 (2)'!F27","v":""}]
[15,{"$f":"'見積書 (2)'!F28","v":""},null,null,null,null,null,null,null,null,null,null,null,null,{"$f":"'見積書 (2)'!Q28","v":""},null,{"$f":"'見積書 (2)'!R28","v":""},null,null,{"$f":"'見積書 (2)'!S28","v":""},null,null,null,{"$f":"'見積書 (2)'!T28","v":""},null,null,null,null,{"$f":"IF(Q85=\"\",\"\",'出来高内訳書 (第13回請求)'!AC85+'出来高内訳書 (第13回請求)'!AK85)","v":""},null,null,{"$f":"IF(T85=\"\",\"\",ROUND(T85*AC85,0))","v":""},null,null,null,null,null,null,null,{"$f":"IF(T85=\"\",\"\",ROUND(T85*AK85,0))","v":""},null,null,null,null,{"$f":"IF(Q85=\"\",\"\",ROUND(Q85-AC85-AK85,2))","v":""},null,null,{"$f":"IF(T85=\"\",\"\",(IF(AS85<0,\"出来高が契約を超過\",X85-AN85-AF85)))","v":""}]
[null,{"$f":"'見積書 (2)'!F29","v":""}]
[16,{"$f":"'見積書 (2)'!F30","v":""},null,null,null,null,null,null,null,null,null,null,null,null,{"$f":"'見積書 (2)'!Q30","v":""},null,{"$f":"'見積書 (2)'!R30","v":""},null,null,{"$f":"'見積書 (2)'!S30","v":""},null,null,null,{"$f":"'見積書 (2)'!T30","v":""},null,null,null,null,{"$f":"IF(Q87=\"\",\"\",'出来高内訳書 (第13回請求)'!AC87+'出来高内訳書 (第13回請求)'!AK87)","v":""},null,null,{"$f":"IF(T87=\"\",\"\",ROUND(T87*AC87,0))","v":""},null,null,null,null,null,null,null,{"$f":"IF(T87=\"\",\"\",ROUND(T87*AK87,0))","v":""},null,null,null,null,{"$f":"IF(Q87=\"\",\"\",ROUND(Q87-AC87-AK87,2))","v":""},null,null,{"$f":"IF(T87=\"\",\"\",(IF(AS87<0,\"出来高が契約を超過\",X87-AN87-AF87)))","v":""}]
[null,{"$f":"'見積書 (2)'!F31","v":""}]
[17,{"$f":"'見積書 (2)'!F32","v":""},null,null,null,null,null,null,null,null,null,null,null,null,{"$f":"'見積書 (2)'!Q32","v":""},null,{"$f":"'見積書 (2)'!R32","v":""},null,null,{"$f":"'見積書 (2)'!S32","v":""},null,null,null,{"$f":"'見積書 (2)'!T32","v":""},null,null,null,null,{"$f":"IF(Q89=\"\",\"\",'出来高内訳書 (第13回請求)'!AC89+'出来高内訳書 (第13回請求)'!AK89)","v":""},null,null,{"$f":"IF(T89=\"\",\"\",ROUND(T89*AC89,0))","v":""},null,null,null,null,null,null,null,{"$f":"IF(T89=\"\",\"\",ROUND(T89*AK89,0))","v":""},null,null,null,null,{"$f":"IF(Q89=\"\",\"\",ROUND(Q89-AC89-AK89,2))","v":""},null,null,{"$f":"IF(T89=\"\",\"\",(IF(AS89<0,\"出来高が契約を超過\",X89-AN89-AF89)))","v":""}]
[null,{"$f":"'見積書 (2)'!F33","v":""}]
[18,{"$f":"'見積書 (2)'!F34","v":""},null,null,null,null,null,null,null,null,null,null,null,null,{"$f":"'見積書 (2)'!Q34","v":""},null,{"$f":"'見積書 (2)'!R34","v":""},null,null,{"$f":"'見積書 (2)'!S34","v":""},null,null,null,{"$f":"'見積書 (2)'!T34","v":""},null,null,null,null,{"$f":"IF(Q91=\"\",\"\",'出来高内訳書 (第13回請求)'!AC91+'出来高内訳書 (第13回請求)'!AK91)","v":""},null,null,{"$f":"IF(T91=\"\",\"\",ROUND(T91*AC91,0))","v":""},null,null,null,null,null,null,null,{"$f":"IF(T91=\"\",\"\",ROUND(T91*AK91,0))","v":""},null,null,null,null,{"$f":"IF(Q91=\"\",\"\",ROUND(Q91-AC91-AK91,2))","v":""},null,null,{"$f":"IF(T91=\"\",\"\",(IF(AS91<0,\"出来高が契約を超過\",X91-AN91-AF91)))","v":""}]
[null,{"$f":"'見積書 (2)'!F35","v":""}]
[19,{"$f":"'見積書 (2)'!F36","v":""},null,null,null,null,null,null,null,null,null,null,null,null,{"$f":"'見積書 (2)'!Q36","v":""},null,{"$f":"'見積書 (2)'!R36","v":""},null,null,{"$f":"'見積書 (2)'!S36","v":""},null,null,null,{"$f":"'見積書 (2)'!T36","v":""},null,null,null,null,{"$f":"IF(Q93=\"\",\"\",'出来高内訳書 (第13回請求)'!AC93+'出来高内訳書 (第13回請求)'!AK93)","v":""},null,null,{"$f":"IF(T93=\"\",\"\",ROUND(T93*AC93,0))","v":""},null,null,null,null,null,null,null,{"$f":"IF(T93=\"\",\"\",ROUND(T93*AK93,0))","v":""},null,null,null,null,{"$f":"IF(Q93=\"\",\"\",ROUND(Q93-AC93-AK93,2))","v":""},null,null,{"$f":"IF(T93=\"\",\"\",(IF(AS93<0,\"出来高が契約を超過\",X93-AN93-AF93)))","v":""}]
[null,{"$f":"'見積書 (2)'!F37","v":""}]
[20,{"$f":"'見積書 (2)'!F38","v":""},null,null,null,null,null,null,null,null,null,null,null,null,{"$f":"'見積書 (2)'!Q38","v":""},null,{"$f":"'見積書 (2)'!R38","v":""},null,null,{"$f":"'見積書 (2)'!S38","v":""},null,null,null,{"$f":"'見積書 (2)'!T38","v":""},null,null,null,null,{"$f":"IF(Q95=\"\",\"\",'出来高内訳書 (第13回請求)'!AC95+'出来高内訳書 (第13回請求)'!AK95)","v":""},null,null,{"$f":"IF(T95=\"\",\"\",ROUND(T95*AC95,0))","v":""},null,null,null,null,null,null,null,{"$f":"IF(T95=\"\",\"\",ROUND(T95*AK95,0))","v":""},null,null,null,null,{"$f":"IF(Q95=\"\",\"\",ROUND(Q95-AC95-AK95,2))","v":""},null,null,{"$f":"IF(T95=\"\",\"\",(IF(AS95<0,\"出来高が契約を超過\",X95-AN95-AF95)))","v":""}]
[null,{"$f":"'見積書 (2)'!F39","v":""}]
[21,{"$f":"'見積書 (2)'!F40","v":""},null,null,null,null,null,null,null,null,null,null,null,null,{"$f":"'見積書 (2)'!Q40","v":""},null,{"$f":"'見積書 (2)'!R40","v":""},null,null,{"$f":"'見積書 (2)'!S40","v":""},null,null,null,{"$f":"'見積書 (2)'!T40","v":""},null,null,null,null,{"$f":"IF(Q97=\"\",\"\",'出来高内訳書 (第13回請求)'!AC97+'出来高内訳書 (第13回請求)'!AK97)","v":""},null,null,{"$f":"IF(T97=\"\",\"\",ROUND(T97*AC97,0))","v":""},null,null,null,null,null,null,null,{"$f":"IF(T97=\"\",\"\",ROUND(T97*AK97,0))","v":""},null,null,null,null,{"$f":"IF(Q97=\"\",\"\",ROUND(Q97-AC97-AK97,2))","v":""},null,null,{"$f":"IF(T97=\"\",\"\",(IF(AS97<0,\"出来高が契約を超過\",X97-AN97-AF97)))","v":""}]
[null,{"$f":"'見積書 (2)'!F41","v":""}]
[22,{"$f":"'見積書 (2)'!F42","v":""},null,null,null,null,null,null,null,null,null,null,null,null,{"$f":"'見積書 (2)'!Q42","v":""},null,{"$f":"'見積書 (2)'!R42","v":""},null,null,{"$f":"'見積書 (2)'!S42","v":""},null,null,null,{"$f":"'見積書 (2)'!T42","v":""},null,null,null,null,{"$f":"IF(Q99=\"\",\"\",'出来高内訳書 (第13回請求)'!AC99+'出来高内訳書 (第13回請求)'!AK99)","v":""},null,null,{"$f":"IF(T99=\"\",\"\",ROUND(T99*AC99,0))","v":""},null,null,null,null,null,null,null,{"$f":"IF(T99=\"\",\"\",ROUND(T99*AK99,0))","v":""},null,null,null,null,{"$f":"IF(Q99=\"\",\"\",ROUND(Q99-AC99-AK99,2))","v":""},null,null,{"$f":"IF(T99=\"\",\"\",(IF(AS99<0,\"出来高が契約を超過\",X99-AN99-AF99)))","v":""}]
[null,{"$f":"'見積書 (2)'!F43","v":""}]
[23,{"$f":"'見積書 (2)'!F44","v":""},null,null,null,null,null,null,null,null,null,null,null,null,{"$f":"'見積書 (2)'!Q44","v":""},null,{"$f":"'見積書 (2)'!R44","v":""},null,null,{"$f":"'見積書 (2)'!S44","v":""},null,null,null,{"$f":"'見積書 (2)'!T44","v":""},null,null,null,null,{"$f":"IF(Q101=\"\",\"\",'出来高内訳書 (第13回請求)'!AC101+'出来高内訳書 (第13回請求)'!AK101)","v":""},null,null,{"$f":"IF(T101=\"\",\"\",ROUND(T101*AC101,0))","v":""},null,null,null,null,null,null,null,{"$f":"IF(T101=\"\",\"\",ROUND(T101*AK101,0))","v":""},null,null,null,null,{"$f":"IF(Q101=\"\",\"\",ROUND(Q101-AC101-AK101,2))","v":""},null,null,{"$f":"IF(T101=\"\",\"\",(IF(AS101<0,\"出来高が契約を超過\",X101-AN101-AF101)))","v":""}]
[null,{"$f":"'見積書 (2)'!F45","v":""}]
[24,{"$f":"'見積書 (2)'!F46","v":""},null,null,null,null,null,null,null,null,null,null,null,null,{"$f":"'見積書 (2)'!Q46","v":""},null,{"$f":"'見積書 (2)'!R46","v":""},null,null,{"$f":"'見積書 (2)'!S46","v":""},null,null,null,{"$f":"'見積書 (2)'!T46","v":""},null,null,null,null,{"$f":"IF(Q103=\"\",\"\",'出来高内訳書 (第13回請求)'!AC103+'出来高内訳書 (第13回請求)'!AK103)","v":""},null,null,{"$f":"IF(T103=\"\",\"\",ROUND(T103*AC103,0))","v":""},null,null,null,null,null,null,null,{"$f":"IF(T103=\"\",\"\",ROUND(T103*AK103,0))","v":""},null,null,null,null,{"$f":"IF(Q103=\"\",\"\",ROUND(Q103-AC103-AK103,2))","v":""},null,null,{"$f":"IF(T103=\"\",\"\",(IF(AS103<0,\"出来高が契約を超過\",X103-AN103-AF103)))","v":""}]
[null,{"$f":"'見積書 (2)'!F47","v":""}]
[25,{"$f":"'見積書 (2)'!F48","v":""},null,null,null,null,null,null,null,null,null,null,null,null,{"$f":"'見積書 (2)'!Q48","v":""},null,{"$f":"'見積書 (2)'!R48","v":""},null,null,{"$f":"'見積書 (2)'!S48","v":""},null,null,null,{"$f":"'見積書 (2)'!T48","v":""},null,null,null,null,{"$f":"IF(Q105=\"\",\"\",'出来高内訳書 (第13回請求)'!AC105+'出来高内訳書 (第13回請求)'!AK105)","v":""},null,null,{"$f":"IF(T105=\"\",\"\",ROUND(T105*AC105,0))","v":""},null,null,null,null,null,null,null,{"$f":"IF(T105=\"\",\"\",ROUND(T105*AK105,0))","v":""},null,null,null,null,{"$f":"IF(Q105=\"\",\"\",ROUND(Q105-AC105-AK105,2))","v":""},null,null,{"$f":"IF(T105=\"\",\"\",(IF(AS105<0,\"出来高が契約を超過\",X105-AN105-AF105)))","v":""}]
[null,{"$f":"'見積書 (2)'!F49","v":""}]
[26,{"$f":"'見積書 (2)'!F50","v":""},null,null,null,null,null,null,null,null,null,null,null,null,{"$f":"'見積書 (2)'!Q50","v":""},null,{"$f":"'見積書 (2)'!R50","v":""},null,null,{"$f":"'見積書 (2)'!S50","v":""},null,null,null,{"$f":"'見積書 (2)'!T50","v":""},null,null,null,null,{"$f":"IF(Q107=\"\",\"\",'出来高内訳書 (第13回請求)'!AC107+'出来高内訳書 (第13回請求)'!AK107)","v":""},null,null,{"$f":"IF(T107=\"\",\"\",ROUND(T107*AC107,0))","v":""},null,null,null,null,null,null,null,{"$f":"IF(T107=\"\",\"\",ROUND(T107*AK107,0))","v":""},null,null,null,null,{"$f":"IF(Q107=\"\",\"\",ROUND(Q107-AC107-AK107,2))","v":""},null,null,{"$f":"IF(T107=\"\",\"\",(IF(AS107<0,\"出来高が契約を超過\",X107-AN107-AF107)))","v":""}]
[null,{"$f":"'見積書 (2)'!F51","v":""}]
[null,"小計",null,null,null,null,null,null,null,null,null,null,null,null,null,null,null,null,null,null,null,null,null,{"$f":"SUM(X79:AB108)","v":0},null,null,null,null,null,null,null,{"$f":"SUM(AF79:AJ108)","v":0},null,null,null,null,null,null,null,{"$f":"SUM(AN79:AR108)","v":0},null,null,null,null,null,null,null,{"$f":"X109-AF109-AN109","v":0}]
[]
[]
[]
[]
[null,"請求内訳書（出来高・分割納入用）",null,null,null,null,null,null,null,null,null,null,null,null,null,null,null,null,null,null,null,null,null,null,null,null,null,null,null,null,null,null,null,null,null,null,null,null,null,null,null,null,null,null,null,null,null,null,null,null,"No."]
[]
[]
[]
[]
[]
[]
[]
[]
[]
[null,"製造番号",null,null,null,null,{"$f":"Y22","v":""},null,null,null,null,null,null,null,null,null,null,null,null,null,null,null,null,"※科目"]
[]
[]
[null,"注文番号",null,null,null,null,{"$f":"Y25","v":""},null,null,null,null,null,null,null,null,"第",null,{"$f":"AJ23","v":14},null,"回請求"]
[]
[]
[]
[null,"工　種・品　名",null,null,null,null,null,null,null,null,null,null,null,null,"契　約　金　額",null,null,null,null,null,null,null,null,null,null,null,null,null,"前回までの出来高",null,null,null,null,null,null,null,"今回出来高",null,null,null,null,null,null,null,"残高",null,null,null,null,null,null,null,"備　考"]
[null,null,null,null,null,null,null,null,null,null,null,null,null,null,"単位",null,"数量",null,null,"単価",null,null,null,"金額",null,null,null,null,"数量",null,null,"金額",null,null,null,null,"数量",null,null,"金額",null,null,null,null,"数量",null,null,"金額"]
[27,{"$f":"'見積書 (2)'!F52","v":""},null,null,null,null,null,null,null,null,null,null,null,null,{"$f":"'見積書 (2)'!Q52","v":""},null,{"$f":"'見積書 (2)'!R52","v":""},null,null,{"$f":"'見積書 (2)'!S52","v":""},null,null,null,{"$f":"'見積書 (2)'!T52","v":""},null,null,null,null,{"$f":"IF(Q133=\"\",\"\",'出来高内訳書 (第13回請求)'!AC133+'出来高内訳書 (第13回請求)'!AK133)","v":""},null,null,{"$f":"IF(T133=\"\",\"\",ROUND(T133*AC133,0))","v":""},null,null,null,null,null,null,null,{"$f":"IF(T133=\"\",\"\",ROUND(T133*AK133,0))","v":""},null,null,null,null,{"$f":"IF(Q133=\"\",\"\",ROUND(Q133-AC133-AK133,2))","v":""},null,null,{"$f":"IF(T133=\"\",\"\",(IF(AS133<0,\"出来高が契約を超過\",X133-AN133-AF133)))","v":""}]
[null,{"$f":"'見積書 (2)'!F53","v":""}]
[28,{"$f":"'見積書 (2)'!F54","v":""},null,null,null,null,null,null,null,null,null,null,null,null,{"$f":"'見積書 (2)'!Q54","v":""},null,{"$f":"'見積書 (2)'!R54","v":""},null,null,{"$f":"'見積書 (2)'!S54","v":""},null,null,null,{"$f":"'見積書 (2)'!T54","v":""},null,null,null,null,{"$f":"IF(Q135=\"\",\"\",'出来高内訳書 (第13回請求)'!AC135+'出来高内訳書 (第13回請求)'!AK135)","v":""},null,null,{"$f":"IF(T135=\"\",\"\",ROUND(T135*AC135,0))","v":""},null,null,null,null,null,null,null,{"$f":"IF(T135=\"\",\"\",ROUND(T135*AK135,0))","v":""},null,null,null,null,{"$f":"IF(Q135=\"\",\"\",ROUND(Q135-AC135-AK135,2))","v":""},null,null,{"$f":"IF(T135=\"\",\"\",(IF(AS135<0,\"出来高が契約を超過\",X135-AN135-AF135)))","v":""}]
[null,{"$f":"'見積書 (2)'!F55","v":""}]
[29,{"$f":"'見積書 (2)'!F56","v":""},null,null,null,null,null,null,null,null,null,null,null,null,{"$f":"'見積書 (2)'!Q56","v":""},null,{"$f":"'見積書 (2)'!R56","v":""},null,null,{"$f":"'見積書 (2)'!S56","v":""},null,null,null,{"$f":"'見積書 (2)'!T56","v":""},null,null,null,null,{"$f":"IF(Q137=\"\",\"\",'出来高内訳書 (第13回請求)'!AC137+'出来高内訳書 (第13回請求)'!AK137)","v":""},null,null,{"$f":"IF(T137=\"\",\"\",ROUND(T137*AC137,0))","v":""},null,null,null,null,null,null,null,{"$f":"IF(T137=\"\",\"\",ROUND(T137*AK137,0))","v":""},null,null,null,null,{"$f":"IF(Q137=\"\",\"\",ROUND(Q137-AC137-AK137,2))","v":""},null,null,{"$f":"IF(T137=\"\",\"\",(IF(AS137<0,\"出来高が契約を超過\",X137-AN137-AF137)))","v":""}]
[null,{"$f":"'見積書 (2)'!F57","v":""}]
[30,{"$f":"'見積書 (2)'!F58","v":""},null,null,null,null,null,null,null,null,null,null,null,null,{"$f":"'見積書 (2)'!Q58","v":""},null,{"$f":"'見積書 (2)'!R58","v":""},null,null,{"$f":"'見積書 (2)'!S58","v":""},null,null,null,{"$f":"'見積書 (2)'!T58","v":""},null,null,null,null,{"$f":"IF(Q139=\"\",\"\",'出来高内訳書 (第13回請求)'!AC139+'出来高内訳書 (第13回請求)'!AK139)","v":""},null,null,{"$f":"IF(T139=\"\",\"\",ROUND(T139*AC139,0))","v":""},null,null,null,null,null,null,null,{"$f":"IF(T139=\"\",\"\",ROUND(T139*AK139,0))","v":""},null,null,null,null,{"$f":"IF(Q139=\"\",\"\",ROUND(Q139-AC139-AK139,2))","v":""},null,null,{"$f":"IF(T139=\"\",\"\",(IF(AS139<0,\"出来高が契約を超過\",X139-AN139-AF139)))","v":""}]
[null,{"$f":"'見積書 (2)'!F59","v":""}]
[31,{"$f":"'見積書 (2)'!F60","v":""},null,null,null,null,null,null,null,null,null,null,null,null,{"$f":"'見積書 (2)'!Q60","v":""},null,{"$f":"'見積書 (2)'!R60","v":""},null,null,{"$f":"'見積書 (2)'!S60","v":""},null,null,null,{"$f":"'見積書 (2)'!T60","v":""},null,null,null,null,{"$f":"IF(Q141=\"\",\"\",'出来高内訳書 (第13回請求)'!AC141+'出来高内訳書 (第13回請求)'!AK141)","v":""},null,null,{"$f":"IF(T141=\"\",\"\",ROUND(T141*AC141,0))","v":""},null,null,null,null,null,null,null,{"$f":"IF(T141=\"\",\"\",ROUND(T141*AK141,0))","v":""},null,null,null,null,{"$f":"IF(Q141=\"\",\"\",ROUND(Q141-AC141-AK141,2))","v":""},null,null,{"$f":"IF(T141=\"\",\"\",(IF(AS141<0,\"出来高が契約を超過\",X141-AN141-AF141)))","v":""}]
[null,{"$f":"'見積書 (2)'!F61","v":""}]
[32,{"$f":"'見積書 (2)'!F62","v":""},null,null,null,null,null,null,null,null,null,null,null,null,{"$f":"'見積書 (2)'!Q62","v":""},null,{"$f":"'見積書 (2)'!R62","v":""},null,null,{"$f":"'見積書 (2)'!S62","v":""},null,null,null,{"$f":"'見積書 (2)'!T62","v":""},null,null,null,null,{"$f":"IF(Q143=\"\",\"\",'出来高内訳書 (第13回請求)'!AC143+'出来高内訳書 (第13回請求)'!AK143)","v":""},null,null,{"$f":"IF(T143=\"\",\"\",ROUND(T143*AC143,0))","v":""},null,null,null,null,null,null,null,{"$f":"IF(T143=\"\",\"\",ROUND(T143*AK143,0))","v":""},null,null,null,null,{"$f":"IF(Q143=\"\",\"\",ROUND(Q143-AC143-AK143,2))","v":""},null,null,{"$f":"IF(T143=\"\",\"\",(IF(AS143<0,\"出来高が契約を超過\",X143-AN143-AF143)))","v":""}]
[null,{"$f":"'見積書 (2)'!F63","v":""}]
[33,{"$f":"'見積書 (2)'!F64","v":""},null,null,null,null,null,null,null,null,null,null,null,null,{"$f":"'見積書 (2)'!Q64","v":""},null,{"$f":"'見積書 (2)'!R64","v":""},null,null,{"$f":"'見積書 (2)'!S64","v":""},null,null,null,{"$f":"'見積書 (2)'!T64","v":""},null,null,null,null,{"$f":"IF(Q145=\"\",\"\",'出来高内訳書 (第13回請求)'!AC145+'出来高内訳書 (第13回請求)'!AK145)","v":""},null,null,{"$f":"IF(T145=\"\",\"\",ROUND(T145*AC145,0))","v":""},null,null,null,null,null,null,null,{"$f":"IF(T145=\"\",\"\",ROUND(T145*AK145,0))","v":""},null,null,null,null,{"$f":"IF(Q145=\"\",\"\",ROUND(Q145-AC145-AK145,2))","v":""},null,null,{"$f":"IF(T145=\"\",\"\",(IF(AS145<0,\"出来高が契約を超過\",X145-AN145-AF145)))","v":""}]
[null,{"$f":"'見積書 (2)'!F65","v":""}]
[34,{"$f":"'見積書 (2)'!F66","v":""},null,null,null,null,null,null,null,null,null,null,null,null,{"$f":"'見積書 (2)'!Q66","v":""},null,{"$f":"'見積書 (2)'!R66","v":""},null,null,{"$f":"'見積書 (2)'!S66","v":""},null,null,null,{"$f":"'見積書 (2)'!T66","v":""},null,null,null,null,{"$f":"IF(Q147=\"\",\"\",'出来高内訳書 (第13回請求)'!AC147+'出来高内訳書 (第13回請求)'!AK147)","v":""},null,null,{"$f":"IF(T147=\"\",\"\",ROUND(T147*AC147,0))","v":""},null,null,null,null,null,null,null,{"$f":"IF(T147=\"\",\"\",ROUND(T147*AK147,0))","v":""},null,null,null,null,{"$f":"IF(Q147=\"\",\"\",ROUND(Q147-AC147-AK147,2))","v":""},null,null,{"$f":"IF(T147=\"\",\"\",(IF(AS147<0,\"出来高が契約を超過\",X147-AN147-AF147)))","v":""}]
[null,{"$f":"'見積書 (2)'!F67","v":""}]
[35,{"$f":"'見積書 (2)'!F68","v":""},null,null,null,null,null,null,null,null,null,null,null,null,{"$f":"'見積書 (2)'!Q68","v":""},null,{"$f":"'見積書 (2)'!R68","v":""},null,null,{"$f":"'見積書 (2)'!S68","v":""},null,null,null,{"$f":"'見積書 (2)'!T68","v":""},null,null,null,null,{"$f":"IF(Q149=\"\",\"\",'出来高内訳書 (第13回請求)'!AC149+'出来高内訳書 (第13回請求)'!AK149)","v":""},null,null,{"$f":"IF(T149=\"\",\"\",ROUND(T149*AC149,0))","v":""},null,null,null,null,null,null,null,{"$f":"IF(T149=\"\",\"\",ROUND(T149*AK149,0))","v":""},null,null,null,null,{"$f":"IF(Q149=\"\",\"\",ROUND(Q149-AC149-AK149,2))","v":""},null,null,{"$f":"IF(T149=\"\",\"\",(IF(AS149<0,\"出来高が契約を超過\",X149-AN149-AF149)))","v":""}]
[null,{"$f":"'見積書 (2)'!F69","v":""}]
[36,{"$f":"'見積書 (3)'!F26","v":""},null,null,null,null,null,null,null,null,null,null,null,null,{"$f":"'見積書 (3)'!Q26","v":""},null,{"$f":"'見積書 (3)'!R26","v":""},null,null,{"$f":"'見積書 (3)'!S26","v":""},null,null,null,{"$f":"'見積書 (3)'!T26","v":""},null,null,null,null,{"$f":"IF(Q151=\"\",\"\",'出来高内訳書 (第13回請求)'!AC151+'出来高内訳書 (第13回請求)'!AK151)","v":""},null,null,{"$f":"IF(T151=\"\",\"\",ROUND(T151*AC151,0))","v":""},null,null,null,null,null,null,null,{"$f":"IF(T151=\"\",\"\",ROUND(T151*AK151,0))","v":""},null,null,null,null,{"$f":"IF(Q151=\"\",\"\",ROUND(Q151-AC151-AK151,2))","v":""},null,null,{"$f":"IF(T151=\"\",\"\",(IF(AS151<0,\"出来高が契約を超過\",X151-AN151-AF151)))","v":""}]
[null,{"$f":"'見積書 (3)'!F27","v":""}]
[37,{"$f":"'見積書 (3)'!F28","v":""},null,null,null,null,null,null,null,null,null,null,null,null,{"$f":"'見積書 (3)'!Q28","v":""},null,{"$f":"'見積書 (3)'!R28","v":""},null,null,{"$f":"'見積書 (3)'!S28","v":""},null,null,null,{"$f":"'見積書 (3)'!T28","v":""},null,null,null,null,{"$f":"IF(Q153=\"\",\"\",'出来高内訳書 (第13回請求)'!AC153+'出来高内訳書 (第13回請求)'!AK153)","v":""},null,null,{"$f":"IF(T153=\"\",\"\",ROUND(T153*AC153,0))","v":""},null,null,null,null,null,null,null,{"$f":"IF(T153=\"\",\"\",ROUND(T153*AK153,0))","v":""},null,null,null,null,{"$f":"IF(Q153=\"\",\"\",ROUND(Q153-AC153-AK153,2))","v":""},null,null,{"$f":"IF(T153=\"\",\"\",(IF(AS153<0,\"出来高が契約を超過\",X153-AN153-AF153)))","v":""}]
[null,{"$f":"'見積書 (3)'!F29","v":""}]
[38,{"$f":"'見積書 (3)'!F30","v":""},null,null,null,null,null,null,null,null,null,null,null,null,{"$f":"'見積書 (3)'!Q30","v":""},null,{"$f":"'見積書 (3)'!R30","v":""},null,null,{"$f":"'見積書 (3)'!S30","v":""},null,null,null,{"$f":"'見積書 (3)'!T30","v":""},null,null,null,null,{"$f":"IF(Q155=\"\",\"\",'出来高内訳書 (第13回請求)'!AC155+'出来高内訳書 (第13回請求)'!AK155)","v":""},null,null,{"$f":"IF(T155=\"\",\"\",ROUND(T155*AC155,0))","v":""},null,null,null,null,null,null,null,{"$f":"IF(T155=\"\",\"\",ROUND(T155*AK155,0))","v":""},null,null,null,null,{"$f":"IF(Q155=\"\",\"\",ROUND(Q155-AC155-AK155,2))","v":""},null,null,{"$f":"IF(T155=\"\",\"\",(IF(AS155<0,\"出来高が契約を超過\",X155-AN155-AF155)))","v":""}]
[null,{"$f":"'見積書 (3)'!F31","v":""}]
[39,{"$f":"'見積書 (3)'!F32","v":""},null,null,null,null,null,null,null,null,null,null,null,null,{"$f":"'見積書 (3)'!Q32","v":""},null,{"$f":"'見積書 (3)'!R32","v":""},null,null,{"$f":"'見積書 (3)'!S32","v":""},null,null,null,{"$f":"'見積書 (3)'!T32","v":""},null,null,null,null,{"$f":"IF(Q157=\"\",\"\",'出来高内訳書 (第13回請求)'!AC157+'出来高内訳書 (第13回請求)'!AK157)","v":""},null,null,{"$f":"IF(T157=\"\",\"\",ROUND(T157*AC157,0))","v":""},null,null,null,null,null,null,null,{"$f":"IF(T157=\"\",\"\",ROUND(T157*AK157,0))","v":""},null,null,null,null,{"$f":"IF(Q157=\"\",\"\",ROUND(Q157-AC157-AK157,2))","v":""},null,null,{"$f":"IF(T157=\"\",\"\",(IF(AS157<0,\"出来高が契約を超過\",X157-AN157-AF157)))","v":""}]
[null,{"$f":"'見積書 (3)'!F33","v":""}]
[40,{"$f":"'見積書 (3)'!F34","v":""},null,null,null,null,null,null,null,null,null,null,null,null,{"$f":"'見積書 (3)'!Q34","v":""},null,{"$f":"'見積書 (3)'!R34","v":""},null,null,{"$f":"'見積書 (3)'!S34","v":""},null,null,null,{"$f":"'見積書 (3)'!T34","v":""},null,null,null,null,{"$f":"IF(Q159=\"\",\"\",'出来高内訳書 (第13回請求)'!AC159+'出来高内訳書 (第13回請求)'!AK159)","v":""},null,null,{"$f":"IF(T159=\"\",\"\",ROUND(T159*AC159,0))","v":""},null,null,null,null,null,null,null,{"$f":"IF(T159=\"\",\"\",ROUND(T159*AK159,0))","v":""},null,null,null,null,{"$f":"IF(Q159=\"\",\"\",ROUND(Q159-AC159-AK159,2))","v":""},null,null,{"$f":"IF(T159=\"\",\"\",(IF(AS159<0,\"出来高が契約を超過\",X159-AN159-AF159)))","v":""}]
[null,{"$f":"'見積書 (3)'!F35","v":""}]
[41,{"$f":"'見積書 (3)'!F36","v":""},null,null,null,null,null,null,null,null,null,null,null,null,{"$f":"'見積書 (3)'!Q36","v":""},null,{"$f":"'見積書 (3)'!R36","v":""},null,null,{"$f":"'見積書 (3)'!S36","v":""},null,null,null,{"$f":"'見積書 (3)'!T36","v":""},null,null,null,null,{"$f":"IF(Q161=\"\",\"\",'出来高内訳書 (第13回請求)'!AC161+'出来高内訳書 (第13回請求)'!AK161)","v":""},null,null,{"$f":"IF(T161=\"\",\"\",ROUND(T161*AC161,0))","v":""},null,null,null,null,null,null,null,{"$f":"IF(T161=\"\",\"\",ROUND(T161*AK161,0))","v":""},null,null,null,null,{"$f":"IF(Q161=\"\",\"\",ROUND(Q161-AC161-AK161,2))","v":""},null,null,{"$f":"IF(T161=\"\",\"\",(IF(AS161<0,\"出来高が契約を超過\",X161-AN161-AF161)))","v":""}]
[null,{"$f":"'見積書 (3)'!F37","v":""}]
[null,"小計",null,null,null,null,null,null,null,null,null,null,null,null,null,null,null,null,null,null,null,null,null,{"$f":"SUM(X133:AB162)","v":0},null,null,null,null,null,null,null,{"$f":"SUM(AF133:AJ162)","v":0},null,null,null,null,null,null,null,{"$f":"SUM(AN133:AR162)","v":0},null,null,null,null,null,null,null,{"$f":"X163-AF163-AN163","v":0}]
[]
[]
[]
[]
[null,"請求内訳書（出来高・分割納入用）",null,null,null,null,null,null,null,null,null,null,null,null,null,null,null,null,null,null,null,null,null,null,null,null,null,null,null,null,null,null,null,null,null,null,null,null,null,null,null,null,null,null,null,null,null,null,null,null,"No."]
[]
[]
[]
[]
[]
[]
[]
[]
[]
[null,"製造番号",null,null,null,null,{"$f":"Y22","v":""},null,null,null,null,null,null,null,null,null,null,null,null,null,null,null,null,"※科目"]
[]
[]
[null,"注文番号",null,null,null,null,{"$f":"Y25","v":""},null,null,null,null,null,null,null,null,"第",null,{"$f":"AJ23","v":14},null,"回請求"]
[]
[]
[]
[null,"工　種・品　名",null,null,null,null,null,null,null,null,null,null,null,null,"契　約　金　額",null,null,null,null,null,null,null,null,null,null,null,null,null,"前回までの出来高",null,null,null,null,null,null,null,"今回出来高",null,null,null,null,null,null,null,"残高",null,null,null,null,null,null,null,"備　考"]
[null,null,null,null,null,null,null,null,null,null,null,null,null,null,"単位",null,"数量",null,null,"単価",null,null,null,"金額",null,null,null,null,"数量",null,null,"金額",null,null,null,null,"数量",null,null,"金額",null,null,null,null,"数量",null,null,"金額"]
[42,{"$f":"'見積書 (3)'!F38","v":""},null,null,null,null,null,null,null,null,null,null,null,null,{"$f":"'見積書 (3)'!Q38","v":""},null,{"$f":"'見積書 (3)'!R38","v":""},null,null,{"$f":"'見積書 (3)'!S38","v":""},null,null,null,{"$f":"'見積書 (3)'!T38","v":""},null,null,null,null,{"$f":"IF(Q187=\"\",\"\",'出来高内訳書 (第13回請求)'!AC187+'出来高内訳書 (第13回請求)'!AK187)","v":""},null,null,{"$f":"IF(T187=\"\",\"\",ROUND(T187*AC187,0))","v":""},null,null,null,null,null,null,null,{"$f":"IF(T187=\"\",\"\",ROUND(T187*AK187,0))","v":""},null,null,null,null,{"$f":"IF(Q187=\"\",\"\",ROUND(Q187-AC187-AK187,2))","v":""},null,null,{"$f":"IF(T187=\"\",\"\",(IF(AS187<0,\"出来高が契約を超過\",X187-AN187-AF187)))","v":""}]
[null,{"$f":"'見積書 (3)'!F39","v":""}]
[43,{"$f":"'見積書 (3)'!F40","v":""},null,null,null,null,null,null,null,null,null,null,null,null,{"$f":"'見積書 (3)'!Q40","v":""},null,{"$f":"'見積書 (3)'!R40","v":""},null,null,{"$f":"'見積書 (3)'!S40","v":""},null,null,null,{"$f":"'見積書 (3)'!T40","v":""},null,null,null,null,{"$f":"IF(Q189=\"\",\"\",'出来高内訳書 (第13回請求)'!AC189+'出来高内訳書 (第13回請求)'!AK189)","v":""},null,null,{"$f":"IF(T189=\"\",\"\",ROUND(T189*AC189,0))","v":""},null,null,null,null,null,null,null,{"$f":"IF(T189=\"\",\"\",ROUND(T189*AK189,0))","v":""},null,null,null,null,{"$f":"IF(Q189=\"\",\"\",ROUND(Q189-AC189-AK189,2))","v":""},null,null,{"$f":"IF(T189=\"\",\"\",(IF(AS189<0,\"出来高が契約を超過\",X189-AN189-AF189)))","v":""}]
[null,{"$f":"'見積書 (3)'!F41","v":""}]
[44,{"$f":"'見積書 (3)'!F42","v":""},null,null,null,null,null,null,null,null,null,null,null,null,{"$f":"'見積書 (3)'!Q42","v":""},null,{"$f":"'見積書 (3)'!R42","v":""},null,null,{"$f":"'見積書 (3)'!S42","v":""},null,null,null,{"$f":"'見積書 (3)'!T42","v":""},null,null,null,null,{"$f":"IF(Q191=\"\",\"\",'出来高内訳書 (第13回請求)'!AC191+'出来高内訳書 (第13回請求)'!AK191)","v":""},null,null,{"$f":"IF(T191=\"\",\"\",ROUND(T191*AC191,0))","v":""},null,null,null,null,null,null,null,{"$f":"IF(T191=\"\",\"\",ROUND(T191*AK191,0))","v":""},null,null,null,null,{"$f":"IF(Q191=\"\",\"\",ROUND(Q191-AC191-AK191,2))","v":""},null,null,{"$f":"IF(T191=\"\",\"\",(IF(AS191<0,\"出来高が契約を超過\",X191-AN191-AF191)))","v":""}]
[null,{"$f":"'見積書 (3)'!F43","v":""}]
[45,{"$f":"'見積書 (3)'!F44","v":""},null,null,null,null,null,null,null,null,null,null,null,null,{"$f":"'見積書 (3)'!Q44","v":""},null,{"$f":"'見積書 (3)'!R44","v":""},null,null,{"$f":"'見積書 (3)'!S44","v":""},null,null,null,{"$f":"'見積書 (3)'!T44","v":""},null,null,null,null,{"$f":"IF(Q193=\"\",\"\",'出来高内訳書 (第13回請求)'!AC193+'出来高内訳書 (第13回請求)'!AK193)","v":""},null,null,{"$f":"IF(T193=\"\",\"\",ROUND(T193*AC193,0))","v":""},null,null,null,null,null,null,null,{"$f":"IF(T193=\"\",\"\",ROUND(T193*AK193,0))","v":""},null,null,null,null,{"$f":"IF(Q193=\"\",\"\",ROUND(Q193-AC193-AK193,2))","v":""},null,null,{"$f":"IF(T193=\"\",\"\",(IF(AS193<0,\"出来高が契約を超過\",X193-AN193-AF193)))","v":""}]
[null,{"$f":"'見積書 (3)'!F45","v":""}]
[46,{"$f":"'見積書 (3)'!F46","v":""},null,null,null,null,null,null,null,null,null,null,null,null,{"$f":"'見積書 (3)'!Q46","v":""},null,{"$f":"'見積書 (3)'!R46","v":""},null,null,{"$f":"'見積書 (3)'!S46","v":""},null,null,null,{"$f":"'見積書 (3)'!T46","v":""},null,null,null,null,{"$f":"IF(Q195=\"\",\"\",'出来高内訳書 (第13回請求)'!AC195+'出来高内訳書 (第13回請求)'!AK195)","v":""},null,null,{"$f":"IF(T195=\"\",\"\",ROUND(T195*AC195,0))","v":""},null,null,null,null,null,null,null,{"$f":"IF(T195=\"\",\"\",ROUND(T195*AK195,0))","v":""},null,null,null,null,{"$f":"IF(Q195=\"\",\"\",ROUND(Q195-AC195-AK195,2))","v":""},null,null,{"$f":"IF(T195=\"\",\"\",(IF(AS195<0,\"出来高が契約を超過\",X195-AN195-AF195)))","v":""}]
[null,{"$f":"'見積書 (3)'!F47","v":""}]
[47,{"$f":"'見積書 (3)'!F48","v":""},null,null,null,null,null,null,null,null,null,null,null,null,{"$f":"'見積書 (3)'!Q48","v":""},null,{"$f":"'見積書 (3)'!R48","v":""},null,null,{"$f":"'見積書 (3)'!S48","v":""},null,null,null,{"$f":"'見積書 (3)'!T48","v":""},null,null,null,null,{"$f":"IF(Q197=\"\",\"\",'出来高内訳書 (第13回請求)'!AC197+'出来高内訳書 (第13回請求)'!AK197)","v":""},null,null,{"$f":"IF(T197=\"\",\"\",ROUND(T197*AC197,0))","v":""},null,null,null,null,null,null,null,{"$f":"IF(T197=\"\",\"\",ROUND(T197*AK197,0))","v":""},null,null,null,null,{"$f":"IF(Q197=\"\",\"\",ROUND(Q197-AC197-AK197,2))","v":""},null,null,{"$f":"IF(T197=\"\",\"\",(IF(AS197<0,\"出来高が契約を超過\",X197-AN197-AF197)))","v":""}]
[null,{"$f":"'見積書 (3)'!F49","v":""}]
[48,{"$f":"'見積書 (3)'!F50","v":""},null,null,null,null,null,null,null,null,null,null,null,null,{"$f":"'見積書 (3)'!Q50","v":""},null,{"$f":"'見積書 (3)'!R50","v":""},null,null,{"$f":"'見積書 (3)'!S50","v":""},null,null,null,{"$f":"'見積書 (3)'!T50","v":""},null,null,null,null,{"$f":"IF(Q199=\"\",\"\",'出来高内訳書 (第13回請求)'!AC199+'出来高内訳書 (第13回請求)'!AK199)","v":""},null,null,{"$f":"IF(T199=\"\",\"\",ROUND(T199*AC199,0))","v":""},null,null,null,null,null,null,null,{"$f":"IF(T199=\"\",\"\",ROUND(T199*AK199,0))","v":""},null,null,null,null,{"$f":"IF(Q199=\"\",\"\",ROUND(Q199-AC199-AK199,2))","v":""},null,null,{"$f":"IF(T199=\"\",\"\",(IF(AS199<0,\"出来高が契約を超過\",X199-AN199-AF199)))","v":""}]
[null,{"$f":"'見積書 (3)'!F51","v":""}]
[49,{"$f":"'見積書 (3)'!F52","v":""},null,null,null,null,null,null,null,null,null,null,null,null,{"$f":"'見積書 (3)'!Q52","v":""},null,{"$f":"'見積書 (3)'!R52","v":""},null,null,{"$f":"'見積書 (3)'!S52","v":""},null,null,null,{"$f":"'見積書 (3)'!T52","v":""},null,null,null,null,{"$f":"IF(Q201=\"\",\"\",'出来高内訳書 (第13回請求)'!AC201+'出来高内訳書 (第13回請求)'!AK201)","v":""},null,null,{"$f":"IF(T201=\"\",\"\",ROUND(T201*AC201,0))","v":""},null,null,null,null,null,null,null,{"$f":"IF(T201=\"\",\"\",ROUND(T201*AK201,0))","v":""},null,null,null,null,{"$f":"IF(Q201=\"\",\"\",ROUND(Q201-AC201-AK201,2))","v":""},null,null,{"$f":"IF(T201=\"\",\"\",(IF(AS201<0,\"出来高が契約を超過\",X201-AN201-AF201)))","v":""}]
[null,{"$f":"'見積書 (3)'!F53","v":""}]
[50,{"$f":"'見積書 (3)'!F54","v":""},null,null,null,null,null,null,null,null,null,null,null,null,{"$f":"'見積書 (3)'!Q54","v":""},null,{"$f":"'見積書 (3)'!R54","v":""},null,null,{"$f":"'見積書 (3)'!S54","v":""},null,null,null,{"$f":"'見積書 (3)'!T54","v":""},null,null,null,null,{"$f":"IF(Q203=\"\",\"\",'出来高内訳書 (第13回請求)'!AC203+'出来高内訳書 (第13回請求)'!AK203)","v":""},null,null,{"$f":"IF(T203=\"\",\"\",ROUND(T203*AC203,0))","v":""},null,null,null,null,null,null,null,{"$f":"IF(T203=\"\",\"\",ROUND(T203*AK203,0))","v":""},null,null,null,null,{"$f":"IF(Q203=\"\",\"\",ROUND(Q203-AC203-AK203,2))","v":""},null,null,{"$f":"IF(T203=\"\",\"\",(IF(AS203<0,\"出来高が契約を超過\",X203-AN203-AF203)))","v":""}]
[null,{"$f":"'見積書 (3)'!F55","v":""}]
[51,{"$f":"'見積書 (3)'!F56","v":""},null,null,null,null,null,null,null,null,null,null,null,null,{"$f":"'見積書 (3)'!Q56","v":""},null,{"$f":"'見積書 (3)'!R56","v":""},null,null,{"$f":"'見積書 (3)'!S56","v":""},null,null,null,{"$f":"'見積書 (3)'!T56","v":""},null,null,null,null,{"$f":"IF(Q205=\"\",\"\",'出来高内訳書 (第13回請求)'!AC205+'出来高内訳書 (第13回請求)'!AK205)","v":""},null,null,{"$f":"IF(T205=\"\",\"\",ROUND(T205*AC205,0))","v":""},null,null,null,null,null,null,null,{"$f":"IF(T205=\"\",\"\",ROUND(T205*AK205,0))","v":""},null,null,null,null,{"$f":"IF(Q205=\"\",\"\",ROUND(Q205-AC205-AK205,2))","v":""},null,null,{"$f":"IF(T205=\"\",\"\",(IF(AS205<0,\"出来高が契約を超過\",X205-AN205-AF205)))","v":""}]
[null,{"$f":"'見積書 (3)'!F57","v":""}]
[52,{"$f":"'見積書 (3)'!F58","v":""},null,null,null,null,null,null,null,null,null,null,null,null,{"$f":"'見積書 (3)'!Q58","v":""},null,{"$f":"'見積書 (3)'!R58","v":""},null,null,{"$f":"'見積書 (3)'!S58","v":""},null,null,null,{"$f":"'見積書 (3)'!T58","v":""},null,null,null,null,{"$f":"IF(Q207=\"\",\"\",'出来高内訳書 (第13回請求)'!AC207+'出来高内訳書 (第13回請求)'!AK207)","v":""},null,null,{"$f":"IF(T207=\"\",\"\",ROUND(T207*AC207,0))","v":""},null,null,null,null,null,null,null,{"$f":"IF(T207=\"\",\"\",ROUND(T207*AK207,0))","v":""},null,null,null,null,{"$f":"IF(Q207=\"\",\"\",ROUND(Q207-AC207-AK207,2))","v":""},null,null,{"$f":"IF(T207=\"\",\"\",(IF(AS207<0,\"出来高が契約を超過\",X207-AN207-AF207)))","v":""}]
[null,{"$f":"'見積書 (3)'!F59","v":""}]
[53,{"$f":"'見積書 (3)'!F60","v":""},null,null,null,null,null,null,null,null,null,null,null,null,{"$f":"'見積書 (3)'!Q60","v":""},null,{"$f":"'見積書 (3)'!R60","v":""},null,null,{"$f":"'見積書 (3)'!S60","v":""},null,null,null,{"$f":"'見積書 (3)'!T60","v":""},null,null,null,null,{"$f":"IF(Q209=\"\",\"\",'出来高内訳書 (第13回請求)'!AC209+'出来高内訳書 (第13回請求)'!AK209)","v":""},null,null,{"$f":"IF(T209=\"\",\"\",ROUND(T209*AC209,0))","v":""},null,null,null,null,null,null,null,{"$f":"IF(T209=\"\",\"\",ROUND(T209*AK209,0))","v":""},null,null,null,null,{"$f":"IF(Q209=\"\",\"\",ROUND(Q209-AC209-AK209,2))","v":""},null,null,{"$f":"IF(T209=\"\",\"\",(IF(AS209<0,\"出来高が契約を超過\",X209-AN209-AF209)))","v":""}]
[null,{"$f":"'見積書 (3)'!F61","v":""}]
[54,{"$f":"'見積書 (3)'!F62","v":""},null,null,null,null,null,null,null,null,null,null,null,null,{"$f":"'見積書 (3)'!Q62","v":""},null,{"$f":"'見積書 (3)'!R62","v":""},null,null,{"$f":"'見積書 (3)'!S62","v":""},null,null,null,{"$f":"'見積書 (3)'!T62","v":""},null,null,null,null,{"$f":"IF(Q211=\"\",\"\",'出来高内訳書 (第13回請求)'!AC211+'出来高内訳書 (第13回請求)'!AK211)","v":""},null,null,{"$f":"IF(T211=\"\",\"\",ROUND(T211*AC211,0))","v":""},null,null,null,null,null,null,null,{"$f":"IF(T211=\"\",\"\",ROUND(T211*AK211,0))","v":""},null,null,null,null,{"$f":"IF(Q211=\"\",\"\",ROUND(Q211-AC211-AK211,2))","v":""},null,null,{"$f":"IF(T211=\"\",\"\",(IF(AS211<0,\"出来高が契約を超過\",X211-AN211-AF211)))","v":""}]
[null,{"$f":"'見積書 (3)'!F63","v":""}]
[55,{"$f":"'見積書 (3)'!F64","v":""},null,null,null,null,null,null,null,null,null,null,null,null,{"$f":"'見積書 (3)'!Q64","v":""},null,{"$f":"'見積書 (3)'!R64","v":""},null,null,{"$f":"'見積書 (3)'!S64","v":""},null,null,null,{"$f":"'見積書 (3)'!T64","v":""},null,null,null,null,{"$f":"IF(Q213=\"\",\"\",'出来高内訳書 (第13回請求)'!AC213+'出来高内訳書 (第13回請求)'!AK213)","v":""},null,null,{"$f":"IF(T213=\"\",\"\",ROUND(T213*AC213,0))","v":""},null,null,null,null,null,null,null,{"$f":"IF(T213=\"\",\"\",ROUND(T213*AK213,0))","v":""},null,null,null,null,{"$f":"IF(Q213=\"\",\"\",ROUND(Q213-AC213-AK213,2))","v":""},null,null,{"$f":"IF(T213=\"\",\"\",(IF(AS213<0,\"出来高が契約を超過\",X213-AN213-AF213)))","v":""}]
[null,{"$f":"'見積書 (3)'!F65","v":""}]
[56,{"$f":"'見積書 (3)'!F66","v":""},null,null,null,null,null,null,null,null,null,null,null,null,{"$f":"'見積書 (3)'!Q66","v":""},null,{"$f":"'見積書 (3)'!R66","v":""},null,null,{"$f":"'見積書 (3)'!S66","v":""},null,null,null,{"$f":"'見積書 (3)'!T66","v":""},null,null,null,null,{"$f":"IF(Q215=\"\",\"\",'出来高内訳書 (第13回請求)'!AC215+'出来高内訳書 (第13回請求)'!AK215)","v":""},null,null,{"$f":"IF(T215=\"\",\"\",ROUND(T215*AC215,0))","v":""},null,null,null,null,null,null,null,{"$f":"IF(T215=\"\",\"\",ROUND(T215*AK215,0))","v":""},null,null,null,null,{"$f":"IF(Q215=\"\",\"\",ROUND(Q215-AC215-AK215,2))","v":""},null,null,{"$f":"IF(T215=\"\",\"\",(IF(AS215<0,\"出来高が契約を超過\",X215-AN215-AF215)))","v":""}]
[null,{"$f":"'見積書 (3)'!F67","v":""}]
[null,"小計",null,null,null,null,null,null,null,null,null,null,null,null,null,null,null,null,null,null,null,null,null,{"$f":"SUM(X187:AB216)","v":0},null,null,null,null,null,null,null,{"$f":"SUM(AF187:AJ216)","v":0},null,null,null,null,null,null,null,{"$f":"SUM(AN187:AR216)","v":0},null,null,null,null,null,null,null,{"$f":"X217-AF217-AN217","v":0}]
[]
[]
[]
[]
[null,"請求内訳書（出来高・分割納入用）",null,null,null,null,null,null,null,null,null,null,null,null,null,null,null,null,null,null,null,null,null,null,null,null,null,null,null,null,null,null,null,null,null,null,null,null,null,null,null,null,null,null,null,null,null,null,null,null,"No."]
[]
[]
[]
[]
[]
[]
[]
[]
[]
[null,"製造番号",null,null,null,null,{"$f":"Y22","v":""},null,null,null,null,null,null,null,null,null,null,null,null,null,null,null,null,"※科目"]
[]
[]
[null,"注文番号",null,null,null,null,{"$f":"Y25","v":""},null,null,null,null,null,null,null,null,"第",null,{"$f":"AJ23","v":14},null,"回請求"]
[]
[]
[]
[null,"工　種・品　名",null,null,null,null,null,null,null,null,null,null,null,null,"契　約　金　額",null,null,null,null,null,null,null,null,null,null,null,null,null,"前回までの出来高",null,null,null,null,null,null,null,"今回出来高",null,null,null,null,null,null,null,"残高",null,null,null,null,null,null,null,"備　考"]
[null,null,null,null,null,null,null,null,null,null,null,null,null,null,"単位",null,"数量",null,null,"単価",null,null,null,"金額",null,null,null,null,"数量",null,null,"金額",null,null,null,null,"数量",null,null,"金額",null,null,null,null,"数量",null,null,"金額"]
[57,{"$f":"'見積書 (3)'!F68","v":""},null,null,null,null,null,null,null,null,null,null,null,null,{"$f":"'見積書 (3)'!Q68","v":""},null,{"$f":"'見積書 (3)'!R68","v":""},null,null,{"$f":"'見積書 (3)'!S68","v":""},null,null,null,{"$f":"'見積書 (3)'!T68","v":""},null,null,null,null,{"$f":"IF(Q241=\"\",\"\",'出来高内訳書 (第13回請求)'!AC241+'出来高内訳書 (第13回請求)'!AK241)","v":""},null,null,{"$f":"IF(T241=\"\",\"\",ROUND(T241*AC241,0))","v":""},null,null,null,null,null,null,null,{"$f":"IF(T241=\"\",\"\",ROUND(T241*AK241,0))","v":""},null,null,null,null,{"$f":"IF(Q241=\"\",\"\",ROUND(Q241-AC241-AK241,2))","v":""},null,null,{"$f":"IF(T241=\"\",\"\",(IF(AS241<0,\"出来高が契約を超過\",X241-AN241-AF241)))","v":""}]
[null,{"$f":"'見積書 (3)'!F68","v":""}]
[]
[]
[]
[]
[]
[]
[]
[]
[]
[]
[]
[]
[]
[]
[null,"小計",null,null,null,null,null,null,null,null,null,null,null,null,null,null,null,null,null,null,null,null,null,{"$f":"SUM(X241:AB256)","v":0},null,null,null,null,null,null,null,{"$f":"SUM(AF241:AJ256)","v":0},null,null,null,null,null,null,null,{"$f":"SUM(AN241:AR256)","v":0},null,null,null,null,null,null,null,{"$f":"SUM(AV241:AZ256)","v":0}]

{"sheet":"出来高内訳書 (第15回請求)","index":22,"n_rows":257,"n_cols":53,"rows_kept":257,"cut":false,"hidden":false,"merged":[[240,0,241,0],[240,1,240,13],[240,14,241,15],[240,16,241,18],[240,19,241,22],[240,23,241,27],[240,28,241,30],[240,31,241,35],[240,36,241,38],[240,39,241,43],[240,44,241,46],[240,47,241,51],[240,52,241,54],[212,0,213,0],[212,14,213,15],[212,16,213,18],[212,19,213,22],[212,23,213,27],[212,28,213,30],[212,31,213,35],[212,36,213,38],[212,39,213,43],[212,44,213,46],[212,47,213,51],[212,52,213,54],[214,0,215,0],[214,14,215,15],[214,16,215,18],[214,19,215,22],[214,23,215,27],[214,28,215,30],[214,31,215,35],[214,52,215,54],[208,0,209,0],[208,14,209,15],[208,16,209,18],[208,19,209,22],[208,23,209,27],[208,28,209,30],[208,31,209,35],[208,36,209,38],[208,39,209,43],[208,44,209,46],[208,47,209,51],[208,52,209,54],[210,0,211,0],[210,14,211,15],[210,16,211,18],[210,19,211,22],[210,23,211,27],[210,28,211,30],[210,31,211,35],[210,36,211,38],[210,39,211,43],[210,44,211,46],[210,47,211,51],[210,52,211,54],[204,0,205,0],[204,14,205,15],[204,16,205,18],[204,19,205,22],[204,23,205,27],[204,28,205,30],[204,31,205,35],[204,36,205,38],[204,39,205,43],[204,44,205,46],[204,47,205,51],[204,52,205,54],[206,0,207,0],[206,14,207,15],[206,16,207,18],[206,19,207,22],[206,23,207,27],[206,28,207,30],[206,31,207,35],[206,36,207,38],[206,39,207,43],[206,44,207,46],[206,47,207,51],[206,52,207,54],[200,0,201,0],[200,1,200,13],[200,14,201,15],[200,16,201,18],[200,19,201,22],[200,23,201,27],[200,28,201,30],[200,31,201,35],[200,36,201,38],[200,39,201,43],[200,44,201,46],[200,47,201,51],[200,52,201,54],[202,0,203,0],[202,14,203,15],[202,16,203,18],[202,19,203,22],[202,23,203,27],[202,28,203,30],[202,31,203,35],[202,36,203,38],[202,39,203,43],[202,44,203,46],[202,47,203,51],[202,52,203,54],[196,0,197,0],[196,1,196,13],[196,14,197,15],[196,16,197,18],[196,19,197,22],[196,23,197,27],[196,28,197,30],[196,31,197,35],[196,36,197,38],[196,39,197,43],[196,44,197,46],[196,47,197,51],[196,52,197,54],[197,1,197,13],[198,0,199,0],[198,1,198,13],[198,14,199,15],[198,16,199,18],[198,19,199,22],[198,23,199,27],[198,28,199,30],[198,31,199,35],[198,36,199,38],[198,39,199,43],[198,44,199,46],[198,47,199,51],[198,52,199,54],[199,1,199,13],[192,0,193,0],[192,1,192,13],[192,14,193,15],[192,16,193,18],[192,19,193,22],[192,23,193,27],[192,28,193,30],[192,31,193,35],[192,36,193,38],[192,39,193,43],[192,44,193,46],[192,47,193,51],[192,52,193,54],[193,1,193,13],[194,0,195,0],[194,1,194,13],[194,14,195,15],[194,16,195,18],[194,19,195,22],[194,23,195,27],[194,28,195,30],[194,31,195,35],[194,36,195,38],[194,39,195,43],[194,44,195,46],[194,47,195,51],[194,52,195,54],[195,1,195,13],[188,0,189,0],[188,1,188,13],[188,14,189,15],[188,16,189,18],[188,19,189,22],[188,23,189,27],[188,28,189,30],[188,31,189,35],[188,36,189,38],[188,39,189,43],[188,44,189,46],[188,47,189,51],[188,52,189,54],[189,1,189,13],[190,0,191,0],[190,1,190,13],[190,14,191,15],[190,16,191,18],[190,19,191,22],[190,23,191,27],[190,28,191,30],[190,31,191,35],[190,36,191,38],[190,39,191,43],[190,44,191,46],[190,47,191,51],[190,52,191,54],[191,1,191,13],[160,0,161,0],[160,14,161,15],[160,16,161,18],[160,19,161,22],[160,23,161,27],[160,28,161,30],[160,31,161,35],[160,36,161,38],[160,39,161,43],[160,44,161,46],[160,47,161,51],[160,52,161,54],[186,0,187,0],[186,1,186,13],[186,14,187,15],[186,16,187,18],[186,19,187,22],[186,23,187,27],[186,28,187,30],[186,31,187,35],[186,36,187,38],[186,39,187,43],[186,44,187,46],[186,47,187,51],[186,52,187,54],[187,1,187,13],[160,1,160,13],[162,31,162,35],[162,36,162,38],[162,39,162,43],[162,44,162,46],[162,47,162,51],[156,0,157,0],[156,14,157,15],[156,16,157,18],[156,19,157,22],[156,23,157,27],[156,28,157,30],[156,31,157,35],[156,36,157,38],[156,39,157,43],[156,44,157,46],[156,47,157,51],[156,52,157,54],[158,0,159,0],[158,14,159,15],[158,16,159,18],[158,19,159,22],[158,23,159,27],[158,28,159,30],[158,31,159,35],[158,36,159,38],[158,39,159,43],[158,44,159,46],[158,47,159,51],[158,52,159,54],[156,1,156,13],[158,1,158,13],[157,1,157,13],[159,1,159,13],[152,0,153,0],[152,14,153,15],[152,16,153,18],[152,19,153,22],[152,23,153,27],[152,28,153,30],[152,31,153,35],[152,36,153,38],[152,39,153,43],[152,44,153,46],[152,47,153,51],[152,52,153,54],[154,0,155,0],[154,14,155,15],[154,16,155,18],[154,19,155,22],[154,23,155,27],[154,28,155,30],[154,31,155,35],[154,36,155,38],[154,39,155,43],[154,44,155,46],[154,47,155,51],[154,52,155,54],[155,1,155,13],[148,0,149,0],[148,14,149,15],[148,16,149,18],[148,19,149,22],[148,23,149,27],[148,28,149,30],[148,31,149,35],[148,36,149,38],[148,39,149,43],[148,44,149,46],[148,47,149,51],[148,52,149,54],[150,0,151,0],[150,14,151,15],[150,16,151,18],[150,19,151,22],[150,23,151,27],[150,28,151,30],[150,31,151,35],[150,36,151,38],[150,39,151,43],[150,44,151,46],[150,47,151,51],[150,52,151,54],[144,0,145,0],[144,1,144,13],[144,14,145,15],[144,16,145,18],[144,19,145,22],[144,23,145,27],[144,28,145,30],[144,31,145,35],[144,36,145,38],[144,39,145,43],[144,44,145,46],[144,47,145,51],[144,52,145,54],[145,1,145,13],[146,0,147,0],[146,1,146,13],[146,14,147,15],[146,16,147,18],[146,19,147,22],[146,23,147,27],[146,28,147,30],[146,31,147,35],[146,36,147,38],[146,39,147,43],[146,44,147,46],[146,47,147,51],[146,52,147,54],[140,0,141,0],[140,1,140,13],[140,14,141,15],[140,16,141,18],[140,19,141,22],[140,23,141,27],[140,28,141,30],[140,31,141,35],[140,36,141,38],[140,39,141,43],[140,44,141,46],[140,47,141,51],[140,52,141,54],[141,1,141,13],[142,0,143,0],[142,1,142,13],[142,14,143,15],[142,16,143,18],[142,19,143,22],[142,23,143,27],[142,28,143,30],[142,31,143,35],[142,36,143,38],[142,39,143,43],[142,44,143,46],[142,47,143,51],[142,52,143,54],[143,1,143,13],[136,0,137,0],[136,1,136,13],[136,14,137,15],[136,16,137,18],[136,19,137,22],[136,23,137,27],[136,28,137,30],[136,31,137,35],[136,36,137,38],[136,39,137,43],[136,44,137,46],[136,47,137,51],[136,52,137,54],[137,1,137,13],[138,0,139,0],[138,1,138,13],[138,14,139,15],[138,16,139,18],[138,19,139,22],[138,23,139,27],[138,28,139,30],[138,31,139,35],[138,36,139,38],[138,39,139,43],[138,44,139,46],[138,47,139,51],[138,52,139,54],[139,1,139,13],[132,0,133,0],[132,1,132,13],[132,14,133,15],[132,16,133,18],[132,19,133,22],[132,23,133,27],[132,28,133,30],[132,31,133,35],[132,36,133,38],[132,39,133,43],[132,44,133,46],[132,47,133,51],[132,52,133,54],[133,1,133,13],[134,0,135,0],[134,1,134,13],[134,14,135,15],[134,16,135,18],[134,19,135,22],[134,23,135,27],[134,28,135,30],[134,31,135,35],[134,36,135,38],[134,39,135,43],[134,44,135,46],[134,47,135,51],[134,52,135,54],[135,1,135,13],[104,0,105,0],[104,14,105,15],[104,16,105,18],[104,19,105,22],[104,23,105,27],[104,28,105,30],[104,31,105,35],[104,36,105,38],[104,39,105,43],[104,44,105,46],[104,47,105,51],[104,52,105,54],[106,0,107,0],[106,14,107,15],[106,16,107,18],[106,19,107,22],[106,23,107,27],[106,28,107,30],[106,31,107,35],[106,36,107,38],[106,39,107,43],[106,44,107,46],[106,47,107,51],[106,52,107,54],[100,0,101,0],[100,14,101,15],[100,16,101,18],[100,19,101,22],[100,23,101,27],[100,28,101,30],[100,31,101,35],[100,36,101,38],[100,39,101,43],[100,44,101,46],[100,47,101,51],[100,52,101,54],[102,0,103,0],[102,14,103,15],[102,16,103,18],[102,19,103,22],[102,23,103,27],[102,28,103,30],[102,31,103,35],[102,36,103,38],[102,39,103,43],[102,44,103,46],[102,47,103,51],[102,52,103,54],[96,0,97,0],[96,14,97,15],[96,16,97,18],[96,19,97,22],[96,23,97,27],[96,28,97,30],[96,31,97,35],[96,36,97,38],[96,39,97,43],[96,44,97,46],[96,47,97,51],[96,52,97,54],[98,0,99,0],[98,14,99,15],[98,16,99,18],[98,19,99,22],[98,23,99,27],[98,28,99,30],[98,31,99,35],[98,36,99,38],[98,39,99,43],[98,44,99,46],[98,47,99,51],[98,52,99,54],[92,0,93,0],[92,1,92,13],[92,14,93,15],[92,16,93,18],[92,19,93,22],[92,23,93,27],[92,28,93,30],[92,31,93,35],[92,36,93,38],[92,39,93,43],[92,44,93,46],[92,47,93,51],[92,52,93,54],[94,0,95,0],[94,14,95,15],[94,16,95,18],[94,19,95,22],[94,23,95,27],[94,28,95,30],[94,31,95,35],[94,36,95,38],[94,39,95,43],[94,44,95,46],[94,47,95,51],[94,52,95,54],[88,0,89,0],[88,1,88,13],[88,14,89,15],[88,16,89,18],[88,19,89,22],[88,23,89,27],[88,28,89,30],[88,31,89,35],[88,36,89,38],[88,39,89,43],[88,44,89,46],[88,47,89,51],[88,52,89,54],[89,1,89,13],[90,0,91,0],[90,1,90,13],[90,14,91,15],[90,16,91,18],[90,19,91,22],[90,23,91,27],[90,28,91,30],[90,31,91,35],[90,36,91,38],[90,39,91,43],[90,44,91,46],[90,47,91,51],[90,52,91,54],[91,1,91,13],[84,0,85,0],[84,1,84,13],[84,14,85,15],[84,16,85,18],[84,19,85,22],[84,23,85,27],[84,28,85,30],[84,31,85,35],[84,36,85,38],[84,39,85,43],[84,44,85,46],[84,47,85,51],[84,52,85,54],[85,1,85,13],[86,0,87,0],[86,1,86,13],[86,14,87,15],[86,16,87,18],[86,19,87,22],[86,23,87,27],[86,28,87,30],[86,31,87,35],[86,36,87,38],[86,39,87,43],[86,44,87,46],[86,47,87,51],[86,52,87,54],[87,1,87,13],[80,0,81,0],[80,1,80,13],[80,14,81,15],[80,16,81,18],[80,19,81,22],[80,23,81,27],[80,28,81,30],[80,31,81,35],[80,36,81,38],[80,39,81,43],[80,44,81,46],[80,47,81,51],[80,52,81,54],[81,1,81,13],[82,0,83,0],[82,1,82,13],[82,14,83,15],[82,16,83,18],[82,19,83,22],[82,23,83,27],[82,28,83,30],[82,31,83,35],[82,36,83,38],[82,39,83,43],[82,44,83,46],[82,47,83,51],[82,52,83,54],[83,1,83,13],[55,0,56,0],[55,14,56,15],[55,16,56,18],[55,19,56,22],[55,23,56,27],[55,28,56,30],[55,31,56,35],[55,36,56,38],[55,39,56,43],[55,44,56,46],[55,47,56,51],[55,52,56,54],[78,0,79,0],[78,1,78,13],[78,14,79,15],[78,16,79,18],[78,19,79,22],[78,23,79,27],[78,28,79,30],[78,31,79,35],[78,36,79,38],[78,39,79,43],[78,44,79,46],[78,47,79,51],[78,52,79,54],[79,1,79,13],[55,1,55,13],[57,31,57,35],[57,36,57,38],[57,39,57,43],[57,44,57,46],[57,47,57,51],[51,0,52,0],[51,14,52,15],[51,16,52,18],[51,19,52,22],[51,23,52,27],[51,28,52,30],[51,31,52,35],[51,36,52,38],[51,39,52,43],[51,44,52,46],[51,47,52,51],[51,52,52,54],[53,0,54,0],[53,14,54,15],[53,16,54,18],[53,19,54,22],[53,23,54,27],[53,28,54,30],[53,31,54,35],[53,36,54,38],[53,39,54,43],[53,44,54,46],[53,47,54,51],[53,52,54,54],[51,1,51,13],[53,1,53,13],[52,1,52,13],[54,1,54,13],[47,0,48,0],[47,14,48,15],[47,16,48,18],[47,19,48,22],[47,23,48,27],[47,28,48,30],[47,31,48,35],[47,36,48,38],[47,39,48,43],[47,44,48,46],[47,47,48,51],[47,52,48,54],[49,0,50,0],[49,14,50,15],[49,16,50,18],[49,19,50,22],[49,23,50,27],[49,28,50,30],[49,31,50,35],[49,36,50,38],[49,39,50,43],[49,44,50,46],[49,47,50,51],[49,52,50,54],[47,1,47,13],[49,1,49,13],[48,1,48,13],[50,1,50,13],[43,0,44,0],[43,1,43,13],[43,14,44,15],[43,16,44,18],[43,19,44,22],[43,23,44,27],[43,28,44,30],[43,31,44,35],[43,36,44,38],[43,39,44,43],[43,44,44,46],[43,47,44,51],[43,52,44,54],[44,1,44,13],[45,0,46,0],[45,1,45,13],[45,14,46,15],[45,16,46,18],[45,19,46,22],[45,23,46,27],[45,28,46,30],[45,31,46,35],[45,36,46,38],[45,39,46,43],[45,44,46,46],[45,47,46,51],[45,52,46,54],[46,1,46,13],[39,0,40,0],[39,1,39,13],[39,14,40,15],[39,16,40,18],[39,19,40,22],[39,23,40,27],[39,28,40,30],[39,31,40,35],[39,36,40,38],[39,39,40,43],[39,44,40,46],[39,47,40,51],[39,52,40,54],[40,1,40,13],[41,0,42,0],[41,1,41,13],[41,14,42,15],[41,16,42,18],[41,19,42,22],[41,23,42,27],[41,28,42,30],[41,31,42,35],[41,36,42,38],[41,39,42,43],[41,44,42,46],[41,47,42,51],[41,52,42,54],[42,1,42,13],[35,0,36,0],[35,1,35,13],[35,14,36,15],[35,16,36,18],[35,19,36,22],[35,23,36,27],[35,28,36,30],[35,31,36,35],[35,36,36,38],[35,39,36,43],[35,44,36,46],[35,47,36,51],[35,52,36,54],[36,1,36,13],[37,0,38,0],[37,1,37,13],[37,14,38,15],[37,16,38,18],[37,19,38,22],[37,23,38,27],[37,28,38,30],[37,31,38,35],[37,36,38,38],[37,39,38,43],[37,44,38,46],[37,47,38,51],[37,52,38,54],[38,1,38,13],[4,43,6,47],[4,48,6,54],[6,17,8,19],[11,1,12,14],[14,1,15,2],[14,3,15,8],[14,9,15,10],[14,11,15,17],[0,8,4,33],[0,50,2,50],[1,39,2,41],[1,42,2,43],[1,44,2,44],[1,45,2,45],[1,46,2,46],[1,47,2,47],[1,48,2,48],[4,37,6,42],[7,37,8,54],[9,37,18,54],[0,51,2,55],[22,33,24,34],[22,35,24,36],[22,37,24,40],[24,19,26,23],[24,24,26,31],[26,34,31,34],[26,35,28,40],[27,19,29,27],[27,28,29,31],[29,35,31,40],[17,1,21,5],[17,6,21,15],[21,19,23,23],[21,24,23,31],[22,1,31,1],[22,2,26,5],[22,6,26,15],[27,2,31,5],[27,6,31,15],[30,19,31,23],[33,52,34,54],[34,14,34,15],[34,16,34,18],[34,19,34,22],[34,23,34,27],[34,28,34,30],[34,31,34,35],[34,36,34,38],[34,39,34,43],[34,44,34,46],[30,24,31,27],[33,1,34,13],[33,14,33,27],[33,28,33,35],[33,36,33,43],[33,44,33,51],[34,47,34,51],[57,52,57,54],[57,1,57,13],[57,14,57,15],[57,16,57,18],[57,19,57,22],[57,23,57,27],[57,28,57,30],[56,1,56,13],[76,44,76,51],[76,52,77,54],[77,14,77,15],[77,16,77,18],[77,19,77,22],[77,23,77,27],[77,28,77,30],[77,31,77,35],[77,36,77,38],[77,39,77,43],[72,19,74,22],[72,24,74,29],[76,1,77,13],[76,14,76,27],[76,28,76,35],[76,36,76,43],[59,1,65,17],[59,50,61,50],[69,1,71,5],[69,6,71,13],[69,23,74,23],[69,24,71,29],[72,1,74,5],[72,6,74,13],[72,15,74,16],[72,17,74,18],[94,1,94,13],[77,44,77,46],[77,47,77,51],[93,1,93,13],[96,1,96,13],[95,1,95,13],[98,1,98,13],[97,1,97,13],[100,1,100,13],[99,1,99,13],[102,1,102,13],[101,1,101,13],[104,1,104,13],[103,1,103,13],[106,1,106,13],[105,1,105,13],[108,31,108,35],[108,36,108,38],[108,39,108,43],[108,44,108,46],[108,47,108,51],[108,52,108,54],[108,1,108,13],[108,14,108,15],[108,16,108,18],[108,19,108,22],[108,23,108,27],[108,28,108,30],[107,1,107,13],[130,44,130,51],[130,52,131,54],[131,14,131,15],[131,16,131,18],[131,19,131,22],[131,23,131,27],[131,28,131,30],[131,31,131,35],[131,36,131,38],[131,39,131,43],[126,19,128,22],[126,24,128,29],[130,1,131,13],[130,14,130,27],[130,28,130,35],[130,36,130,43],[113,1,119,17],[113,50,115,50],[123,1,125,5],[123,6,125,13],[123,23,128,23],[123,24,125,29],[126,1,128,5],[126,6,128,13],[126,15,128,16],[126,17,128,18],[148,1,148,13],[131,44,131,46],[131,47,131,51],[147,1,147,13],[150,1,150,13],[149,1,149,13],[152,1,152,13],[151,1,151,13],[154,1,154,13],[153,1,153,13],[162,52,162,54],[162,1,162,13],[162,14,162,15],[162,16,162,18],[162,19,162,22],[162,23,162,27],[162,28,162,30],[161,1,161,13],[184,44,184,51],[184,52,185,54],[185,14,185,15],[185,16,185,18],[185,19,185,22],[185,23,185,27],[185,28,185,30],[185,31,185,35],[185,36,185,38],[185,39,185,43],[180,19,182,22],[180,24,182,29],[184,1,185,13],[184,14,184,27],[184,28,184,35],[184,36,184,43],[167,1,173,17],[167,50,169,50],[177,1,179,5],[177,6,179,13],[177,23,182,23],[177,24,179,29],[180,1,182,5],[180,6,182,13],[180,15,182,16],[180,17,182,18],[202,1,202,13],[185,44,185,46],[185,47,185,51],[201,1,201,13],[204,1,204,13],[203,1,203,13],[206,1,206,13],[205,1,205,13],[208,1,208,13],[207,1,207,13],[210,1,210,13],[209,1,209,13],[212,1,212,13],[211,1,211,13],[214,1,214,13],[213,1,213,13],[214,36,215,38],[214,39,215,43],[214,44,215,46],[214,47,215,51],[216,31,216,35],[216,36,216,38],[216,39,216,43],[216,44,216,46],[216,47,216,51],[216,52,216,54],[216,1,216,13],[216,14,216,15],[216,16,216,18],[216,19,216,22],[216,23,216,27],[216,28,216,30],[215,1,215,13],[238,44,238,51],[238,52,239,54],[239,14,239,15],[239,16,239,18],[239,19,239,22],[239,23,239,27],[239,28,239,30],[239,31,239,35],[239,36,239,38],[239,39,239,43],[234,19,236,22],[234,24,236,29],[238,1,239,13]],"merged_total":1200,"flags":["merged_cut"]}
[null,null,null,null,null,null,null,null,"請 求 書（出来高・分割納入用）",null,null,null,null,null,null,null,null,null,null,null,null,null,null,null,null,null,null,null,null,null,null,null,null,null,null,null,null,null,null,null,null,null,null,null,null,null,null,null,null,null,"No."]
[null,null,null,null,null,null,null,null,null,null,null,null,null,null,null,null,null,null,null,null,null,null,null,null,null,null,null,null,null,null,null,null,null,null,null,null,null,null,null,"日付",null,null,null,null,"年",null,"月",null,"日"]
[]
[]
[null,null,null,null,null,null,null,null,null,null,null,null,null,null,null,null,null,null,null,null,null,null,null,null,null,null,null,null,null,null,null,null,null,null,null,null,null,"請求者住所･氏名･印･電話",null,null,null,null,null,"取引先コード",null,null,null,null,{"$f":"入力フォーム!B3","v":0}]
[]
[null,null,null,null,null,null,null,null,null,null,null,null,null,null,null,null,null,"御中"]
[null,null,null,null,null,null,null,null,null,null,null,null,null,null,null,null,null,null,null,null,null,null,null,null,null,null,null,null,null,null,null,null,null,null,null,null,null,{"$f":"\"登録番号\"&\" \"&入力フォーム!B4","v":"登録番号 "}]
[]
[]
[]
[null,"下記の通り請求いたします。"]
[]
[]
[null,null,null,"月分請求内訳書",null,null,null,null,null,null,null,"枚 (本用紙を含む)"]
[]
[]
[null,"請 求 金 額",null,null,null,null,{"$f":"SUM(G23:P32)","v":0}]
[]
[]
[]
[null,null,null,null,null,null,null,null,null,null,null,null,null,null,null,null,null,null,null,"製造番号",null,null,null,null,{"$f":"見積書!$B$47","v":""}]
[null,"内　訳","税抜金額",null,null,null,{"$f":"AN58+AN109+AN163+AN217+AN257","v":0},null,null,null,null,null,null,null,null,null,null,null,null,null,null,null,null,null,null,null,null,null,null,null,null,null,null,"第",null,15,null,"回請求"]
[]
[null,null,null,null,null,null,null,null,null,null,null,null,null,null,null,null,null,null,null,"注文番号",null,null,null,null,{"$f":"IF('出来高内訳書 (第1回請求)'!Y25=\"\",\"\",'出来高内訳書 (第1回請求)'!Y25)","v":""}]
[]
[null,null,null,null,null,null,null,null,null,null,null,null,null,null,null,null,null,null,null,null,null,null,null,null,null,null,null,null,null,null,null,null,null,null,"※科目"]
[null,null,"消費税額等",null,null,null,{"$f":"IF(AC28=\"10％\",ROUNDDOWN(G23*10%,0),IF(AC28=\"(軽)8%\",ROUNDDOWN(G23*8%,0),0))","v":0},null,null,null,null,null,null,null,null,null,null,null,null,"消費税率",null,null,null,null,null,null,null,null,{"$f":"入力フォーム!B10","v":"10％"}]
[]
[]
[]
[]
[]
[null,"工　種・品　名",null,null,null,null,null,null,null,null,null,null,null,null,"契　約　金　額",null,null,null,null,null,null,null,null,null,null,null,null,null,"前回までの出来高",null,null,null,null,null,null,null,"今回出来高",null,null,null,null,null,null,null,"残高",null,null,null,null,null,null,null,"備　考"]
[null,null,null,null,null,null,null,null,null,null,null,null,null,null,"単位",null,"数量",null,null,"単価",null,null,null,"金額",null,null,null,null,"数量",null,null,"金額",null,null,null,null,"数量",null,null,"金額",null,null,null,null,"数量",null,null,"金額"]
[1,{"$f":"見積書!F61","v":""},null,null,null,null,null,null,null,null,null,null,null,null,{"$f":"見積書!Q61","v":""},null,{"$f":"見積書!R61","v":""},null,null,{"$f":"見積書!S61","v":""},null,null,null,{"$f":"見積書!T61","v":""},null,null,null,null,{"$f":"IF(Q36=\"\",\"\",'出来高内訳書 (第14回請求)'!AC36+'出来高内訳書 (第14回請求)'!AK36)","v":""},null,null,{"$f":"IF(T36=\"\",\"\",ROUND(T36*AC36,0))","v":""},null,null,null,null,null,null,null,{"$f":"IF(T36=\"\",\"\",ROUND(T36*AK36,0))","v":""},null,null,null,null,{"$f":"IF(Q36=\"\",\"\",ROUND(Q36-AC36-AK36,2))","v":""},null,null,{"$f":"IF(T36=\"\",\"\",(IF(AS36<0,\"出来高が契約を超過\",X36-AN36-AF36)))","v":""}]
[null,{"$f":"見積書!F62","v":""}]
[2,{"$f":"見積書!F63","v":""},null,null,null,null,null,null,null,null,null,null,null,null,{"$f":"見積書!Q63","v":""},null,{"$f":"見積書!R63","v":""},null,null,{"$f":"見積書!S63","v":""},null,null,null,{"$f":"見積書!T63","v":""},null,null,null,null,{"$f":"IF(Q38=\"\",\"\",'出来高内訳書 (第14回請求)'!AC38+'出来高内訳書 (第14回請求)'!AK38)","v":""},null,null,{"$f":"IF(T38=\"\",\"\",ROUND(T38*AC38,0))","v":""},null,null,null,null,null,null,null,{"$f":"IF(T38=\"\",\"\",ROUND(T38*AK38,0))","v":""},null,null,null,null,{"$f":"IF(Q38=\"\",\"\",ROUND(Q38-AC38-AK38,2))","v":""},null,null,{"$f":"IF(T38=\"\",\"\",(IF(AS38<0,\"出来高が契約を超過\",X38-AN38-AF38)))","v":""}]
[null,{"$f":"見積書!F64","v":""}]
[3,{"$f":"見積書!F65","v":""},null,null,null,null,null,null,null,null,null,null,null,null,{"$f":"見積書!Q65","v":""},null,{"$f":"見積書!R65","v":""},null,null,{"$f":"見積書!S65","v":""},null,null,null,{"$f":"見積書!T65","v":""},null,null,null,null,{"$f":"IF(Q40=\"\",\"\",'出来高内訳書 (第14回請求)'!AC40+'出来高内訳書 (第14回請求)'!AK40)","v":""},null,null,{"$f":"IF(T40=\"\",\"\",ROUND(T40*AC40,0))","v":""},null,null,null,null,null,null,null,{"$f":"IF(T40=\"\",\"\",ROUND(T40*AK40,0))","v":""},null,null,null,null,{"$f":"IF(Q40=\"\",\"\",ROUND(Q40-AC40-AK40,2))","v":""},null,null,{"$f":"IF(T40=\"\",\"\",(IF(AS40<0,\"出来高が契約を超過\",X40-AN40-AF40)))","v":""}]
[null,{"$f":"見積書!F66","v":""}]
[4,{"$f":"見積書!F67","v":""},null,null,null,null,null,null,null,null,null,null,null,null,{"$f":"見積書!Q67","v":""},null,{"$f":"見積書!R67","v":""},null,null,{"$f":"見積書!S67","v":""},null,null,null,{"$f":"見積書!T67","v":""},null,null,null,null,{"$f":"IF(Q42=\"\",\"\",'出来高内訳書 (第14回請求)'!AC42+'出来高内訳書 (第14回請求)'!AK42)","v":""},null,null,{"$f":"IF(T42=\"\",\"\",ROUND(T42*AC42,0))","v":""},null,null,null,null,null,null,null,{"$f":"IF(T42=\"\",\"\",ROUND(T42*AK42,0))","v":""},null,null,null,null,{"$f":"IF(Q42=\"\",\"\",ROUND(Q42-AC42-AK42,2))","v":""},null,null,{"$f":"IF(T42=\"\",\"\",(IF(AS42<0,\"出来高が契約を超過\",X42-AN42-AF42)))","v":""}]
[null,{"$f":"見積書!F68","v":""}]
[5,{"$f":"見積書!F69","v":""},null,null,null,null,null,null,null,null,null,null,null,null,{"$f":"見積書!Q69","v":""},null,{"$f":"見積書!R69","v":""},null,null,{"$f":"見積書!S69","v":""},null,null,null,{"$f":"見積書!T69","v":""},null,null,null,null,{"$f":"IF(Q44=\"\",\"\",'出来高内訳書 (第14回請求)'!AC44+'出来高内訳書 (第14回請求)'!AK44)","v":""},null,null,{"$f":"IF(T44=\"\",\"\",ROUND(T44*AC44,0))","v":""},null,null,null,null,null,null,null,{"$f":"IF(T44=\"\",\"\",ROUND(T44*AK44,0))","v":""},null,null,null,null,{"$f":"IF(Q44=\"\",\"\",ROUND(Q44-AC44-AK44,2))","v":""},null,null,{"$f":"IF(T44=\"\",\"\",(IF(AS44<0,\"出来高が契約を超過\",X44-AN44-AF44)))","v":""}]
[null,{"$f":"見積書!F70","v":""}]
[6,{"$f":"見積書!F71","v":""},null,null,null,null,null,null,null,null,null,null,null,null,{"$f":"見積書!Q71","v":""},null,{"$f":"見積書!R71","v":""},null,null,{"$f":"見積書!S71","v":""},null,null,null,{"$f":"見積書!T71","v":""},null,null,null,null,{"$f":"IF(Q46=\"\",\"\",'出来高内訳書 (第14回請求)'!AC46+'出来高内訳書 (第14回請求)'!AK46)","v":""},null,null,{"$f":"IF(T46=\"\",\"\",ROUND(T46*AC46,0))","v":""},null,null,null,null,null,null,null,{"$f":"IF(T46=\"\",\"\",ROUND(T46*AK46,0))","v":""},null,null,null,null,{"$f":"IF(Q46=\"\",\"\",ROUND(Q46-AC46-AK46,2))","v":""},null,null,{"$f":"IF(T46=\"\",\"\",(IF(AS46<0,\"出来高が契約を超過\",X46-AN46-AF46)))","v":""}]
[null,{"$f":"見積書!F72","v":""}]
[7,{"$f":"見積書!F73","v":""},null,null,null,null,null,null,null,null,null,null,null,null,{"$f":"見積書!Q73","v":""},null,{"$f":"見積書!R73","v":""},null,null,{"$f":"見積書!S73","v":""},null,null,null,{"$f":"見積書!T73","v":""},null,null,null,null,{"$f":"IF(Q48=\"\",\"\",'出来高内訳書 (第14回請求)'!AC48+'出来高内訳書 (第14回請求)'!AK48)","v":""},null,null,{"$f":"IF(T48=\"\",\"\",ROUND(T48*AC48,0))","v":""},null,null,null,null,null,null,null,{"$f":"IF(T48=\"\",\"\",ROUND(T48*AK48,0))","v":""},null,null,null,null,{"$f":"IF(Q48=\"\",\"\",ROUND(Q48-AC48-AK48,2))","v":""},null,null,{"$f":"IF(T48=\"\",\"\",(IF(AS48<0,\"出来高が契約を超過\",X48-AN48-AF48)))","v":""}]
[null,{"$f":"見積書!F74","v":""}]
[8,{"$f":"見積書!F75","v":""},null,null,null,null,null,null,null,null,null,null,null,null,{"$f":"見積書!Q75","v":""},null,{"$f":"見積書!R75","v":""},null,null,{"$f":"見積書!S75","v":""},null,null,null,{"$f":"見積書!T75","v":""},null,null,null,null,{"$f":"IF(Q50=\"\",\"\",'出来高内訳書 (第14回請求)'!AC50+'出来高内訳書 (第14回請求)'!AK50)","v":""},null,null,{"$f":"IF(T50=\"\",\"\",ROUND(T50*AC50,0))","v":""},null,null,null,null,null,null,null,{"$f":"IF(T50=\"\",\"\",ROUND(T50*AK50,0))","v":""},null,null,null,null,{"$f":"IF(Q50=\"\",\"\",ROUND(Q50-AC50-AK50,2))","v":""},null,null,{"$f":"IF(T50=\"\",\"\",(IF(AS50<0,\"出来高が契約を超過\",X50-AN50-AF50)))","v":""}]
[null,{"$f":"見積書!F76","v":""}]
[9,{"$f":"見積書!F77","v":""},null,null,null,null,null,null,null,null,null,null,null,null,{"$f":"見積書!Q77","v":""},null,{"$f":"見積書!R77","v":""},null,null,{"$f":"見積書!S77","v":""},null,null,null,{"$f":"見積書!T77","v":""},null,null,null,null,{"$f":"IF(Q52=\"\",\"\",'出来高内訳書 (第14回請求)'!AC52+'出来高内訳書 (第14回請求)'!AK52)","v":""},null,null,{"$f":"IF(T52=\"\",\"\",ROUND(T52*AC52,0))","v":""},null,null,null,null,null,null,null,{"$f":"IF(T52=\"\",\"\",ROUND(T52*AK52,0))","v":""},null,null,null,null,{"$f":"IF(Q52=\"\",\"\",ROUND(Q52-AC52-AK52,2))","v":""},null,null,{"$f":"IF(T52=\"\",\"\",(IF(AS52<0,\"出来高が契約を超過\",X52-AN52-AF52)))","v":""}]
[null,{"$f":"見積書!F78","v":""}]
[10,{"$f":"見積書!F79","v":""},null,null,null,null,null,null,null,null,null,null,null,null,{"$f":"見積書!Q79","v":""},null,{"$f":"見積書!R79","v":""},null,null,{"$f":"見積書!S79","v":""},null,null,null,{"$f":"見積書!T79","v":""},null,null,null,null,{"$f":"IF(Q54=\"\",\"\",'出来高内訳書 (第14回請求)'!AC54+'出来高内訳書 (第14回請求)'!AK54)","v":""},null,null,{"$f":"IF(T54=\"\",\"\",ROUND(T54*AC54,0))","v":""},null,null,null,null,null,null,null,{"$f":"IF(T54=\"\",\"\",ROUND(T54*AK54,0))","v":""},null,null,null,null,{"$f":"IF(Q54=\"\",\"\",ROUND(Q54-AC54-AK54,2))","v":""},null,null,{"$f":"IF(T54=\"\",\"\",(IF(AS54<0,\"出来高が契約を超過\",X54-AN54-AF54)))","v":""}]
[null,{"$f":"見積書!F80","v":""}]
[11,{"$f":"見積書!F81","v":""},null,null,null,null,null,null,null,null,null,null,null,null,{"$f":"見積書!Q81","v":""},null,{"$f":"見積書!R81","v":""},null,null,{"$f":"見積書!S81","v":""},null,null,null,{"$f":"見積書!T81","v":""},null,null,null,null,{"$f":"IF(Q56=\"\",\"\",'出来高内訳書 (第14回請求)'!AC56+'出来高内訳書 (第14回請求)'!AK56)","v":""},null,null,{"$f":"IF(T56=\"\",\"\",ROUND(T56*AC56,0))","v":""},null,null,null,null,null,null,null,{"$f":"IF(T56=\"\",\"\",ROUND(T56*AK56,0))","v":""},null,null,null,null,{"$f":"IF(Q56=\"\",\"\",ROUND(Q56-AC56-AK56,2))","v":""},null,null,{"$f":"IF(T56=\"\",\"\",(IF(AS56<0,\"出来高が契約を超過\",X56-AN56-AF56)))","v":""}]
[null,{"$f":"見積書!F82","v":""}]
[null,"小計",null,null,null,null,null,null,null,null,null,null,null,null,null,null,null,null,null,null,null,null,null,{"$f":"SUM(X36:AB57)","v":0},null,null,null,null,null,null,null,{"$f":"SUM(AF36:AJ57)","v":0},null,null,null,null,null,null,null,{"$f":"SUM(AN36:AR57)","v":0},null,null,null,null,null,null,null,{"$f":"X58-AF58-AN58","v":0}]
[]
[null,"請求内訳書（出来高・分割納入用）",null,null,null,null,null,null,null,null,null,null,null,null,null,null,null,null,null,null,null,null,null,null,null,null,null,null,null,null,null,null,null,null,null,null,null,null,null,null,null,null,null,null,null,null,null,null,null,null,"No."]
[]
[]
[]
[]
[]
[]
[]
[]
[]
[null,"製造番号",null,null,null,null,{"$f":"Y22","v":""},null,null,null,null,null,null,null,null,null,null,null,null,null,null,null,null,"※科目"]
[]
[]
[null,"注文番号",null,null,null,null,{"$f":"Y25","v":""},null,null,null,null,null,null,null,null,"第",null,{"$f":"AJ23","v":15},null,"回請求"]
[]
[]
[]
[null,"工　種・品　名",null,null,null,null,null,null,null,null,null,null,null,null,"契　約　金　額",null,null,null,null,null,null,null,null,null,null,null,null,null,"前回までの出来高",null,null,null,null,null,null,null,"今回出来高",null,null,null,null,null,null,null,"残高",null,null,null,null,null,null,null,"備　考"]
[null,null,null,null,null,null,null,null,null,null,null,null,null,null,"単位",null,"数量",null,null,"単価",null,null,null,"金額",null,null,null,null,"数量",null,null,"金額",null,null,null,null,"数量",null,null,"金額",null,null,null,null,"数量",null,null,"金額"]
[12,{"$f":"見積書!F83","v":""},null,null,null,null,null,null,null,null,null,null,null,null,{"$f":"見積書!Q83","v":""},null,{"$f":"見積書!R83","v":""},null,null,{"$f":"見積書!S83","v":""},null,null,null,{"$f":"見積書!T83","v":""},null,null,null,null,{"$f":"IF(Q79=\"\",\"\",'出来高内訳書 (第14回請求)'!AC79+'出来高内訳書 (第14回請求)'!AK79)","v":""},null,null,{"$f":"IF(T79=\"\",\"\",ROUND(T79*AC79,0))","v":""},null,null,null,null,null,null,null,{"$f":"IF(T79=\"\",\"\",ROUND(T79*AK79,0))","v":""},null,null,null,null,{"$f":"IF(Q79=\"\",\"\",ROUND(Q79-AC79-AK79,2))","v":""},null,null,{"$f":"IF(T79=\"\",\"\",(IF(AS79<0,\"出来高が契約を超過\",X79-AN79-AF79)))","v":""}]
[null,{"$f":"見積書!F84","v":""}]
[13,{"$f":"見積書!F85","v":""},null,null,null,null,null,null,null,null,null,null,null,null,{"$f":"見積書!Q85","v":""},null,{"$f":"見積書!R85","v":""},null,null,{"$f":"見積書!S85","v":""},null,null,null,{"$f":"見積書!T85","v":""},null,null,null,null,{"$f":"IF(Q81=\"\",\"\",'出来高内訳書 (第14回請求)'!AC81+'出来高内訳書 (第14回請求)'!AK81)","v":""},null,null,{"$f":"IF(T81=\"\",\"\",ROUND(T81*AC81,0))","v":""},null,null,null,null,null,null,null,{"$f":"IF(T81=\"\",\"\",ROUND(T81*AK81,0))","v":""},null,null,null,null,{"$f":"IF(Q81=\"\",\"\",ROUND(Q81-AC81-AK81,2))","v":""},null,null,{"$f":"IF(T81=\"\",\"\",(IF(AS81<0,\"出来高が契約を超過\",X81-AN81-AF81)))","v":""}]
[null,{"$f":"見積書!F86","v":""}]
[14,{"$f":"'見積書 (2)'!F26","v":""},null,null,null,null,null,null,null,null,null,null,null,null,{"$f":"'見積書 (2)'!Q26","v":""},null,{"$f":"'見積書 (2)'!R26","v":""},null,null,{"$f":"'見積書 (2)'!S26","v":""},null,null,null,{"$f":"'見積書 (2)'!T26","v":""},null,null,null,null,{"$f":"IF(Q83=\"\",\"\",'出来高内訳書 (第14回請求)'!AC83+'出来高内訳書 (第14回請求)'!AK83)","v":""},null,null,{"$f":"IF(T83=\"\",\"\",ROUND(T83*AC83,0))","v":""},null,null,null,null,null,null,null,{"$f":"IF(T83=\"\",\"\",ROUND(T83*AK83,0))","v":""},null,null,null,null,{"$f":"IF(Q83=\"\",\"\",ROUND(Q83-AC83-AK83,2))","v":""},null,null,{"$f":"IF(T83=\"\",\"\",(IF(AS83<0,\"出来高が契約を超過\",X83-AN83-AF83)))","v":""}]
[null,{"$f":"'見積書 (2)'!F27","v":""}]
[15,{"$f":"'見積書 (2)'!F28","v":""},null,null,null,null,null,null,null,null,null,null,null,null,{"$f":"'見積書 (2)'!Q28","v":""},null,{"$f":"'見積書 (2)'!R28","v":""},null,null,{"$f":"'見積書 (2)'!S28","v":""},null,null,null,{"$f":"'見積書 (2)'!T28","v":""},null,null,null,null,{"$f":"IF(Q85=\"\",\"\",'出来高内訳書 (第14回請求)'!AC85+'出来高内訳書 (第14回請求)'!AK85)","v":""},null,null,{"$f":"IF(T85=\"\",\"\",ROUND(T85*AC85,0))","v":""},null,null,null,null,null,null,null,{"$f":"IF(T85=\"\",\"\",ROUND(T85*AK85,0))","v":""},null,null,null,null,{"$f":"IF(Q85=\"\",\"\",ROUND(Q85-AC85-AK85,2))","v":""},null,null,{"$f":"IF(T85=\"\",\"\",(IF(AS85<0,\"出来高が契約を超過\",X85-AN85-AF85)))","v":""}]
[null,{"$f":"'見積書 (2)'!F29","v":""}]
[16,{"$f":"'見積書 (2)'!F30","v":""},null,null,null,null,null,null,null,null,null,null,null,null,{"$f":"'見積書 (2)'!Q30","v":""},null,{"$f":"'見積書 (2)'!R30","v":""},null,null,{"$f":"'見積書 (2)'!S30","v":""},null,null,null,{"$f":"'見積書 (2)'!T30","v":""},null,null,null,null,{"$f":"IF(Q87=\"\",\"\",'出来高内訳書 (第14回請求)'!AC87+'出来高内訳書 (第14回請求)'!AK87)","v":""},null,null,{"$f":"IF(T87=\"\",\"\",ROUND(T87*AC87,0))","v":""},null,null,null,null,null,null,null,{"$f":"IF(T87=\"\",\"\",ROUND(T87*AK87,0))","v":""},null,null,null,null,{"$f":"IF(Q87=\"\",\"\",ROUND(Q87-AC87-AK87,2))","v":""},null,null,{"$f":"IF(T87=\"\",\"\",(IF(AS87<0,\"出来高が契約を超過\",X87-AN87-AF87)))","v":""}]
[null,{"$f":"'見積書 (2)'!F31","v":""}]
[17,{"$f":"'見積書 (2)'!F32","v":""},null,null,null,null,null,null,null,null,null,null,null,null,{"$f":"'見積書 (2)'!Q32","v":""},null,{"$f":"'見積書 (2)'!R32","v":""},null,null,{"$f":"'見積書 (2)'!S32","v":""},null,null,null,{"$f":"'見積書 (2)'!T32","v":""},null,null,null,null,{"$f":"IF(Q89=\"\",\"\",'出来高内訳書 (第14回請求)'!AC89+'出来高内訳書 (第14回請求)'!AK89)","v":""},null,null,{"$f":"IF(T89=\"\",\"\",ROUND(T89*AC89,0))","v":""},null,null,null,null,null,null,null,{"$f":"IF(T89=\"\",\"\",ROUND(T89*AK89,0))","v":""},null,null,null,null,{"$f":"IF(Q89=\"\",\"\",ROUND(Q89-AC89-AK89,2))","v":""},null,null,{"$f":"IF(T89=\"\",\"\",(IF(AS89<0,\"出来高が契約を超過\",X89-AN89-AF89)))","v":""}]
[null,{"$f":"'見積書 (2)'!F33","v":""}]
[18,{"$f":"'見積書 (2)'!F34","v":""},null,null,null,null,null,null,null,null,null,null,null,null,{"$f":"'見積書 (2)'!Q34","v":""},null,{"$f":"'見積書 (2)'!R34","v":""},null,null,{"$f":"'見積書 (2)'!S34","v":""},null,null,null,{"$f":"'見積書 (2)'!T34","v":""},null,null,null,null,{"$f":"IF(Q91=\"\",\"\",'出来高内訳書 (第14回請求)'!AC91+'出来高内訳書 (第14回請求)'!AK91)","v":""},null,null,{"$f":"IF(T91=\"\",\"\",ROUND(T91*AC91,0))","v":""},null,null,null,null,null,null,null,{"$f":"IF(T91=\"\",\"\",ROUND(T91*AK91,0))","v":""},null,null,null,null,{"$f":"IF(Q91=\"\",\"\",ROUND(Q91-AC91-AK91,2))","v":""},null,null,{"$f":"IF(T91=\"\",\"\",(IF(AS91<0,\"出来高が契約を超過\",X91-AN91-AF91)))","v":""}]
[null,{"$f":"'見積書 (2)'!F35","v":""}]
[19,{"$f":"'見積書 (2)'!F36","v":""},null,null,null,null,null,null,null,null,null,null,null,null,{"$f":"'見積書 (2)'!Q36","v":""},null,{"$f":"'見積書 (2)'!R36","v":""},null,null,{"$f":"'見積書 (2)'!S36","v":""},null,null,null,{"$f":"'見積書 (2)'!T36","v":""},null,null,null,null,{"$f":"IF(Q93=\"\",\"\",'出来高内訳書 (第14回請求)'!AC93+'出来高内訳書 (第14回請求)'!AK93)","v":""},null,null,{"$f":"IF(T93=\"\",\"\",ROUND(T93*AC93,0))","v":""},null,null,null,null,null,null,null,{"$f":"IF(T93=\"\",\"\",ROUND(T93*AK93,0))","v":""},null,null,null,null,{"$f":"IF(Q93=\"\",\"\",ROUND(Q93-AC93-AK93,2))","v":""},null,null,{"$f":"IF(T93=\"\",\"\",(IF(AS93<0,\"出来高が契約を超過\",X93-AN93-AF93)))","v":""}]
[null,{"$f":"'見積書 (2)'!F37","v":""}]
[20,{"$f":"'見積書 (2)'!F38","v":""},null,null,null,null,null,null,null,null,null,null,null,null,{"$f":"'見積書 (2)'!Q38","v":""},null,{"$f":"'見積書 (2)'!R38","v":""},null,null,{"$f":"'見積書 (2)'!S38","v":""},null,null,null,{"$f":"'見積書 (2)'!T38","v":""},null,null,null,null,{"$f":"IF(Q95=\"\",\"\",'出来高内訳書 (第14回請求)'!AC95+'出来高内訳書 (第14回請求)'!AK95)","v":""},null,null,{"$f":"IF(T95=\"\",\"\",ROUND(T95*AC95,0))","v":""},null,null,null,null,null,null,null,{"$f":"IF(T95=\"\",\"\",ROUND(T95*AK95,0))","v":""},null,null,null,null,{"$f":"IF(Q95=\"\",\"\",ROUND(Q95-AC95-AK95,2))","v":""},null,null,{"$f":"IF(T95=\"\",\"\",(IF(AS95<0,\"出来高が契約を超過\",X95-AN95-AF95)))","v":""}]
[null,{"$f":"'見積書 (2)'!F39","v":""}]
[21,{"$f":"'見積書 (2)'!F40","v":""},null,null,null,null,null,null,null,null,null,null,null,null,{"$f":"'見積書 (2)'!Q40","v":""},null,{"$f":"'見積書 (2)'!R40","v":""},null,null,{"$f":"'見積書 (2)'!S40","v":""},null,null,null,{"$f":"'見積書 (2)'!T40","v":""},null,null,null,null,{"$f":"IF(Q97=\"\",\"\",'出来高内訳書 (第14回請求)'!AC97+'出来高内訳書 (第14回請求)'!AK97)","v":""},null,null,{"$f":"IF(T97=\"\",\"\",ROUND(T97*AC97,0))","v":""},null,null,null,null,null,null,null,{"$f":"IF(T97=\"\",\"\",ROUND(T97*AK97,0))","v":""},null,null,null,null,{"$f":"IF(Q97=\"\",\"\",ROUND(Q97-AC97-AK97,2))","v":""},null,null,{"$f":"IF(T97=\"\",\"\",(IF(AS97<0,\"出来高が契約を超過\",X97-AN97-AF97)))","v":""}]
[null,{"$f":"'見積書 (2)'!F41","v":""}]
[22,{"$f":"'見積書 (2)'!F42","v":""},null,null,null,null,null,null,null,null,null,null,null,null,{"$f":"'見積書 (2)'!Q42","v":""},null,{"$f":"'見積書 (2)'!R42","v":""},null,null,{"$f":"'見積書 (2)'!S42","v":""},null,null,null,{"$f":"'見積書 (2)'!T42","v":""},null,null,null,null,{"$f":"IF(Q99=\"\",\"\",'出来高内訳書 (第14回請求)'!AC99+'出来高内訳書 (第14回請求)'!AK99)","v":""},null,null,{"$f":"IF(T99=\"\",\"\",ROUND(T99*AC99,0))","v":""},null,null,null,null,null,null,null,{"$f":"IF(T99=\"\",\"\",ROUND(T99*AK99,0))","v":""},null,null,null,null,{"$f":"IF(Q99=\"\",\"\",ROUND(Q99-AC99-AK99,2))","v":""},null,null,{"$f":"IF(T99=\"\",\"\",(IF(AS99<0,\"出来高が契約を超過\",X99-AN99-AF99)))","v":""}]
[null,{"$f":"'見積書 (2)'!F43","v":""}]
[23,{"$f":"'見積書 (2)'!F44","v":""},null,null,null,null,null,null,null,null,null,null,null,null,{"$f":"'見積書 (2)'!Q44","v":""},null,{"$f":"'見積書 (2)'!R44","v":""},null,null,{"$f":"'見積書 (2)'!S44","v":""},null,null,null,{"$f":"'見積書 (2)'!T44","v":""},null,null,null,null,{"$f":"IF(Q101=\"\",\"\",'出来高内訳書 (第14回請求)'!AC101+'出来高内訳書 (第14回請求)'!AK101)","v":""},null,null,{"$f":"IF(T101=\"\",\"\",ROUND(T101*AC101,0))","v":""},null,null,null,null,null,null,null,{"$f":"IF(T101=\"\",\"\",ROUND(T101*AK101,0))","v":""},null,null,null,null,{"$f":"IF(Q101=\"\",\"\",ROUND(Q101-AC101-AK101,2))","v":""},null,null,{"$f":"IF(T101=\"\",\"\",(IF(AS101<0,\"出来高が契約を超過\",X101-AN101-AF101)))","v":""}]
[null,{"$f":"'見積書 (2)'!F45","v":""}]
[24,{"$f":"'見積書 (2)'!F46","v":""},null,null,null,null,null,null,null,null,null,null,null,null,{"$f":"'見積書 (2)'!Q46","v":""},null,{"$f":"'見積書 (2)'!R46","v":""},null,null,{"$f":"'見積書 (2)'!S46","v":""},null,null,null,{"$f":"'見積書 (2)'!T46","v":""},null,null,null,null,{"$f":"IF(Q103=\"\",\"\",'出来高内訳書 (第14回請求)'!AC103+'出来高内訳書 (第14回請求)'!AK103)","v":""},null,null,{"$f":"IF(T103=\"\",\"\",ROUND(T103*AC103,0))","v":""},null,null,null,null,null,null,null,{"$f":"IF(T103=\"\",\"\",ROUND(T103*AK103,0))","v":""},null,null,null,null,{"$f":"IF(Q103=\"\",\"\",ROUND(Q103-AC103-AK103,2))","v":""},null,null,{"$f":"IF(T103=\"\",\"\",(IF(AS103<0,\"出来高が契約を超過\",X103-AN103-AF103)))","v":""}]
[null,{"$f":"'見積書 (2)'!F47","v":""}]
[25,{"$f":"'見積書 (2)'!F48","v":""},null,null,null,null,null,null,null,null,null,null,null,null,{"$f":"'見積書 (2)'!Q48","v":""},null,{"$f":"'見積書 (2)'!R48","v":""},null,null,{"$f":"'見積書 (2)'!S48","v":""},null,null,null,{"$f":"'見積書 (2)'!T48","v":""},null,null,null,null,{"$f":"IF(Q105=\"\",\"\",'出来高内訳書 (第14回請求)'!AC105+'出来高内訳書 (第14回請求)'!AK105)","v":""},null,null,{"$f":"IF(T105=\"\",\"\",ROUND(T105*AC105,0))","v":""},null,null,null,null,null,null,null,{"$f":"IF(T105=\"\",\"\",ROUND(T105*AK105,0))","v":""},null,null,null,null,{"$f":"IF(Q105=\"\",\"\",ROUND(Q105-AC105-AK105,2))","v":""},null,null,{"$f":"IF(T105=\"\",\"\",(IF(AS105<0,\"出来高が契約を超過\",X105-AN105-AF105)))","v":""}]
[null,{"$f":"'見積書 (2)'!F49","v":""}]
[26,{"$f":"'見積書 (2)'!F50","v":""},null,null,null,null,null,null,null,null,null,null,null,null,{"$f":"'見積書 (2)'!Q50","v":""},null,{"$f":"'見積書 (2)'!R50","v":""},null,null,{"$f":"'見積書 (2)'!S50","v":""},null,null,null,{"$f":"'見積書 (2)'!T50","v":""},null,null,null,null,{"$f":"IF(Q107=\"\",\"\",'出来高内訳書 (第14回請求)'!AC107+'出来高内訳書 (第14回請求)'!AK107)","v":""},null,null,{"$f":"IF(T107=\"\",\"\",ROUND(T107*AC107,0))","v":""},null,null,null,null,null,null,null,{"$f":"IF(T107=\"\",\"\",ROUND(T107*AK107,0))","v":""},null,null,null,null,{"$f":"IF(Q107=\"\",\"\",ROUND(Q107-AC107-AK107,2))","v":""},null,null,{"$f":"IF(T107=\"\",\"\",(IF(AS107<0,\"出来高が契約を超過\",X107-AN107-AF107)))","v":""}]
[null,{"$f":"'見積書 (2)'!F51","v":""}]
[null,"小計",null,null,null,null,null,null,null,null,null,null,null,null,null,null,null,null,null,null,null,null,null,{"$f":"SUM(X79:AB108)","v":0},null,null,null,null,null,null,null,{"$f":"SUM(AF79:AJ108)","v":0},null,null,null,null,null,null,null,{"$f":"SUM(AN79:AR108)","v":0},null,null,null,null,null,null,null,{"$f":"X109-AF109-AN109","v":0}]
[]
[]
[]
[]
[null,"請求内訳書（出来高・分割納入用）",null,null,null,null,null,null,null,null,null,null,null,null,null,null,null,null,null,null,null,null,null,null,null,null,null,null,null,null,null,null,null,null,null,null,null,null,null,null,null,null,null,null,null,null,null,null,null,null,"No."]
[]
[]
[]
[]
[]
[]
[]
[]
[]
[null,"製造番号",null,null,null,null,{"$f":"Y22","v":""},null,null,null,null,null,null,null,null,null,null,null,null,null,null,null,null,"※科目"]
[]
[]
[null,"注文番号",null,null,null,null,{"$f":"Y25","v":""},null,null,null,null,null,null,null,null,"第",null,{"$f":"AJ23","v":15},null,"回請求"]
[]
[]
[]
[null,"工　種・品　名",null,null,null,null,null,null,null,null,null,null,null,null,"契　約　金　額",null,null,null,null,null,null,null,null,null,null,null,null,null,"前回までの出来高",null,null,null,null,null,null,null,"今回出来高",null,null,null,null,null,null,null,"残高",null,null,null,null,null,null,null,"備　考"]
[null,null,null,null,null,null,null,null,null,null,null,null,null,null,"単位",null,"数量",null,null,"単価",null,null,null,"金額",null,null,null,null,"数量",null,null,"金額",null,null,null,null,"数量",null,null,"金額",null,null,null,null,"数量",null,null,"金額"]
[27,{"$f":"'見積書 (2)'!F52","v":""},null,null,null,null,null,null,null,null,null,null,null,null,{"$f":"'見積書 (2)'!Q52","v":""},null,{"$f":"'見積書 (2)'!R52","v":""},null,null,{"$f":"'見積書 (2)'!S52","v":""},null,null,null,{"$f":"'見積書 (2)'!T52","v":""},null,null,null,null,{"$f":"IF(Q133=\"\",\"\",'出来高内訳書 (第14回請求)'!AC133+'出来高内訳書 (第14回請求)'!AK133)","v":""},null,null,{"$f":"IF(T133=\"\",\"\",ROUND(T133*AC133,0))","v":""},null,null,null,null,null,null,null,{"$f":"IF(T133=\"\",\"\",ROUND(T133*AK133,0))","v":""},null,null,null,null,{"$f":"IF(Q133=\"\",\"\",ROUND(Q133-AC133-AK133,2))","v":""},null,null,{"$f":"IF(T133=\"\",\"\",(IF(AS133<0,\"出来高が契約を超過\",X133-AN133-AF133)))","v":""}]
[null,{"$f":"'見積書 (2)'!F53","v":""}]
[28,{"$f":"'見積書 (2)'!F54","v":""},null,null,null,null,null,null,null,null,null,null,null,null,{"$f":"'見積書 (2)'!Q54","v":""},null,{"$f":"'見積書 (2)'!R54","v":""},null,null,{"$f":"'見積書 (2)'!S54","v":""},null,null,null,{"$f":"'見積書 (2)'!T54","v":""},null,null,null,null,{"$f":"IF(Q135=\"\",\"\",'出来高内訳書 (第14回請求)'!AC135+'出来高内訳書 (第14回請求)'!AK135)","v":""},null,null,{"$f":"IF(T135=\"\",\"\",ROUND(T135*AC135,0))","v":""},null,null,null,null,null,null,null,{"$f":"IF(T135=\"\",\"\",ROUND(T135*AK135,0))","v":""},null,null,null,null,{"$f":"IF(Q135=\"\",\"\",ROUND(Q135-AC135-AK135,2))","v":""},null,null,{"$f":"IF(T135=\"\",\"\",(IF(AS135<0,\"出来高が契約を超過\",X135-AN135-AF135)))","v":""}]
[null,{"$f":"'見積書 (2)'!F55","v":""}]
[29,{"$f":"'見積書 (2)'!F56","v":""},null,null,null,null,null,null,null,null,null,null,null,null,{"$f":"'見積書 (2)'!Q56","v":""},null,{"$f":"'見積書 (2)'!R56","v":""},null,null,{"$f":"'見積書 (2)'!S56","v":""},null,null,null,{"$f":"'見積書 (2)'!T56","v":""},null,null,null,null,{"$f":"IF(Q137=\"\",\"\",'出来高内訳書 (第14回請求)'!AC137+'出来高内訳書 (第14回請求)'!AK137)","v":""},null,null,{"$f":"IF(T137=\"\",\"\",ROUND(T137*AC137,0))","v":""},null,null,null,null,null,null,null,{"$f":"IF(T137=\"\",\"\",ROUND(T137*AK137,0))","v":""},null,null,null,null,{"$f":"IF(Q137=\"\",\"\",ROUND(Q137-AC137-AK137,2))","v":""},null,null,{"$f":"IF(T137=\"\",\"\",(IF(AS137<0,\"出来高が契約を超過\",X137-AN137-AF137)))","v":""}]
[null,{"$f":"'見積書 (2)'!F57","v":""}]
[30,{"$f":"'見積書 (2)'!F58","v":""},null,null,null,null,null,null,null,null,null,null,null,null,{"$f":"'見積書 (2)'!Q58","v":""},null,{"$f":"'見積書 (2)'!R58","v":""},null,null,{"$f":"'見積書 (2)'!S58","v":""},null,null,null,{"$f":"'見積書 (2)'!T58","v":""},null,null,null,null,{"$f":"IF(Q139=\"\",\"\",'出来高内訳書 (第14回請求)'!AC139+'出来高内訳書 (第14回請求)'!AK139)","v":""},null,null,{"$f":"IF(T139=\"\",\"\",ROUND(T139*AC139,0))","v":""},null,null,null,null,null,null,null,{"$f":"IF(T139=\"\",\"\",ROUND(T139*AK139,0))","v":""},null,null,null,null,{"$f":"IF(Q139=\"\",\"\",ROUND(Q139-AC139-AK139,2))","v":""},null,null,{"$f":"IF(T139=\"\",\"\",(IF(AS139<0,\"出来高が契約を超過\",X139-AN139-AF139)))","v":""}]
[null,{"$f":"'見積書 (2)'!F59","v":""}]
[31,{"$f":"'見積書 (2)'!F60","v":""},null,null,null,null,null,null,null,null,null,null,null,null,{"$f":"'見積書 (2)'!Q60","v":""},null,{"$f":"'見積書 (2)'!R60","v":""},null,null,{"$f":"'見積書 (2)'!S60","v":""},null,null,null,{"$f":"'見積書 (2)'!T60","v":""},null,null,null,null,{"$f":"IF(Q141=\"\",\"\",'出来高内訳書 (第14回請求)'!AC141+'出来高内訳書 (第14回請求)'!AK141)","v":""},null,null,{"$f":"IF(T141=\"\",\"\",ROUND(T141*AC141,0))","v":""},null,null,null,null,null,null,null,{"$f":"IF(T141=\"\",\"\",ROUND(T141*AK141,0))","v":""},null,null,null,null,{"$f":"IF(Q141=\"\",\"\",ROUND(Q141-AC141-AK141,2))","v":""},null,null,{"$f":"IF(T141=\"\",\"\",(IF(AS141<0,\"出来高が契約を超過\",X141-AN141-AF141)))","v":""}]
[null,{"$f":"'見積書 (2)'!F61","v":""}]
[32,{"$f":"'見積書 (2)'!F62","v":""},null,null,null,null,null,null,null,null,null,null,null,null,{"$f":"'見積書 (2)'!Q62","v":""},null,{"$f":"'見積書 (2)'!R62","v":""},null,null,{"$f":"'見積書 (2)'!S62","v":""},null,null,null,{"$f":"'見積書 (2)'!T62","v":""},null,null,null,null,{"$f":"IF(Q143=\"\",\"\",'出来高内訳書 (第14回請求)'!AC143+'出来高内訳書 (第14回請求)'!AK143)","v":""},null,null,{"$f":"IF(T143=\"\",\"\",ROUND(T143*AC143,0))","v":""},null,null,null,null,null,null,null,{"$f":"IF(T143=\"\",\"\",ROUND(T143*AK143,0))","v":""},null,null,null,null,{"$f":"IF(Q143=\"\",\"\",ROUND(Q143-AC143-AK143,2))","v":""},null,null,{"$f":"IF(T143=\"\",\"\",(IF(AS143<0,\"出来高が契約を超過\",X143-AN143-AF143)))","v":""}]
[null,{"$f":"'見積書 (2)'!F63","v":""}]
[33,{"$f":"'見積書 (2)'!F64","v":""},null,null,null,null,null,null,null,null,null,null,null,null,{"$f":"'見積書 (2)'!Q64","v":""},null,{"$f":"'見積書 (2)'!R64","v":""},null,null,{"$f":"'見積書 (2)'!S64","v":""},null,null,null,{"$f":"'見積書 (2)'!T64","v":""},null,null,null,null,{"$f":"IF(Q145=\"\",\"\",'出来高内訳書 (第14回請求)'!AC145+'出来高内訳書 (第14回請求)'!AK145)","v":""},null,null,{"$f":"IF(T145=\"\",\"\",ROUND(T145*AC145,0))","v":""},null,null,null,null,null,null,null,{"$f":"IF(T145=\"\",\"\",ROUND(T145*AK145,0))","v":""},null,null,null,null,{"$f":"IF(Q145=\"\",\"\",ROUND(Q145-AC145-AK145,2))","v":""},null,null,{"$f":"IF(T145=\"\",\"\",(IF(AS145<0,\"出来高が契約を超過\",X145-AN145-AF145)))","v":""}]
[null,{"$f":"'見積書 (2)'!F65","v":""}]
[34,{"$f":"'見積書 (2)'!F66","v":""},null,null,null,null,null,null,null,null,null,null,null,null,{"$f":"'見積書 (2)'!Q66","v":""},null,{"$f":"'見積書 (2)'!R66","v":""},null,null,{"$f":"'見積書 (2)'!S66","v":""},null,null,null,{"$f":"'見積書 (2)'!T66","v":""},null,null,null,null,{"$f":"IF(Q147=\"\",\"\",'出来高内訳書 (第14回請求)'!AC147+'出来高内訳書 (第14回請求)'!AK147)","v":""},null,null,{"$f":"IF(T147=\"\",\"\",ROUND(T147*AC147,0))","v":""},null,null,null,null,null,null,null,{"$f":"IF(T147=\"\",\"\",ROUND(T147*AK147,0))","v":""},null,null,null,null,{"$f":"IF(Q147=\"\",\"\",ROUND(Q147-AC147-AK147,2))","v":""},null,null,{"$f":"IF(T147=\"\",\"\",(IF(AS147<0,\"出来高が契約を超過\",X147-AN147-AF147)))","v":""}]
[null,{"$f":"'見積書 (2)'!F67","v":""}]
[35,{"$f":"'見積書 (2)'!F68","v":""},null,null,null,null,null,null,null,null,null,null,null,null,{"$f":"'見積書 (2)'!Q68","v":""},null,{"$f":"'見積書 (2)'!R68","v":""},null,null,{"$f":"'見積書 (2)'!S68","v":""},null,null,null,{"$f":"'見積書 (2)'!T68","v":""},null,null,null,null,{"$f":"IF(Q149=\"\",\"\",'出来高内訳書 (第14回請求)'!AC149+'出来高内訳書 (第14回請求)'!AK149)","v":""},null,null,{"$f":"IF(T149=\"\",\"\",ROUND(T149*AC149,0))","v":""},null,null,null,null,null,null,null,{"$f":"IF(T149=\"\",\"\",ROUND(T149*AK149,0))","v":""},null,null,null,null,{"$f":"IF(Q149=\"\",\"\",ROUND(Q149-AC149-AK149,2))","v":""},null,null,{"$f":"IF(T149=\"\",\"\",(IF(AS149<0,\"出来高が契約を超過\",X149-AN149-AF149)))","v":""}]
[null,{"$f":"'見積書 (2)'!F69","v":""}]
[36,{"$f":"'見積書 (3)'!F26","v":""},null,null,null,null,null,null,null,null,null,null,null,null,{"$f":"'見積書 (3)'!Q26","v":""},null,{"$f":"'見積書 (3)'!R26","v":""},null,null,{"$f":"'見積書 (3)'!S26","v":""},null,null,null,{"$f":"'見積書 (3)'!T26","v":""},null,null,null,null,{"$f":"IF(Q151=\"\",\"\",'出来高内訳書 (第14回請求)'!AC151+'出来高内訳書 (第14回請求)'!AK151)","v":""},null,null,{"$f":"IF(T151=\"\",\"\",ROUND(T151*AC151,0))","v":""},null,null,null,null,null,null,null,{"$f":"IF(T151=\"\",\"\",ROUND(T151*AK151,0))","v":""},null,null,null,null,{"$f":"IF(Q151=\"\",\"\",ROUND(Q151-AC151-AK151,2))","v":""},null,null,{"$f":"IF(T151=\"\",\"\",(IF(AS151<0,\"出来高が契約を超過\",X151-AN151-AF151)))","v":""}]
[null,{"$f":"'見積書 (3)'!F27","v":""}]
[37,{"$f":"'見積書 (3)'!F28","v":""},null,null,null,null,null,null,null,null,null,null,null,null,{"$f":"'見積書 (3)'!Q28","v":""},null,{"$f":"'見積書 (3)'!R28","v":""},null,null,{"$f":"'見積書 (3)'!S28","v":""},null,null,null,{"$f":"'見積書 (3)'!T28","v":""},null,null,null,null,{"$f":"IF(Q153=\"\",\"\",'出来高内訳書 (第14回請求)'!AC153+'出来高内訳書 (第14回請求)'!AK153)","v":""},null,null,{"$f":"IF(T153=\"\",\"\",ROUND(T153*AC153,0))","v":""},null,null,null,null,null,null,null,{"$f":"IF(T153=\"\",\"\",ROUND(T153*AK153,0))","v":""},null,null,null,null,{"$f":"IF(Q153=\"\",\"\",ROUND(Q153-AC153-AK153,2))","v":""},null,null,{"$f":"IF(T153=\"\",\"\",(IF(AS153<0,\"出来高が契約を超過\",X153-AN153-AF153)))","v":""}]
[null,{"$f":"'見積書 (3)'!F29","v":""}]
[38,{"$f":"'見積書 (3)'!F30","v":""},null,null,null,null,null,null,null,null,null,null,null,null,{"$f":"'見積書 (3)'!Q30","v":""},null,{"$f":"'見積書 (3)'!R30","v":""},null,null,{"$f":"'見積書 (3)'!S30","v":""},null,null,null,{"$f":"'見積書 (3)'!T30","v":""},null,null,null,null,{"$f":"IF(Q155=\"\",\"\",'出来高内訳書 (第14回請求)'!AC155+'出来高内訳書 (第14回請求)'!AK155)","v":""},null,null,{"$f":"IF(T155=\"\",\"\",ROUND(T155*AC155,0))","v":""},null,null,null,null,null,null,null,{"$f":"IF(T155=\"\",\"\",ROUND(T155*AK155,0))","v":""},null,null,null,null,{"$f":"IF(Q155=\"\",\"\",ROUND(Q155-AC155-AK155,2))","v":""},null,null,{"$f":"IF(T155=\"\",\"\",(IF(AS155<0,\"出来高が契約を超過\",X155-AN155-AF155)))","v":""}]
[null,{"$f":"'見積書 (3)'!F31","v":""}]
[39,{"$f":"'見積書 (3)'!F32","v":""},null,null,null,null,null,null,null,null,null,null,null,null,{"$f":"'見積書 (3)'!Q32","v":""},null,{"$f":"'見積書 (3)'!R32","v":""},null,null,{"$f":"'見積書 (3)'!S32","v":""},null,null,null,{"$f":"'見積書 (3)'!T32","v":""},null,null,null,null,{"$f":"IF(Q157=\"\",\"\",'出来高内訳書 (第14回請求)'!AC157+'出来高内訳書 (第14回請求)'!AK157)","v":""},null,null,{"$f":"IF(T157=\"\",\"\",ROUND(T157*AC157,0))","v":""},null,null,null,null,null,null,null,{"$f":"IF(T157=\"\",\"\",ROUND(T157*AK157,0))","v":""},null,null,null,null,{"$f":"IF(Q157=\"\",\"\",ROUND(Q157-AC157-AK157,2))","v":""},null,null,{"$f":"IF(T157=\"\",\"\",(IF(AS157<0,\"出来高が契約を超過\",X157-AN157-AF157)))","v":""}]
[null,{"$f":"'見積書 (3)'!F33","v":""}]
[40,{"$f":"'見積書 (3)'!F34","v":""},null,null,null,null,null,null,null,null,null,null,null,null,{"$f":"'見積書 (3)'!Q34","v":""},null,{"$f":"'見積書 (3)'!R34","v":""},null,null,{"$f":"'見積書 (3)'!S34","v":""},null,null,null,{"$f":"'見積書 (3)'!T34","v":""},null,null,null,null,{"$f":"IF(Q159=\"\",\"\",'出来高内訳書 (第14回請求)'!AC159+'出来高内訳書 (第14回請求)'!AK159)","v":""},null,null,{"$f":"IF(T159=\"\",\"\",ROUND(T159*AC159,0))","v":""},null,null,null,null,null,null,null,{"$f":"IF(T159=\"\",\"\",ROUND(T159*AK159,0))","v":""},null,null,null,null,{"$f":"IF(Q159=\"\",\"\",ROUND(Q159-AC159-AK159,2))","v":""},null,null,{"$f":"IF(T159=\"\",\"\",(IF(AS159<0,\"出来高が契約を超過\",X159-AN159-AF159)))","v":""}]
[null,{"$f":"'見積書 (3)'!F35","v":""}]
[41,{"$f":"'見積書 (3)'!F36","v":""},null,null,null,null,null,null,null,null,null,null,null,null,{"$f":"'見積書 (3)'!Q36","v":""},null,{"$f":"'見積書 (3)'!R36","v":""},null,null,{"$f":"'見積書 (3)'!S36","v":""},null,null,null,{"$f":"'見積書 (3)'!T36","v":""},null,null,null,null,{"$f":"IF(Q161=\"\",\"\",'出来高内訳書 (第14回請求)'!AC161+'出来高内訳書 (第14回請求)'!AK161)","v":""},null,null,{"$f":"IF(T161=\"\",\"\",ROUND(T161*AC161,0))","v":""},null,null,null,null,null,null,null,{"$f":"IF(T161=\"\",\"\",ROUND(T161*AK161,0))","v":""},null,null,null,null,{"$f":"IF(Q161=\"\",\"\",ROUND(Q161-AC161-AK161,2))","v":""},null,null,{"$f":"IF(T161=\"\",\"\",(IF(AS161<0,\"出来高が契約を超過\",X161-AN161-AF161)))","v":""}]
[null,{"$f":"'見積書 (3)'!F37","v":""}]
[null,"小計",null,null,null,null,null,null,null,null,null,null,null,null,null,null,null,null,null,null,null,null,null,{"$f":"SUM(X133:AB162)","v":0},null,null,null,null,null,null,null,{"$f":"SUM(AF133:AJ162)","v":0},null,null,null,null,null,null,null,{"$f":"SUM(AN133:AR162)","v":0},null,null,null,null,null,null,null,{"$f":"X163-AF163-AN163","v":0}]
[]
[]
[]
[]
[null,"請求内訳書（出来高・分割納入用）",null,null,null,null,null,null,null,null,null,null,null,null,null,null,null,null,null,null,null,null,null,null,null,null,null,null,null,null,null,null,null,null,null,null,null,null,null,null,null,null,null,null,null,null,null,null,null,null,"No."]
[]
[]
[]
[]
[]
[]
[]
[]
[]
[null,"製造番号",null,null,null,null,{"$f":"Y22","v":""},null,null,null,null,null,null,null,null,null,null,null,null,null,null,null,null,"※科目"]
[]
[]
[null,"注文番号",null,null,null,null,{"$f":"Y25","v":""},null,null,null,null,null,null,null,null,"第",null,{"$f":"AJ23","v":15},null,"回請求"]
[]
[]
[]
[null,"工　種・品　名",null,null,null,null,null,null,null,null,null,null,null,null,"契　約　金　額",null,null,null,null,null,null,null,null,null,null,null,null,null,"前回までの出来高",null,null,null,null,null,null,null,"今回出来高",null,null,null,null,null,null,null,"残高",null,null,null,null,null,null,null,"備　考"]
[null,null,null,null,null,null,null,null,null,null,null,null,null,null,"単位",null,"数量",null,null,"単価",null,null,null,"金額",null,null,null,null,"数量",null,null,"金額",null,null,null,null,"数量",null,null,"金額",null,null,null,null,"数量",null,null,"金額"]
[42,{"$f":"'見積書 (3)'!F38","v":""},null,null,null,null,null,null,null,null,null,null,null,null,{"$f":"'見積書 (3)'!Q38","v":""},null,{"$f":"'見積書 (3)'!R38","v":""},null,null,{"$f":"'見積書 (3)'!S38","v":""},null,null,null,{"$f":"'見積書 (3)'!T38","v":""},null,null,null,null,{"$f":"IF(Q187=\"\",\"\",'出来高内訳書 (第14回請求)'!AC187+'出来高内訳書 (第14回請求)'!AK187)","v":""},null,null,{"$f":"IF(T187=\"\",\"\",ROUND(T187*AC187,0))","v":""},null,null,null,null,null,null,null,{"$f":"IF(T187=\"\",\"\",ROUND(T187*AK187,0))","v":""},null,null,null,null,{"$f":"IF(Q187=\"\",\"\",ROUND(Q187-AC187-AK187,2))","v":""},null,null,{"$f":"IF(T187=\"\",\"\",(IF(AS187<0,\"出来高が契約を超過\",X187-AN187-AF187)))","v":""}]
[null,{"$f":"'見積書 (3)'!F39","v":""}]
[43,{"$f":"'見積書 (3)'!F40","v":""},null,null,null,null,null,null,null,null,null,null,null,null,{"$f":"'見積書 (3)'!Q40","v":""},null,{"$f":"'見積書 (3)'!R40","v":""},null,null,{"$f":"'見積書 (3)'!S40","v":""},null,null,null,{"$f":"'見積書 (3)'!T40","v":""},null,null,null,null,{"$f":"IF(Q189=\"\",\"\",'出来高内訳書 (第14回請求)'!AC189+'出来高内訳書 (第14回請求)'!AK189)","v":""},null,null,{"$f":"IF(T189=\"\",\"\",ROUND(T189*AC189,0))","v":""},null,null,null,null,null,null,null,{"$f":"IF(T189=\"\",\"\",ROUND(T189*AK189,0))","v":""},null,null,null,null,{"$f":"IF(Q189=\"\",\"\",ROUND(Q189-AC189-AK189,2))","v":""},null,null,{"$f":"IF(T189=\"\",\"\",(IF(AS189<0,\"出来高が契約を超過\",X189-AN189-AF189)))","v":""}]
[null,{"$f":"'見積書 (3)'!F41","v":""}]
[44,{"$f":"'見積書 (3)'!F42","v":""},null,null,null,null,null,null,null,null,null,null,null,null,{"$f":"'見積書 (3)'!Q42","v":""},null,{"$f":"'見積書 (3)'!R42","v":""},null,null,{"$f":"'見積書 (3)'!S42","v":""},null,null,null,{"$f":"'見積書 (3)'!T42","v":""},null,null,null,null,{"$f":"IF(Q191=\"\",\"\",'出来高内訳書 (第14回請求)'!AC191+'出来高内訳書 (第14回請求)'!AK191)","v":""},null,null,{"$f":"IF(T191=\"\",\"\",ROUND(T191*AC191,0))","v":""},null,null,null,null,null,null,null,{"$f":"IF(T191=\"\",\"\",ROUND(T191*AK191,0))","v":""},null,null,null,null,{"$f":"IF(Q191=\"\",\"\",ROUND(Q191-AC191-AK191,2))","v":""},null,null,{"$f":"IF(T191=\"\",\"\",(IF(AS191<0,\"出来高が契約を超過\",X191-AN191-AF191)))","v":""}]
[null,{"$f":"'見積書 (3)'!F43","v":""}]
[45,{"$f":"'見積書 (3)'!F44","v":""},null,null,null,null,null,null,null,null,null,null,null,null,{"$f":"'見積書 (3)'!Q44","v":""},null,{"$f":"'見積書 (3)'!R44","v":""},null,null,{"$f":"'見積書 (3)'!S44","v":""},null,null,null,{"$f":"'見積書 (3)'!T44","v":""},null,null,null,null,{"$f":"IF(Q193=\"\",\"\",'出来高内訳書 (第14回請求)'!AC193+'出来高内訳書 (第14回請求)'!AK193)","v":""},null,null,{"$f":"IF(T193=\"\",\"\",ROUND(T193*AC193,0))","v":""},null,null,null,null,null,null,null,{"$f":"IF(T193=\"\",\"\",ROUND(T193*AK193,0))","v":""},null,null,null,null,{"$f":"IF(Q193=\"\",\"\",ROUND(Q193-AC193-AK193,2))","v":""},null,null,{"$f":"IF(T193=\"\",\"\",(IF(AS193<0,\"出来高が契約を超過\",X193-AN193-AF193)))","v":""}]
[null,{"$f":"'見積書 (3)'!F45","v":""}]
[46,{"$f":"'見積書 (3)'!F46","v":""},null,null,null,null,null,null,null,null,null,null,null,null,{"$f":"'見積書 (3)'!Q46","v":""},null,{"$f":"'見積書 (3)'!R46","v":""},null,null,{"$f":"'見積書 (3)'!S46","v":""},null,null,null,{"$f":"'見積書 (3)'!T46","v":""},null,null,null,null,{"$f":"IF(Q195=\"\",\"\",'出来高内訳書 (第14回請求)'!AC195+'出来高内訳書 (第14回請求)'!AK195)","v":""},null,null,{"$f":"IF(T195=\"\",\"\",ROUND(T195*AC195,0))","v":""},null,null,null,null,null,null,null,{"$f":"IF(T195=\"\",\"\",ROUND(T195*AK195,0))","v":""},null,null,null,null,{"$f":"IF(Q195=\"\",\"\",ROUND(Q195-AC195-AK195,2))","v":""},null,null,{"$f":"IF(T195=\"\",\"\",(IF(AS195<0,\"出来高が契約を超過\",X195-AN195-AF195)))","v":""}]
[null,{"$f":"'見積書 (3)'!F47","v":""}]
[47,{"$f":"'見積書 (3)'!F48","v":""},null,null,null,null,null,null,null,null,null,null,null,null,{"$f":"'見積書 (3)'!Q48","v":""},null,{"$f":"'見積書 (3)'!R48","v":""},null,null,{"$f":"'見積書 (3)'!S48","v":""},null,null,null,{"$f":"'見積書 (3)'!T48","v":""},null,null,null,null,{"$f":"IF(Q197=\"\",\"\",'出来高内訳書 (第14回請求)'!AC197+'出来高内訳書 (第14回請求)'!AK197)","v":""},null,null,{"$f":"IF(T197=\"\",\"\",ROUND(T197*AC197,0))","v":""},null,null,null,null,null,null,null,{"$f":"IF(T197=\"\",\"\",ROUND(T197*AK197,0))","v":""},null,null,null,null,{"$f":"IF(Q197=\"\",\"\",ROUND(Q197-AC197-AK197,2))","v":""},null,null,{"$f":"IF(T197=\"\",\"\",(IF(AS197<0,\"出来高が契約を超過\",X197-AN197-AF197)))","v":""}]
[null,{"$f":"'見積書 (3)'!F49","v":""}]
[48,{"$f":"'見積書 (3)'!F50","v":""},null,null,null,null,null,null,null,null,null,null,null,null,{"$f":"'見積書 (3)'!Q50","v":""},null,{"$f":"'見積書 (3)'!R50","v":""},null,null,{"$f":"'見積書 (3)'!S50","v":""},null,null,null,{"$f":"'見積書 (3)'!T50","v":""},null,null,null,null,{"$f":"IF(Q199=\"\",\"\",'出来高内訳書 (第14回請求)'!AC199+'出来高内訳書 (第14回請求)'!AK199)","v":""},null,null,{"$f":"IF(T199=\"\",\"\",ROUND(T199*AC199,0))","v":""},null,null,null,null,null,null,null,{"$f":"IF(T199=\"\",\"\",ROUND(T199*AK199,0))","v":""},null,null,null,null,{"$f":"IF(Q199=\"\",\"\",ROUND(Q199-AC199-AK199,2))","v":""},null,null,{"$f":"IF(T199=\"\",\"\",(IF(AS199<0,\"出来高が契約を超過\",X199-AN199-AF199)))","v":""}]
[null,{"$f":"'見積書 (3)'!F51","v":""}]
[49,{"$f":"'見積書 (3)'!F52","v":""},null,null,null,null,null,null,null,null,null,null,null,null,{"$f":"'見積書 (3)'!Q52","v":""},null,{"$f":"'見積書 (3)'!R52","v":""},null,null,{"$f":"'見積書 (3)'!S52","v":""},null,null,null,{"$f":"'見積書 (3)'!T52","v":""},null,null,null,null,{"$f":"IF(Q201=\"\",\"\",'出来高内訳書 (第14回請求)'!AC201+'出来高内訳書 (第14回請求)'!AK201)","v":""},null,null,{"$f":"IF(T201=\"\",\"\",ROUND(T201*AC201,0))","v":""},null,null,null,null,null,null,null,{"$f":"IF(T201=\"\",\"\",ROUND(T201*AK201,0))","v":""},null,null,null,null,{"$f":"IF(Q201=\"\",\"\",ROUND(Q201-AC201-AK201,2))","v":""},null,null,{"$f":"IF(T201=\"\",\"\",(IF(AS201<0,\"出来高が契約を超過\",X201-AN201-AF201)))","v":""}]
[null,{"$f":"'見積書 (3)'!F53","v":""}]
[50,{"$f":"'見積書 (3)'!F54","v":""},null,null,null,null,null,null,null,null,null,null,null,null,{"$f":"'見積書 (3)'!Q54","v":""},null,{"$f":"'見積書 (3)'!R54","v":""},null,null,{"$f":"'見積書 (3)'!S54","v":""},null,null,null,{"$f":"'見積書 (3)'!T54","v":""},null,null,null,null,{"$f":"IF(Q203=\"\",\"\",'出来高内訳書 (第14回請求)'!AC203+'出来高内訳書 (第14回請求)'!AK203)","v":""},null,null,{"$f":"IF(T203=\"\",\"\",ROUND(T203*AC203,0))","v":""},null,null,null,null,null,null,null,{"$f":"IF(T203=\"\",\"\",ROUND(T203*AK203,0))","v":""},null,null,null,null,{"$f":"IF(Q203=\"\",\"\",ROUND(Q203-AC203-AK203,2))","v":""},null,null,{"$f":"IF(T203=\"\",\"\",(IF(AS203<0,\"出来高が契約を超過\",X203-AN203-AF203)))","v":""}]
[null,{"$f":"'見積書 (3)'!F55","v":""}]
[51,{"$f":"'見積書 (3)'!F56","v":""},null,null,null,null,null,null,null,null,null,null,null,null,{"$f":"'見積書 (3)'!Q56","v":""},null,{"$f":"'見積書 (3)'!R56","v":""},null,null,{"$f":"'見積書 (3)'!S56","v":""},null,null,null,{"$f":"'見積書 (3)'!T56","v":""},null,null,null,null,{"$f":"IF(Q205=\"\",\"\",'出来高内訳書 (第14回請求)'!AC205+'出来高内訳書 (第14回請求)'!AK205)","v":""},null,null,{"$f":"IF(T205=\"\",\"\",ROUND(T205*AC205,0))","v":""},null,null,null,null,null,null,null,{"$f":"IF(T205=\"\",\"\",ROUND(T205*AK205,0))","v":""},null,null,null,null,{"$f":"IF(Q205=\"\",\"\",ROUND(Q205-AC205-AK205,2))","v":""},null,null,{"$f":"IF(T205=\"\",\"\",(IF(AS205<0,\"出来高が契約を超過\",X205-AN205-AF205)))","v":""}]
[null,{"$f":"'見積書 (3)'!F57","v":""}]
[52,{"$f":"'見積書 (3)'!F58","v":""},null,null,null,null,null,null,null,null,null,null,null,null,{"$f":"'見積書 (3)'!Q58","v":""},null,{"$f":"'見積書 (3)'!R58","v":""},null,null,{"$f":"'見積書 (3)'!S58","v":""},null,null,null,{"$f":"'見積書 (3)'!T58","v":""},null,null,null,null,{"$f":"IF(Q207=\"\",\"\",'出来高内訳書 (第14回請求)'!AC207+'出来高内訳書 (第14回請求)'!AK207)","v":""},null,null,{"$f":"IF(T207=\"\",\"\",ROUND(T207*AC207,0))","v":""},null,null,null,null,null,null,null,{"$f":"IF(T207=\"\",\"\",ROUND(T207*AK207,0))","v":""},null,null,null,null,{"$f":"IF(Q207=\"\",\"\",ROUND(Q207-AC207-AK207,2))","v":""},null,null,{"$f":"IF(T207=\"\",\"\",(IF(AS207<0,\"出来高が契約を超過\",X207-AN207-AF207)))","v":""}]
[null,{"$f":"'見積書 (3)'!F59","v":""}]
[53,{"$f":"'見積書 (3)'!F60","v":""},null,null,null,null,null,null,null,null,null,null,null,null,{"$f":"'見積書 (3)'!Q60","v":""},null,{"$f":"'見積書 (3)'!R60","v":""},null,null,{"$f":"'見積書 (3)'!S60","v":""},null,null,null,{"$f":"'見積書 (3)'!T60","v":""},null,null,null,null,{"$f":"IF(Q209=\"\",\"\",'出来高内訳書 (第14回請求)'!AC209+'出来高内訳書 (第14回請求)'!AK209)","v":""},null,null,{"$f":"IF(T209=\"\",\"\",ROUND(T209*AC209,0))","v":""},null,null,null,null,null,null,null,{"$f":"IF(T209=\"\",\"\",ROUND(T209*AK209,0))","v":""},null,null,null,null,{"$f":"IF(Q209=\"\",\"\",ROUND(Q209-AC209-AK209,2))","v":""},null,null,{"$f":"IF(T209=\"\",\"\",(IF(AS209<0,\"出来高が契約を超過\",X209-AN209-AF209)))","v":""}]
[null,{"$f":"'見積書 (3)'!F61","v":""}]
[54,{"$f":"'見積書 (3)'!F62","v":""},null,null,null,null,null,null,null,null,null,null,null,null,{"$f":"'見積書 (3)'!Q62","v":""},null,{"$f":"'見積書 (3)'!R62","v":""},null,null,{"$f":"'見積書 (3)'!S62","v":""},null,null,null,{"$f":"'見積書 (3)'!T62","v":""},null,null,null,null,{"$f":"IF(Q211=\"\",\"\",'出来高内訳書 (第14回請求)'!AC211+'出来高内訳書 (第14回請求)'!AK211)","v":""},null,null,{"$f":"IF(T211=\"\",\"\",ROUND(T211*AC211,0))","v":""},null,null,null,null,null,null,null,{"$f":"IF(T211=\"\",\"\",ROUND(T211*AK211,0))","v":""},null,null,null,null,{"$f":"IF(Q211=\"\",\"\",ROUND(Q211-AC211-AK211,2))","v":""},null,null,{"$f":"IF(T211=\"\",\"\",(IF(AS211<0,\"出来高が契約を超過\",X211-AN211-AF211)))","v":""}]
[null,{"$f":"'見積書 (3)'!F63","v":""}]
[55,{"$f":"'見積書 (3)'!F64","v":""},null,null,null,null,null,null,null,null,null,null,null,null,{"$f":"'見積書 (3)'!Q64","v":""},null,{"$f":"'見積書 (3)'!R64","v":""},null,null,{"$f":"'見積書 (3)'!S64","v":""},null,null,null,{"$f":"'見積書 (3)'!T64","v":""},null,null,null,null,{"$f":"IF(Q213=\"\",\"\",'出来高内訳書 (第14回請求)'!AC213+'出来高内訳書 (第14回請求)'!AK213)","v":""},null,null,{"$f":"IF(T213=\"\",\"\",ROUND(T213*AC213,0))","v":""},null,null,null,null,null,null,null,{"$f":"IF(T213=\"\",\"\",ROUND(T213*AK213,0))","v":""},null,null,null,null,{"$f":"IF(Q213=\"\",\"\",ROUND(Q213-AC213-AK213,2))","v":""},null,null,{"$f":"IF(T213=\"\",\"\",(IF(AS213<0,\"出来高が契約を超過\",X213-AN213-AF213)))","v":""}]
[null,{"$f":"'見積書 (3)'!F65","v":""}]
[56,{"$f":"'見積書 (3)'!F66","v":""},null,null,null,null,null,null,null,null,null,null,null,null,{"$f":"'見積書 (3)'!Q66","v":""},null,{"$f":"'見積書 (3)'!R66","v":""},null,null,{"$f":"'見積書 (3)'!S66","v":""},null,null,null,{"$f":"'見積書 (3)'!T66","v":""},null,null,null,null,{"$f":"IF(Q215=\"\",\"\",'出来高内訳書 (第14回請求)'!AC215+'出来高内訳書 (第14回請求)'!AK215)","v":""},null,null,{"$f":"IF(T215=\"\",\"\",ROUND(T215*AC215,0))","v":""},null,null,null,null,null,null,null,{"$f":"IF(T215=\"\",\"\",ROUND(T215*AK215,0))","v":""},null,null,null,null,{"$f":"IF(Q215=\"\",\"\",ROUND(Q215-AC215-AK215,2))","v":""},null,null,{"$f":"IF(T215=\"\",\"\",(IF(AS215<0,\"出来高が契約を超過\",X215-AN215-AF215)))","v":""}]
[null,{"$f":"'見積書 (3)'!F67","v":""}]
[null,"小計",null,null,null,null,null,null,null,null,null,null,null,null,null,null,null,null,null,null,null,null,null,{"$f":"SUM(X187:AB216)","v":0},null,null,null,null,null,null,null,{"$f":"SUM(AF187:AJ216)","v":0},null,null,null,null,null,null,null,{"$f":"SUM(AN187:AR216)","v":0},null,null,null,null,null,null,null,{"$f":"X217-AF217-AN217","v":0}]
[]
[]
[]
[]
[null,"請求内訳書（出来高・分割納入用）",null,null,null,null,null,null,null,null,null,null,null,null,null,null,null,null,null,null,null,null,null,null,null,null,null,null,null,null,null,null,null,null,null,null,null,null,null,null,null,null,null,null,null,null,null,null,null,null,"No."]
[]
[]
[]
[]
[]
[]
[]
[]
[]
[null,"製造番号",null,null,null,null,{"$f":"Y22","v":""},null,null,null,null,null,null,null,null,null,null,null,null,null,null,null,null,"※科目"]
[]
[]
[null,"注文番号",null,null,null,null,{"$f":"Y25","v":""},null,null,null,null,null,null,null,null,"第",null,{"$f":"AJ23","v":15},null,"回請求"]
[]
[]
[]
[null,"工　種・品　名",null,null,null,null,null,null,null,null,null,null,null,null,"契　約　金　額",null,null,null,null,null,null,null,null,null,null,null,null,null,"前回までの出来高",null,null,null,null,null,null,null,"今回出来高",null,null,null,null,null,null,null,"残高",null,null,null,null,null,null,null,"備　考"]
[null,null,null,null,null,null,null,null,null,null,null,null,null,null,"単位",null,"数量",null,null,"単価",null,null,null,"金額",null,null,null,null,"数量",null,null,"金額",null,null,null,null,"数量",null,null,"金額",null,null,null,null,"数量",null,null,"金額"]
[57,{"$f":"'見積書 (3)'!F68","v":""},null,null,null,null,null,null,null,null,null,null,null,null,{"$f":"'見積書 (3)'!Q68","v":""},null,{"$f":"'見積書 (3)'!R68","v":""},null,null,{"$f":"'見積書 (3)'!S68","v":""},null,null,null,{"$f":"'見積書 (3)'!T68","v":""},null,null,null,null,{"$f":"IF(Q241=\"\",\"\",'出来高内訳書 (第14回請求)'!AC241+'出来高内訳書 (第14回請求)'!AK241)","v":""},null,null,{"$f":"IF(T241=\"\",\"\",ROUND(T241*AC241,0))","v":""},null,null,null,null,null,null,null,{"$f":"IF(T241=\"\",\"\",ROUND(T241*AK241,0))","v":""},null,null,null,null,{"$f":"IF(Q241=\"\",\"\",ROUND(Q241-AC241-AK241,2))","v":""},null,null,{"$f":"IF(T241=\"\",\"\",(IF(AS241<0,\"出来高が契約を超過\",X241-AN241-AF241)))","v":""}]
[null,{"$f":"'見積書 (3)'!F68","v":""}]
[]
[]
[]
[]
[]
[]
[]
[]
[]
[]
[]
[]
[]
[]
[null,"小計",null,null,null,null,null,null,null,null,null,null,null,null,null,null,null,null,null,null,null,null,null,{"$f":"SUM(X241:AB256)","v":0},null,null,null,null,null,null,null,{"$f":"SUM(AF241:AJ256)","v":0},null,null,null,null,null,null,null,{"$f":"SUM(AN241:AR256)","v":0},null,null,null,null,null,null,null,{"$f":"SUM(AV241:AZ256)","v":0}]